{"text_format":"3","workbook":"xlsx","n_sheets":6,"sheets":["Single Data","Serial Data","Templates","Calculations","Manual","About"],"not_rendered":{"charts":2,"images":7},"read":"whole","date_system":"1900"}

{"sheet":"Single Data","index":0,"n_rows":38,"n_cols":17,"rows_kept":38,"merged":[[25,6,27,8],[37,5,41,8]]}
[{"$nulls":16},"Data source:"]
[{"$nulls":11},"Bottom right","Top","Bottom left"]
[{"$nulls":9},"Sample No.","Sample name","Right","Top","Left"]
[{"$nulls":9},1,1]
[{"$nulls":9},2,2]
[{"$nulls":9},3,3]
[{"$nulls":9},4,4]
[{"$nulls":9},5,5]
[{"$nulls":9},6,6]
[{"$nulls":9},7,7]
[{"$nulls":9},8,8]
[{"$nulls":9},9,9]
[{"$nulls":9},10,10]
[{"$nulls":9},11,11]
[{"$nulls":9},12,12]
[{"$nulls":9},13,13]
[{"$nulls":9},14,14]
[{"$nulls":9},15,15]
[{"$nulls":9},16,16]
[{"$nulls":9},17,17]
[{"$nulls":9},18,18]
[{"$nulls":9},19,19]
[{"$nulls":9},20,20]
[{"$nulls":9},21,21]
[{"$nulls":9},22,22]
[{"$nulls":6},"Insert the apex titles into cells L3 to N3!",null,null,23,23]
[{"$nulls":9},24,24]
[{"$nulls":9},25,25]
[{"$nulls":9},26,26]
[{"$nulls":9},27,27]
[{"$nulls":9},28,28]
[{"$nulls":9},29,29]
[{"$nulls":9},30,30]
[]
[]
[]
[]
[{"$nulls":5},"Note: The apexes have to be changed in the following way: Top: Pumice, Glass ; Bottom left: Crystals, Crystal Fragments; Bottom right: Rock Fragments."]

{"sheet":"Serial Data","index":1,"n_rows":102,"n_cols":58,"rows_kept":102,"merged":[[25,6,27,8],[37,5,42,8]]}
[]
[{"$nulls":9},"Series 1","Bottom right","Top","Bottom left",null,"Series 2","Bottom right","Top","Bottom left",null,"Series 3","Bottom right","Top","Bottom left",null,"Series 4","Bottom right","Top","Bottom left",null,"Series 5","Bottom right","Top","Bottom left",null,"Series 6","Bottom right","Top","Bottom left",null,"Series 7","Bottom right","Top","Bottom left",null,"Series 8","Bottom right","Top","Bottom left",null,"Series 9","Bottom right","Top","Bottom left",null,"Series 10","Bottom right","Top","Bottom left"]
[{"$nulls":9},1,{"$nulls":4},1,{"$nulls":4},1,{"$nulls":4},1,{"$nulls":4},1,{"$nulls":4},1,{"$nulls":4},1,{"$nulls":4},1,{"$nulls":4},1,{"$nulls":4},1]
[{"$nulls":9},2,{"$nulls":4},2,{"$nulls":4},2,{"$nulls":4},2,{"$nulls":4},2,{"$nulls":4},2,{"$nulls":4},2,{"$nulls":4},2,{"$nulls":4},2,{"$nulls":4},2]
[{"$nulls":9},3,{"$nulls":4},3,{"$nulls":4},3,{"$nulls":4},3,{"$nulls":4},3,{"$nulls":4},3,{"$nulls":4},3,{"$nulls":4},3,{"$nulls":4},3,{"$nulls":4},3]
[{"$nulls":9},4,{"$nulls":4},4,{"$nulls":4},4,{"$nulls":4},4,{"$nulls":4},4,{"$nulls":4},4,{"$nulls":4},4,{"$nulls":4},4,{"$nulls":4},4,{"$nulls":4},4]
[{"$nulls":9},5,{"$nulls":4},5,{"$nulls":4},5,{"$nulls":4},5,{"$nulls":4},5,{"$nulls":4},5,{"$nulls":4},5,{"$nulls":4},5,{"$nulls":4},5,{"$nulls":4},5]
[{"$nulls":9},6,{"$nulls":4},6,{"$nulls":4},6,{"$nulls":4},6,{"$nulls":4},6,{"$nulls":4},6,{"$nulls":4},6,{"$nulls":4},6,{"$nulls":4},6,{"$nulls":4},6]
[{"$nulls":9},7,{"$nulls":4},7,{"$nulls":4},7,{"$nulls":4},7,{"$nulls":4},7,{"$nulls":4},7,{"$nulls":4},7,{"$nulls":4},7,{"$nulls":4},7,{"$nulls":4},7]
[{"$nulls":9},8,{"$nulls":4},8,{"$nulls":4},8,{"$nulls":4},8,{"$nulls":4},8,{"$nulls":4},8,{"$nulls":4},8,{"$nulls":4},8,{"$nulls":4},8,{"$nulls":4},8]
[{"$nulls":9},9,{"$nulls":4},9,{"$nulls":4},9,{"$nulls":4},9,{"$nulls":4},9,{"$nulls":4},9,{"$nulls":4},9,{"$nulls":4},9,{"$nulls":4},9,{"$nulls":4},9]
[{"$nulls":9},10,{"$nulls":4},10,{"$nulls":4},10,{"$nulls":4},10,{"$nulls":4},10,{"$nulls":4},10,{"$nulls":4},10,{"$nulls":4},10,{"$nulls":4},10,{"$nulls":4},10]
[{"$nulls":9},11,{"$nulls":4},11,{"$nulls":4},11,{"$nulls":4},11,{"$nulls":4},11,{"$nulls":4},11,{"$nulls":4},11,{"$nulls":4},11,{"$nulls":4},11,{"$nulls":4},11]
[{"$nulls":9},12,{"$nulls":4},12,{"$nulls":4},12,{"$nulls":4},12,{"$nulls":4},12,{"$nulls":4},12,{"$nulls":4},12,{"$nulls":4},12,{"$nulls":4},12,{"$nulls":4},12]
[{"$nulls":9},13,{"$nulls":4},13,{"$nulls":4},13,{"$nulls":4},13,{"$nulls":4},13,{"$nulls":4},13,{"$nulls":4},13,{"$nulls":4},13,{"$nulls":4},13,{"$nulls":4},13]
[{"$nulls":9},14,{"$nulls":4},14,{"$nulls":4},14,{"$nulls":4},14,{"$nulls":4},14,{"$nulls":4},14,{"$nulls":4},14,{"$nulls":4},14,{"$nulls":4},14,{"$nulls":4},14]
[{"$nulls":9},15,{"$nulls":4},15,{"$nulls":4},15,{"$nulls":4},15,{"$nulls":4},15,{"$nulls":4},15,{"$nulls":4},15,{"$nulls":4},15,{"$nulls":4},15,{"$nulls":4},15]
[{"$nulls":9},16,{"$nulls":4},16,{"$nulls":4},16,{"$nulls":4},16,{"$nulls":4},16,{"$nulls":4},16,{"$nulls":4},16,{"$nulls":4},16,{"$nulls":4},16,{"$nulls":4},16]
[{"$nulls":9},17,{"$nulls":4},17,{"$nulls":4},17,{"$nulls":4},17,{"$nulls":4},17,{"$nulls":4},17,{"$nulls":4},17,{"$nulls":4},17,{"$nulls":4},17,{"$nulls":4},17]
[{"$nulls":9},18,{"$nulls":4},18,{"$nulls":4},18,{"$nulls":4},18,{"$nulls":4},18,{"$nulls":4},18,{"$nulls":4},18,{"$nulls":4},18,{"$nulls":4},18,{"$nulls":4},18]
[{"$nulls":9},19,{"$nulls":4},19,{"$nulls":4},19,{"$nulls":4},19,{"$nulls":4},19,{"$nulls":4},19,{"$nulls":4},19,{"$nulls":4},19,{"$nulls":4},19,{"$nulls":4},19]
[{"$nulls":9},20,{"$nulls":4},20,{"$nulls":4},20,{"$nulls":4},20,{"$nulls":4},20,{"$nulls":4},20,{"$nulls":4},20,{"$nulls":4},20,{"$nulls":4},20,{"$nulls":4},20]
[{"$nulls":9},21,{"$nulls":4},21,{"$nulls":4},21,{"$nulls":4},21,{"$nulls":4},21,{"$nulls":4},21,{"$nulls":4},21,{"$nulls":4},21,{"$nulls":4},21,{"$nulls":4},21]
[{"$nulls":9},22,{"$nulls":4},22,{"$nulls":4},22,{"$nulls":4},22,{"$nulls":4},22,{"$nulls":4},22,{"$nulls":4},22,{"$nulls":4},22,{"$nulls":4},22,{"$nulls":4},22]
[{"$nulls":9},23,{"$nulls":4},23,{"$nulls":4},23,{"$nulls":4},23,{"$nulls":4},23,{"$nulls":4},23,{"$nulls":4},23,{"$nulls":4},23,{"$nulls":4},23,{"$nulls":4},23]
[{"$nulls":6},"Insert the apex titles into cells K2 to M2!",null,null,24,{"$nulls":4},24,{"$nulls":4},24,{"$nulls":4},24,{"$nulls":4},24,{"$nulls":4},24,{"$nulls":4},24,{"$nulls":4},24,{"$nulls":4},24,{"$nulls":4},24]
[{"$nulls":9},25,{"$nulls":4},25,{"$nulls":4},25,{"$nulls":4},25,{"$nulls":4},25,{"$nulls":4},25,{"$nulls":4},25,{"$nulls":4},25,{"$nulls":4},25,{"$nulls":4},25]
[{"$nulls":9},26,{"$nulls":4},26,{"$nulls":4},26,{"$nulls":4},26,{"$nulls":4},26,{"$nulls":4},26,{"$nulls":4},26,{"$nulls":4},26,{"$nulls":4},26,{"$nulls":4},26]
[{"$nulls":9},27,{"$nulls":4},27,{"$nulls":4},27,{"$nulls":4},27,{"$nulls":4},27,{"$nulls":4},27,{"$nulls":4},27,{"$nulls":4},27,{"$nulls":4},27,{"$nulls":4},27]
[{"$nulls":9},28,{"$nulls":4},28,{"$nulls":4},28,{"$nulls":4},28,{"$nulls":4},28,{"$nulls":4},28,{"$nulls":4},28,{"$nulls":4},28,{"$nulls":4},28,{"$nulls":4},28]
[{"$nulls":9},29,{"$nulls":4},29,{"$nulls":4},29,{"$nulls":4},29,{"$nulls":4},29,{"$nulls":4},29,{"$nulls":4},29,{"$nulls":4},29,{"$nulls":4},29,{"$nulls":4},29]
[{"$nulls":9},30,{"$nulls":4},30,{"$nulls":4},30,{"$nulls":4},30,{"$nulls":4},30,{"$nulls":4},30,{"$nulls":4},30,{"$nulls":4},30,{"$nulls":4},30,{"$nulls":4},30]
[{"$nulls":9},31,{"$nulls":4},31,{"$nulls":4},31,{"$nulls":4},31,{"$nulls":4},31,{"$nulls":4},31,{"$nulls":4},31,{"$nulls":4},31,{"$nulls":4},31,{"$nulls":4},31]
[{"$nulls":9},32,{"$nulls":4},32,{"$nulls":4},32,{"$nulls":4},32,{"$nulls":4},32,{"$nulls":4},32,{"$nulls":4},32,{"$nulls":4},32,{"$nulls":4},32,{"$nulls":4},32]
[{"$nulls":9},33,{"$nulls":4},33,{"$nulls":4},33,{"$nulls":4},33,{"$nulls":4},33,{"$nulls":4},33,{"$nulls":4},33,{"$nulls":4},33,{"$nulls":4},33,{"$nulls":4},33]
[{"$nulls":9},34,{"$nulls":4},34,{"$nulls":4},34,{"$nulls":4},34,{"$nulls":4},34,{"$nulls":4},34,{"$nulls":4},34,{"$nulls":4},34,{"$nulls":4},34,{"$nulls":4},34]
[{"$nulls":9},35,{"$nulls":4},35,{"$nulls":4},35,{"$nulls":4},35,{"$nulls":4},35,{"$nulls":4},35,{"$nulls":4},35,{"$nulls":4},35,{"$nulls":4},35,{"$nulls":4},35]
[{"$nulls":5},"Note: The apexes have to be changed in the following way: Top: Pumice, Glass ; Bottom left: Crystals, Crystal Fragments; Bottom right: Rock Fragments.",{"$nulls":3},36,{"$nulls":4},36,{"$nulls":4},36,{"$nulls":4},36,{"$nulls":4},36,{"$nulls":4},36,{"$nulls":4},36,{"$nulls":4},36,{"$nulls":4},36,{"$nulls":4},36]
[{"$nulls":9},37,{"$nulls":4},37,{"$nulls":4},37,{"$nulls":4},37,{"$nulls":4},37,{"$nulls":4},37,{"$nulls":4},37,{"$nulls":4},37,{"$nulls":4},37,{"$nulls":4},37]
[{"$nulls":9},38,{"$nulls":4},38,{"$nulls":4},38,{"$nulls":4},38,{"$nulls":4},38,{"$nulls":4},38,{"$nulls":4},38,{"$nulls":4},38,{"$nulls":4},38,{"$nulls":4},38]
[{"$nulls":9},39,{"$nulls":4},39,{"$nulls":4},39,{"$nulls":4},39,{"$nulls":4},39,{"$nulls":4},39,{"$nulls":4},39,{"$nulls":4},39,{"$nulls":4},39,{"$nulls":4},39]
[{"$nulls":9},40,{"$nulls":4},40,{"$nulls":4},40,{"$nulls":4},40,{"$nulls":4},40,{"$nulls":4},40,{"$nulls":4},40,{"$nulls":4},40,{"$nulls":4},40,{"$nulls":4},40]
[{"$nulls":9},41,{"$nulls":4},41,{"$nulls":4},41,{"$nulls":4},41,{"$nulls":4},41,{"$nulls":4},41,{"$nulls":4},41,{"$nulls":4},41,{"$nulls":4},41,{"$nulls":4},41]
[{"$nulls":9},42,{"$nulls":4},42,{"$nulls":4},42,{"$nulls":4},42,{"$nulls":4},42,{"$nulls":4},42,{"$nulls":4},42,{"$nulls":4},42,{"$nulls":4},42,{"$nulls":4},42]
[{"$nulls":9},43,{"$nulls":4},43,{"$nulls":4},43,{"$nulls":4},43,{"$nulls":4},43,{"$nulls":4},43,{"$nulls":4},43,{"$nulls":4},43,{"$nulls":4},43,{"$nulls":4},43]
[{"$nulls":9},44,{"$nulls":4},44,{"$nulls":4},44,{"$nulls":4},44,{"$nulls":4},44,{"$nulls":4},44,{"$nulls":4},44,{"$nulls":4},44,{"$nulls":4},44,{"$nulls":4},44]
[{"$nulls":9},45,{"$nulls":4},45,{"$nulls":4},45,{"$nulls":4},45,{"$nulls":4},45,{"$nulls":4},45,{"$nulls":4},45,{"$nulls":4},45,{"$nulls":4},45,{"$nulls":4},45]
[{"$nulls":9},46,{"$nulls":4},46,{"$nulls":4},46,{"$nulls":4},46,{"$nulls":4},46,{"$nulls":4},46,{"$nulls":4},46,{"$nulls":4},46,{"$nulls":4},46,{"$nulls":4},46]
[{"$nulls":9},47,{"$nulls":4},47,{"$nulls":4},47,{"$nulls":4},47,{"$nulls":4},47,{"$nulls":4},47,{"$nulls":4},47,{"$nulls":4},47,{"$nulls":4},47,{"$nulls":4},47]
[{"$nulls":9},48,{"$nulls":4},48,{"$nulls":4},48,{"$nulls":4},48,{"$nulls":4},48,{"$nulls":4},48,{"$nulls":4},48,{"$nulls":4},48,{"$nulls":4},48,{"$nulls":4},48]
[{"$nulls":9},49,{"$nulls":4},49,{"$nulls":4},49,{"$nulls":4},49,{"$nulls":4},49,{"$nulls":4},49,{"$nulls":4},49,{"$nulls":4},49,{"$nulls":4},49,{"$nulls":4},49]
[{"$nulls":9},50,{"$nulls":4},50,{"$nulls":4},50,{"$nulls":4},50,{"$nulls":4},50,{"$nulls":4},50,{"$nulls":4},50,{"$nulls":4},50,{"$nulls":4},50,{"$nulls":4},50]
[{"$nulls":9},51,{"$nulls":4},51,{"$nulls":4},51,{"$nulls":4},51,{"$nulls":4},51,{"$nulls":4},51,{"$nulls":4},51,{"$nulls":4},51,{"$nulls":4},51,{"$nulls":4},51]
[{"$nulls":9},52,{"$nulls":4},52,{"$nulls":4},52,{"$nulls":4},52,{"$nulls":4},52,{"$nulls":4},52,{"$nulls":4},52,{"$nulls":4},52,{"$nulls":4},52,{"$nulls":4},52]
[{"$nulls":9},53,{"$nulls":4},53,{"$nulls":4},53,{"$nulls":4},53,{"$nulls":4},53,{"$nulls":4},53,{"$nulls":4},53,{"$nulls":4},53,{"$nulls":4},53,{"$nulls":4},53]
[{"$nulls":9},54,{"$nulls":4},54,{"$nulls":4},54,{"$nulls":4},54,{"$nulls":4},54,{"$nulls":4},54,{"$nulls":4},54,{"$nulls":4},54,{"$nulls":4},54,{"$nulls":4},54]
[{"$nulls":9},55,{"$nulls":4},55,{"$nulls":4},55,{"$nulls":4},55,{"$nulls":4},55,{"$nulls":4},55,{"$nulls":4},55,{"$nulls":4},55,{"$nulls":4},55,{"$nulls":4},55]
[{"$nulls":9},56,{"$nulls":4},56,{"$nulls":4},56,{"$nulls":4},56,{"$nulls":4},56,{"$nulls":4},56,{"$nulls":4},56,{"$nulls":4},56,{"$nulls":4},56,{"$nulls":4},56]
[{"$nulls":9},57,{"$nulls":4},57,{"$nulls":4},57,{"$nulls":4},57,{"$nulls":4},57,{"$nulls":4},57,{"$nulls":4},57,{"$nulls":4},57,{"$nulls":4},57,{"$nulls":4},57]
[{"$nulls":9},58,{"$nulls":4},58,{"$nulls":4},58,{"$nulls":4},58,{"$nulls":4},58,{"$nulls":4},58,{"$nulls":4},58,{"$nulls":4},58,{"$nulls":4},58,{"$nulls":4},58]
[{"$nulls":9},59,{"$nulls":4},59,{"$nulls":4},59,{"$nulls":4},59,{"$nulls":4},59,{"$nulls":4},59,{"$nulls":4},59,{"$nulls":4},59,{"$nulls":4},59,{"$nulls":4},59]
[{"$nulls":9},60,{"$nulls":4},60,{"$nulls":4},60,{"$nulls":4},60,{"$nulls":4},60,{"$nulls":4},60,{"$nulls":4},60,{"$nulls":4},60,{"$nulls":4},60,{"$nulls":4},60]
[{"$nulls":9},61,{"$nulls":4},61,{"$nulls":4},61,{"$nulls":4},61,{"$nulls":4},61,{"$nulls":4},61,{"$nulls":4},61,{"$nulls":4},61,{"$nulls":4},61,{"$nulls":4},61]
[{"$nulls":9},62,{"$nulls":4},62,{"$nulls":4},62,{"$nulls":4},62,{"$nulls":4},62,{"$nulls":4},62,{"$nulls":4},62,{"$nulls":4},62,{"$nulls":4},62,{"$nulls":4},62]
[{"$nulls":9},63,{"$nulls":4},63,{"$nulls":4},63,{"$nulls":4},63,{"$nulls":4},63,{"$nulls":4},63,{"$nulls":4},63,{"$nulls":4},63,{"$nulls":4},63,{"$nulls":4},63]
[{"$nulls":9},64,{"$nulls":4},64,{"$nulls":4},64,{"$nulls":4},64,{"$nulls":4},64,{"$nulls":4},64,{"$nulls":4},64,{"$nulls":4},64,{"$nulls":4},64,{"$nulls":4},64]
[{"$nulls":9},65,{"$nulls":4},65,{"$nulls":4},65,{"$nulls":4},65,{"$nulls":4},65,{"$nulls":4},65,{"$nulls":4},65,{"$nulls":4},65,{"$nulls":4},65,{"$nulls":4},65]
[{"$nulls":9},66,{"$nulls":4},66,{"$nulls":4},66,{"$nulls":4},66,{"$nulls":4},66,{"$nulls":4},66,{"$nulls":4},66,{"$nulls":4},66,{"$nulls":4},66,{"$nulls":4},66]
[{"$nulls":9},67,{"$nulls":4},67,{"$nulls":4},67,{"$nulls":4},67,{"$nulls":4},67,{"$nulls":4},67,{"$nulls":4},67,{"$nulls":4},67,{"$nulls":4},67,{"$nulls":4},67]
[{"$nulls":9},68,{"$nulls":4},68,{"$nulls":4},68,{"$nulls":4},68,{"$nulls":4},68,{"$nulls":4},68,{"$nulls":4},68,{"$nulls":4},68,{"$nulls":4},68,{"$nulls":4},68]
[{"$nulls":9},69,{"$nulls":4},69,{"$nulls":4},69,{"$nulls":4},69,{"$nulls":4},69,{"$nulls":4},69,{"$nulls":4},69,{"$nulls":4},69,{"$nulls":4},69,{"$nulls":4},69]
[{"$nulls":9},70,{"$nulls":4},70,{"$nulls":4},70,{"$nulls":4},70,{"$nulls":4},70,{"$nulls":4},70,{"$nulls":4},70,{"$nulls":4},70,{"$nulls":4},70,{"$nulls":4},70]
[{"$nulls":9},71,{"$nulls":4},71,{"$nulls":4},71,{"$nulls":4},71,{"$nulls":4},71,{"$nulls":4},71,{"$nulls":4},71,{"$nulls":4},71,{"$nulls":4},71,{"$nulls":4},71]
[{"$nulls":9},72,{"$nulls":4},72,{"$nulls":4},72,{"$nulls":4},72,{"$nulls":4},72,{"$nulls":4},72,{"$nulls":4},72,{"$nulls":4},72,{"$nulls":4},72,{"$nulls":4},72]
[{"$nulls":9},73,{"$nulls":4},73,{"$nulls":4},73,{"$nulls":4},73,{"$nulls":4},73,{"$nulls":4},73,{"$nulls":4},73,{"$nulls":4},73,{"$nulls":4},73,{"$nulls":4},73]
[{"$nulls":9},74,{"$nulls":4},74,{"$nulls":4},74,{"$nulls":4},74,{"$nulls":4},74,{"$nulls":4},74,{"$nulls":4},74,{"$nulls":4},74,{"$nulls":4},74,{"$nulls":4},74]
[{"$nulls":9},75,{"$nulls":4},75,{"$nulls":4},75,{"$nulls":4},75,{"$nulls":4},75,{"$nulls":4},75,{"$nulls":4},75,{"$nulls":4},75,{"$nulls":4},75,{"$nulls":4},75]
[{"$nulls":9},76,{"$nulls":4},76,{"$nulls":4},76,{"$nulls":4},76,{"$nulls":4},76,{"$nulls":4},76,{"$nulls":4},76,{"$nulls":4},76,{"$nulls":4},76,{"$nulls":4},76]
[{"$nulls":9},77,{"$nulls":4},77,{"$nulls":4},77,{"$nulls":4},77,{"$nulls":4},77,{"$nulls":4},77,{"$nulls":4},77,{"$nulls":4},77,{"$nulls":4},77,{"$nulls":4},77]
[{"$nulls":9},78,{"$nulls":4},78,{"$nulls":4},78,{"$nulls":4},78,{"$nulls":4},78,{"$nulls":4},78,{"$nulls":4},78,{"$nulls":4},78,{"$nulls":4},78,{"$nulls":4},78]
[{"$nulls":9},79,{"$nulls":4},79,{"$nulls":4},79,{"$nulls":4},79,{"$nulls":4},79,{"$nulls":4},79,{"$nulls":4},79,{"$nulls":4},79,{"$nulls":4},79,{"$nulls":4},79]
[{"$nulls":9},80,{"$nulls":4},80,{"$nulls":4},80,{"$nulls":4},80,{"$nulls":4},80,{"$nulls":4},80,{"$nulls":4},80,{"$nulls":4},80,{"$nulls":4},80,{"$nulls":4},80]
[{"$nulls":9},81,{"$nulls":4},81,{"$nulls":4},81,{"$nulls":4},81,{"$nulls":4},81,{"$nulls":4},81,{"$nulls":4},81,{"$nulls":4},81,{"$nulls":4},81,{"$nulls":4},81]
[{"$nulls":9},82,{"$nulls":4},82,{"$nulls":4},82,{"$nulls":4},82,{"$nulls":4},82,{"$nulls":4},82,{"$nulls":4},82,{"$nulls":4},82,{"$nulls":4},82,{"$nulls":4},82]
[{"$nulls":9},83,{"$nulls":4},83,{"$nulls":4},83,{"$nulls":4},83,{"$nulls":4},83,{"$nulls":4},83,{"$nulls":4},83,{"$nulls":4},83,{"$nulls":4},83,{"$nulls":4},83]
[{"$nulls":9},84,{"$nulls":4},84,{"$nulls":4},84,{"$nulls":4},84,{"$nulls":4},84,{"$nulls":4},84,{"$nulls":4},84,{"$nulls":4},84,{"$nulls":4},84,{"$nulls":4},84]
[{"$nulls":9},85,{"$nulls":4},85,{"$nulls":4},85,{"$nulls":4},85,{"$nulls":4},85,{"$nulls":4},85,{"$nulls":4},85,{"$nulls":4},85,{"$nulls":4},85,{"$nulls":4},85]
[{"$nulls":9},86,{"$nulls":4},86,{"$nulls":4},86,{"$nulls":4},86,{"$nulls":4},86,{"$nulls":4},86,{"$nulls":4},86,{"$nulls":4},86,{"$nulls":4},86,{"$nulls":4},86]
[{"$nulls":9},87,{"$nulls":4},87,{"$nulls":4},87,{"$nulls":4},87,{"$nulls":4},87,{"$nulls":4},87,{"$nulls":4},87,{"$nulls":4},87,{"$nulls":4},87,{"$nulls":4},87]
[{"$nulls":9},88,{"$nulls":4},88,{"$nulls":4},88,{"$nulls":4},88,{"$nulls":4},88,{"$nulls":4},88,{"$nulls":4},88,{"$nulls":4},88,{"$nulls":4},88,{"$nulls":4},88]
[{"$nulls":9},89,{"$nulls":4},89,{"$nulls":4},89,{"$nulls":4},89,{"$nulls":4},89,{"$nulls":4},89,{"$nulls":4},89,{"$nulls":4},89,{"$nulls":4},89,{"$nulls":4},89]
[{"$nulls":9},90,{"$nulls":4},90,{"$nulls":4},90,{"$nulls":4},90,{"$nulls":4},90,{"$nulls":4},90,{"$nulls":4},90,{"$nulls":4},90,{"$nulls":4},90,{"$nulls":4},90]
[{"$nulls":9},91,{"$nulls":4},91,{"$nulls":4},91,{"$nulls":4},91,{"$nulls":4},91,{"$nulls":4},91,{"$nulls":4},91,{"$nulls":4},91,{"$nulls":4},91,{"$nulls":4},91]
[{"$nulls":9},92,{"$nulls":4},92,{"$nulls":4},92,{"$nulls":4},92,{"$nulls":4},92,{"$nulls":4},92,{"$nulls":4},92,{"$nulls":4},92,{"$nulls":4},92,{"$nulls":4},92]
[{"$nulls":9},93,{"$nulls":4},93,{"$nulls":4},93,{"$nulls":4},93,{"$nulls":4},93,{"$nulls":4},93,{"$nulls":4},93,{"$nulls":4},93,{"$nulls":4},93,{"$nulls":4},93]
[{"$nulls":9},94,{"$nulls":4},94,{"$nulls":4},94,{"$nulls":4},94,{"$nulls":4},94,{"$nulls":4},94,{"$nulls":4},94,{"$nulls":4},94,{"$nulls":4},94,{"$nulls":4},94]
[{"$nulls":9},95,{"$nulls":4},95,{"$nulls":4},95,{"$nulls":4},95,{"$nulls":4},95,{"$nulls":4},95,{"$nulls":4},95,{"$nulls":4},95,{"$nulls":4},95,{"$nulls":4},95]
[{"$nulls":9},96,{"$nulls":4},96,{"$nulls":4},96,{"$nulls":4},96,{"$nulls":4},96,{"$nulls":4},96,{"$nulls":4},96,{"$nulls":4},96,{"$nulls":4},96,{"$nulls":4},96]
[{"$nulls":9},97,{"$nulls":4},97,{"$nulls":4},97,{"$nulls":4},97,{"$nulls":4},97,{"$nulls":4},97,{"$nulls":4},97,{"$nulls":4},97,{"$nulls":4},97,{"$nulls":4},97]
[{"$nulls":9},98,{"$nulls":4},98,{"$nulls":4},98,{"$nulls":4},98,{"$nulls":4},98,{"$nulls":4},98,{"$nulls":4},98,{"$nulls":4},98,{"$nulls":4},98,{"$nulls":4},98]
[{"$nulls":9},99,{"$nulls":4},99,{"$nulls":4},99,{"$nulls":4},99,{"$nulls":4},99,{"$nulls":4},99,{"$nulls":4},99,{"$nulls":4},99,{"$nulls":4},99,{"$nulls":4},99]
[{"$nulls":9},100,{"$nulls":4},100,{"$nulls":4},100,{"$nulls":4},100,{"$nulls":4},100,{"$nulls":4},100,{"$nulls":4},100,{"$nulls":4},100,{"$nulls":4},100,{"$nulls":4},100]

{"sheet":"Templates","index":2,"n_rows":158,"n_cols":55,"rows_kept":158}
[{"$nulls":24},"20%-labels:","show?:",false,{"$nulls":10},"Individual Mask:",{"$nulls":8},"Individual Label:"]
[{"$nulls":3},"10%-Grid",null,"show?:",false,null,"Printer correction:",null,1,null,null,"Feldspar-template",null,"show?:",false,null,"Feldspar labels",null,"show?:",false,null,null,"10%-labels:","schow?:",false,{"$nulls":4},"show?:",false,{"$nulls":4},"show?:",true,{"$nulls":7},"show?:",true]
["Triangle border",null,null,"x","y","x","y",{"$nulls":6},"x","y","x","y",null,null,"x","y","x","y",null,"x","y","x","y","x","y",null,"x","y","x","y","legend",null,"Bottom right ","Top","Bottom left","Bottom right %","Top %","Bottom left %","x","y",null,"Bottom right","Top","Bottom left","Bottom right %","Top%","Bottom left %","x","y","Label Name:"]
[1,{"$f":"0*K2","v":0},null,0,{"$f":"0*K2","v":0},{"$f":"IF(G2=TRUE,D4,NA())","v":{"$error":"#N/A"}},{"$f":"IF(G2=TRUE,E4,NA())","v":{"$error":"#N/A"}},{"$nulls":6},0.95,{"$f":"0.0866*K2","v":0.0866},{"$f":"IF(Q2=TRUE,N4,NA())","v":{"$error":"#N/A"}},{"$f":"IF(Q2=TRUE,O4,NA())","v":{"$error":"#N/A"}},null,"Albite",0.07,{"$f":"0.04*K2","v":0.04},{"$f":"IF(V2=TRUE, T4,NA())","v":{"$error":"#N/A"}},{"$f":"IF(V2=TRUE, U4,NA())","v":{"$error":"#N/A"}},null,0.1,{"$f":"0*K2","v":0},{"$f":"IF(AA2=TRUE, Y4,NA())","v":{"$error":"#N/A"}},{"$f":"IF(AA2=TRUE, Z4,NA())","v":{"$error":"#N/A"}},{"$nulls":3},0.25,{"$f":"0.433*K2","v":0.433},{"$f":"IF(AG2=TRUE,AF4,NA())","v":{"$error":"#N/A"}},{"$f":"IF(AG2=TRUE,AG4,NA())","v":{"$error":"#N/A"}},{"$nulls":5},{"$f":"AL4/(AL4+AM4+AN4)","v":{"$error":"#DIV/0!"}},{"$f":"AM4/(AL4+AM4+AN4)","v":{"$error":"#DIV/0!"}},{"$f":"AN4/(AL4+AM4+AN4)","v":{"$error":"#DIV/0!"}},{"$f":"IF(AND(AM2=TRUE,AL4+AM4+AN4<>0),(AO4+(AP4*0.5)),NA())","v":{"$error":"#N/A"}},{"$f":"IF(AND(AM2=TRUE,AL4+AM4+AN4<>0),AP4*0.866*K2,NA())","v":{"$error":"#N/A"}},{"$nulls":4},{"$f":"AU4/(AU4+AV4+AW4)","v":{"$error":"#DIV/0!"}},{"$f":"AV4/(AU4+AV4+AW4)","v":{"$error":"#DIV/0!"}},{"$f":"AW4/(AU4+AV4+AW4)","v":{"$error":"#DIV/0!"}},{"$f":"IF(AND(AV2=TRUE,AU4+AV4+AW4<>0),(AX4+(AY4*0.5)),NA())","v":{"$error":"#N/A"}},{"$f":"IF(AND(AV2=TRUE,AU4+AV4+AW4<>0),AY4*0.866*K2,NA())","v":{"$error":"#N/A"}}]
[0.5,{"$f":"0.866*K2","v":0.866},null,0.1,{"$f":"0*K2","v":0},{"$f":"IF(G2=TRUE,D5,NA())","v":{"$error":"#N/A"}},{"$f":"IF(G2=TRUE,E5,NA())","v":{"$error":"#N/A"}},{"$nulls":6},0.85,{"$f":"0.0866*K2","v":0.0866},{"$f":"IF(Q2=TRUE,N5,NA())","v":{"$error":"#N/A"}},{"$f":"IF(Q2=TRUE,O5,NA())","v":{"$error":"#N/A"}},null,"Oligoclase",0.2,{"$f":"0.04*K2","v":0.04},{"$f":"IF(V2=TRUE, T5,NA())","v":{"$error":"#N/A"}},{"$f":"IF(V2=TRUE, U5,NA())","v":{"$error":"#N/A"}},null,0.2,{"$f":"0*K2","v":0},{"$f":"IF(AA2=TRUE, Y5,NA())","v":{"$error":"#N/A"}},{"$f":"IF(AA2=TRUE, Z5,NA())","v":{"$error":"#N/A"}},{"$f":"IF(AA1=TRUE, Y5,NA())","v":{"$error":"#N/A"}},{"$f":"IF(AA1=TRUE,Z5,NA())","v":{"$error":"#N/A"}},null,0.5,{"$f":"0.288666667*K2","v":0.288666667},{"$f":"IF(AG2=TRUE,AF5,NA())","v":{"$error":"#N/A"}},{"$f":"IF(AG2=TRUE,AG5,NA())","v":{"$error":"#N/A"}},{"$nulls":5},{"$f":"AL5/(AL5+AM5+AN5)","v":{"$error":"#DIV/0!"}},{"$f":"AM5/(AL5+AM5+AN5)","v":{"$error":"#DIV/0!"}},{"$f":"AN5/(AL5+AM5+AN5)","v":{"$error":"#DIV/0!"}},{"$f":"IF(AND(AM2=TRUE,AL5+AM5+AN5<>0),(AO5+(AP5*0.5)),NA())","v":{"$error":"#N/A"}},{"$f":"IF(AND(AM2=TRUE,AL5+AM5+AN5<>0),AP5*0.866*K2,NA())","v":{"$error":"#N/A"}},{"$nulls":4},{"$f":"AU5/(AU5+AV5+AW5)","v":{"$error":"#DIV/0!"}},{"$f":"AV5/(AU5+AV5+AW5)","v":{"$error":"#DIV/0!"}},{"$f":"AW5/(AU5+AV5+AW5)","v":{"$error":"#DIV/0!"}},{"$f":"IF(AND(AV2=TRUE,AU5+AV5+AW5<>0),(AX5+(AY5*0.5)),NA())","v":{"$error":"#N/A"}},{"$f":"IF(AND(AV2=TRUE,AU5+AV5+AW5<>0),AY5*0.866*K2,NA())","v":{"$error":"#N/A"}}]
[0.003,{"$f":"0*K2","v":0},null,0.55,{"$f":"0.7794*K2","v":0.7794},{"$f":"IF(G2=TRUE,D6,NA())","v":{"$error":"#N/A"}},{"$f":"IF(G2=TRUE,E6,NA())","v":{"$error":"#N/A"}},{"$nulls":6},0.681,{"$f":"0.0866*K2","v":0.0866},{"$f":"IF(Q2=TRUE,N6,NA())","v":{"$error":"#N/A"}},{"$f":"IF(Q2=TRUE,O6,NA())","v":{"$error":"#N/A"}},null,"Andesine",0.4,{"$f":"0.04*K2","v":0.04},{"$f":"IF(V2=TRUE, T6,NA())","v":{"$error":"#N/A"}},{"$f":"IF(V2=TRUE, U6,NA())","v":{"$error":"#N/A"}},null,0.3,{"$f":"0*K2","v":0},{"$f":"IF(AA2=TRUE, Y6,NA())","v":{"$error":"#N/A"}},{"$f":"IF(AA2=TRUE, Z6,NA())","v":{"$error":"#N/A"}},{"$nulls":3},0.5,{"$f":"0*K2","v":0},{"$f":"IF(AG2=TRUE,AF6,NA())","v":{"$error":"#N/A"}},{"$f":"IF(AG2=TRUE,AG6,NA())","v":{"$error":"#N/A"}},{"$nulls":5},{"$error":"#DIV/0!"},{"$error":"#DIV/0!"},{"$error":"#DIV/0!"},{"$f":"IF(AND(AM2=TRUE,AL6+AM6+AN6<>0),(AO6+(AP6*0.5)),NA())","v":{"$error":"#N/A"}},{"$f":"IF(AND(AM2=TRUE,AL6+AM6+AN6<>0),AP6*0.866*K2,NA())","v":{"$error":"#N/A"}},{"$nulls":4},{"$error":"#DIV/0!"},{"$error":"#DIV/0!"},{"$error":"#DIV/0!"},{"$f":"IF(AND(AV2=TRUE,AU6+AV6+AW6<>0),(AX6+(AY6*0.5)),NA())","v":{"$error":"#N/A"}},{"$f":"IF(AND(AV2=TRUE,AU6+AV6+AW6<>0),AY6*0.866*K2,NA())","v":{"$error":"#N/A"}}]
[{"$nulls":3},0.6,{"$f":"0.6928*K2","v":0.6928},{"$f":"IF(G2=TRUE,D7,NA())","v":{"$error":"#N/A"}},{"$f":"IF(G2=TRUE,E7,NA())","v":{"$error":"#N/A"}},{"$nulls":6},0.5,{"$f":"0.0866*K2","v":0.0866},{"$f":"IF(Q2=TRUE,N7,NA())","v":{"$error":"#N/A"}},{"$f":"IF(Q2=TRUE,O7,NA())","v":{"$error":"#N/A"}},null,"Labradorite",0.6,{"$f":"0.04*K2","v":0.04},{"$f":"IF(V2=TRUE, T7,NA())","v":{"$error":"#N/A"}},{"$f":"IF(V2=TRUE, U7,NA())","v":{"$error":"#N/A"}},null,0.4,{"$f":"0*K2","v":0},{"$f":"IF(AA2=TRUE, Y7,NA())","v":{"$error":"#N/A"}},{"$f":"IF(AA2=TRUE, Z7,NA())","v":{"$error":"#N/A"}},{"$f":"IF(AA1=TRUE, Y7,NA())","v":{"$error":"#N/A"}},{"$f":"IF(AA1=TRUE,Z7,NA())","v":{"$error":"#N/A"}},null,0.5,{"$f":"0.288666667*K2","v":0.288666667},{"$f":"IF(AG2=TRUE,AF7,NA())","v":{"$error":"#N/A"}},{"$f":"IF(AG2=TRUE,AG7,NA())","v":{"$error":"#N/A"}},{"$nulls":5},{"$error":"#DIV/0!"},{"$error":"#DIV/0!"},{"$error":"#DIV/0!"},{"$f":"IF(AND(AM2=TRUE,AL7+AM7+AN7<>0),(AO7+(AP7*0.5)),NA())","v":{"$error":"#N/A"}},{"$f":"IF(AND(AM2=TRUE,AL7+AM7+AN7<>0),AP7*0.866*K2,NA())","v":{"$error":"#N/A"}},{"$nulls":4},{"$error":"#DIV/0!"},{"$error":"#DIV/0!"},{"$error":"#DIV/0!"},{"$f":"IF(AND(AV2=TRUE,AU7+AV7+AW7<>0),(AX7+(AY7*0.5)),NA())","v":{"$error":"#N/A"}},{"$f":"IF(AND(AV2=TRUE,AU7+AV7+AW7<>0),AY7*0.866*K2,NA())","v":{"$error":"#N/A"}}]
[0.005,{"$f":"0*K2","v":0},null,0.2,{"$f":"0*K2","v":0},{"$f":"IF(G2=TRUE,D8,NA())","v":{"$error":"#N/A"}},{"$f":"IF(G2=TRUE,E8,NA())","v":{"$error":"#N/A"}},{"$nulls":6},0.5,{"$f":"0.0866*K2","v":0.0866},{"$f":"IF(Q2=TRUE,N8,NA())","v":{"$error":"#N/A"}},{"$f":"IF(Q2=TRUE,O8,NA())","v":{"$error":"#N/A"}},null,"Bytownite",0.78,{"$f":"0.04*K2","v":0.04},{"$f":"IF(V2=TRUE, T8,NA())","v":{"$error":"#N/A"}},{"$f":"IF(V2=TRUE, U8,NA())","v":{"$error":"#N/A"}},null,0.5,{"$f":"0*K2","v":0},{"$f":"IF(AA2=TRUE, Y8,NA())","v":{"$error":"#N/A"}},{"$f":"IF(AA2=TRUE, Z8,NA())","v":{"$error":"#N/A"}},{"$nulls":3},0.75,{"$f":"0.433*K2","v":0.433},{"$f":"IF(AG2=TRUE,AF8,NA())","v":{"$error":"#N/A"}},{"$f":"IF(AG2=TRUE,AG8,NA())","v":{"$error":"#N/A"}},{"$nulls":5},{"$error":"#DIV/0!"},{"$error":"#DIV/0!"},{"$error":"#DIV/0!"},{"$f":"IF(AND(AM2=TRUE,AL8+AM8+AN8<>0),(AO8+(AP8*0.5)),NA())","v":{"$error":"#N/A"}},{"$f":"IF(AND(AM2=TRUE,AL8+AM8+AN8<>0),AP8*0.866*K2,NA())","v":{"$error":"#N/A"}},{"$nulls":4},{"$error":"#DIV/0!"},{"$error":"#DIV/0!"},{"$error":"#DIV/0!"},{"$f":"IF(AND(AV2=TRUE,AU8+AV8+AW8<>0),(AX8+(AY8*0.5)),NA())","v":{"$error":"#N/A"}},{"$f":"IF(AND(AV2=TRUE,AU8+AV8+AW8<>0),AY8*0.866*K2,NA())","v":{"$error":"#N/A"}}]
[0.995,{"$f":"0*K2","v":0},null,0.3,{"$f":"0*K2","v":0},{"$f":"IF(G2=TRUE,D9,NA())","v":{"$error":"#N/A"}},{"$f":"IF(G2=TRUE,E9,NA())","v":{"$error":"#N/A"}},{"$nulls":6},0.45,{"$f":"0.09*K2","v":0.09},{"$f":"IF(Q2=TRUE,N9,NA())","v":{"$error":"#N/A"}},{"$f":"IF(Q2=TRUE,O9,NA())","v":{"$error":"#N/A"}},null,"Anorthite",0.93,{"$f":"0.04*K2","v":0.04},{"$f":"IF(V2=TRUE, T9,NA())","v":{"$error":"#N/A"}},{"$f":"IF(V2=TRUE, U9,NA())","v":{"$error":"#N/A"}},null,0.6,{"$f":"0*K2","v":0},{"$f":"IF(AA2=TRUE, Y9,NA())","v":{"$error":"#N/A"}},{"$f":"IF(AA2=TRUE, Z9,NA())","v":{"$error":"#N/A"}},{"$f":"IF(AA1=TRUE, Y9,NA())","v":{"$error":"#N/A"}},{"$f":"IF(AA1=TRUE,Z9,NA())","v":{"$error":"#N/A"}},{"$nulls":10},{"$error":"#DIV/0!"},{"$error":"#DIV/0!"},{"$error":"#DIV/0!"},{"$f":"IF(AND(AM2=TRUE,AL9+AM9+AN9<>0),(AO9+(AP9*0.5)),NA())","v":{"$error":"#N/A"}},{"$f":"IF(AND(AM2=TRUE,AL9+AM9+AN9<>0),AP9*0.866*K2,NA())","v":{"$error":"#N/A"}},{"$nulls":4},{"$error":"#DIV/0!"},{"$error":"#DIV/0!"},{"$error":"#DIV/0!"},{"$f":"IF(AND(AV2=TRUE,AU9+AV9+AW9<>0),(AX9+(AY9*0.5)),NA())","v":{"$error":"#N/A"}},{"$f":"IF(AND(AV2=TRUE,AU9+AV9+AW9<>0),AY9*0.866*K2,NA())","v":{"$error":"#N/A"}}]
[{"$nulls":3},0.65,{"$f":"0.6062*K2","v":0.6062},{"$f":"IF(G2=TRUE,D10,NA())","v":{"$error":"#N/A"}},{"$f":"IF(G2=TRUE,E10,NA())","v":{"$error":"#N/A"}},{"$nulls":6},0.39,{"$f":"0.095*K2","v":0.095},{"$f":"IF(Q2=TRUE,N10,NA())","v":{"$error":"#N/A"}},{"$f":"IF(Q2=TRUE,O10,NA())","v":{"$error":"#N/A"}},null,"Anorthoclase",0.16,{"$f":"0.173*K2","v":0.173},{"$f":"IF(V2=TRUE, T10,NA())","v":{"$error":"#N/A"}},{"$f":"IF(V2=TRUE, U10,NA())","v":{"$error":"#N/A"}},null,0.7,{"$f":"0*K2","v":0},{"$f":"IF(AA2=TRUE, Y10,NA())","v":{"$error":"#N/A"}},{"$f":"IF(AA2=TRUE, Z10,NA())","v":{"$error":"#N/A"}},{"$nulls":12},{"$f":"AL10/(AL10+AM10+AN10)","v":{"$error":"#DIV/0!"}},{"$f":"AM10/(AL10+AM10+AN10)","v":{"$error":"#DIV/0!"}},{"$f":"AN10/(AL10+AM10+AN10)","v":{"$error":"#DIV/0!"}},{"$f":"IF(AND(AM2=TRUE,AL10+AM10+AN10<>0),(AO10+(AP10*0.5)),NA())","v":{"$error":"#N/A"}},{"$f":"IF(AND(AM2=TRUE,AL10+AM10+AN10<>0),AP10*0.866*K2,NA())","v":{"$error":"#N/A"}},{"$nulls":4},{"$error":"#DIV/0!"},{"$error":"#DIV/0!"},{"$error":"#DIV/0!"},{"$f":"IF(AND(AV2=TRUE,AU10+AV10+AW10<>0),(AX10+(AY10*0.5)),NA())","v":{"$error":"#N/A"}},{"$f":"IF(AND(AV2=TRUE,AU10+AV10+AW10<>0),AY10*0.866*K2,NA())","v":{"$error":"#N/A"}}]
[{"$nulls":3},0.7,{"$f":"0.5196*K2","v":0.5196},{"$f":"IF(G2=TRUE,D11,NA())","v":{"$error":"#N/A"}},{"$f":"IF(G2=TRUE,E11,NA())","v":{"$error":"#N/A"}},{"$nulls":6},0.35,{"$f":"0.11258*K2","v":0.11258},{"$f":"IF(Q2=TRUE,N11,NA())","v":{"$error":"#N/A"}},{"$f":"IF(Q2=TRUE,O11,NA())","v":{"$error":"#N/A"}},null,"Sanidine",0.35,{"$f":"0.519*K2","v":0.519},{"$f":"IF(V2=TRUE, T11,NA())","v":{"$error":"#N/A"}},{"$f":"IF(V2=TRUE, U11,NA())","v":{"$error":"#N/A"}},null,0.8,{"$f":"0*K2","v":0},{"$f":"IF(AA2=TRUE, Y11,NA())","v":{"$error":"#N/A"}},{"$f":"IF(AA2=TRUE, Z11,NA())","v":{"$error":"#N/A"}},{"$f":"IF(AA1=TRUE, Y11,NA())","v":{"$error":"#N/A"}},{"$f":"IF(AA1=TRUE,Z11,NA())","v":{"$error":"#N/A"}},{"$nulls":10},{"$error":"#DIV/0!"},{"$error":"#DIV/0!"},{"$error":"#DIV/0!"},{"$f":"IF(AND(AM2=TRUE,AL11+AM11+AN11<>0),(AO11+(AP11*0.5)),NA())","v":{"$error":"#N/A"}},{"$f":"IF(AND(AM2=TRUE,AL11+AM11+AN11<>0),AP11*0.866*K2,NA())","v":{"$error":"#N/A"}},{"$nulls":4},{"$error":"#DIV/0!"},{"$error":"#DIV/0!"},{"$error":"#DIV/0!"},{"$f":"IF(AND(AV2=TRUE,AU11+AV11+AW11<>0),(AX11+(AY11*0.5)),NA())","v":{"$error":"#N/A"}},{"$f":"IF(AND(AV2=TRUE,AU11+AV11+AW11<>0),AY11*0.866*K2,NA())","v":{"$error":"#N/A"}}]
[{"$nulls":3},0.4,{"$f":"0*K2","v":0},{"$f":"IF(G2=TRUE,D12,NA())","v":{"$error":"#N/A"}},{"$f":"IF(G2=TRUE,E12,NA())","v":{"$error":"#N/A"}},{"$nulls":6},0.295,{"$f":"0.1732*K2","v":0.1732},{"$f":"IF(Q2=TRUE,N12,NA())","v":{"$error":"#N/A"}},{"$f":"IF(Q2=TRUE,O12,NA())","v":{"$error":"#N/A"}},{"$nulls":7},0.9,{"$f":"0*K2","v":0},{"$f":"IF(AA2=TRUE, Y12,NA())","v":{"$error":"#N/A"}},{"$f":"IF(AA2=TRUE, Z12,NA())","v":{"$error":"#N/A"}},{"$nulls":12},{"$error":"#DIV/0!"},{"$error":"#DIV/0!"},{"$error":"#DIV/0!"},{"$f":"IF(AND(AM2=TRUE,AL12+AM12+AN12<>0),(AO12+(AP12*0.5)),NA())","v":{"$error":"#N/A"}},{"$f":"IF(AND(AM2=TRUE,AL12+AM12+AN12<>0),AP12*0.866*K2,NA())","v":{"$error":"#N/A"}},{"$nulls":4},{"$error":"#DIV/0!"},{"$error":"#DIV/0!"},{"$error":"#DIV/0!"},{"$f":"IF(AND(AV2=TRUE,AU12+AV12+AW12<>0),(AX12+(AY12*0.5)),NA())","v":{"$error":"#N/A"}},{"$f":"IF(AND(AV2=TRUE,AU12+AV12+AW12<>0),AY12*0.866*K2,NA())","v":{"$error":"#N/A"}}]
[{"$nulls":3},0.5,{"$f":"0*K2","v":0},{"$f":"IF(G2=TRUE,D13,NA())","v":{"$error":"#N/A"}},{"$f":"IF(G2=TRUE,E13,NA())","v":{"$error":"#N/A"}},{"$nulls":6},0.28,{"$f":"0.2165*K2","v":0.2165},{"$f":"IF(Q2=TRUE,N13,NA())","v":{"$error":"#N/A"}},{"$f":"IF(Q2=TRUE,O13,NA())","v":{"$error":"#N/A"}},{"$nulls":7},0.95,{"$f":"0.0866*K2","v":0.0866},{"$f":"IF(AA2=TRUE, Y13,NA())","v":{"$error":"#N/A"}},{"$f":"IF(AA2=TRUE, Z13,NA())","v":{"$error":"#N/A"}},{"$nulls":12},{"$error":"#DIV/0!"},{"$error":"#DIV/0!"},{"$error":"#DIV/0!"},{"$f":"IF(AND(AM2=TRUE,AL13+AM13+AN13<>0),(AO13+(AP13*0.5)),NA())","v":{"$error":"#N/A"}},{"$f":"IF(AND(AM2=TRUE,AL13+AM13+AN13<>0),AP13*0.866*K2,NA())","v":{"$error":"#N/A"}},{"$nulls":4},{"$error":"#DIV/0!"},{"$error":"#DIV/0!"},{"$error":"#DIV/0!"},{"$f":"IF(AND(AV2=TRUE,AU13+AV13+AW13<>0),(AX13+(AY13*0.5)),NA())","v":{"$error":"#N/A"}},{"$f":"IF(AND(AV2=TRUE,AU13+AV13+AW13<>0),AY13*0.866*K2,NA())","v":{"$error":"#N/A"}}]
[{"$nulls":3},0.75,{"$f":"0.433*K2","v":0.433},{"$f":"IF(G2=TRUE,D14,NA())","v":{"$error":"#N/A"}},{"$f":"IF(G2=TRUE,E14,NA())","v":{"$error":"#N/A"}},{"$nulls":6},0.28,{"$f":"0.28712*K2","v":0.28712},{"$f":"IF(Q2=TRUE,N14,NA())","v":{"$error":"#N/A"}},{"$f":"IF(Q2=TRUE,O14,NA())","v":{"$error":"#N/A"}},{"$nulls":7},0.9,{"$f":"0.1732*K2","v":0.1732},{"$f":"IF(AA2=TRUE, Y14,NA())","v":{"$error":"#N/A"}},{"$f":"IF(AA2=TRUE, Z14,NA())","v":{"$error":"#N/A"}},{"$f":"IF(AA1=TRUE, Y14,NA())","v":{"$error":"#N/A"}},{"$f":"IF(AA1=TRUE,Z14,NA())","v":{"$error":"#N/A"}},{"$nulls":10},{"$error":"#DIV/0!"},{"$error":"#DIV/0!"},{"$error":"#DIV/0!"},{"$f":"IF(AND(AM2=TRUE,AL14+AM14+AN14<>0),(AO14+(AP14*0.5)),NA())","v":{"$error":"#N/A"}},{"$f":"IF(AND(AM2=TRUE,AL14+AM14+AN14<>0),AP14*0.866*K2,NA())","v":{"$error":"#N/A"}},{"$nulls":4},{"$error":"#DIV/0!"},{"$error":"#DIV/0!"},{"$error":"#DIV/0!"},{"$f":"IF(AND(AV2=TRUE,AU14+AV14+AW14<>0),(AX14+(AY14*0.5)),NA())","v":{"$error":"#N/A"}},{"$f":"IF(AND(AV2=TRUE,AU14+AV14+AW14<>0),AY14*0.866*K2,NA())","v":{"$error":"#N/A"}}]
[{"$nulls":3},0.8,{"$f":"0.3464*K2","v":0.3464},{"$f":"IF(G2=TRUE,D15,NA())","v":{"$error":"#N/A"}},{"$f":"IF(G2=TRUE,E15,NA())","v":{"$error":"#N/A"}},{"$nulls":6},0.3,{"$f":"0.3464*K2","v":0.3464},{"$f":"IF(Q2=TRUE,N15,NA())","v":{"$error":"#N/A"}},{"$f":"IF(Q2=TRUE,O15,NA())","v":{"$error":"#N/A"}},{"$nulls":7},0.85,{"$f":"0.2598*K2","v":0.2598},{"$f":"IF(AA2=TRUE, Y15,NA())","v":{"$error":"#N/A"}},{"$f":"IF(AA2=TRUE, Z15,NA())","v":{"$error":"#N/A"}},{"$nulls":12},{"$error":"#DIV/0!"},{"$error":"#DIV/0!"},{"$error":"#DIV/0!"},{"$f":"IF(AND(AM2=TRUE,AL15+AM15+AN15<>0),(AO15+(AP15*0.5)),NA())","v":{"$error":"#N/A"}},{"$f":"IF(AND(AM2=TRUE,AL15+AM15+AN15<>0),AP15*0.866*K2,NA())","v":{"$error":"#N/A"}},{"$nulls":4},{"$error":"#DIV/0!"},{"$error":"#DIV/0!"},{"$error":"#DIV/0!"},{"$f":"IF(AND(AV2=TRUE,AU15+AV15+AW15<>0),(AX15+(AY15*0.5)),NA())","v":{"$error":"#N/A"}},{"$f":"IF(AND(AV2=TRUE,AU15+AV15+AW15<>0),AY15*0.866*K2,NA())","v":{"$error":"#N/A"}}]
[{"$nulls":3},0.6,{"$f":"0*K2","v":0},{"$f":"IF(G2=TRUE,D16,NA())","v":{"$error":"#N/A"}},{"$f":"IF(G2=TRUE,E16,NA())","v":{"$error":"#N/A"}},{"$nulls":6},0.55,{"$f":"0.7794*K2","v":0.7794},{"$f":"IF(Q2=TRUE,N16,NA())","v":{"$error":"#N/A"}},{"$f":"IF(Q2=TRUE,O16,NA())","v":{"$error":"#N/A"}},{"$nulls":7},0.8,{"$f":"0.3464*K2","v":0.3464},{"$f":"IF(AA2=TRUE, Y16,NA())","v":{"$error":"#N/A"}},{"$f":"IF(AA2=TRUE, Z16,NA())","v":{"$error":"#N/A"}},{"$f":"IF(AA1=TRUE, Y16,NA())","v":{"$error":"#N/A"}},{"$f":"IF(AA1=TRUE,Z16,NA())","v":{"$error":"#N/A"}},{"$nulls":10},{"$error":"#DIV/0!"},{"$error":"#DIV/0!"},{"$error":"#DIV/0!"},{"$f":"IF(AND(AM2=TRUE,AL16+AM16+AN16<>0),(AO16+(AP16*0.5)),NA())","v":{"$error":"#N/A"}},{"$f":"IF(AND(AM2=TRUE,AL16+AM16+AN16<>0),AP16*0.866*K2,NA())","v":{"$error":"#N/A"}},{"$nulls":4},{"$error":"#DIV/0!"},{"$error":"#DIV/0!"},{"$error":"#DIV/0!"},{"$f":"IF(AND(AV2=TRUE,AU16+AV16+AW16<>0),(AX16+(AY16*0.5)),NA())","v":{"$error":"#N/A"}},{"$f":"IF(AND(AV2=TRUE,AU16+AV16+AW16<>0),AY16*0.866*K2,NA())","v":{"$error":"#N/A"}}]
[{"$nulls":3},0.7,{"$f":"0*K2","v":0},{"$f":"IF(G2=TRUE,D17,NA())","v":{"$error":"#N/A"}},{"$f":"IF(G2=TRUE,E17,NA())","v":{"$error":"#N/A"}},null,"10%-Ticks  ",null,"show?:",false,{"$nulls":12},0.75,{"$f":"0.433*K2","v":0.433},{"$f":"IF(AA2=TRUE, Y17,NA())","v":{"$error":"#N/A"}},{"$f":"IF(AA2=TRUE, Z17,NA())","v":{"$error":"#N/A"}},{"$nulls":12},{"$error":"#DIV/0!"},{"$error":"#DIV/0!"},{"$error":"#DIV/0!"},{"$f":"IF(AND(AM2=TRUE,AL17+AM17+AN17<>0),(AO17+(AP17*0.5)),NA())","v":{"$error":"#N/A"}},{"$f":"IF(AND(AM2=TRUE,AL17+AM17+AN17<>0),AP17*0.866*K2,NA())","v":{"$error":"#N/A"}},{"$nulls":4},{"$error":"#DIV/0!"},{"$error":"#DIV/0!"},{"$error":"#DIV/0!"},{"$f":"IF(AND(AV2=TRUE,AU17+AV17+AW17<>0),(AX17+(AY17*0.5)),NA())","v":{"$error":"#N/A"}},{"$f":"IF(AND(AV2=TRUE,AU17+AV17+AW17<>0),AY17*0.866*K2,NA())","v":{"$error":"#N/A"}}]
[{"$nulls":3},0.85,{"$f":"0.2598*K2","v":0.2598},{"$f":"IF(G2=TRUE,D18,NA())","v":{"$error":"#N/A"}},{"$f":"IF(G2=TRUE,E18,NA())","v":{"$error":"#N/A"}},null,"10%-ticks: all",{"$nulls":4},0.9,{"$f":"0*K2","v":0},{"$f":"IF(Q2=TRUE,N18,NA())","v":{"$error":"#N/A"}},{"$f":"IF(Q2=TRUE,O18,NA())","v":{"$error":"#N/A"}},{"$nulls":7},0.7,{"$f":"0.5196*K2","v":0.5196},{"$f":"IF(AA2=TRUE, Y18,NA())","v":{"$error":"#N/A"}},{"$f":"IF(AA2=TRUE, Z18,NA())","v":{"$error":"#N/A"}},{"$f":"IF(AA1=TRUE, Y18,NA())","v":{"$error":"#N/A"}},{"$f":"IF(AA1=TRUE,Z18,NA())","v":{"$error":"#N/A"}},{"$nulls":10},{"$error":"#DIV/0!"},{"$error":"#DIV/0!"},{"$error":"#DIV/0!"},{"$f":"IF(AND(AM2=TRUE,AL18+AM18+AN18<>0),(AO18+(AP18*0.5)),NA())","v":{"$error":"#N/A"}},{"$f":"IF(AND(AM2=TRUE,AL18+AM18+AN18<>0),AP18*0.866*K2,NA())","v":{"$error":"#N/A"}},{"$nulls":4},{"$error":"#DIV/0!"},{"$error":"#DIV/0!"},{"$error":"#DIV/0!"},{"$f":"IF(AND(AV2=TRUE,AU18+AV18+AW18<>0),(AX18+(AY18*0.5)),NA())","v":{"$error":"#N/A"}},{"$f":"IF(AND(AV2=TRUE,AU18+AV18+AW18<>0),AY18*0.866*K2,NA())","v":{"$error":"#N/A"}}]
[{"$nulls":3},0.9,{"$f":"0.1732*K2","v":0.1732},{"$f":"IF(G2=TRUE,D19,NA())","v":{"$error":"#N/A"}},{"$f":"IF(G2=TRUE,E19,NA())","v":{"$error":"#N/A"}},null,"x","y","x","y",null,0.85,{"$f":"0.0866*K2","v":0.0866},{"$f":"IF(Q2=TRUE,N19,NA())","v":{"$error":"#N/A"}},{"$f":"IF(Q2=TRUE,O19,NA())","v":{"$error":"#N/A"}},{"$nulls":7},0.65,{"$f":"0.6062*K2","v":0.6062},{"$f":"IF(AA2=TRUE, Y19,NA())","v":{"$error":"#N/A"}},{"$f":"IF(AA2=TRUE, Z19,NA())","v":{"$error":"#N/A"}},{"$nulls":12},{"$error":"#DIV/0!"},{"$error":"#DIV/0!"},{"$error":"#DIV/0!"},{"$f":"IF(AND(AM2=TRUE,AL19+AM19+AN19<>0),(AO19+(AP19*0.5)),NA())","v":{"$error":"#N/A"}},{"$f":"IF(AND(AM2=TRUE,AL19+AM19+AN19<>0),AP19*0.866*K2,NA())","v":{"$error":"#N/A"}},{"$nulls":4},{"$error":"#DIV/0!"},{"$error":"#DIV/0!"},{"$error":"#DIV/0!"},{"$f":"IF(AND(AV2=TRUE,AU19+AV19+AW19<>0),(AX19+(AY19*0.5)),NA())","v":{"$error":"#N/A"}},{"$f":"IF(AND(AV2=TRUE,AU19+AV19+AW19<>0),AY19*0.866*K2,NA())","v":{"$error":"#N/A"}}]
[{"$nulls":3},0.8,{"$f":"0*K2","v":0},{"$f":"IF(G2=TRUE,D20,NA())","v":{"$error":"#N/A"}},{"$f":"IF(G2=TRUE,E20,NA())","v":{"$error":"#N/A"}},null,0,{"$f":"0*K2","v":0},{"$f":"IF(L17=TRUE,I20,NA())","v":{"$error":"#N/A"}},{"$f":"IF(L17=TRUE,J20,NA())","v":{"$error":"#N/A"}},{"$nulls":12},0.6,{"$f":"0.6928*K2","v":0.6928},{"$f":"IF(AA2=TRUE, Y20,NA())","v":{"$error":"#N/A"}},{"$f":"IF(AA2=TRUE, Z20,NA())","v":{"$error":"#N/A"}},{"$f":"IF(AA1=TRUE, Y20,NA())","v":{"$error":"#N/A"}},{"$f":"IF(AA1=TRUE,Z20,NA())","v":{"$error":"#N/A"}},{"$nulls":10},{"$error":"#DIV/0!"},{"$error":"#DIV/0!"},{"$error":"#DIV/0!"},{"$f":"IF(AND(AM2=TRUE,AL20+AM20+AN20<>0),(AO20+(AP20*0.5)),NA())","v":{"$error":"#N/A"}},{"$f":"IF(AND(AM2=TRUE,AL20+AM20+AN20<>0),AP20*0.866*K2,NA())","v":{"$error":"#N/A"}},{"$nulls":4},{"$error":"#DIV/0!"},{"$error":"#DIV/0!"},{"$error":"#DIV/0!"},{"$f":"IF(AND(AV2=TRUE,AU20+AV20+AW20<>0),(AX20+(AY20*0.5)),NA())","v":{"$error":"#N/A"}},{"$f":"IF(AND(AV2=TRUE,AU20+AV20+AW20<>0),AY20*0.866*K2,NA())","v":{"$error":"#N/A"}}]
[{"$nulls":3},0.9,{"$f":"0*K2","v":0},{"$f":"IF(G2=TRUE,D21,NA())","v":{"$error":"#N/A"}},{"$f":"IF(G2=TRUE,E21,NA())","v":{"$error":"#N/A"}},null,0.1,{"$f":"0*K2","v":0},{"$f":"IF(L17=TRUE,I21,NA())","v":{"$error":"#N/A"}},{"$f":"IF(L17=TRUE,J21,NA())","v":{"$error":"#N/A"}},null,0.7,{"$f":"0*K2","v":0},{"$f":"IF(Q2=TRUE,N21,NA())","v":{"$error":"#N/A"}},{"$f":"IF(Q2=TRUE,O21,NA())","v":{"$error":"#N/A"}},{"$nulls":7},0.55,{"$f":"0.7794*K2","v":0.7794},{"$f":"IF(AA2=TRUE, Y21,NA())","v":{"$error":"#N/A"}},{"$f":"IF(AA2=TRUE, Z21,NA())","v":{"$error":"#N/A"}},{"$nulls":12},{"$error":"#DIV/0!"},{"$error":"#DIV/0!"},{"$error":"#DIV/0!"},{"$f":"IF(AND(AM2=TRUE,AL21+AM21+AN21<>0),(AO21+(AP21*0.5)),NA())","v":{"$error":"#N/A"}},{"$f":"IF(AND(AM2=TRUE,AL21+AM21+AN21<>0),AP21*0.866*K2,NA())","v":{"$error":"#N/A"}},{"$nulls":4},{"$error":"#DIV/0!"},{"$error":"#DIV/0!"},{"$error":"#DIV/0!"},{"$f":"IF(AND(AV2=TRUE,AU21+AV21+AW21<>0),(AX21+(AY21*0.5)),NA())","v":{"$error":"#N/A"}},{"$f":"IF(AND(AV2=TRUE,AU21+AV21+AW21<>0),AY21*0.866*K2,NA())","v":{"$error":"#N/A"}}]
[{"$nulls":3},0.95,{"$f":"0.0866*K2","v":0.0866},{"$f":"IF(G2=TRUE,D22,NA())","v":{"$error":"#N/A"}},{"$f":"IF(G2=TRUE,E22,NA())","v":{"$error":"#N/A"}},null,0.087,{"$f":"0.02*K2","v":0.02},{"$f":"IF(L17=TRUE,I22,NA())","v":{"$error":"#N/A"}},{"$f":"IF(L17=TRUE,J22,NA())","v":{"$error":"#N/A"}},null,0.681,{"$f":"0.0866*K2","v":0.0866},{"$f":"IF(Q2=TRUE,N22,NA())","v":{"$error":"#N/A"}},{"$f":"IF(Q2=TRUE,O22,NA())","v":{"$error":"#N/A"}},{"$nulls":7},0.45,{"$f":"0.7794*K2","v":0.7794},{"$f":"IF(AA2=TRUE, Y22,NA())","v":{"$error":"#N/A"}},{"$f":"IF(AA2=TRUE, Z22,NA())","v":{"$error":"#N/A"}},{"$nulls":12},{"$error":"#DIV/0!"},{"$error":"#DIV/0!"},{"$error":"#DIV/0!"},{"$f":"IF(AND(AM2=TRUE,AL22+AM22+AN22<>0),(AO22+(AP22*0.5)),NA())","v":{"$error":"#N/A"}},{"$f":"IF(AND(AM2=TRUE,AL22+AM22+AN22<>0),AP22*0.866*K2,NA())","v":{"$error":"#N/A"}},{"$nulls":4},{"$error":"#DIV/0!"},{"$error":"#DIV/0!"},{"$error":"#DIV/0!"},{"$f":"IF(AND(AV2=TRUE,AU22+AV22+AW22<>0),(AX22+(AY22*0.5)),NA())","v":{"$error":"#N/A"}},{"$f":"IF(AND(AV2=TRUE,AU22+AV22+AW22<>0),AY22*0.866*K2,NA())","v":{"$error":"#N/A"}}]
[{"$nulls":3},0.05,{"$f":"0.0866*K2","v":0.0866},{"$f":"IF(G2=TRUE,D23,NA())","v":{"$error":"#N/A"}},{"$f":"IF(G2=TRUE,E23,NA())","v":{"$error":"#N/A"}},null,0.1,{"$f":"0*K2","v":0},{"$f":"IF(L17=TRUE,I23,NA())","v":{"$error":"#N/A"}},{"$f":"IF(L17=TRUE,J23,NA())","v":{"$error":"#N/A"}},{"$nulls":12},0.4,{"$f":"0.6928*K2","v":0.6928},{"$f":"IF(AA2=TRUE, Y23,NA())","v":{"$error":"#N/A"}},{"$f":"IF(AA2=TRUE, Z23,NA())","v":{"$error":"#N/A"}},{"$f":"IF(AA1=TRUE, Y23,NA())","v":{"$error":"#N/A"}},{"$f":"IF(AA1=TRUE,Z23,NA())","v":{"$error":"#N/A"}},{"$nulls":10},{"$error":"#DIV/0!"},{"$error":"#DIV/0!"},{"$error":"#DIV/0!"},{"$f":"IF(AND(AM2=TRUE,AL23+AM23+AN23<>0),(AO23+(AP23*0.5)),NA())","v":{"$error":"#N/A"}},{"$f":"IF(AND(AM2=TRUE,AL23+AM23+AN23<>0),AP23*0.866*K2,NA())","v":{"$error":"#N/A"}},{"$nulls":4},{"$error":"#DIV/0!"},{"$error":"#DIV/0!"},{"$error":"#DIV/0!"},{"$f":"IF(AND(AV2=TRUE,AU23+AV23+AW23<>0),(AX23+(AY23*0.5)),NA())","v":{"$error":"#N/A"}},{"$f":"IF(AND(AV2=TRUE,AU23+AV23+AW23<>0),AY23*0.866*K2,NA())","v":{"$error":"#N/A"}}]
[{"$nulls":3},0.1,{"$f":"0.1732*K2","v":0.1732},{"$f":"IF(G2=TRUE,D24,NA())","v":{"$error":"#N/A"}},{"$f":"IF(G2=TRUE,E24,NA())","v":{"$error":"#N/A"}},null,0.113,{"$f":"0.02*K2","v":0.02},{"$f":"IF(L17=TRUE,I24,NA())","v":{"$error":"#N/A"}},{"$f":"IF(L17=TRUE,J24,NA())","v":{"$error":"#N/A"}},null,0.5,{"$f":"0*K2","v":0},{"$f":"IF(Q2=TRUE,N24,NA())","v":{"$error":"#N/A"}},{"$f":"IF(Q2=TRUE,O24,NA())","v":{"$error":"#N/A"}},{"$nulls":7},0.35,{"$f":"0.6062*K2","v":0.6062},{"$f":"IF(AA2=TRUE, Y24,NA())","v":{"$error":"#N/A"}},{"$f":"IF(AA2=TRUE, Z24,NA())","v":{"$error":"#N/A"}},{"$nulls":12},{"$error":"#DIV/0!"},{"$error":"#DIV/0!"},{"$error":"#DIV/0!"},{"$f":"IF(AND(AM2=TRUE,AL24+AM24+AN24<>0),(AO24+(AP24*0.5)),NA())","v":{"$error":"#N/A"}},{"$f":"IF(AND(AM2=TRUE,AL24+AM24+AN24<>0),AP24*0.866*K2,NA())","v":{"$error":"#N/A"}},{"$nulls":4},{"$error":"#DIV/0!"},{"$error":"#DIV/0!"},{"$error":"#DIV/0!"},{"$f":"IF(AND(AV2=TRUE,AU24+AV24+AW24<>0),(AX24+(AY24*0.5)),NA())","v":{"$error":"#N/A"}},{"$f":"IF(AND(AV2=TRUE,AU24+AV24+AW24<>0),AY24*0.866*K2,NA())","v":{"$error":"#N/A"}}]
[{"$nulls":3},0.9,{"$f":"0.1732*K2","v":0.1732},{"$f":"IF(G2=TRUE,D25,NA())","v":{"$error":"#N/A"}},{"$f":"IF(G2=TRUE,E25,NA())","v":{"$error":"#N/A"}},null,0.1,{"$f":"0*K2","v":0},{"$f":"IF(L17=TRUE,I25,NA())","v":{"$error":"#N/A"}},{"$f":"IF(L17=TRUE,J25,NA())","v":{"$error":"#N/A"}},null,0.5,{"$f":"0.0866*K2","v":0.0866},{"$f":"IF(Q2=TRUE,N25,NA())","v":{"$error":"#N/A"}},{"$f":"IF(Q2=TRUE,O25,NA())","v":{"$error":"#N/A"}},{"$nulls":7},0.3,{"$f":"0.5196*K2","v":0.5196},{"$f":"IF(AA2=TRUE, Y25,NA())","v":{"$error":"#N/A"}},{"$f":"IF(AA2=TRUE, Z25,NA())","v":{"$error":"#N/A"}},{"$f":"IF(AA1=TRUE, Y25,NA())","v":{"$error":"#N/A"}},{"$f":"IF(AA1=TRUE,Z25,NA())","v":{"$error":"#N/A"}},{"$nulls":10},{"$error":"#DIV/0!"},{"$error":"#DIV/0!"},{"$error":"#DIV/0!"},{"$f":"IF(AND(AM2=TRUE,AL25+AM25+AN25<>0),(AO25+(AP25*0.5)),NA())","v":{"$error":"#N/A"}},{"$f":"IF(AND(AM2=TRUE,AL25+AM25+AN25<>0),AP25*0.866*K2,NA())","v":{"$error":"#N/A"}},{"$nulls":4},{"$error":"#DIV/0!"},{"$error":"#DIV/0!"},{"$error":"#DIV/0!"},{"$f":"IF(AND(AV2=TRUE,AU25+AV25+AW25<>0),(AX25+(AY25*0.5)),NA())","v":{"$error":"#N/A"}},{"$f":"IF(AND(AV2=TRUE,AU25+AV25+AW25<>0),AY25*0.866*K2,NA())","v":{"$error":"#N/A"}}]
[{"$nulls":3},0.85,{"$f":"0.2598*K2","v":0.2598},{"$f":"IF(G2=TRUE,D26,NA())","v":{"$error":"#N/A"}},{"$f":"IF(G2=TRUE,E26,NA())","v":{"$error":"#N/A"}},null,0.2,{"$f":"0*K2","v":0},{"$f":"IF(L17=TRUE,I26,NA())","v":{"$error":"#N/A"}},{"$f":"IF(L17=TRUE,J26,NA())","v":{"$error":"#N/A"}},{"$nulls":12},0.25,{"$f":"0.433*K2","v":0.433},{"$f":"IF(AA2=TRUE, Y26,NA())","v":{"$error":"#N/A"}},{"$f":"IF(AA2=TRUE, Z26,NA())","v":{"$error":"#N/A"}},{"$nulls":12},{"$error":"#DIV/0!"},{"$error":"#DIV/0!"},{"$error":"#DIV/0!"},{"$f":"IF(AND(AM2=TRUE,AL26+AM26+AN26<>0),(AO26+(AP26*0.5)),NA())","v":{"$error":"#N/A"}},{"$f":"IF(AND(AM2=TRUE,AL26+AM26+AN26<>0),AP26*0.866*K2,NA())","v":{"$error":"#N/A"}},{"$nulls":4},{"$error":"#DIV/0!"},{"$error":"#DIV/0!"},{"$error":"#DIV/0!"},{"$f":"IF(AND(AV2=TRUE,AU26+AV26+AW26<>0),(AX26+(AY26*0.5)),NA())","v":{"$error":"#N/A"}},{"$f":"IF(AND(AV2=TRUE,AU26+AV26+AW26<>0),AY26*0.866*K2,NA())","v":{"$error":"#N/A"}}]
[{"$nulls":3},0.15,{"$f":"0.2598*K2","v":0.2598},{"$f":"IF(G2=TRUE,D27,NA())","v":{"$error":"#N/A"}},{"$f":"IF(G2=TRUE,E27,NA())","v":{"$error":"#N/A"}},null,0.187,{"$f":"0.02*K2","v":0.02},{"$f":"IF(L17=TRUE,I27,NA())","v":{"$error":"#N/A"}},{"$f":"IF(L17=TRUE,J27,NA())","v":{"$error":"#N/A"}},null,0.3,{"$f":"0*K2","v":0},{"$f":"IF(Q2=TRUE,N27,NA())","v":{"$error":"#N/A"}},{"$f":"IF(Q2=TRUE,O27,NA())","v":{"$error":"#N/A"}},{"$nulls":7},0.2,{"$f":"0.3464*K2","v":0.3464},{"$f":"IF(AA2=TRUE, Y27,NA())","v":{"$error":"#N/A"}},{"$f":"IF(AA2=TRUE, Z27,NA())","v":{"$error":"#N/A"}},{"$f":"IF(AA1=TRUE, Y27,NA())","v":{"$error":"#N/A"}},{"$f":"IF(AA1=TRUE,Z27,NA())","v":{"$error":"#N/A"}},{"$nulls":10},{"$error":"#DIV/0!"},{"$error":"#DIV/0!"},{"$error":"#DIV/0!"},{"$f":"IF(AND(AM2=TRUE,AL27+AM27+AN27<>0),(AO27+(AP27*0.5)),NA())","v":{"$error":"#N/A"}},{"$f":"IF(AND(AM2=TRUE,AL27+AM27+AN27<>0),AP27*0.866*K2,NA())","v":{"$error":"#N/A"}},{"$nulls":4},{"$error":"#DIV/0!"},{"$error":"#DIV/0!"},{"$error":"#DIV/0!"},{"$f":"IF(AND(AV2=TRUE,AU27+AV27+AW27<>0),(AX27+(AY27*0.5)),NA())","v":{"$error":"#N/A"}},{"$f":"IF(AND(AV2=TRUE,AU27+AV27+AW27<>0),AY27*0.866*K2,NA())","v":{"$error":"#N/A"}}]
[{"$nulls":3},0.2,{"$f":"0.3464*K2","v":0.3464},{"$f":"IF(G2=TRUE,D28,NA())","v":{"$error":"#N/A"}},{"$f":"IF(G2=TRUE,E28,NA())","v":{"$error":"#N/A"}},null,0.2,{"$f":"0*K2","v":0},{"$f":"IF(L17=TRUE,I28,NA())","v":{"$error":"#N/A"}},{"$f":"IF(L17=TRUE,J28,NA())","v":{"$error":"#N/A"}},null,0.333,{"$f":"0.11258*K2","v":0.11258},{"$f":"IF(Q2=TRUE,N28,NA())","v":{"$error":"#N/A"}},{"$f":"IF(Q2=TRUE,O28,NA())","v":{"$error":"#N/A"}},{"$nulls":7},0.15,{"$f":"0.2598*K2","v":0.2598},{"$f":"IF(AA2=TRUE, Y28,NA())","v":{"$error":"#N/A"}},{"$f":"IF(AA2=TRUE, Z28,NA())","v":{"$error":"#N/A"}},{"$nulls":12},{"$error":"#DIV/0!"},{"$error":"#DIV/0!"},{"$error":"#DIV/0!"},{"$f":"IF(AND(AM2=TRUE,AL28+AM28+AN28<>0),(AO28+(AP28*0.5)),NA())","v":{"$error":"#N/A"}},{"$f":"IF(AND(AM2=TRUE,AL28+AM28+AN28<>0),AP28*0.866*K2,NA())","v":{"$error":"#N/A"}},{"$nulls":4},{"$error":"#DIV/0!"},{"$error":"#DIV/0!"},{"$error":"#DIV/0!"},{"$f":"IF(AND(AV2=TRUE,AU28+AV28+AW28<>0),(AX28+(AY28*0.5)),NA())","v":{"$error":"#N/A"}},{"$f":"IF(AND(AV2=TRUE,AU28+AV28+AW28<>0),AY28*0.866*K2,NA())","v":{"$error":"#N/A"}}]
[{"$nulls":3},0.8,{"$f":"0.3464*K2","v":0.3464},{"$f":"IF(G2=TRUE,D29,NA())","v":{"$error":"#N/A"}},{"$f":"IF(G2=TRUE,E29,NA())","v":{"$error":"#N/A"}},null,0.213,{"$f":"0.02*K2","v":0.02},{"$f":"IF(L17=TRUE,I29,NA())","v":{"$error":"#N/A"}},{"$f":"IF(L17=TRUE,J29,NA())","v":{"$error":"#N/A"}},{"$nulls":12},0.1,{"$f":"0.1732*K2","v":0.1732},{"$f":"IF(AA2=TRUE, Y29,NA())","v":{"$error":"#N/A"}},{"$f":"IF(AA2=TRUE, Z29,NA())","v":{"$error":"#N/A"}},{"$f":"IF(AA1=TRUE, Y29,NA())","v":{"$error":"#N/A"}},{"$f":"IF(AA1=TRUE,Z29,NA())","v":{"$error":"#N/A"}},{"$nulls":10},{"$error":"#DIV/0!"},{"$error":"#DIV/0!"},{"$error":"#DIV/0!"},{"$f":"IF(AND(AM2=TRUE,AL29+AM29+AN29<>0),(AO29+(AP29*0.5)),NA())","v":{"$error":"#N/A"}},{"$f":"IF(AND(AM2=TRUE,AL29+AM29+AN29<>0),AP29*0.866*K2,NA())","v":{"$error":"#N/A"}},{"$nulls":4},{"$error":"#DIV/0!"},{"$error":"#DIV/0!"},{"$error":"#DIV/0!"},{"$f":"IF(AND(AV2=TRUE,AU29+AV29+AW29<>0),(AX29+(AY29*0.5)),NA())","v":{"$error":"#N/A"}},{"$f":"IF(AND(AV2=TRUE,AU29+AV29+AW29<>0),AY29*0.866*K2,NA())","v":{"$error":"#N/A"}}]
[{"$nulls":3},0.75,{"$f":"0.433*K2","v":0.433},{"$f":"IF(G2=TRUE,D30,NA())","v":{"$error":"#N/A"}},{"$f":"IF(G2=TRUE,E30,NA())","v":{"$error":"#N/A"}},null,0.2,{"$f":"0*K2","v":0},{"$f":"IF(L17=TRUE,I30,NA())","v":{"$error":"#N/A"}},{"$f":"IF(L17=TRUE,J30,NA())","v":{"$error":"#N/A"}},null,0.1,{"$f":"0*K2","v":0},{"$f":"IF(Q2=TRUE,N30,NA())","v":{"$error":"#N/A"}},{"$f":"IF(Q2=TRUE,O30,NA())","v":{"$error":"#N/A"}},{"$nulls":7},0.05,{"$f":"0.0866*K2","v":0.0866},{"$f":"IF(AA2=TRUE, Y30,NA())","v":{"$error":"#N/A"}},{"$f":"IF(AA2=TRUE, Z30,NA())","v":{"$error":"#N/A"}},{"$nulls":12},{"$error":"#DIV/0!"},{"$error":"#DIV/0!"},{"$error":"#DIV/0!"},{"$f":"IF(AND(AM2=TRUE,AL30+AM30+AN30<>0),(AO30+(AP30*0.5)),NA())","v":{"$error":"#N/A"}},{"$f":"IF(AND(AM2=TRUE,AL30+AM30+AN30<>0),AP30*0.866*K2,NA())","v":{"$error":"#N/A"}},{"$nulls":4},{"$error":"#DIV/0!"},{"$error":"#DIV/0!"},{"$error":"#DIV/0!"},{"$f":"IF(AND(AV2=TRUE,AU30+AV30+AW30<>0),(AX30+(AY30*0.5)),NA())","v":{"$error":"#N/A"}},{"$f":"IF(AND(AV2=TRUE,AU30+AV30+AW30<>0),AY30*0.866*K2,NA())","v":{"$error":"#N/A"}}]
[{"$nulls":3},0.25,{"$f":"0.433*K2","v":0.433},{"$f":"IF(G2=TRUE,D31,NA())","v":{"$error":"#N/A"}},{"$f":"IF(G2=TRUE,E31,NA())","v":{"$error":"#N/A"}},null,0.3,{"$f":"0*K2","v":0},{"$f":"IF(L17=TRUE,I31,NA())","v":{"$error":"#N/A"}},{"$f":"IF(L17=TRUE,J31,NA())","v":{"$error":"#N/A"}},null,0.1385,{"$f":"0.07794*K2","v":0.07794},{"$f":"IF(Q2=TRUE,N31,NA())","v":{"$error":"#N/A"}},{"$f":"IF(Q2=TRUE,O31,NA())","v":{"$error":"#N/A"}},{"$nulls":23},{"$error":"#DIV/0!"},{"$error":"#DIV/0!"},{"$error":"#DIV/0!"},{"$f":"IF(AND(AM2=TRUE,AL31+AM31+AN31<>0),(AO31+(AP31*0.5)),NA())","v":{"$error":"#N/A"}},{"$f":"IF(AND(AM2=TRUE,AL31+AM31+AN31<>0),AP31*0.866*K2,NA())","v":{"$error":"#N/A"}},{"$nulls":4},{"$error":"#DIV/0!"},{"$error":"#DIV/0!"},{"$error":"#DIV/0!"},{"$f":"IF(AND(AV2=TRUE,AU31+AV31+AW31<>0),(AX31+(AY31*0.5)),NA())","v":{"$error":"#N/A"}},{"$f":"IF(AND(AV2=TRUE,AU31+AV31+AW31<>0),AY31*0.866*K2,NA())","v":{"$error":"#N/A"}}]
[{"$nulls":3},0.3,{"$f":"0.5196*K2","v":0.5196},{"$f":"IF(G2=TRUE,D32,NA())","v":{"$error":"#N/A"}},{"$f":"IF(G2=TRUE,E32,NA())","v":{"$error":"#N/A"}},null,0.287,{"$f":"0.02*K2","v":0.02},{"$f":"IF(L17=TRUE,I32,NA())","v":{"$error":"#N/A"}},{"$f":"IF(L17=TRUE,J32,NA())","v":{"$error":"#N/A"}},{"$nulls":28},{"$error":"#DIV/0!"},{"$error":"#DIV/0!"},{"$error":"#DIV/0!"},{"$f":"IF(AND(AM2=TRUE,AL32+AM32+AN32<>0),(AO32+(AP32*0.5)),NA())","v":{"$error":"#N/A"}},{"$f":"IF(AND(AM2=TRUE,AL32+AM32+AN32<>0),AP32*0.866*K2,NA())","v":{"$error":"#N/A"}},{"$nulls":4},{"$error":"#DIV/0!"},{"$error":"#DIV/0!"},{"$error":"#DIV/0!"},{"$f":"IF(AND(AV2=TRUE,AU32+AV32+AW32<>0),(AX32+(AY32*0.5)),NA())","v":{"$error":"#N/A"}},{"$f":"IF(AND(AV2=TRUE,AU32+AV32+AW32<>0),AY32*0.866*K2,NA())","v":{"$error":"#N/A"}}]
[{"$nulls":3},0.7,{"$f":"0.5196*K2","v":0.5196},{"$f":"IF(G2=TRUE,D33,NA())","v":{"$error":"#N/A"}},{"$f":"IF(G2=TRUE,E33,NA())","v":{"$error":"#N/A"}},null,0.3,{"$f":"0*K2","v":0},{"$f":"IF(L17=TRUE,I33,NA())","v":{"$error":"#N/A"}},{"$f":"IF(L17=TRUE,J33,NA())","v":{"$error":"#N/A"}},null,0.19,{"$f":"0.32042*K2","v":0.32042},{"$f":"IF(Q2=TRUE,N33,NA())","v":{"$error":"#N/A"}},{"$f":"IF(Q2=TRUE,O33,NA())","v":{"$error":"#N/A"}},{"$nulls":23},{"$error":"#DIV/0!"},{"$error":"#DIV/0!"},{"$error":"#DIV/0!"},{"$f":"IF(AND(AM2=TRUE,AL33+AM33+AN33<>0),(AO33+(AP33*0.5)),NA())","v":{"$error":"#N/A"}},{"$f":"IF(AND(AM2=TRUE,AL33+AM33+AN33<>0),AP33*0.866*K2,NA())","v":{"$error":"#N/A"}},{"$nulls":4},{"$error":"#DIV/0!"},{"$error":"#DIV/0!"},{"$error":"#DIV/0!"},{"$f":"IF(AND(AV2=TRUE,AU33+AV33+AW33<>0),(AX33+(AY33*0.5)),NA())","v":{"$error":"#N/A"}},{"$f":"IF(AND(AV2=TRUE,AU33+AV33+AW33<>0),AY33*0.866*K2,NA())","v":{"$error":"#N/A"}}]
[{"$nulls":3},0.65,{"$f":"0.6062*K2","v":0.6062},{"$f":"IF(G2=TRUE,D34,NA())","v":{"$error":"#N/A"}},{"$f":"IF(G2=TRUE,E34,NA())","v":{"$error":"#N/A"}},null,0.313,{"$f":"0.02*K2","v":0.02},{"$f":"IF(L17=TRUE,I34,NA())","v":{"$error":"#N/A"}},{"$f":"IF(L17=TRUE,J34,NA())","v":{"$error":"#N/A"}},null,0.28,{"$f":"0.28712*K2","v":0.28712},{"$f":"IF(Q2=TRUE,N34,NA())","v":{"$error":"#N/A"}},{"$f":"IF(Q2=TRUE,O34,NA())","v":{"$error":"#N/A"}},{"$nulls":23},{"$error":"#DIV/0!"},{"$error":"#DIV/0!"},{"$error":"#DIV/0!"},{"$f":"IF(AND(AM2=TRUE,AL34+AM34+AN34<>0),(AO34+(AP34*0.5)),NA())","v":{"$error":"#N/A"}},{"$f":"IF(AND(AM2=TRUE,AL34+AM34+AN34<>0),AP34*0.866*K2,NA())","v":{"$error":"#N/A"}},{"$nulls":4},{"$error":"#DIV/0!"},{"$error":"#DIV/0!"},{"$error":"#DIV/0!"},{"$f":"IF(AND(AV2=TRUE,AU34+AV34+AW34<>0),(AX34+(AY34*0.5)),NA())","v":{"$error":"#N/A"}},{"$f":"IF(AND(AV2=TRUE,AU34+AV34+AW34<>0),AY34*0.866*K2,NA())","v":{"$error":"#N/A"}}]
[{"$nulls":3},0.35,{"$f":"0.6062*K2","v":0.6062},{"$f":"IF(G2=TRUE,D35,NA())","v":{"$error":"#N/A"}},{"$f":"IF(G2=TRUE,E35,NA())","v":{"$error":"#N/A"}},null,0.3,{"$f":"0*K2","v":0},{"$f":"IF(L17=TRUE,I35,NA())","v":{"$error":"#N/A"}},{"$f":"IF(L17=TRUE,J35,NA())","v":{"$error":"#N/A"}},{"$nulls":28},{"$error":"#DIV/0!"},{"$error":"#DIV/0!"},{"$error":"#DIV/0!"},{"$f":"IF(AND(AM2=TRUE,AL35+AM35+AN35<>0),(AO35+(AP35*0.5)),NA())","v":{"$error":"#N/A"}},{"$f":"IF(AND(AM2=TRUE,AL35+AM35+AN35<>0),AP35*0.866*K2,NA())","v":{"$error":"#N/A"}},{"$nulls":4},{"$error":"#DIV/0!"},{"$error":"#DIV/0!"},{"$error":"#DIV/0!"},{"$f":"IF(AND(AV2=TRUE,AU35+AV35+AW35<>0),(AX35+(AY35*0.5)),NA())","v":{"$error":"#N/A"}},{"$f":"IF(AND(AV2=TRUE,AU35+AV35+AW35<>0),AY35*0.866*K2,NA())","v":{"$error":"#N/A"}}]
[{"$nulls":3},0.4,{"$f":"0.6928*K2","v":0.6928},{"$f":"IF(G2=TRUE,D36,NA())","v":{"$error":"#N/A"}},{"$f":"IF(G2=TRUE,E36,NA())","v":{"$error":"#N/A"}},null,0.4,{"$f":"0*K2","v":0},{"$f":"IF(L17=TRUE,I36,NA())","v":{"$error":"#N/A"}},{"$f":"IF(L17=TRUE,J36,NA())","v":{"$error":"#N/A"}},null,0.05,{"$f":"0.0866*K2","v":0.0866},{"$f":"IF(Q2=TRUE,N36,NA())","v":{"$error":"#N/A"}},{"$f":"IF(Q2=TRUE,O36,NA())","v":{"$error":"#N/A"}},{"$nulls":23},{"$error":"#DIV/0!"},{"$error":"#DIV/0!"},{"$error":"#DIV/0!"},{"$f":"IF(AND(AM2=TRUE,AL36+AM36+AN36<>0),(AO36+(AP36*0.5)),NA())","v":{"$error":"#N/A"}},{"$f":"IF(AND(AM2=TRUE,AL36+AM36+AN36<>0),AP36*0.866*K2,NA())","v":{"$error":"#N/A"}},{"$nulls":4},{"$error":"#DIV/0!"},{"$error":"#DIV/0!"},{"$error":"#DIV/0!"},{"$f":"IF(AND(AV2=TRUE,AU36+AV36+AW36<>0),(AX36+(AY36*0.5)),NA())","v":{"$error":"#N/A"}},{"$f":"IF(AND(AV2=TRUE,AU36+AV36+AW36<>0),AY36*0.866*K2,NA())","v":{"$error":"#N/A"}}]
[{"$nulls":3},0.6,{"$f":"0.6928*K2","v":0.6928},{"$f":"IF(G2=TRUE,D37,NA())","v":{"$error":"#N/A"}},{"$f":"IF(G2=TRUE,E37,NA())","v":{"$error":"#N/A"}},null,0.387,{"$f":"0.02*K2","v":0.02},{"$f":"IF(L17=TRUE,I37,NA())","v":{"$error":"#N/A"}},{"$f":"IF(L17=TRUE,J37,NA())","v":{"$error":"#N/A"}},null,0.1385,{"$f":"0.07794*K2","v":0.07794},{"$f":"IF(Q2=TRUE,N37,NA())","v":{"$error":"#N/A"}},{"$f":"IF(Q2=TRUE,O37,NA())","v":{"$error":"#N/A"}},{"$nulls":23},{"$error":"#DIV/0!"},{"$error":"#DIV/0!"},{"$error":"#DIV/0!"},{"$f":"IF(AND(AM2=TRUE,AL37+AM37+AN37<>0),(AO37+(AP37*0.5)),NA())","v":{"$error":"#N/A"}},{"$f":"IF(AND(AM2=TRUE,AL37+AM37+AN37<>0),AP37*0.866*K2,NA())","v":{"$error":"#N/A"}},{"$nulls":4},{"$error":"#DIV/0!"},{"$error":"#DIV/0!"},{"$error":"#DIV/0!"},{"$f":"IF(AND(AV2=TRUE,AU37+AV37+AW37<>0),(AX37+(AY37*0.5)),NA())","v":{"$error":"#N/A"}},{"$f":"IF(AND(AV2=TRUE,AU37+AV37+AW37<>0),AY37*0.866*K2,NA())","v":{"$error":"#N/A"}}]
[{"$nulls":3},0.55,{"$f":"0.7794*K2","v":0.7794},{"$f":"IF(G2=TRUE,D38,NA())","v":{"$error":"#N/A"}},{"$f":"IF(G2=TRUE,E38,NA())","v":{"$error":"#N/A"}},null,0.4,{"$f":"0*K2","v":0},{"$f":"IF(L17=TRUE,I38,NA())","v":{"$error":"#N/A"}},{"$f":"IF(L17=TRUE,J38,NA())","v":{"$error":"#N/A"}},{"$nulls":28},{"$error":"#DIV/0!"},{"$error":"#DIV/0!"},{"$error":"#DIV/0!"},{"$f":"IF(AND(AM2=TRUE,AL38+AM38+AN38<>0),(AO38+(AP38*0.5)),NA())","v":{"$error":"#N/A"}},{"$f":"IF(AND(AM2=TRUE,AL38+AM38+AN38<>0),AP38*0.866*K2,NA())","v":{"$error":"#N/A"}},{"$nulls":4},{"$error":"#DIV/0!"},{"$error":"#DIV/0!"},{"$error":"#DIV/0!"},{"$f":"IF(AND(AV2=TRUE,AU38+AV38+AW38<>0),(AX38+(AY38*0.5)),NA())","v":{"$error":"#N/A"}},{"$f":"IF(AND(AV2=TRUE,AU38+AV38+AW38<>0),AY38*0.866*K2,NA())","v":{"$error":"#N/A"}}]
[{"$nulls":3},0.45,{"$f":"0.7794*K2","v":0.7794},{"$f":"IF(G2=TRUE,D39,NA())","v":{"$error":"#N/A"}},{"$f":"IF(G2=TRUE,E39,NA())","v":{"$error":"#N/A"}},null,0.413,{"$f":"0.02*K2","v":0.02},{"$f":"IF(L17=TRUE,I39,NA())","v":{"$error":"#N/A"}},{"$f":"IF(L17=TRUE,J39,NA())","v":{"$error":"#N/A"}},null,0.1385,{"$f":"0.07794*K2","v":0.07794},{"$f":"IF(Q2=TRUE,N39,NA())","v":{"$error":"#N/A"}},{"$f":"IF(Q2=TRUE,O39,NA())","v":{"$error":"#N/A"}},{"$nulls":23},{"$error":"#DIV/0!"},{"$error":"#DIV/0!"},{"$error":"#DIV/0!"},{"$f":"IF(AND(AM2=TRUE,AL39+AM39+AN39<>0),(AO39+(AP39*0.5)),NA())","v":{"$error":"#N/A"}},{"$f":"IF(AND(AM2=TRUE,AL39+AM39+AN39<>0),AP39*0.866*K2,NA())","v":{"$error":"#N/A"}},{"$nulls":4},{"$error":"#DIV/0!"},{"$error":"#DIV/0!"},{"$error":"#DIV/0!"},{"$f":"IF(AND(AV2=TRUE,AU39+AV39+AW39<>0),(AX39+(AY39*0.5)),NA())","v":{"$error":"#N/A"}},{"$f":"IF(AND(AV2=TRUE,AU39+AV39+AW39<>0),AY39*0.866*K2,NA())","v":{"$error":"#N/A"}}]
[{"$nulls":3},0.9,{"$f":"0*K2","v":0},{"$f":"IF(G2=TRUE,D40,NA())","v":{"$error":"#N/A"}},{"$f":"IF(G2=TRUE,E40,NA())","v":{"$error":"#N/A"}},null,0.4,{"$f":"0*K2","v":0},{"$f":"IF(L17=TRUE,I40,NA())","v":{"$error":"#N/A"}},{"$f":"IF(L17=TRUE,J40,NA())","v":{"$error":"#N/A"}},null,0.177,{"$f":"0.0866*K2","v":0.0866},{"$f":"IF(Q2=TRUE,N40,NA())","v":{"$error":"#N/A"}},{"$f":"IF(Q2=TRUE,O40,NA())","v":{"$error":"#N/A"}},{"$nulls":23},{"$error":"#DIV/0!"},{"$error":"#DIV/0!"},{"$error":"#DIV/0!"},{"$f":"IF(AND(AM2=TRUE,AL40+AM40+AN40<>0),(AO40+(AP40*0.5)),NA())","v":{"$error":"#N/A"}},{"$f":"IF(AND(AM2=TRUE,AL40+AM40+AN40<>0),AP40*0.866*K2,NA())","v":{"$error":"#N/A"}},{"$nulls":4},{"$error":"#DIV/0!"},{"$error":"#DIV/0!"},{"$error":"#DIV/0!"},{"$f":"IF(AND(AV2=TRUE,AU40+AV40+AW40<>0),(AX40+(AY40*0.5)),NA())","v":{"$error":"#N/A"}},{"$f":"IF(AND(AV2=TRUE,AU40+AV40+AW40<>0),AY40*0.866*K2,NA())","v":{"$error":"#N/A"}}]
[{"$nulls":3},0.8,{"$f":"0*K2","v":0},{"$f":"IF(G2=TRUE,D41,NA())","v":{"$error":"#N/A"}},{"$f":"IF(G2=TRUE,E41,NA())","v":{"$error":"#N/A"}},null,0.5,{"$f":"0*K2","v":0},{"$f":"IF(L17=TRUE,I41,NA())","v":{"$error":"#N/A"}},{"$f":"IF(L17=TRUE,J41,NA())","v":{"$error":"#N/A"}},null,0.333,{"$f":"0.11258*K2","v":0.11258},{"$f":"IF(Q2=TRUE,N41,NA())","v":{"$error":"#N/A"}},{"$f":"IF(Q2=TRUE,O41,NA())","v":{"$error":"#N/A"}},{"$nulls":23},{"$error":"#DIV/0!"},{"$error":"#DIV/0!"},{"$error":"#DIV/0!"},{"$f":"IF(AND(AM2=TRUE,AL41+AM41+AN41<>0),(AO41+(AP41*0.5)),NA())","v":{"$error":"#N/A"}},{"$f":"IF(AND(AM2=TRUE,AL41+AM41+AN41<>0),AP41*0.866*K2,NA())","v":{"$error":"#N/A"}},{"$nulls":4},{"$error":"#DIV/0!"},{"$error":"#DIV/0!"},{"$error":"#DIV/0!"},{"$f":"IF(AND(AV2=TRUE,AU41+AV41+AW41<>0),(AX41+(AY41*0.5)),NA())","v":{"$error":"#N/A"}},{"$f":"IF(AND(AV2=TRUE,AU41+AV41+AW41<>0),AY41*0.866*K2,NA())","v":{"$error":"#N/A"}}]
[{"$nulls":3},0.4,{"$f":"0.6928*K2","v":0.6928},{"$f":"IF(G2=TRUE,D42,NA())","v":{"$error":"#N/A"}},{"$f":"IF(G2=TRUE,E42,NA())","v":{"$error":"#N/A"}},null,0.487,{"$f":"0.02*K2","v":0.02},{"$f":"IF(L17=TRUE,I42,NA())","v":{"$error":"#N/A"}},{"$f":"IF(L17=TRUE,J42,NA())","v":{"$error":"#N/A"}},null,0.35,{"$f":"0.11258*K2","v":0.11258},{"$f":"IF(Q2=TRUE,N42,NA())","v":{"$error":"#N/A"}},{"$f":"IF(Q2=TRUE,O42,NA())","v":{"$error":"#N/A"}},{"$nulls":23},{"$error":"#DIV/0!"},{"$error":"#DIV/0!"},{"$error":"#DIV/0!"},{"$f":"IF(AND(AM2=TRUE,AL42+AM42+AN42<>0),(AO42+(AP42*0.5)),NA())","v":{"$error":"#N/A"}},{"$f":"IF(AND(AM2=TRUE,AL42+AM42+AN42<>0),AP42*0.866*K2,NA())","v":{"$error":"#N/A"}},{"$nulls":4},{"$error":"#DIV/0!"},{"$error":"#DIV/0!"},{"$error":"#DIV/0!"},{"$f":"IF(AND(AV2=TRUE,AU42+AV42+AW42<>0),(AX42+(AY42*0.5)),NA())","v":{"$error":"#N/A"}},{"$f":"IF(AND(AV2=TRUE,AU42+AV42+AW42<>0),AY42*0.866*K2,NA())","v":{"$error":"#N/A"}}]
[{"$nulls":3},0.35,{"$f":"0.6062*K2","v":0.6062},{"$f":"IF(G2=TRUE,D43,NA())","v":{"$error":"#N/A"}},{"$f":"IF(G2=TRUE,E43,NA())","v":{"$error":"#N/A"}},null,0.5,{"$f":"0*K2","v":0},{"$f":"IF(L17=TRUE,I43,NA())","v":{"$error":"#N/A"}},{"$f":"IF(L17=TRUE,J43,NA())","v":{"$error":"#N/A"}},{"$nulls":28},{"$error":"#DIV/0!"},{"$error":"#DIV/0!"},{"$error":"#DIV/0!"},{"$f":"IF(AND(AM2=TRUE,AL43+AM43+AN43<>0),(AO43+(AP43*0.5)),NA())","v":{"$error":"#N/A"}},{"$f":"IF(AND(AM2=TRUE,AL43+AM43+AN43<>0),AP43*0.866*K2,NA())","v":{"$error":"#N/A"}},{"$nulls":4},{"$error":"#DIV/0!"},{"$error":"#DIV/0!"},{"$error":"#DIV/0!"},{"$f":"IF(AND(AV2=TRUE,AU43+AV43+AW43<>0),(AX43+(AY43*0.5)),NA())","v":{"$error":"#N/A"}},{"$f":"IF(AND(AV2=TRUE,AU43+AV43+AW43<>0),AY43*0.866*K2,NA())","v":{"$error":"#N/A"}}]
[{"$nulls":3},0.7,{"$f":"0*K2","v":0},{"$f":"IF(G2=TRUE,D44,NA())","v":{"$error":"#N/A"}},{"$f":"IF(G2=TRUE,E44,NA())","v":{"$error":"#N/A"}},null,0.513,{"$f":"0.02*K2","v":0.02},{"$f":"IF(L17=TRUE,I44,NA())","v":{"$error":"#N/A"}},{"$f":"IF(L17=TRUE,J44,NA())","v":{"$error":"#N/A"}},{"$nulls":28},{"$error":"#DIV/0!"},{"$error":"#DIV/0!"},{"$error":"#DIV/0!"},{"$f":"IF(AND(AM2=TRUE,AL44+AM44+AN44<>0),(AO44+(AP44*0.5)),NA())","v":{"$error":"#N/A"}},{"$f":"IF(AND(AM2=TRUE,AL44+AM44+AN44<>0),AP44*0.866*K2,NA())","v":{"$error":"#N/A"}},{"$nulls":4},{"$error":"#DIV/0!"},{"$error":"#DIV/0!"},{"$error":"#DIV/0!"},{"$f":"IF(AND(AV2=TRUE,AU44+AV44+AW44<>0),(AX44+(AY44*0.5)),NA())","v":{"$error":"#N/A"}},{"$f":"IF(AND(AV2=TRUE,AU44+AV44+AW44<>0),AY44*0.866*K2,NA())","v":{"$error":"#N/A"}}]
[{"$nulls":3},0.6,{"$f":"0*K2","v":0},{"$f":"IF(G2=TRUE,D45,NA())","v":{"$error":"#N/A"}},{"$f":"IF(G2=TRUE,E45,NA())","v":{"$error":"#N/A"}},null,0.5,{"$f":"0*K2","v":0},{"$f":"IF(L17=TRUE,I45,NA())","v":{"$error":"#N/A"}},{"$f":"IF(L17=TRUE,J45,NA())","v":{"$error":"#N/A"}},{"$nulls":28},{"$error":"#DIV/0!"},{"$error":"#DIV/0!"},{"$error":"#DIV/0!"},{"$f":"IF(AND(AM2=TRUE,AL45+AM45+AN45<>0),(AO45+(AP45*0.5)),NA())","v":{"$error":"#N/A"}},{"$f":"IF(AND(AM2=TRUE,AL45+AM45+AN45<>0),AP45*0.866*K2,NA())","v":{"$error":"#N/A"}},{"$nulls":4},{"$error":"#DIV/0!"},{"$error":"#DIV/0!"},{"$error":"#DIV/0!"},{"$f":"IF(AND(AV2=TRUE,AU45+AV45+AW45<>0),(AX45+(AY45*0.5)),NA())","v":{"$error":"#N/A"}},{"$f":"IF(AND(AV2=TRUE,AU45+AV45+AW45<>0),AY45*0.866*K2,NA())","v":{"$error":"#N/A"}}]
[{"$nulls":3},0.3,{"$f":"0.5196*K2","v":0.5196},{"$f":"IF(G2=TRUE,D46,NA())","v":{"$error":"#N/A"}},{"$f":"IF(G2=TRUE,E46,NA())","v":{"$error":"#N/A"}},null,0.6,{"$f":"0*K2","v":0},{"$f":"IF(L17=TRUE,I46,NA())","v":{"$error":"#N/A"}},{"$f":"IF(L17=TRUE,J46,NA())","v":{"$error":"#N/A"}},{"$nulls":28},{"$error":"#DIV/0!"},{"$error":"#DIV/0!"},{"$error":"#DIV/0!"},{"$f":"IF(AND(AM2=TRUE,AL46+AM46+AN46<>0),(AO46+(AP46*0.5)),NA())","v":{"$error":"#N/A"}},{"$f":"IF(AND(AM2=TRUE,AL46+AM46+AN46<>0),AP46*0.866*K2,NA())","v":{"$error":"#N/A"}},{"$nulls":4},{"$error":"#DIV/0!"},{"$error":"#DIV/0!"},{"$error":"#DIV/0!"},{"$f":"IF(AND(AV2=TRUE,AU46+AV46+AW46<>0),(AX46+(AY46*0.5)),NA())","v":{"$error":"#N/A"}},{"$f":"IF(AND(AV2=TRUE,AU46+AV46+AW46<>0),AY46*0.866*K2,NA())","v":{"$error":"#N/A"}}]
[{"$nulls":3},0.25,{"$f":"0.433*K2","v":0.433},{"$f":"IF(G2=TRUE,D47,NA())","v":{"$error":"#N/A"}},{"$f":"IF(G2=TRUE,E47,NA())","v":{"$error":"#N/A"}},null,0.587,{"$f":"0.02*K2","v":0.02},{"$f":"IF(L17=TRUE,I47,NA())","v":{"$error":"#N/A"}},{"$f":"IF(L17=TRUE,J47,NA())","v":{"$error":"#N/A"}},{"$nulls":28},{"$error":"#DIV/0!"},{"$error":"#DIV/0!"},{"$error":"#DIV/0!"},{"$f":"IF(AND(AM2=TRUE,AL47+AM47+AN47<>0),(AO47+(AP47*0.5)),NA())","v":{"$error":"#N/A"}},{"$f":"IF(AND(AM2=TRUE,AL47+AM47+AN47<>0),AP47*0.866*K2,NA())","v":{"$error":"#N/A"}},{"$nulls":4},{"$error":"#DIV/0!"},{"$error":"#DIV/0!"},{"$error":"#DIV/0!"},{"$f":"IF(AND(AV2=TRUE,AU47+AV47+AW47<>0),(AX47+(AY47*0.5)),NA())","v":{"$error":"#N/A"}},{"$f":"IF(AND(AV2=TRUE,AU47+AV47+AW47<>0),AY47*0.866*K2,NA())","v":{"$error":"#N/A"}}]
[{"$nulls":3},0.5,{"$f":"0*K2","v":0},{"$f":"IF(G2=TRUE,D48,NA())","v":{"$error":"#N/A"}},{"$f":"IF(G2=TRUE,E48,NA())","v":{"$error":"#N/A"}},null,0.6,{"$f":"0*K2","v":0},{"$f":"IF(L17=TRUE,I48,NA())","v":{"$error":"#N/A"}},{"$f":"IF(L17=TRUE,J48,NA())","v":{"$error":"#N/A"}},{"$nulls":28},{"$error":"#DIV/0!"},{"$error":"#DIV/0!"},{"$error":"#DIV/0!"},{"$f":"IF(AND(AM2=TRUE,AL48+AM48+AN48<>0),(AO48+(AP48*0.5)),NA())","v":{"$error":"#N/A"}},{"$f":"IF(AND(AM2=TRUE,AL48+AM48+AN48<>0),AP48*0.866*K2,NA())","v":{"$error":"#N/A"}},{"$nulls":4},{"$error":"#DIV/0!"},{"$error":"#DIV/0!"},{"$error":"#DIV/0!"},{"$f":"IF(AND(AV2=TRUE,AU48+AV48+AW48<>0),(AX48+(AY48*0.5)),NA())","v":{"$error":"#N/A"}},{"$f":"IF(AND(AV2=TRUE,AU48+AV48+AW48<>0),AY48*0.866*K2,NA())","v":{"$error":"#N/A"}}]
[{"$nulls":3},0.4,{"$f":"0*K2","v":0},{"$f":"IF(G2=TRUE,D49,NA())","v":{"$error":"#N/A"}},{"$f":"IF(G2=TRUE,E49,NA())","v":{"$error":"#N/A"}},null,0.613,{"$f":"0.02*K2","v":0.02},{"$f":"IF(L17=TRUE,I49,NA())","v":{"$error":"#N/A"}},{"$f":"IF(L17=TRUE,J49,NA())","v":{"$error":"#N/A"}},{"$nulls":28},{"$error":"#DIV/0!"},{"$error":"#DIV/0!"},{"$error":"#DIV/0!"},{"$f":"IF(AND(AM2=TRUE,AL49+AM49+AN49<>0),(AO49+(AP49*0.5)),NA())","v":{"$error":"#N/A"}},{"$f":"IF(AND(AM2=TRUE,AL49+AM49+AN49<>0),AP49*0.866*K2,NA())","v":{"$error":"#N/A"}},{"$nulls":4},{"$error":"#DIV/0!"},{"$error":"#DIV/0!"},{"$error":"#DIV/0!"},{"$f":"IF(AND(AV2=TRUE,AU49+AV49+AW49<>0),(AX49+(AY49*0.5)),NA())","v":{"$error":"#N/A"}},{"$f":"IF(AND(AV2=TRUE,AU49+AV49+AW49<>0),AY49*0.866*K2,NA())","v":{"$error":"#N/A"}}]
[{"$nulls":3},0.2,{"$f":"0.3464*K2","v":0.3464},{"$f":"IF(G2=TRUE,D50,NA())","v":{"$error":"#N/A"}},{"$f":"IF(G2=TRUE,E50,NA())","v":{"$error":"#N/A"}},null,0.6,{"$f":"0*K2","v":0},{"$f":"IF(L17=TRUE,I50,NA())","v":{"$error":"#N/A"}},{"$f":"IF(L17=TRUE,J50,NA())","v":{"$error":"#N/A"}},{"$nulls":28},{"$error":"#DIV/0!"},{"$error":"#DIV/0!"},{"$f":"AN50/(AL50+AM50+AN50)","v":{"$error":"#DIV/0!"}},{"$f":"IF(AND(AM2=TRUE,AL50+AM50+AN50<>0),(AO50+(AP50*0.5)),NA())","v":{"$error":"#N/A"}},{"$f":"IF(AND(AM2=TRUE,AL50+AM50+AN50<>0),AP50*0.866*K2,NA())","v":{"$error":"#N/A"}},{"$nulls":4},{"$error":"#DIV/0!"},{"$error":"#DIV/0!"},{"$error":"#DIV/0!"},{"$f":"IF(AND(AV2=TRUE,AU50+AV50+AW50<>0),(AX50+(AY50*0.5)),NA())","v":{"$error":"#N/A"}},{"$f":"IF(AND(AV2=TRUE,AU50+AV50+AW50<>0),AY50*0.866*K2,NA())","v":{"$error":"#N/A"}}]
[{"$nulls":3},0.15,{"$f":"0.2598*K2","v":0.2598},{"$f":"IF(G2=TRUE,D51,NA())","v":{"$error":"#N/A"}},{"$f":"IF(G2=TRUE,E51,NA())","v":{"$error":"#N/A"}},null,0.7,{"$f":"0*K2","v":0},{"$f":"IF(L17=TRUE,I51,NA())","v":{"$error":"#N/A"}},{"$f":"IF(L17=TRUE,J51,NA())","v":{"$error":"#N/A"}}]
[{"$nulls":3},0.3,{"$f":"0*K2","v":0},{"$f":"IF(G2=TRUE,D52,NA())","v":{"$error":"#N/A"}},{"$f":"IF(G2=TRUE,E52,NA())","v":{"$error":"#N/A"}},null,0.687,{"$f":"0.02*K2","v":0.02},{"$f":"IF(L17=TRUE,I52,NA())","v":{"$error":"#N/A"}},{"$f":"IF(L17=TRUE,J52,NA())","v":{"$error":"#N/A"}}]
[{"$nulls":3},0.2,{"$f":"0*K2","v":0},{"$f":"IF(G2=TRUE,D53,NA())","v":{"$error":"#N/A"}},{"$f":"IF(G2=TRUE,E53,NA())","v":{"$error":"#N/A"}},null,0.7,{"$f":"0*K2","v":0},{"$f":"IF(L17=TRUE,I53,NA())","v":{"$error":"#N/A"}},{"$f":"IF(L17=TRUE,J53,NA())","v":{"$error":"#N/A"}}]
[{"$nulls":3},0.1,{"$f":"0.1732*K2","v":0.1732},{"$f":"IF(G2=TRUE,D54,NA())","v":{"$error":"#N/A"}},{"$f":"IF(G2=TRUE,E54,NA())","v":{"$error":"#N/A"}},null,0.713,{"$f":"0.02*K2","v":0.02},{"$f":"IF(L17=TRUE,I54,NA())","v":{"$error":"#N/A"}},{"$f":"IF(L17=TRUE,J54,NA())","v":{"$error":"#N/A"}}]
[{"$nulls":3},0.05,{"$f":"0.0866*K2","v":0.0866},{"$f":"IF(G2=TRUE,D55,NA())","v":{"$error":"#N/A"}},{"$f":"IF(G2=TRUE,E55,NA())","v":{"$error":"#N/A"}},null,0.7,{"$f":"0*K2","v":0},{"$f":"IF(L17=TRUE,I55,NA())","v":{"$error":"#N/A"}},{"$f":"IF(L17=TRUE,J55,NA())","v":{"$error":"#N/A"}}]
[{"$nulls":3},0.1,{"$f":"0*K2","v":0},{"$f":"IF(G2=TRUE,D56,NA())","v":{"$error":"#N/A"}},{"$f":"IF(G2=TRUE,E56,NA())","v":{"$error":"#N/A"}},null,0.8,{"$f":"0*K2","v":0},{"$f":"IF(L17=TRUE,I56,NA())","v":{"$error":"#N/A"}},{"$f":"IF(L17=TRUE,J56,NA())","v":{"$error":"#N/A"}}]
[{"$nulls":8},0.787,{"$f":"0.02*K2","v":0.02},{"$f":"IF(L17=TRUE,I57,NA())","v":{"$error":"#N/A"}},{"$f":"IF(L17=TRUE,J57,NA())","v":{"$error":"#N/A"}}]
[{"$nulls":8},0.8,{"$f":"0*K2","v":0},{"$f":"IF(L17=TRUE,I58,NA())","v":{"$error":"#N/A"}},{"$f":"IF(L17=TRUE,J58,NA())","v":{"$error":"#N/A"}}]
[{"$nulls":8},0.813,{"$f":"0.02*K2","v":0.02},{"$f":"IF(L17=TRUE,I59,NA())","v":{"$error":"#N/A"}},{"$f":"IF(L17=TRUE,J59,NA())","v":{"$error":"#N/A"}}]
[{"$nulls":8},0.8,{"$f":"0*K2","v":0},{"$f":"IF(L17=TRUE,I60,NA())","v":{"$error":"#N/A"}},{"$f":"IF(L17=TRUE,J60,NA())","v":{"$error":"#N/A"}}]
[{"$nulls":8},0.9,{"$f":"0*K2","v":0},{"$f":"IF(L17=TRUE,I61,NA())","v":{"$error":"#N/A"}},{"$f":"IF(L17=TRUE,J61,NA())","v":{"$error":"#N/A"}}]
[{"$nulls":8},0.887,{"$f":"0.02*K2","v":0.02},{"$f":"IF(L17=TRUE,I62,NA())","v":{"$error":"#N/A"}},{"$f":"IF(L17=TRUE,J62,NA())","v":{"$error":"#N/A"}}]
[{"$nulls":8},0.9,{"$f":"0*K2","v":0},{"$f":"IF(L17=TRUE,I63,NA())","v":{"$error":"#N/A"}},{"$f":"IF(L17=TRUE,J63,NA())","v":{"$error":"#N/A"}}]
[{"$nulls":8},0.913,{"$f":"0.02*K2","v":0.02},{"$f":"IF(L17=TRUE,I64,NA())","v":{"$error":"#N/A"}},{"$f":"IF(L17=TRUE,J64,NA())","v":{"$error":"#N/A"}}]
[{"$nulls":8},0.9,{"$f":"0*K2","v":0},{"$f":"IF(L17=TRUE,I65,NA())","v":{"$error":"#N/A"}},{"$f":"IF(L17=TRUE,J65,NA())","v":{"$error":"#N/A"}}]
[{"$nulls":8},1,{"$f":"0*K2","v":0},{"$f":"IF(L17=TRUE,I66,NA())","v":{"$error":"#N/A"}},{"$f":"IF(L17=TRUE,J66,NA())","v":{"$error":"#N/A"}}]
[{"$nulls":8},0.95,{"$f":"0.0866*K2","v":0.0866},{"$f":"IF(L17=TRUE,I67,NA())","v":{"$error":"#N/A"}},{"$f":"IF(L17=TRUE,J67,NA())","v":{"$error":"#N/A"}}]
[{"$nulls":8},0.9386,{"$f":"0.0666*K2","v":0.0666},{"$f":"IF(L17=TRUE,I68,NA())","v":{"$error":"#N/A"}},{"$f":"IF(L17=TRUE,J68,NA())","v":{"$error":"#N/A"}}]
[{"$nulls":8},0.95,{"$f":"0.0866*K2","v":0.0866},{"$f":"IF(L17=TRUE,I69,NA())","v":{"$error":"#N/A"}},{"$f":"IF(L17=TRUE,J69,NA())","v":{"$error":"#N/A"}}]
[{"$nulls":8},0.9266,{"$f":"0.0866*K2","v":0.0866},{"$f":"IF(L17=TRUE,I70,NA())","v":{"$error":"#N/A"}},{"$f":"IF(L17=TRUE,J70,NA())","v":{"$error":"#N/A"}}]
[{"$nulls":8},0.95,{"$f":"0.0866*K2","v":0.0866},{"$f":"IF(L17=TRUE,I71,NA())","v":{"$error":"#N/A"}},{"$f":"IF(L17=TRUE,J71,NA())","v":{"$error":"#N/A"}}]
[{"$nulls":8},0.9,{"$f":"0.1732*K2","v":0.1732},{"$f":"IF(L17=TRUE,I72,NA())","v":{"$error":"#N/A"}},{"$f":"IF(L17=TRUE,J72,NA())","v":{"$error":"#N/A"}}]
[{"$nulls":8},0.8886,{"$f":"0.1532*K2","v":0.1532},{"$f":"IF(L17=TRUE,I73,NA())","v":{"$error":"#N/A"}},{"$f":"IF(L17=TRUE,J73,NA())","v":{"$error":"#N/A"}}]
[{"$nulls":8},0.9,{"$f":"0.1732*K2","v":0.1732},{"$f":"IF(L17=TRUE,I74,NA())","v":{"$error":"#N/A"}},{"$f":"IF(L17=TRUE,J74,NA())","v":{"$error":"#N/A"}}]
[{"$nulls":8},0.8766,{"$f":"0.1732*K2","v":0.1732},{"$f":"IF(L17=TRUE,I75,NA())","v":{"$error":"#N/A"}},{"$f":"IF(L17=TRUE,J75,NA())","v":{"$error":"#N/A"}}]
[{"$nulls":8},0.9,{"$f":"0.1732*K2","v":0.1732},{"$f":"IF(L17=TRUE,I76,NA())","v":{"$error":"#N/A"}},{"$f":"IF(L17=TRUE,J76,NA())","v":{"$error":"#N/A"}}]
[{"$nulls":8},0.85,{"$f":"0.2598*K2","v":0.2598},{"$f":"IF(L17=TRUE,I77,NA())","v":{"$error":"#N/A"}},{"$f":"IF(L17=TRUE,J77,NA())","v":{"$error":"#N/A"}}]
[{"$nulls":8},0.8386,{"$f":"0.2398*K2","v":0.2398},{"$f":"IF(L17=TRUE,I78,NA())","v":{"$error":"#N/A"}},{"$f":"IF(L17=TRUE,J78,NA())","v":{"$error":"#N/A"}}]
[{"$nulls":8},0.85,{"$f":"0.2598*K2","v":0.2598},{"$f":"IF(L17=TRUE,I79,NA())","v":{"$error":"#N/A"}},{"$f":"IF(L17=TRUE,J79,NA())","v":{"$error":"#N/A"}}]
[{"$nulls":8},0.8266,{"$f":"0.2598*K2","v":0.2598},{"$f":"IF(L17=TRUE,I80,NA())","v":{"$error":"#N/A"}},{"$f":"IF(L17=TRUE,J80,NA())","v":{"$error":"#N/A"}}]
[{"$nulls":8},0.85,{"$f":"0.2598*K2","v":0.2598},{"$f":"IF(L17=TRUE,I81,NA())","v":{"$error":"#N/A"}},{"$f":"IF(L17=TRUE,J81,NA())","v":{"$error":"#N/A"}}]
[{"$nulls":8},0.8,{"$f":"0.3464*K2","v":0.3464},{"$f":"IF(L17=TRUE,I82,NA())","v":{"$error":"#N/A"}},{"$f":"IF(L17=TRUE,J82,NA())","v":{"$error":"#N/A"}}]
[{"$nulls":8},0.7886,{"$f":"0.3264*K2","v":0.3264},{"$f":"IF(L17=TRUE,I83,NA())","v":{"$error":"#N/A"}},{"$f":"IF(L17=TRUE,J83,NA())","v":{"$error":"#N/A"}}]
[{"$nulls":8},0.8,{"$f":"0.3464*K2","v":0.3464},{"$f":"IF(L17=TRUE,I84,NA())","v":{"$error":"#N/A"}},{"$f":"IF(L17=TRUE,J84,NA())","v":{"$error":"#N/A"}}]
[{"$nulls":8},0.7766,{"$f":"0.3464*K2","v":0.3464},{"$f":"IF(L17=TRUE,I85,NA())","v":{"$error":"#N/A"}},{"$f":"IF(L17=TRUE,J85,NA())","v":{"$error":"#N/A"}}]
[{"$nulls":8},0.8,{"$f":"0.3464*K2","v":0.3464},{"$f":"IF(L17=TRUE,I86,NA())","v":{"$error":"#N/A"}},{"$f":"IF(L17=TRUE,J86,NA())","v":{"$error":"#N/A"}}]
[{"$nulls":8},0.75,{"$f":"0.433*K2","v":0.433},{"$f":"IF(L17=TRUE,I87,NA())","v":{"$error":"#N/A"}},{"$f":"IF(L17=TRUE,J87,NA())","v":{"$error":"#N/A"}}]
[{"$nulls":8},0.7386,{"$f":"0.413*K2","v":0.413},{"$f":"IF(L17=TRUE,I88,NA())","v":{"$error":"#N/A"}},{"$f":"IF(L17=TRUE,J88,NA())","v":{"$error":"#N/A"}}]
[{"$nulls":8},0.75,{"$f":"0.433*K2","v":0.433},{"$f":"IF(L17=TRUE,I89,NA())","v":{"$error":"#N/A"}},{"$f":"IF(L17=TRUE,J89,NA())","v":{"$error":"#N/A"}}]
[{"$nulls":8},0.7266,{"$f":"0.433*K2","v":0.433},{"$f":"IF(L17=TRUE,I90,NA())","v":{"$error":"#N/A"}},{"$f":"IF(L17=TRUE,J90,NA())","v":{"$error":"#N/A"}}]
[{"$nulls":8},0.75,{"$f":"0.433*K2","v":0.433},{"$f":"IF(L17=TRUE,I91,NA())","v":{"$error":"#N/A"}},{"$f":"IF(L17=TRUE,J91,NA())","v":{"$error":"#N/A"}}]
[{"$nulls":8},0.7,{"$f":"0.5196*K2","v":0.5196},{"$f":"IF(L17=TRUE,I92,NA())","v":{"$error":"#N/A"}},{"$f":"IF(L17=TRUE,J92,NA())","v":{"$error":"#N/A"}}]
[{"$nulls":8},0.6886,{"$f":"0.4996*K2","v":0.4996},{"$f":"IF(L17=TRUE,I93,NA())","v":{"$error":"#N/A"}},{"$f":"IF(L17=TRUE,J93,NA())","v":{"$error":"#N/A"}}]
[{"$nulls":8},0.7,{"$f":"0.5196*K2","v":0.5196},{"$f":"IF(L17=TRUE,I94,NA())","v":{"$error":"#N/A"}},{"$f":"IF(L17=TRUE,J94,NA())","v":{"$error":"#N/A"}}]
[{"$nulls":8},0.6766,{"$f":"0.5196*K2","v":0.5196},{"$f":"IF(L17=TRUE,I95,NA())","v":{"$error":"#N/A"}},{"$f":"IF(L17=TRUE,J95,NA())","v":{"$error":"#N/A"}}]
[{"$nulls":8},0.7,{"$f":"0.5196*K2","v":0.5196},{"$f":"IF(L17=TRUE,I96,NA())","v":{"$error":"#N/A"}},{"$f":"IF(L17=TRUE,J96,NA())","v":{"$error":"#N/A"}}]
[{"$nulls":8},0.65,{"$f":"0.6062*K2","v":0.6062},{"$f":"IF(L17=TRUE,I97,NA())","v":{"$error":"#N/A"}},{"$f":"IF(L17=TRUE,J97,NA())","v":{"$error":"#N/A"}}]
[{"$nulls":8},0.6386,{"$f":"0.5862*K2","v":0.5862},{"$f":"IF(L17=TRUE,I98,NA())","v":{"$error":"#N/A"}},{"$f":"IF(L17=TRUE,J98,NA())","v":{"$error":"#N/A"}}]
[{"$nulls":8},0.65,{"$f":"0.6062*K2","v":0.6062},{"$f":"IF(L17=TRUE,I99,NA())","v":{"$error":"#N/A"}},{"$f":"IF(L17=TRUE,J99,NA())","v":{"$error":"#N/A"}}]
[{"$nulls":8},0.6266,{"$f":"0.6062*K2","v":0.6062},{"$f":"IF(L17=TRUE,I100,NA())","v":{"$error":"#N/A"}},{"$f":"IF(L17=TRUE,J100,NA())","v":{"$error":"#N/A"}}]
[{"$nulls":8},0.65,{"$f":"0.6062*K2","v":0.6062},{"$f":"IF(L17=TRUE,I101,NA())","v":{"$error":"#N/A"}},{"$f":"IF(L17=TRUE,J101,NA())","v":{"$error":"#N/A"}}]
[{"$nulls":8},0.6,{"$f":"0.6928*K2","v":0.6928},{"$f":"IF(L17=TRUE,I102,NA())","v":{"$error":"#N/A"}},{"$f":"IF(L17=TRUE,J102,NA())","v":{"$error":"#N/A"}}]
[{"$nulls":8},0.5886,{"$f":"0.6728*K2","v":0.6728},{"$f":"IF(L17=TRUE,I103,NA())","v":{"$error":"#N/A"}},{"$f":"IF(L17=TRUE,J103,NA())","v":{"$error":"#N/A"}}]
[{"$nulls":8},0.6,{"$f":"0.6928*K2","v":0.6928},{"$f":"IF(L17=TRUE,I104,NA())","v":{"$error":"#N/A"}},{"$f":"IF(L17=TRUE,J104,NA())","v":{"$error":"#N/A"}}]
[{"$nulls":8},0.5766,{"$f":"0.6928*K2","v":0.6928},{"$f":"IF(L17=TRUE,I105,NA())","v":{"$error":"#N/A"}},{"$f":"IF(L17=TRUE,J105,NA())","v":{"$error":"#N/A"}}]
[{"$nulls":8},0.6,{"$f":"0.6928*K2","v":0.6928},{"$f":"IF(L17=TRUE,I106,NA())","v":{"$error":"#N/A"}},{"$f":"IF(L17=TRUE,J106,NA())","v":{"$error":"#N/A"}}]
[{"$nulls":8},0.55,{"$f":"0.7794*K2","v":0.7794},{"$f":"IF(L17=TRUE,I107,NA())","v":{"$error":"#N/A"}},{"$f":"IF(L17=TRUE,J107,NA())","v":{"$error":"#N/A"}}]
[{"$nulls":8},0.5386,{"$f":"0.7594*K2","v":0.7594},{"$f":"IF(L17=TRUE,I108,NA())","v":{"$error":"#N/A"}},{"$f":"IF(L17=TRUE,J108,NA())","v":{"$error":"#N/A"}}]
[{"$nulls":8},0.55,{"$f":"0.7794*K2","v":0.7794},{"$f":"IF(L17=TRUE,I109,NA())","v":{"$error":"#N/A"}},{"$f":"IF(L17=TRUE,J109,NA())","v":{"$error":"#N/A"}}]
[{"$nulls":8},0.5266,{"$f":"0.7794*K2","v":0.7794},{"$f":"IF(L17=TRUE,I110,NA())","v":{"$error":"#N/A"}},{"$f":"IF(L17=TRUE,J110,NA())","v":{"$error":"#N/A"}}]
[{"$nulls":8},0.55,{"$f":"0.7794*K2","v":0.7794},{"$f":"IF(L17=TRUE,I111,NA())","v":{"$error":"#N/A"}},{"$f":"IF(L17=TRUE,J111,NA())","v":{"$error":"#N/A"}}]
[{"$nulls":8},0.5,{"$f":"0.866*K2","v":0.866},{"$f":"IF(L17=TRUE,I112,NA())","v":{"$error":"#N/A"}},{"$f":"IF(L17=TRUE,J112,NA())","v":{"$error":"#N/A"}}]
[{"$nulls":8},0.45,{"$f":"0.7794*K2","v":0.7794},{"$f":"IF(L17=TRUE,I113,NA())","v":{"$error":"#N/A"}},{"$f":"IF(L17=TRUE,J113,NA())","v":{"$error":"#N/A"}}]
[{"$nulls":8},0.4734,{"$f":"0.7794*K2","v":0.7794},{"$f":"IF(L17=TRUE,I114,NA())","v":{"$error":"#N/A"}},{"$f":"IF(L17=TRUE,J114,NA())","v":{"$error":"#N/A"}}]
[{"$nulls":8},0.45,{"$f":"0.7794*K2","v":0.7794},{"$f":"IF(L17=TRUE,I115,NA())","v":{"$error":"#N/A"}},{"$f":"IF(L17=TRUE,J115,NA())","v":{"$error":"#N/A"}}]
[{"$nulls":8},0.4614,{"$f":"0.7594*K2","v":0.7594},{"$f":"IF(L17=TRUE,I116,NA())","v":{"$error":"#N/A"}},{"$f":"IF(L17=TRUE,J116,NA())","v":{"$error":"#N/A"}}]
[{"$nulls":8},0.45,{"$f":"0.7794*K2","v":0.7794},{"$f":"IF(L17=TRUE,I117,NA())","v":{"$error":"#N/A"}},{"$f":"IF(L17=TRUE,J117,NA())","v":{"$error":"#N/A"}}]
[{"$nulls":8},0.4,{"$f":"0.6928*K2","v":0.6928},{"$f":"IF(L17=TRUE,I118,NA())","v":{"$error":"#N/A"}},{"$f":"IF(L17=TRUE,J118,NA())","v":{"$error":"#N/A"}}]
[{"$nulls":8},0.4234,{"$f":"0.6928*K2","v":0.6928},{"$f":"IF(L17=TRUE,I119,NA())","v":{"$error":"#N/A"}},{"$f":"IF(L17=TRUE,J119,NA())","v":{"$error":"#N/A"}}]
[{"$nulls":8},0.4,{"$f":"0.6928*K2","v":0.6928},{"$f":"IF(L17=TRUE,I120,NA())","v":{"$error":"#N/A"}},{"$f":"IF(L17=TRUE,J120,NA())","v":{"$error":"#N/A"}}]
[{"$nulls":8},0.4114,{"$f":"0.6728*K2","v":0.6728},{"$f":"IF(L17=TRUE,I121,NA())","v":{"$error":"#N/A"}},{"$f":"IF(L17=TRUE,J121,NA())","v":{"$error":"#N/A"}}]
[{"$nulls":8},0.4,{"$f":"0.6928*K2","v":0.6928},{"$f":"IF(L17=TRUE,I122,NA())","v":{"$error":"#N/A"}},{"$f":"IF(L17=TRUE,J122,NA())","v":{"$error":"#N/A"}}]
[{"$nulls":8},0.35,{"$f":"0.6062*K2","v":0.6062},{"$f":"IF(L17=TRUE,I123,NA())","v":{"$error":"#N/A"}},{"$f":"IF(L17=TRUE,J123,NA())","v":{"$error":"#N/A"}}]
[{"$nulls":8},0.3734,{"$f":"0.6062*K2","v":0.6062},{"$f":"IF(L17=TRUE,I124,NA())","v":{"$error":"#N/A"}},{"$f":"IF(L17=TRUE,J124,NA())","v":{"$error":"#N/A"}}]
[{"$nulls":8},0.35,{"$f":"0.6062*K2","v":0.6062},{"$f":"IF(L17=TRUE,I125,NA())","v":{"$error":"#N/A"}},{"$f":"IF(L17=TRUE,J125,NA())","v":{"$error":"#N/A"}}]
[{"$nulls":8},0.3614,{"$f":"0.5862*K2","v":0.5862},{"$f":"IF(L17=TRUE,I126,NA())","v":{"$error":"#N/A"}},{"$f":"IF(L17=TRUE,J126,NA())","v":{"$error":"#N/A"}}]
[{"$nulls":8},0.35,{"$f":"0.6062*K2","v":0.6062},{"$f":"IF(L17=TRUE,I127,NA())","v":{"$error":"#N/A"}},{"$f":"IF(L17=TRUE,J127,NA())","v":{"$error":"#N/A"}}]
[{"$nulls":8},0.3,{"$f":"0.5196*K2","v":0.5196},{"$f":"IF(L17=TRUE,I128,NA())","v":{"$error":"#N/A"}},{"$f":"IF(L17=TRUE,J128,NA())","v":{"$error":"#N/A"}}]
[{"$nulls":8},0.3234,{"$f":"0.5196*K2","v":0.5196},{"$f":"IF(L17=TRUE,I129,NA())","v":{"$error":"#N/A"}},{"$f":"IF(L17=TRUE,J129,NA())","v":{"$error":"#N/A"}}]
[{"$nulls":8},0.3,{"$f":"0.5196*K2","v":0.5196},{"$f":"IF(L17=TRUE,I130,NA())","v":{"$error":"#N/A"}},{"$f":"IF(L17=TRUE,J130,NA())","v":{"$error":"#N/A"}}]
[{"$nulls":8},0.3114,{"$f":"0.4996*K2","v":0.4996},{"$f":"IF(L17=TRUE,I131,NA())","v":{"$error":"#N/A"}},{"$f":"IF(L17=TRUE,J131,NA())","v":{"$error":"#N/A"}}]
[{"$nulls":8},0.3,{"$f":"0.5196*K2","v":0.5196},{"$f":"IF(L17=TRUE,I132,NA())","v":{"$error":"#N/A"}},{"$f":"IF(L17=TRUE,J132,NA())","v":{"$error":"#N/A"}}]
[{"$nulls":8},0.25,{"$f":"0.433*K2","v":0.433},{"$f":"IF(L17=TRUE,I133,NA())","v":{"$error":"#N/A"}},{"$f":"IF(L17=TRUE,J133,NA())","v":{"$error":"#N/A"}}]
[{"$nulls":8},0.2734,{"$f":"0.433*K2","v":0.433},{"$f":"IF(L17=TRUE,I134,NA())","v":{"$error":"#N/A"}},{"$f":"IF(L17=TRUE,J134,NA())","v":{"$error":"#N/A"}}]
[{"$nulls":8},0.25,{"$f":"0.433*K2","v":0.433},{"$f":"IF(L17=TRUE,I135,NA())","v":{"$error":"#N/A"}},{"$f":"IF(L17=TRUE,J135,NA())","v":{"$error":"#N/A"}}]
[{"$nulls":8},0.2614,{"$f":"0.413*K2","v":0.413},{"$f":"IF(L17=TRUE,I136,NA())","v":{"$error":"#N/A"}},{"$f":"IF(L17=TRUE,J136,NA())","v":{"$error":"#N/A"}}]
[{"$nulls":8},0.25,{"$f":"0.433*K2","v":0.433},{"$f":"IF(L17=TRUE,I137,NA())","v":{"$error":"#N/A"}},{"$f":"IF(L17=TRUE,J137,NA())","v":{"$error":"#N/A"}}]
[{"$nulls":8},0.2,{"$f":"0.3464*K2","v":0.3464},{"$f":"IF(L17=TRUE,I138,NA())","v":{"$error":"#N/A"}},{"$f":"IF(L17=TRUE,J138,NA())","v":{"$error":"#N/A"}}]
[{"$nulls":8},0.2234,{"$f":"0.3464*K2","v":0.3464},{"$f":"IF(L17=TRUE,I139,NA())","v":{"$error":"#N/A"}},{"$f":"IF(L17=TRUE,J139,NA())","v":{"$error":"#N/A"}}]
[{"$nulls":8},0.2,{"$f":"0.3464*K2","v":0.3464},{"$f":"IF(L17=TRUE,I140,NA())","v":{"$error":"#N/A"}},{"$f":"IF(L17=TRUE,J140,NA())","v":{"$error":"#N/A"}}]
[{"$nulls":8},0.2114,{"$f":"0.3264*K2","v":0.3264},{"$f":"IF(L17=TRUE,I141,NA())","v":{"$error":"#N/A"}},{"$f":"IF(L17=TRUE,J141,NA())","v":{"$error":"#N/A"}}]
[{"$nulls":8},0.2,{"$f":"0.3464*K2","v":0.3464},{"$f":"IF(L17=TRUE,I142,NA())","v":{"$error":"#N/A"}},{"$f":"IF(L17=TRUE,J142,NA())","v":{"$error":"#N/A"}}]
[{"$nulls":8},0.15,{"$f":"0.2598*K2","v":0.2598},{"$f":"IF(L17=TRUE,I143,NA())","v":{"$error":"#N/A"}},{"$f":"IF(L17=TRUE,J143,NA())","v":{"$error":"#N/A"}}]
[{"$nulls":8},0.1734,{"$f":"0.2598*K2","v":0.2598},{"$f":"IF(L17=TRUE,I144,NA())","v":{"$error":"#N/A"}},{"$f":"IF(L17=TRUE,J144,NA())","v":{"$error":"#N/A"}}]
[{"$nulls":8},0.15,{"$f":"0.2598*K2","v":0.2598},{"$f":"IF(L17=TRUE,I145,NA())","v":{"$error":"#N/A"}},{"$f":"IF(L17=TRUE,J145,NA())","v":{"$error":"#N/A"}}]
[{"$nulls":8},0.1614,{"$f":"0.2398*K2","v":0.2398},{"$f":"IF(L17=TRUE,I146,NA())","v":{"$error":"#N/A"}},{"$f":"IF(L17=TRUE,J146,NA())","v":{"$error":"#N/A"}}]
[{"$nulls":8},0.15,{"$f":"0.2598*K2","v":0.2598},{"$f":"IF(L17=TRUE,I147,NA())","v":{"$error":"#N/A"}},{"$f":"IF(L17=TRUE,J147,NA())","v":{"$error":"#N/A"}}]
[{"$nulls":8},0.1,{"$f":"0.1732*K2","v":0.1732},{"$f":"IF(L17=TRUE,I148,NA())","v":{"$error":"#N/A"}},{"$f":"IF(L17=TRUE,J148,NA())","v":{"$error":"#N/A"}}]
[{"$nulls":8},0.1234,{"$f":"0.1732*K2","v":0.1732},{"$f":"IF(L17=TRUE,I149,NA())","v":{"$error":"#N/A"}},{"$f":"IF(L17=TRUE,J149,NA())","v":{"$error":"#N/A"}}]
[{"$nulls":8},0.1,{"$f":"0.1732*K2","v":0.1732},{"$f":"IF(L17=TRUE,I150,NA())","v":{"$error":"#N/A"}},{"$f":"IF(L17=TRUE,J150,NA())","v":{"$error":"#N/A"}}]
[{"$nulls":8},0.1114,{"$f":"0.1532*K2","v":0.1532},{"$f":"IF(L17=TRUE,I151,NA())","v":{"$error":"#N/A"}},{"$f":"IF(L17=TRUE,J151,NA())","v":{"$error":"#N/A"}}]
[{"$nulls":8},0.1,{"$f":"0.1732*K2","v":0.1732},{"$f":"IF(L17=TRUE,I152,NA())","v":{"$error":"#N/A"}},{"$f":"IF(L17=TRUE,J152,NA())","v":{"$error":"#N/A"}}]
[{"$nulls":8},0.05,{"$f":"0.0866*K2","v":0.0866},{"$f":"IF(L17=TRUE,I153,NA())","v":{"$error":"#N/A"}},{"$f":"IF(L17=TRUE,J153,NA())","v":{"$error":"#N/A"}}]
[{"$nulls":8},0.0734,{"$f":"0.0866*K2","v":0.0866},{"$f":"IF(L17=TRUE,I154,NA())","v":{"$error":"#N/A"}},{"$f":"IF(L17=TRUE,J154,NA())","v":{"$error":"#N/A"}}]
[{"$nulls":8},0.05,{"$f":"0.0866*K2","v":0.0866},{"$f":"IF(L17=TRUE,I155,NA())","v":{"$error":"#N/A"}},{"$f":"IF(L17=TRUE,J155,NA())","v":{"$error":"#N/A"}}]
[{"$nulls":8},0.0614,{"$f":"0.0666*K2","v":0.0666},{"$f":"IF(L17=TRUE,I156,NA())","v":{"$error":"#N/A"}},{"$f":"IF(L17=TRUE,J156,NA())","v":{"$error":"#N/A"}}]
[{"$nulls":8},0.05,{"$f":"0.0866*K2","v":0.0866},{"$f":"IF(L17=TRUE,I157,NA())","v":{"$error":"#N/A"}},{"$f":"IF(L17=TRUE,J157,NA())","v":{"$error":"#N/A"}}]
[{"$nulls":8},0,{"$f":"0*K2","v":0},{"$f":"IF(L17=TRUE,I158,NA())","v":{"$error":"#N/A"}},{"$f":"IF(L17=TRUE,J158,NA())","v":{"$error":"#N/A"}}]

{"sheet":"Calculations","index":3,"n_rows":102,"n_cols":65,"rows_kept":102}
["Single data:",{"$nulls":5},"Serie 1:",{"$nulls":5},"Serie 2:",{"$nulls":5},"Serie 3:",{"$nulls":5},"Serie 4: ",{"$nulls":5},"Serie 5:",{"$nulls":5},"Serie 6:",{"$nulls":5},"Serie 7:",{"$nulls":5},"Serie 8:",{"$nulls":5},"Serie 9:",{"$nulls":5},"Serie 10:"]
["Bottom left %","Bottom right %","Top %","x value","y value",null,"Bottom left %","Bottom right %","Top %","x value","y value",null,"Bottom left %","Bottom right %","Top %","x value","y value",null,"Bottom left %","Bottom right %","Top %","x value","y value",null,"Bottom left %","Bottom right %","Top %","x value","y value",null,"Bottom left %","Bottom right %","Top %","x value","y value",null,"Bottom left %","Bottom right %","Top %","x value","y value",null,"Bottom left %","Bottom right %","Top %","x value","y value",null,"Bottom left %","Bottom right %","Top %","x value","y value",null,"Bottom left %","Bottom right %","Top %","x value","y value",null,"Bottom left %","Bottom right %","Top %","x value","y value"]
[{"$f":"'Single Data'!N4/('Single Data'!L4+'Single Data'!M4+'Single Data'!N4)","v":{"$error":"#DIV/0!"}},{"$f":"'Single Data'!L4/('Single Data'!L4+'Single Data'!M4+'Single Data'!N4)","v":{"$error":"#DIV/0!"}},{"$f":"'Single Data'!M4/('Single Data'!L4+'Single Data'!M4+'Single Data'!N4)","v":{"$error":"#DIV/0!"}},{"$f":"IF('Single Data'!L4+'Single Data'!M4+'Single Data'!N4<>0,(B3+(C3*0.5)),NA())","v":{"$error":"#N/A"}},{"$f":"IF('Single Data'!L4+'Single Data'!M4+'Single Data'!N4<>0,(C3*0.866*Templates!K2),NA())","v":{"$error":"#N/A"}},null,{"$f":"'Serial Data'!M3/('Serial Data'!K3+'Serial Data'!L3+'Serial Data'!M3)","v":{"$error":"#DIV/0!"}},{"$f":"'Serial Data'!K3/('Serial Data'!K3+'Serial Data'!L3+'Serial Data'!M3)","v":{"$error":"#DIV/0!"}},{"$f":"'Serial Data'!L3/('Serial Data'!K3+'Serial Data'!L3+'Serial Data'!M3)","v":{"$error":"#DIV/0!"}},{"$f":"IF('Serial Data'!K3+'Serial Data'!L3+'Serial Data'!M3<>0,(H3+(I3*0.5)),NA())","v":{"$error":"#N/A"}},{"$f":"IF('Serial Data'!K3+'Serial Data'!L3+'Serial Data'!M3<>0,(I3*0.866*Templates!K2),NA())","v":{"$error":"#N/A"}},null,{"$f":"'Serial Data'!R3/('Serial Data'!P3+'Serial Data'!Q3+'Serial Data'!R3)","v":{"$error":"#DIV/0!"}},{"$f":"'Serial Data'!P3/('Serial Data'!P3+'Serial Data'!Q3+'Serial Data'!R3)","v":{"$error":"#DIV/0!"}},{"$f":"'Serial Data'!Q3/('Serial Data'!P3+'Serial Data'!Q3+'Serial Data'!R3)","v":{"$error":"#DIV/0!"}},{"$f":"IF('Serial Data'!P3+'Serial Data'!Q3+'Serial Data'!R3<>0,(N3+(O3*0.5)),NA())","v":{"$error":"#N/A"}},{"$f":"IF('Serial Data'!P3+'Serial Data'!Q3+'Serial Data'!R3<>0,(O3*0.866*Templates!K2),NA())","v":{"$error":"#N/A"}},null,{"$f":"'Serial Data'!W3/('Serial Data'!U3+'Serial Data'!V3+'Serial Data'!W3)","v":{"$error":"#DIV/0!"}},{"$f":"'Serial Data'!U3/('Serial Data'!U3+'Serial Data'!V3+'Serial Data'!W3)","v":{"$error":"#DIV/0!"}},{"$f":"'Serial Data'!V3/('Serial Data'!U3+'Serial Data'!V3+'Serial Data'!W3)","v":{"$error":"#DIV/0!"}},{"$f":"IF('Serial Data'!V3+'Serial Data'!W3+'Serial Data'!U3<>0,(T3+(U3*0.5)),NA())","v":{"$error":"#N/A"}},{"$f":"IF('Serial Data'!V3+'Serial Data'!W3+'Serial Data'!U3<>0,(U3*0.866*Templates!K2),NA())","v":{"$error":"#N/A"}},null,{"$f":"'Serial Data'!AB3/('Serial Data'!AA3+'Serial Data'!AB3+'Serial Data'!Z3)","v":{"$error":"#DIV/0!"}},{"$f":"'Serial Data'!Z3/('Serial Data'!AA3+'Serial Data'!AB3+'Serial Data'!Z3)","v":{"$error":"#DIV/0!"}},{"$f":"'Serial Data'!AA3/('Serial Data'!AA3+'Serial Data'!AB3+'Serial Data'!Z3)","v":{"$error":"#DIV/0!"}},{"$f":"IF('Serial Data'!AB3+'Serial Data'!AA3+'Serial Data'!Z3<>0,(Z3+(AA3*0.5)),NA())","v":{"$error":"#N/A"}},{"$f":"IF('Serial Data'!AB3+'Serial Data'!AA3+'Serial Data'!Z3<>0,(AA3*0.866*Templates!K2),NA())","v":{"$error":"#N/A"}},null,{"$f":"'Serial Data'!AG3/('Serial Data'!AG3+'Serial Data'!AE3+'Serial Data'!AF3)","v":{"$error":"#DIV/0!"}},{"$f":"'Serial Data'!AE3/('Serial Data'!AG3+'Serial Data'!AE3+'Serial Data'!AF3)","v":{"$error":"#DIV/0!"}},{"$f":"'Serial Data'!AF3/('Serial Data'!AG3+'Serial Data'!AE3+'Serial Data'!AF3)","v":{"$error":"#DIV/0!"}},{"$f":"IF('Serial Data'!AE3+'Serial Data'!AF3+'Serial Data'!AG3<>0,(AF3+(AG3*0.5)),NA())","v":{"$error":"#N/A"}},{"$f":"IF('Serial Data'!AE3+'Serial Data'!AF3+'Serial Data'!AG3<>0,(AG3*0.866*Templates!K2),NA())","v":{"$error":"#N/A"}},null,{"$f":"'Serial Data'!AL3/('Serial Data'!AJ3+'Serial Data'!AK3+'Serial Data'!AL3)","v":{"$error":"#DIV/0!"}},{"$f":"'Serial Data'!AJ3/('Serial Data'!AJ3+'Serial Data'!AK3+'Serial Data'!AL3)","v":{"$error":"#DIV/0!"}},{"$f":"'Serial Data'!AK3/('Serial Data'!AJ3+'Serial Data'!AK3+'Serial Data'!AL3)","v":{"$error":"#DIV/0!"}},{"$f":"IF('Serial Data'!AJ3+'Serial Data'!AK3+'Serial Data'!AL3<>0,(AL3+(AM3*0.5)),NA())","v":{"$error":"#N/A"}},{"$f":"IF('Serial Data'!AJ3+'Serial Data'!AK3+'Serial Data'!AL3<>0,(AM3*0.866*Templates!K2),NA())","v":{"$error":"#N/A"}},null,{"$f":"'Serial Data'!AQ3/('Serial Data'!AO3+'Serial Data'!AP3+'Serial Data'!AQ3)","v":{"$error":"#DIV/0!"}},{"$f":"'Serial Data'!AO3/('Serial Data'!AO3+'Serial Data'!AP3+'Serial Data'!AQ3)","v":{"$error":"#DIV/0!"}},{"$f":"'Serial Data'!AP3/('Serial Data'!AO3+'Serial Data'!AP3+'Serial Data'!AQ3)","v":{"$error":"#DIV/0!"}},{"$f":"IF('Serial Data'!AO3+'Serial Data'!AP3+'Serial Data'!AQ3<>0,(AR3+(AS3*0.5)),NA())","v":{"$error":"#N/A"}},{"$f":"IF('Serial Data'!AO3+'Serial Data'!AP3+'Serial Data'!AQ3<>0,(AS3*0.866*Templates!K2),NA())","v":{"$error":"#N/A"}},null,{"$f":"'Serial Data'!AV3/('Serial Data'!AT3+'Serial Data'!AU3+'Serial Data'!AV3)","v":{"$error":"#DIV/0!"}},{"$f":"'Serial Data'!AT3/('Serial Data'!AT3+'Serial Data'!AU3+'Serial Data'!AV3)","v":{"$error":"#DIV/0!"}},{"$f":"'Serial Data'!AU3/('Serial Data'!AT3+'Serial Data'!AU3+'Serial Data'!AV3)","v":{"$error":"#DIV/0!"}},{"$f":"IF('Serial Data'!AT3+'Serial Data'!AU3+'Serial Data'!AV3<>0,(AX3+(AY3*0.5)),NA())","v":{"$error":"#N/A"}},{"$f":"IF('Serial Data'!AT3+'Serial Data'!AU3+'Serial Data'!AV3<>0,(AY3*0.866*Templates!K2),NA())","v":{"$error":"#N/A"}},null,{"$f":"'Serial Data'!BA3/('Serial Data'!AY3+'Serial Data'!AZ3+'Serial Data'!BA3)","v":{"$error":"#DIV/0!"}},{"$f":"'Serial Data'!AY3/('Serial Data'!AY3+'Serial Data'!AZ3+'Serial Data'!BA3)","v":{"$error":"#DIV/0!"}},{"$f":"'Serial Data'!AZ3/('Serial Data'!AY3+'Serial Data'!AZ3+'Serial Data'!BA3)","v":{"$error":"#DIV/0!"}},{"$f":"IF('Serial Data'!AY3+'Serial Data'!AZ3+'Serial Data'!BA3<>0,(BD3+(BE3*0.5)),NA())","v":{"$error":"#N/A"}},{"$f":"IF('Serial Data'!AY3+'Serial Data'!AZ3+'Serial Data'!BA3<>0,(BE3*0.866*Templates!K2),NA())","v":{"$error":"#N/A"}},null,{"$f":"'Serial Data'!BF3/('Serial Data'!BD3+'Serial Data'!BE3+'Serial Data'!BF3)","v":{"$error":"#DIV/0!"}},{"$f":"'Serial Data'!BD3/('Serial Data'!BD3+'Serial Data'!BE3+'Serial Data'!BF3)","v":{"$error":"#DIV/0!"}},{"$f":"'Serial Data'!BE3/('Serial Data'!BD3+'Serial Data'!BE3+'Serial Data'!BF3)","v":{"$error":"#DIV/0!"}},{"$f":"IF('Serial Data'!BD3+'Serial Data'!BE3+'Serial Data'!BF3<>0,(BJ3+(BK3*0.5)),NA())","v":{"$error":"#N/A"}},{"$f":"IF('Serial Data'!BD3+'Serial Data'!BE3+'Serial Data'!BF3<>0,(BK3*0.866*Templates!K2),NA())","v":{"$error":"#N/A"}}]
[{"$f":"'Single Data'!N5/('Single Data'!L5+'Single Data'!M5+'Single Data'!N5)","v":{"$error":"#DIV/0!"}},{"$f":"'Single Data'!L5/('Single Data'!L5+'Single Data'!M5+'Single Data'!N5)","v":{"$error":"#DIV/0!"}},{"$f":"'Single Data'!M5/('Single Data'!L5+'Single Data'!M5+'Single Data'!N5)","v":{"$error":"#DIV/0!"}},{"$f":"IF('Single Data'!L5+'Single Data'!M5+'Single Data'!N5<>0,(B4+(C4*0.5)),NA())","v":{"$error":"#N/A"}},{"$f":"IF('Single Data'!L5+'Single Data'!M5+'Single Data'!N5<>0,(C4*0.866*Templates!K2),NA())","v":{"$error":"#N/A"}},null,{"$f":"'Serial Data'!M4/('Serial Data'!K4+'Serial Data'!L4+'Serial Data'!M4)","v":{"$error":"#DIV/0!"}},{"$f":"'Serial Data'!K4/('Serial Data'!K4+'Serial Data'!L4+'Serial Data'!M4)","v":{"$error":"#DIV/0!"}},{"$f":"'Serial Data'!L4/('Serial Data'!K4+'Serial Data'!L4+'Serial Data'!M4)","v":{"$error":"#DIV/0!"}},{"$f":"IF('Serial Data'!K4+'Serial Data'!L4+'Serial Data'!M4<>0,(H4+(I4*0.5)),NA())","v":{"$error":"#N/A"}},{"$f":"IF('Serial Data'!K4+'Serial Data'!L4+'Serial Data'!M4<>0,(I4*0.866*Templates!K2),NA())","v":{"$error":"#N/A"}},null,{"$f":"'Serial Data'!R4/('Serial Data'!P4+'Serial Data'!Q4+'Serial Data'!R4)","v":{"$error":"#DIV/0!"}},{"$f":"'Serial Data'!P4/('Serial Data'!P4+'Serial Data'!Q4+'Serial Data'!R4)","v":{"$error":"#DIV/0!"}},{"$f":"'Serial Data'!Q4/('Serial Data'!P4+'Serial Data'!Q4+'Serial Data'!R4)","v":{"$error":"#DIV/0!"}},{"$f":"IF('Serial Data'!P4+'Serial Data'!Q4+'Serial Data'!R4<>0,(N4+(O4*0.5)),NA())","v":{"$error":"#N/A"}},{"$f":"IF('Serial Data'!P4+'Serial Data'!Q4+'Serial Data'!R4<>0,(O4*0.866*Templates!K2),NA())","v":{"$error":"#N/A"}},null,{"$f":"'Serial Data'!W4/('Serial Data'!U4+'Serial Data'!V4+'Serial Data'!W4)","v":{"$error":"#DIV/0!"}},{"$f":"'Serial Data'!U4/('Serial Data'!U4+'Serial Data'!V4+'Serial Data'!W4)","v":{"$error":"#DIV/0!"}},{"$f":"'Serial Data'!V4/('Serial Data'!U4+'Serial Data'!V4+'Serial Data'!W4)","v":{"$error":"#DIV/0!"}},{"$f":"IF('Serial Data'!V4+'Serial Data'!W4+'Serial Data'!U4<>0,(T4+(U4*0.5)),NA())","v":{"$error":"#N/A"}},{"$f":"IF('Serial Data'!V4+'Serial Data'!W4+'Serial Data'!U4<>0,(U4*0.866*Templates!K2),NA())","v":{"$error":"#N/A"}},null,{"$f":"'Serial Data'!AB4/('Serial Data'!AA4+'Serial Data'!AB4+'Serial Data'!Z4)","v":{"$error":"#DIV/0!"}},{"$f":"'Serial Data'!Z4/('Serial Data'!AA4+'Serial Data'!AB4+'Serial Data'!Z4)","v":{"$error":"#DIV/0!"}},{"$f":"'Serial Data'!AA4/('Serial Data'!AA4+'Serial Data'!AB4+'Serial Data'!Z4)","v":{"$error":"#DIV/0!"}},{"$f":"IF('Serial Data'!AB4+'Serial Data'!AA4+'Serial Data'!Z4<>0,(Z4+(AA4*0.5)),NA())","v":{"$error":"#N/A"}},{"$f":"IF('Serial Data'!AB4+'Serial Data'!AA4+'Serial Data'!Z4<>0,(AA4*0.866*Templates!K2),NA())","v":{"$error":"#N/A"}},null,{"$f":"'Serial Data'!AG4/('Serial Data'!AG4+'Serial Data'!AE4+'Serial Data'!AF4)","v":{"$error":"#DIV/0!"}},{"$f":"'Serial Data'!AE4/('Serial Data'!AG4+'Serial Data'!AE4+'Serial Data'!AF4)","v":{"$error":"#DIV/0!"}},{"$f":"'Serial Data'!AF4/('Serial Data'!AG4+'Serial Data'!AE4+'Serial Data'!AF4)","v":{"$error":"#DIV/0!"}},{"$f":"IF('Serial Data'!AE4+'Serial Data'!AF4+'Serial Data'!AG4<>0,(AF4+(AG4*0.5)),NA())","v":{"$error":"#N/A"}},{"$f":"IF('Serial Data'!AE4+'Serial Data'!AF4+'Serial Data'!AG4<>0,(AG4*0.866*Templates!K2),NA())","v":{"$error":"#N/A"}},null,{"$f":"'Serial Data'!AL4/('Serial Data'!AJ4+'Serial Data'!AK4+'Serial Data'!AL4)","v":{"$error":"#DIV/0!"}},{"$f":"'Serial Data'!AJ4/('Serial Data'!AJ4+'Serial Data'!AK4+'Serial Data'!AL4)","v":{"$error":"#DIV/0!"}},{"$f":"'Serial Data'!AK4/('Serial Data'!AJ4+'Serial Data'!AK4+'Serial Data'!AL4)","v":{"$error":"#DIV/0!"}},{"$f":"IF('Serial Data'!AJ4+'Serial Data'!AK4+'Serial Data'!AL4<>0,(AL4+(AM4*0.5)),NA())","v":{"$error":"#N/A"}},{"$f":"IF('Serial Data'!AJ4+'Serial Data'!AK4+'Serial Data'!AL4<>0,(AM4*0.866*Templates!K2),NA())","v":{"$error":"#N/A"}},null,{"$f":"'Serial Data'!AQ4/('Serial Data'!AO4+'Serial Data'!AP4+'Serial Data'!AQ4)","v":{"$error":"#DIV/0!"}},{"$f":"'Serial Data'!AO4/('Serial Data'!AO4+'Serial Data'!AP4+'Serial Data'!AQ4)","v":{"$error":"#DIV/0!"}},{"$f":"'Serial Data'!AP4/('Serial Data'!AO4+'Serial Data'!AP4+'Serial Data'!AQ4)","v":{"$error":"#DIV/0!"}},{"$f":"IF('Serial Data'!AO4+'Serial Data'!AP4+'Serial Data'!AQ4<>0,(AR4+(AS4*0.5)),NA())","v":{"$error":"#N/A"}},{"$f":"IF('Serial Data'!AO4+'Serial Data'!AP4+'Serial Data'!AQ4<>0,(AS4*0.866*Templates!K2),NA())","v":{"$error":"#N/A"}},null,{"$f":"'Serial Data'!AV4/('Serial Data'!AT4+'Serial Data'!AU4+'Serial Data'!AV4)","v":{"$error":"#DIV/0!"}},{"$f":"'Serial Data'!AT4/('Serial Data'!AT4+'Serial Data'!AU4+'Serial Data'!AV4)","v":{"$error":"#DIV/0!"}},{"$f":"'Serial Data'!AU4/('Serial Data'!AT4+'Serial Data'!AU4+'Serial Data'!AV4)","v":{"$error":"#DIV/0!"}},{"$f":"IF('Serial Data'!AT4+'Serial Data'!AU4+'Serial Data'!AV4<>0,(AX4+(AY4*0.5)),NA())","v":{"$error":"#N/A"}},{"$f":"IF('Serial Data'!AT4+'Serial Data'!AU4+'Serial Data'!AV4<>0,(AY4*0.866*Templates!K2),NA())","v":{"$error":"#N/A"}},null,{"$f":"'Serial Data'!BA4/('Serial Data'!AY4+'Serial Data'!AZ4+'Serial Data'!BA4)","v":{"$error":"#DIV/0!"}},{"$f":"'Serial Data'!AY4/('Serial Data'!AY4+'Serial Data'!AZ4+'Serial Data'!BA4)","v":{"$error":"#DIV/0!"}},{"$f":"'Serial Data'!AZ4/('Serial Data'!AY4+'Serial Data'!AZ4+'Serial Data'!BA4)","v":{"$error":"#DIV/0!"}},{"$f":"IF('Serial Data'!AY4+'Serial Data'!AZ4+'Serial Data'!BA4<>0,(BD4+(BE4*0.5)),NA())","v":{"$error":"#N/A"}},{"$f":"IF('Serial Data'!AY4+'Serial Data'!AZ4+'Serial Data'!BA4<>0,(BE4*0.866*Templates!K2),NA())","v":{"$error":"#N/A"}},null,{"$f":"'Serial Data'!BF4/('Serial Data'!BD4+'Serial Data'!BE4+'Serial Data'!BF4)","v":{"$error":"#DIV/0!"}},{"$f":"'Serial Data'!BD4/('Serial Data'!BD4+'Serial Data'!BE4+'Serial Data'!BF4)","v":{"$error":"#DIV/0!"}},{"$f":"'Serial Data'!BE4/('Serial Data'!BD4+'Serial Data'!BE4+'Serial Data'!BF4)","v":{"$error":"#DIV/0!"}},{"$f":"IF('Serial Data'!BD4+'Serial Data'!BE4+'Serial Data'!BF4<>0,(BJ4+(BK4*0.5)),NA())","v":{"$error":"#N/A"}},{"$f":"IF('Serial Data'!BD4+'Serial Data'!BE4+'Serial Data'!BF4<>0,(BK4*0.866*Templates!K2),NA())","v":{"$error":"#N/A"}}]
[{"$f":"'Single Data'!N6/('Single Data'!L6+'Single Data'!M6+'Single Data'!N6)","v":{"$error":"#DIV/0!"}},{"$f":"'Single Data'!L6/('Single Data'!L6+'Single Data'!M6+'Single Data'!N6)","v":{"$error":"#DIV/0!"}},{"$f":"'Single Data'!M6/('Single Data'!L6+'Single Data'!M6+'Single Data'!N6)","v":{"$error":"#DIV/0!"}},{"$f":"IF('Single Data'!L6+'Single Data'!M6+'Single Data'!N6<>0,(B5+(C5*0.5)),NA())","v":{"$error":"#N/A"}},{"$f":"IF('Single Data'!L6+'Single Data'!M6+'Single Data'!N6<>0,(C5*0.866*Templates!K2),NA())","v":{"$error":"#N/A"}},null,{"$f":"'Serial Data'!M5/('Serial Data'!K5+'Serial Data'!L5+'Serial Data'!M5)","v":{"$error":"#DIV/0!"}},{"$f":"'Serial Data'!K5/('Serial Data'!K5+'Serial Data'!L5+'Serial Data'!M5)","v":{"$error":"#DIV/0!"}},{"$f":"'Serial Data'!L5/('Serial Data'!K5+'Serial Data'!L5+'Serial Data'!M5)","v":{"$error":"#DIV/0!"}},{"$f":"IF('Serial Data'!K5+'Serial Data'!L5+'Serial Data'!M5<>0,(H5+(I5*0.5)),NA())","v":{"$error":"#N/A"}},{"$f":"IF('Serial Data'!K5+'Serial Data'!L5+'Serial Data'!M5<>0,(I5*0.866*Templates!K2),NA())","v":{"$error":"#N/A"}},null,{"$f":"'Serial Data'!R5/('Serial Data'!P5+'Serial Data'!Q5+'Serial Data'!R5)","v":{"$error":"#DIV/0!"}},{"$f":"'Serial Data'!P5/('Serial Data'!P5+'Serial Data'!Q5+'Serial Data'!R5)","v":{"$error":"#DIV/0!"}},{"$f":"'Serial Data'!Q5/('Serial Data'!P5+'Serial Data'!Q5+'Serial Data'!R5)","v":{"$error":"#DIV/0!"}},{"$f":"IF('Serial Data'!P5+'Serial Data'!Q5+'Serial Data'!R5<>0,(N5+(O5*0.5)),NA())","v":{"$error":"#N/A"}},{"$f":"IF('Serial Data'!P5+'Serial Data'!Q5+'Serial Data'!R5<>0,(O5*0.866*Templates!K2),NA())","v":{"$error":"#N/A"}},null,{"$f":"'Serial Data'!W5/('Serial Data'!U5+'Serial Data'!V5+'Serial Data'!W5)","v":{"$error":"#DIV/0!"}},{"$f":"'Serial Data'!U5/('Serial Data'!U5+'Serial Data'!V5+'Serial Data'!W5)","v":{"$error":"#DIV/0!"}},{"$f":"'Serial Data'!V5/('Serial Data'!U5+'Serial Data'!V5+'Serial Data'!W5)","v":{"$error":"#DIV/0!"}},{"$f":"IF('Serial Data'!V5+'Serial Data'!W5+'Serial Data'!U5<>0,(T5+(U5*0.5)),NA())","v":{"$error":"#N/A"}},{"$f":"IF('Serial Data'!V5+'Serial Data'!W5+'Serial Data'!U5<>0,(U5*0.866*Templates!K2),NA())","v":{"$error":"#N/A"}},null,{"$f":"'Serial Data'!AB5/('Serial Data'!AA5+'Serial Data'!AB5+'Serial Data'!Z5)","v":{"$error":"#DIV/0!"}},{"$f":"'Serial Data'!Z5/('Serial Data'!AA5+'Serial Data'!AB5+'Serial Data'!Z5)","v":{"$error":"#DIV/0!"}},{"$f":"'Serial Data'!AA5/('Serial Data'!AA5+'Serial Data'!AB5+'Serial Data'!Z5)","v":{"$error":"#DIV/0!"}},{"$f":"IF('Serial Data'!AB5+'Serial Data'!AA5+'Serial Data'!Z5<>0,(Z5+(AA5*0.5)),NA())","v":{"$error":"#N/A"}},{"$f":"IF('Serial Data'!AB5+'Serial Data'!AA5+'Serial Data'!Z5<>0,(AA5*0.866*Templates!K2),NA())","v":{"$error":"#N/A"}},null,{"$f":"'Serial Data'!AG5/('Serial Data'!AG5+'Serial Data'!AE5+'Serial Data'!AF5)","v":{"$error":"#DIV/0!"}},{"$f":"'Serial Data'!AE5/('Serial Data'!AG5+'Serial Data'!AE5+'Serial Data'!AF5)","v":{"$error":"#DIV/0!"}},{"$f":"'Serial Data'!AF5/('Serial Data'!AG5+'Serial Data'!AE5+'Serial Data'!AF5)","v":{"$error":"#DIV/0!"}},{"$f":"IF('Serial Data'!AE5+'Serial Data'!AF5+'Serial Data'!AG5<>0,(AF5+(AG5*0.5)),NA())","v":{"$error":"#N/A"}},{"$f":"IF('Serial Data'!AE5+'Serial Data'!AF5+'Serial Data'!AG5<>0,(AG5*0.866*Templates!K2),NA())","v":{"$error":"#N/A"}},null,{"$f":"'Serial Data'!AL5/('Serial Data'!AJ5+'Serial Data'!AK5+'Serial Data'!AL5)","v":{"$error":"#DIV/0!"}},{"$f":"'Serial Data'!AJ5/('Serial Data'!AJ5+'Serial Data'!AK5+'Serial Data'!AL5)","v":{"$error":"#DIV/0!"}},{"$f":"'Serial Data'!AK5/('Serial Data'!AJ5+'Serial Data'!AK5+'Serial Data'!AL5)","v":{"$error":"#DIV/0!"}},{"$f":"IF('Serial Data'!AJ5+'Serial Data'!AK5+'Serial Data'!AL5<>0,(AL5+(AM5*0.5)),NA())","v":{"$error":"#N/A"}},{"$f":"IF('Serial Data'!AJ5+'Serial Data'!AK5+'Serial Data'!AL5<>0,(AM5*0.866*Templates!K2),NA())","v":{"$error":"#N/A"}},null,{"$f":"'Serial Data'!AQ5/('Serial Data'!AO5+'Serial Data'!AP5+'Serial Data'!AQ5)","v":{"$error":"#DIV/0!"}},{"$f":"'Serial Data'!AO5/('Serial Data'!AO5+'Serial Data'!AP5+'Serial Data'!AQ5)","v":{"$error":"#DIV/0!"}},{"$f":"'Serial Data'!AP5/('Serial Data'!AO5+'Serial Data'!AP5+'Serial Data'!AQ5)","v":{"$error":"#DIV/0!"}},{"$f":"IF('Serial Data'!AO5+'Serial Data'!AP5+'Serial Data'!AQ5<>0,(AR5+(AS5*0.5)),NA())","v":{"$error":"#N/A"}},{"$f":"IF('Serial Data'!AO5+'Serial Data'!AP5+'Serial Data'!AQ5<>0,(AS5*0.866*Templates!K2),NA())","v":{"$error":"#N/A"}},null,{"$f":"'Serial Data'!AV5/('Serial Data'!AT5+'Serial Data'!AU5+'Serial Data'!AV5)","v":{"$error":"#DIV/0!"}},{"$f":"'Serial Data'!AT5/('Serial Data'!AT5+'Serial Data'!AU5+'Serial Data'!AV5)","v":{"$error":"#DIV/0!"}},{"$f":"'Serial Data'!AU5/('Serial Data'!AT5+'Serial Data'!AU5+'Serial Data'!AV5)","v":{"$error":"#DIV/0!"}},{"$f":"IF('Serial Data'!AT5+'Serial Data'!AU5+'Serial Data'!AV5<>0,(AX5+(AY5*0.5)),NA())","v":{"$error":"#N/A"}},{"$f":"IF('Serial Data'!AT5+'Serial Data'!AU5+'Serial Data'!AV5<>0,(AY5*0.866*Templates!K2),NA())","v":{"$error":"#N/A"}},null,{"$f":"'Serial Data'!BA5/('Serial Data'!AY5+'Serial Data'!AZ5+'Serial Data'!BA5)","v":{"$error":"#DIV/0!"}},{"$f":"'Serial Data'!AY5/('Serial Data'!AY5+'Serial Data'!AZ5+'Serial Data'!BA5)","v":{"$error":"#DIV/0!"}},{"$f":"'Serial Data'!AZ5/('Serial Data'!AY5+'Serial Data'!AZ5+'Serial Data'!BA5)","v":{"$error":"#DIV/0!"}},{"$f":"IF('Serial Data'!AY5+'Serial Data'!AZ5+'Serial Data'!BA5<>0,(BD5+(BE5*0.5)),NA())","v":{"$error":"#N/A"}},{"$f":"IF('Serial Data'!AY5+'Serial Data'!AZ5+'Serial Data'!BA5<>0,(BE5*0.866*Templates!K2),NA())","v":{"$error":"#N/A"}},null,{"$f":"'Serial Data'!BF5/('Serial Data'!BD5+'Serial Data'!BE5+'Serial Data'!BF5)","v":{"$error":"#DIV/0!"}},{"$f":"'Serial Data'!BD5/('Serial Data'!BD5+'Serial Data'!BE5+'Serial Data'!BF5)","v":{"$error":"#DIV/0!"}},{"$f":"'Serial Data'!BE5/('Serial Data'!BD5+'Serial Data'!BE5+'Serial Data'!BF5)","v":{"$error":"#DIV/0!"}},{"$f":"IF('Serial Data'!BD5+'Serial Data'!BE5+'Serial Data'!BF5<>0,(BJ5+(BK5*0.5)),NA())","v":{"$error":"#N/A"}},{"$f":"IF('Serial Data'!BD5+'Serial Data'!BE5+'Serial Data'!BF5<>0,(BK5*0.866*Templates!K2),NA())","v":{"$error":"#N/A"}}]
[{"$f":"'Single Data'!N7/('Single Data'!L7+'Single Data'!M7+'Single Data'!N7)","v":{"$error":"#DIV/0!"}},{"$f":"'Single Data'!L7/('Single Data'!L7+'Single Data'!M7+'Single Data'!N7)","v":{"$error":"#DIV/0!"}},{"$f":"'Single Data'!M7/('Single Data'!L7+'Single Data'!M7+'Single Data'!N7)","v":{"$error":"#DIV/0!"}},{"$f":"IF('Single Data'!L7+'Single Data'!M7+'Single Data'!N7<>0,(B6+(C6*0.5)),NA())","v":{"$error":"#N/A"}},{"$f":"IF('Single Data'!L7+'Single Data'!M7+'Single Data'!N7<>0,(C6*0.866*Templates!K2),NA())","v":{"$error":"#N/A"}},null,{"$f":"'Serial Data'!M6/('Serial Data'!K6+'Serial Data'!L6+'Serial Data'!M6)","v":{"$error":"#DIV/0!"}},{"$f":"'Serial Data'!K6/('Serial Data'!K6+'Serial Data'!L6+'Serial Data'!M6)","v":{"$error":"#DIV/0!"}},{"$f":"'Serial Data'!L6/('Serial Data'!K6+'Serial Data'!L6+'Serial Data'!M6)","v":{"$error":"#DIV/0!"}},{"$f":"IF('Serial Data'!K6+'Serial Data'!L6+'Serial Data'!M6<>0,(H6+(I6*0.5)),NA())","v":{"$error":"#N/A"}},{"$f":"IF('Serial Data'!K6+'Serial Data'!L6+'Serial Data'!M6<>0,(I6*0.866*Templates!K2),NA())","v":{"$error":"#N/A"}},null,{"$f":"'Serial Data'!R6/('Serial Data'!P6+'Serial Data'!Q6+'Serial Data'!R6)","v":{"$error":"#DIV/0!"}},{"$f":"'Serial Data'!P6/('Serial Data'!P6+'Serial Data'!Q6+'Serial Data'!R6)","v":{"$error":"#DIV/0!"}},{"$f":"'Serial Data'!Q6/('Serial Data'!P6+'Serial Data'!Q6+'Serial Data'!R6)","v":{"$error":"#DIV/0!"}},{"$f":"IF('Serial Data'!P6+'Serial Data'!Q6+'Serial Data'!R6<>0,(N6+(O6*0.5)),NA())","v":{"$error":"#N/A"}},{"$f":"IF('Serial Data'!P6+'Serial Data'!Q6+'Serial Data'!R6<>0,(O6*0.866*Templates!K2),NA())","v":{"$error":"#N/A"}},null,{"$f":"'Serial Data'!W6/('Serial Data'!U6+'Serial Data'!V6+'Serial Data'!W6)","v":{"$error":"#DIV/0!"}},{"$f":"'Serial Data'!U6/('Serial Data'!U6+'Serial Data'!V6+'Serial Data'!W6)","v":{"$error":"#DIV/0!"}},{"$f":"'Serial Data'!V6/('Serial Data'!U6+'Serial Data'!V6+'Serial Data'!W6)","v":{"$error":"#DIV/0!"}},{"$f":"IF('Serial Data'!V6+'Serial Data'!W6+'Serial Data'!U6<>0,(T6+(U6*0.5)),NA())","v":{"$error":"#N/A"}},{"$f":"IF('Serial Data'!V6+'Serial Data'!W6+'Serial Data'!U6<>0,(U6*0.866*Templates!K2),NA())","v":{"$error":"#N/A"}},null,{"$f":"'Serial Data'!AB6/('Serial Data'!AA6+'Serial Data'!AB6+'Serial Data'!Z6)","v":{"$error":"#DIV/0!"}},{"$f":"'Serial Data'!Z6/('Serial Data'!AA6+'Serial Data'!AB6+'Serial Data'!Z6)","v":{"$error":"#DIV/0!"}},{"$f":"'Serial Data'!AA6/('Serial Data'!AA6+'Serial Data'!AB6+'Serial Data'!Z6)","v":{"$error":"#DIV/0!"}},{"$f":"IF('Serial Data'!AB6+'Serial Data'!AA6+'Serial Data'!Z6<>0,(Z6+(AA6*0.5)),NA())","v":{"$error":"#N/A"}},{"$f":"IF('Serial Data'!AB6+'Serial Data'!AA6+'Serial Data'!Z6<>0,(AA6*0.866*Templates!K2),NA())","v":{"$error":"#N/A"}},null,{"$f":"'Serial Data'!AG6/('Serial Data'!AG6+'Serial Data'!AE6+'Serial Data'!AF6)","v":{"$error":"#DIV/0!"}},{"$f":"'Serial Data'!AE6/('Serial Data'!AG6+'Serial Data'!AE6+'Serial Data'!AF6)","v":{"$error":"#DIV/0!"}},{"$f":"'Serial Data'!AF6/('Serial Data'!AG6+'Serial Data'!AE6+'Serial Data'!AF6)","v":{"$error":"#DIV/0!"}},{"$f":"IF('Serial Data'!AE6+'Serial Data'!AF6+'Serial Data'!AG6<>0,(AF6+(AG6*0.5)),NA())","v":{"$error":"#N/A"}},{"$f":"IF('Serial Data'!AE6+'Serial Data'!AF6+'Serial Data'!AG6<>0,(AG6*0.866*Templates!K2),NA())","v":{"$error":"#N/A"}},null,{"$f":"'Serial Data'!AL6/('Serial Data'!AJ6+'Serial Data'!AK6+'Serial Data'!AL6)","v":{"$error":"#DIV/0!"}},{"$f":"'Serial Data'!AJ6/('Serial Data'!AJ6+'Serial Data'!AK6+'Serial Data'!AL6)","v":{"$error":"#DIV/0!"}},{"$f":"'Serial Data'!AK6/('Serial Data'!AJ6+'Serial Data'!AK6+'Serial Data'!AL6)","v":{"$error":"#DIV/0!"}},{"$f":"IF('Serial Data'!AJ6+'Serial Data'!AK6+'Serial Data'!AL6<>0,(AL6+(AM6*0.5)),NA())","v":{"$error":"#N/A"}},{"$f":"IF('Serial Data'!AJ6+'Serial Data'!AK6+'Serial Data'!AL6<>0,(AM6*0.866*Templates!K2),NA())","v":{"$error":"#N/A"}},null,{"$f":"'Serial Data'!AQ6/('Serial Data'!AO6+'Serial Data'!AP6+'Serial Data'!AQ6)","v":{"$error":"#DIV/0!"}},{"$f":"'Serial Data'!AO6/('Serial Data'!AO6+'Serial Data'!AP6+'Serial Data'!AQ6)","v":{"$error":"#DIV/0!"}},{"$f":"'Serial Data'!AP6/('Serial Data'!AO6+'Serial Data'!AP6+'Serial Data'!AQ6)","v":{"$error":"#DIV/0!"}},{"$f":"IF('Serial Data'!AO6+'Serial Data'!AP6+'Serial Data'!AQ6<>0,(AR6+(AS6*0.5)),NA())","v":{"$error":"#N/A"}},{"$f":"IF('Serial Data'!AO6+'Serial Data'!AP6+'Serial Data'!AQ6<>0,(AS6*0.866*Templates!K2),NA())","v":{"$error":"#N/A"}},null,{"$f":"'Serial Data'!AV6/('Serial Data'!AT6+'Serial Data'!AU6+'Serial Data'!AV6)","v":{"$error":"#DIV/0!"}},{"$f":"'Serial Data'!AT6/('Serial Data'!AT6+'Serial Data'!AU6+'Serial Data'!AV6)","v":{"$error":"#DIV/0!"}},{"$f":"'Serial Data'!AU6/('Serial Data'!AT6+'Serial Data'!AU6+'Serial Data'!AV6)","v":{"$error":"#DIV/0!"}},{"$f":"IF('Serial Data'!AT6+'Serial Data'!AU6+'Serial Data'!AV6<>0,(AX6+(AY6*0.5)),NA())","v":{"$error":"#N/A"}},{"$f":"IF('Serial Data'!AT6+'Serial Data'!AU6+'Serial Data'!AV6<>0,(AY6*0.866*Templates!K2),NA())","v":{"$error":"#N/A"}},null,{"$f":"'Serial Data'!BA6/('Serial Data'!AY6+'Serial Data'!AZ6+'Serial Data'!BA6)","v":{"$error":"#DIV/0!"}},{"$f":"'Serial Data'!AY6/('Serial Data'!AY6+'Serial Data'!AZ6+'Serial Data'!BA6)","v":{"$error":"#DIV/0!"}},{"$f":"'Serial Data'!AZ6/('Serial Data'!AY6+'Serial Data'!AZ6+'Serial Data'!BA6)","v":{"$error":"#DIV/0!"}},{"$f":"IF('Serial Data'!AY6+'Serial Data'!AZ6+'Serial Data'!BA6<>0,(BD6+(BE6*0.5)),NA())","v":{"$error":"#N/A"}},{"$f":"IF('Serial Data'!AY6+'Serial Data'!AZ6+'Serial Data'!BA6<>0,(BE6*0.866*Templates!K2),NA())","v":{"$error":"#N/A"}},null,{"$f":"'Serial Data'!BF6/('Serial Data'!BD6+'Serial Data'!BE6+'Serial Data'!BF6)","v":{"$error":"#DIV/0!"}},{"$f":"'Serial Data'!BD6/('Serial Data'!BD6+'Serial Data'!BE6+'Serial Data'!BF6)","v":{"$error":"#DIV/0!"}},{"$f":"'Serial Data'!BE6/('Serial Data'!BD6+'Serial Data'!BE6+'Serial Data'!BF6)","v":{"$error":"#DIV/0!"}},{"$f":"IF('Serial Data'!BD6+'Serial Data'!BE6+'Serial Data'!BF6<>0,(BJ6+(BK6*0.5)),NA())","v":{"$error":"#N/A"}},{"$f":"IF('Serial Data'!BD6+'Serial Data'!BE6+'Serial Data'!BF6<>0,(BK6*0.866*Templates!K2),NA())","v":{"$error":"#N/A"}}]
[{"$f":"'Single Data'!N8/('Single Data'!L8+'Single Data'!M8+'Single Data'!N8)","v":{"$error":"#DIV/0!"}},{"$f":"'Single Data'!L8/('Single Data'!L8+'Single Data'!M8+'Single Data'!N8)","v":{"$error":"#DIV/0!"}},{"$f":"'Single Data'!M8/('Single Data'!L8+'Single Data'!M8+'Single Data'!N8)","v":{"$error":"#DIV/0!"}},{"$f":"IF('Single Data'!L8+'Single Data'!M8+'Single Data'!N8<>0,(B7+(C7*0.5)),NA())","v":{"$error":"#N/A"}},{"$f":"IF('Single Data'!L8+'Single Data'!M8+'Single Data'!N8<>0,(C7*0.866*Templates!K2),NA())","v":{"$error":"#N/A"}},null,{"$f":"'Serial Data'!M7/('Serial Data'!K7+'Serial Data'!L7+'Serial Data'!M7)","v":{"$error":"#DIV/0!"}},{"$f":"'Serial Data'!K7/('Serial Data'!K7+'Serial Data'!L7+'Serial Data'!M7)","v":{"$error":"#DIV/0!"}},{"$f":"'Serial Data'!L7/('Serial Data'!K7+'Serial Data'!L7+'Serial Data'!M7)","v":{"$error":"#DIV/0!"}},{"$f":"IF('Serial Data'!K7+'Serial Data'!L7+'Serial Data'!M7<>0,(H7+(I7*0.5)),NA())","v":{"$error":"#N/A"}},{"$f":"IF('Serial Data'!K7+'Serial Data'!L7+'Serial Data'!M7<>0,(I7*0.866*Templates!K2),NA())","v":{"$error":"#N/A"}},null,{"$f":"'Serial Data'!R7/('Serial Data'!P7+'Serial Data'!Q7+'Serial Data'!R7)","v":{"$error":"#DIV/0!"}},{"$f":"'Serial Data'!P7/('Serial Data'!P7+'Serial Data'!Q7+'Serial Data'!R7)","v":{"$error":"#DIV/0!"}},{"$f":"'Serial Data'!Q7/('Serial Data'!P7+'Serial Data'!Q7+'Serial Data'!R7)","v":{"$error":"#DIV/0!"}},{"$f":"IF('Serial Data'!P7+'Serial Data'!Q7+'Serial Data'!R7<>0,(N7+(O7*0.5)),NA())","v":{"$error":"#N/A"}},{"$f":"IF('Serial Data'!P7+'Serial Data'!Q7+'Serial Data'!R7<>0,(O7*0.866*Templates!K2),NA())","v":{"$error":"#N/A"}},null,{"$f":"'Serial Data'!W7/('Serial Data'!U7+'Serial Data'!V7+'Serial Data'!W7)","v":{"$error":"#DIV/0!"}},{"$f":"'Serial Data'!U7/('Serial Data'!U7+'Serial Data'!V7+'Serial Data'!W7)","v":{"$error":"#DIV/0!"}},{"$f":"'Serial Data'!V7/('Serial Data'!U7+'Serial Data'!V7+'Serial Data'!W7)","v":{"$error":"#DIV/0!"}},{"$f":"IF('Serial Data'!V7+'Serial Data'!W7+'Serial Data'!U7<>0,(T7+(U7*0.5)),NA())","v":{"$error":"#N/A"}},{"$f":"IF('Serial Data'!V7+'Serial Data'!W7+'Serial Data'!U7<>0,(U7*0.866*Templates!K2),NA())","v":{"$error":"#N/A"}},null,{"$f":"'Serial Data'!AB7/('Serial Data'!AA7+'Serial Data'!AB7+'Serial Data'!Z7)","v":{"$error":"#DIV/0!"}},{"$f":"'Serial Data'!Z7/('Serial Data'!AA7+'Serial Data'!AB7+'Serial Data'!Z7)","v":{"$error":"#DIV/0!"}},{"$f":"'Serial Data'!AA7/('Serial Data'!AA7+'Serial Data'!AB7+'Serial Data'!Z7)","v":{"$error":"#DIV/0!"}},{"$f":"IF('Serial Data'!AB7+'Serial Data'!AA7+'Serial Data'!Z7<>0,(Z7+(AA7*0.5)),NA())","v":{"$error":"#N/A"}},{"$f":"IF('Serial Data'!AB7+'Serial Data'!AA7+'Serial Data'!Z7<>0,(AA7*0.866*Templates!K2),NA())","v":{"$error":"#N/A"}},null,{"$f":"'Serial Data'!AG7/('Serial Data'!AG7+'Serial Data'!AE7+'Serial Data'!AF7)","v":{"$error":"#DIV/0!"}},{"$f":"'Serial Data'!AE7/('Serial Data'!AG7+'Serial Data'!AE7+'Serial Data'!AF7)","v":{"$error":"#DIV/0!"}},{"$f":"'Serial Data'!AF7/('Serial Data'!AG7+'Serial Data'!AE7+'Serial Data'!AF7)","v":{"$error":"#DIV/0!"}},{"$f":"IF('Serial Data'!AE7+'Serial Data'!AF7+'Serial Data'!AG7<>0,(AF7+(AG7*0.5)),NA())","v":{"$error":"#N/A"}},{"$f":"IF('Serial Data'!AE7+'Serial Data'!AF7+'Serial Data'!AG7<>0,(AG7*0.866*Templates!K2),NA())","v":{"$error":"#N/A"}},null,{"$f":"'Serial Data'!AL7/('Serial Data'!AJ7+'Serial Data'!AK7+'Serial Data'!AL7)","v":{"$error":"#DIV/0!"}},{"$f":"'Serial Data'!AJ7/('Serial Data'!AJ7+'Serial Data'!AK7+'Serial Data'!AL7)","v":{"$error":"#DIV/0!"}},{"$f":"'Serial Data'!AK7/('Serial Data'!AJ7+'Serial Data'!AK7+'Serial Data'!AL7)","v":{"$error":"#DIV/0!"}},{"$f":"IF('Serial Data'!AJ7+'Serial Data'!AK7+'Serial Data'!AL7<>0,(AL7+(AM7*0.5)),NA())","v":{"$error":"#N/A"}},{"$f":"IF('Serial Data'!AJ7+'Serial Data'!AK7+'Serial Data'!AL7<>0,(AM7*0.866*Templates!K2),NA())","v":{"$error":"#N/A"}},null,{"$f":"'Serial Data'!AQ7/('Serial Data'!AO7+'Serial Data'!AP7+'Serial Data'!AQ7)","v":{"$error":"#DIV/0!"}},{"$f":"'Serial Data'!AO7/('Serial Data'!AO7+'Serial Data'!AP7+'Serial Data'!AQ7)","v":{"$error":"#DIV/0!"}},{"$f":"'Serial Data'!AP7/('Serial Data'!AO7+'Serial Data'!AP7+'Serial Data'!AQ7)","v":{"$error":"#DIV/0!"}},{"$f":"IF('Serial Data'!AO7+'Serial Data'!AP7+'Serial Data'!AQ7<>0,(AR7+(AS7*0.5)),NA())","v":{"$error":"#N/A"}},{"$f":"IF('Serial Data'!AO7+'Serial Data'!AP7+'Serial Data'!AQ7<>0,(AS7*0.866*Templates!K2),NA())","v":{"$error":"#N/A"}},null,{"$f":"'Serial Data'!AV7/('Serial Data'!AT7+'Serial Data'!AU7+'Serial Data'!AV7)","v":{"$error":"#DIV/0!"}},{"$f":"'Serial Data'!AT7/('Serial Data'!AT7+'Serial Data'!AU7+'Serial Data'!AV7)","v":{"$error":"#DIV/0!"}},{"$f":"'Serial Data'!AU7/('Serial Data'!AT7+'Serial Data'!AU7+'Serial Data'!AV7)","v":{"$error":"#DIV/0!"}},{"$f":"IF('Serial Data'!AT7+'Serial Data'!AU7+'Serial Data'!AV7<>0,(AX7+(AY7*0.5)),NA())","v":{"$error":"#N/A"}},{"$f":"IF('Serial Data'!AT7+'Serial Data'!AU7+'Serial Data'!AV7<>0,(AY7*0.866*Templates!K2),NA())","v":{"$error":"#N/A"}},null,{"$f":"'Serial Data'!BA7/('Serial Data'!AY7+'Serial Data'!AZ7+'Serial Data'!BA7)","v":{"$error":"#DIV/0!"}},{"$f":"'Serial Data'!AY7/('Serial Data'!AY7+'Serial Data'!AZ7+'Serial Data'!BA7)","v":{"$error":"#DIV/0!"}},{"$f":"'Serial Data'!AZ7/('Serial Data'!AY7+'Serial Data'!AZ7+'Serial Data'!BA7)","v":{"$error":"#DIV/0!"}},{"$f":"IF('Serial Data'!AY7+'Serial Data'!AZ7+'Serial Data'!BA7<>0,(BD7+(BE7*0.5)),NA())","v":{"$error":"#N/A"}},{"$f":"IF('Serial Data'!AY7+'Serial Data'!AZ7+'Serial Data'!BA7<>0,(BE7*0.866*Templates!K2),NA())","v":{"$error":"#N/A"}},null,{"$f":"'Serial Data'!BF7/('Serial Data'!BD7+'Serial Data'!BE7+'Serial Data'!BF7)","v":{"$error":"#DIV/0!"}},{"$f":"'Serial Data'!BD7/('Serial Data'!BD7+'Serial Data'!BE7+'Serial Data'!BF7)","v":{"$error":"#DIV/0!"}},{"$f":"'Serial Data'!BE7/('Serial Data'!BD7+'Serial Data'!BE7+'Serial Data'!BF7)","v":{"$error":"#DIV/0!"}},{"$f":"IF('Serial Data'!BD7+'Serial Data'!BE7+'Serial Data'!BF7<>0,(BJ7+(BK7*0.5)),NA())","v":{"$error":"#N/A"}},{"$f":"IF('Serial Data'!BD7+'Serial Data'!BE7+'Serial Data'!BF7<>0,(BK7*0.866*Templates!K2),NA())","v":{"$error":"#N/A"}}]
[{"$f":"'Single Data'!N9/('Single Data'!L9+'Single Data'!M9+'Single Data'!N9)","v":{"$error":"#DIV/0!"}},{"$f":"'Single Data'!L9/('Single Data'!L9+'Single Data'!M9+'Single Data'!N9)","v":{"$error":"#DIV/0!"}},{"$f":"'Single Data'!M9/('Single Data'!L9+'Single Data'!M9+'Single Data'!N9)","v":{"$error":"#DIV/0!"}},{"$f":"IF('Single Data'!L9+'Single Data'!M9+'Single Data'!N9<>0,(B8+(C8*0.5)),NA())","v":{"$error":"#N/A"}},{"$f":"IF('Single Data'!L9+'Single Data'!M9+'Single Data'!N9<>0,(C8*0.866*Templates!K2),NA())","v":{"$error":"#N/A"}},null,{"$f":"'Serial Data'!M8/('Serial Data'!K8+'Serial Data'!L8+'Serial Data'!M8)","v":{"$error":"#DIV/0!"}},{"$f":"'Serial Data'!K8/('Serial Data'!K8+'Serial Data'!L8+'Serial Data'!M8)","v":{"$error":"#DIV/0!"}},{"$f":"'Serial Data'!L8/('Serial Data'!K8+'Serial Data'!L8+'Serial Data'!M8)","v":{"$error":"#DIV/0!"}},{"$f":"IF('Serial Data'!K8+'Serial Data'!L8+'Serial Data'!M8<>0,(H8+(I8*0.5)),NA())","v":{"$error":"#N/A"}},{"$f":"IF('Serial Data'!K8+'Serial Data'!L8+'Serial Data'!M8<>0,(I8*0.866*Templates!K2),NA())","v":{"$error":"#N/A"}},null,{"$f":"'Serial Data'!R8/('Serial Data'!P8+'Serial Data'!Q8+'Serial Data'!R8)","v":{"$error":"#DIV/0!"}},{"$f":"'Serial Data'!P8/('Serial Data'!P8+'Serial Data'!Q8+'Serial Data'!R8)","v":{"$error":"#DIV/0!"}},{"$f":"'Serial Data'!Q8/('Serial Data'!P8+'Serial Data'!Q8+'Serial Data'!R8)","v":{"$error":"#DIV/0!"}},{"$f":"IF('Serial Data'!P8+'Serial Data'!Q8+'Serial Data'!R8<>0,(N8+(O8*0.5)),NA())","v":{"$error":"#N/A"}},{"$f":"IF('Serial Data'!P8+'Serial Data'!Q8+'Serial Data'!R8<>0,(O8*0.866*Templates!K2),NA())","v":{"$error":"#N/A"}},null,{"$f":"'Serial Data'!W8/('Serial Data'!U8+'Serial Data'!V8+'Serial Data'!W8)","v":{"$error":"#DIV/0!"}},{"$f":"'Serial Data'!U8/('Serial Data'!U8+'Serial Data'!V8+'Serial Data'!W8)","v":{"$error":"#DIV/0!"}},{"$f":"'Serial Data'!V8/('Serial Data'!U8+'Serial Data'!V8+'Serial Data'!W8)","v":{"$error":"#DIV/0!"}},{"$f":"IF('Serial Data'!V8+'Serial Data'!W8+'Serial Data'!U8<>0,(T8+(U8*0.5)),NA())","v":{"$error":"#N/A"}},{"$f":"IF('Serial Data'!V8+'Serial Data'!W8+'Serial Data'!U8<>0,(U8*0.866*Templates!K2),NA())","v":{"$error":"#N/A"}},null,{"$f":"'Serial Data'!AB8/('Serial Data'!AA8+'Serial Data'!AB8+'Serial Data'!Z8)","v":{"$error":"#DIV/0!"}},{"$f":"'Serial Data'!Z8/('Serial Data'!AA8+'Serial Data'!AB8+'Serial Data'!Z8)","v":{"$error":"#DIV/0!"}},{"$f":"'Serial Data'!AA8/('Serial Data'!AA8+'Serial Data'!AB8+'Serial Data'!Z8)","v":{"$error":"#DIV/0!"}},{"$f":"IF('Serial Data'!AB8+'Serial Data'!AA8+'Serial Data'!Z8<>0,(Z8+(AA8*0.5)),NA())","v":{"$error":"#N/A"}},{"$f":"IF('Serial Data'!AB8+'Serial Data'!AA8+'Serial Data'!Z8<>0,(AA8*0.866*Templates!K2),NA())","v":{"$error":"#N/A"}},null,{"$f":"'Serial Data'!AG8/('Serial Data'!AG8+'Serial Data'!AE8+'Serial Data'!AF8)","v":{"$error":"#DIV/0!"}},{"$f":"'Serial Data'!AE8/('Serial Data'!AG8+'Serial Data'!AE8+'Serial Data'!AF8)","v":{"$error":"#DIV/0!"}},{"$f":"'Serial Data'!AF8/('Serial Data'!AG8+'Serial Data'!AE8+'Serial Data'!AF8)","v":{"$error":"#DIV/0!"}},{"$f":"IF('Serial Data'!AE8+'Serial Data'!AF8+'Serial Data'!AG8<>0,(AF8+(AG8*0.5)),NA())","v":{"$error":"#N/A"}},{"$f":"IF('Serial Data'!AE8+'Serial Data'!AF8+'Serial Data'!AG8<>0,(AG8*0.866*Templates!K2),NA())","v":{"$error":"#N/A"}},null,{"$f":"'Serial Data'!AL8/('Serial Data'!AJ8+'Serial Data'!AK8+'Serial Data'!AL8)","v":{"$error":"#DIV/0!"}},{"$f":"'Serial Data'!AJ8/('Serial Data'!AJ8+'Serial Data'!AK8+'Serial Data'!AL8)","v":{"$error":"#DIV/0!"}},{"$f":"'Serial Data'!AK8/('Serial Data'!AJ8+'Serial Data'!AK8+'Serial Data'!AL8)","v":{"$error":"#DIV/0!"}},{"$f":"IF('Serial Data'!AJ8+'Serial Data'!AK8+'Serial Data'!AL8<>0,(AL8+(AM8*0.5)),NA())","v":{"$error":"#N/A"}},{"$f":"IF('Serial Data'!AJ8+'Serial Data'!AK8+'Serial Data'!AL8<>0,(AM8*0.866*Templates!K2),NA())","v":{"$error":"#N/A"}},null,{"$f":"'Serial Data'!AQ8/('Serial Data'!AO8+'Serial Data'!AP8+'Serial Data'!AQ8)","v":{"$error":"#DIV/0!"}},{"$f":"'Serial Data'!AO8/('Serial Data'!AO8+'Serial Data'!AP8+'Serial Data'!AQ8)","v":{"$error":"#DIV/0!"}},{"$f":"'Serial Data'!AP8/('Serial Data'!AO8+'Serial Data'!AP8+'Serial Data'!AQ8)","v":{"$error":"#DIV/0!"}},{"$f":"IF('Serial Data'!AO8+'Serial Data'!AP8+'Serial Data'!AQ8<>0,(AR8+(AS8*0.5)),NA())","v":{"$error":"#N/A"}},{"$f":"IF('Serial Data'!AO8+'Serial Data'!AP8+'Serial Data'!AQ8<>0,(AS8*0.866*Templates!K2),NA())","v":{"$error":"#N/A"}},null,{"$f":"'Serial Data'!AV8/('Serial Data'!AT8+'Serial Data'!AU8+'Serial Data'!AV8)","v":{"$error":"#DIV/0!"}},{"$f":"'Serial Data'!AT8/('Serial Data'!AT8+'Serial Data'!AU8+'Serial Data'!AV8)","v":{"$error":"#DIV/0!"}},{"$f":"'Serial Data'!AU8/('Serial Data'!AT8+'Serial Data'!AU8+'Serial Data'!AV8)","v":{"$error":"#DIV/0!"}},{"$f":"IF('Serial Data'!AT8+'Serial Data'!AU8+'Serial Data'!AV8<>0,(AX8+(AY8*0.5)),NA())","v":{"$error":"#N/A"}},{"$f":"IF('Serial Data'!AT8+'Serial Data'!AU8+'Serial Data'!AV8<>0,(AY8*0.866*Templates!K2),NA())","v":{"$error":"#N/A"}},null,{"$f":"'Serial Data'!BA8/('Serial Data'!AY8+'Serial Data'!AZ8+'Serial Data'!BA8)","v":{"$error":"#DIV/0!"}},{"$f":"'Serial Data'!AY8/('Serial Data'!AY8+'Serial Data'!AZ8+'Serial Data'!BA8)","v":{"$error":"#DIV/0!"}},{"$f":"'Serial Data'!AZ8/('Serial Data'!AY8+'Serial Data'!AZ8+'Serial Data'!BA8)","v":{"$error":"#DIV/0!"}},{"$f":"IF('Serial Data'!AY8+'Serial Data'!AZ8+'Serial Data'!BA8<>0,(BD8+(BE8*0.5)),NA())","v":{"$error":"#N/A"}},{"$f":"IF('Serial Data'!AY8+'Serial Data'!AZ8+'Serial Data'!BA8<>0,(BE8*0.866*Templates!K2),NA())","v":{"$error":"#N/A"}},null,{"$f":"'Serial Data'!BF8/('Serial Data'!BD8+'Serial Data'!BE8+'Serial Data'!BF8)","v":{"$error":"#DIV/0!"}},{"$f":"'Serial Data'!BD8/('Serial Data'!BD8+'Serial Data'!BE8+'Serial Data'!BF8)","v":{"$error":"#DIV/0!"}},{"$f":"'Serial Data'!BE8/('Serial Data'!BD8+'Serial Data'!BE8+'Serial Data'!BF8)","v":{"$error":"#DIV/0!"}},{"$f":"IF('Serial Data'!BD8+'Serial Data'!BE8+'Serial Data'!BF8<>0,(BJ8+(BK8*0.5)),NA())","v":{"$error":"#N/A"}},{"$f":"IF('Serial Data'!BD8+'Serial Data'!BE8+'Serial Data'!BF8<>0,(BK8*0.866*Templates!K2),NA())","v":{"$error":"#N/A"}}]
[{"$f":"'Single Data'!N10/('Single Data'!L10+'Single Data'!M10+'Single Data'!N10)","v":{"$error":"#DIV/0!"}},{"$f":"'Single Data'!L10/('Single Data'!L10+'Single Data'!M10+'Single Data'!N10)","v":{"$error":"#DIV/0!"}},{"$f":"'Single Data'!M10/('Single Data'!L10+'Single Data'!M10+'Single Data'!N10)","v":{"$error":"#DIV/0!"}},{"$f":"IF('Single Data'!L10+'Single Data'!M10+'Single Data'!N10<>0,(B9+(C9*0.5)),NA())","v":{"$error":"#N/A"}},{"$f":"IF('Single Data'!L10+'Single Data'!M10+'Single Data'!N10<>0,(C9*0.866*Templates!K2),NA())","v":{"$error":"#N/A"}},null,{"$f":"'Serial Data'!M9/('Serial Data'!K9+'Serial Data'!L9+'Serial Data'!M9)","v":{"$error":"#DIV/0!"}},{"$f":"'Serial Data'!K9/('Serial Data'!K9+'Serial Data'!L9+'Serial Data'!M9)","v":{"$error":"#DIV/0!"}},{"$f":"'Serial Data'!L9/('Serial Data'!K9+'Serial Data'!L9+'Serial Data'!M9)","v":{"$error":"#DIV/0!"}},{"$f":"IF('Serial Data'!K9+'Serial Data'!L9+'Serial Data'!M9<>0,(H9+(I9*0.5)),NA())","v":{"$error":"#N/A"}},{"$f":"IF('Serial Data'!K9+'Serial Data'!L9+'Serial Data'!M9<>0,(I9*0.866*Templates!K2),NA())","v":{"$error":"#N/A"}},null,{"$f":"'Serial Data'!R9/('Serial Data'!P9+'Serial Data'!Q9+'Serial Data'!R9)","v":{"$error":"#DIV/0!"}},{"$f":"'Serial Data'!P9/('Serial Data'!P9+'Serial Data'!Q9+'Serial Data'!R9)","v":{"$error":"#DIV/0!"}},{"$f":"'Serial Data'!Q9/('Serial Data'!P9+'Serial Data'!Q9+'Serial Data'!R9)","v":{"$error":"#DIV/0!"}},{"$f":"IF('Serial Data'!P9+'Serial Data'!Q9+'Serial Data'!R9<>0,(N9+(O9*0.5)),NA())","v":{"$error":"#N/A"}},{"$f":"IF('Serial Data'!P9+'Serial Data'!Q9+'Serial Data'!R9<>0,(O9*0.866*Templates!K2),NA())","v":{"$error":"#N/A"}},null,{"$f":"'Serial Data'!W9/('Serial Data'!U9+'Serial Data'!V9+'Serial Data'!W9)","v":{"$error":"#DIV/0!"}},{"$f":"'Serial Data'!U9/('Serial Data'!U9+'Serial Data'!V9+'Serial Data'!W9)","v":{"$error":"#DIV/0!"}},{"$f":"'Serial Data'!V9/('Serial Data'!U9+'Serial Data'!V9+'Serial Data'!W9)","v":{"$error":"#DIV/0!"}},{"$f":"IF('Serial Data'!V9+'Serial Data'!W9+'Serial Data'!U9<>0,(T9+(U9*0.5)),NA())","v":{"$error":"#N/A"}},{"$f":"IF('Serial Data'!V9+'Serial Data'!W9+'Serial Data'!U9<>0,(U9*0.866*Templates!K2),NA())","v":{"$error":"#N/A"}},null,{"$f":"'Serial Data'!AB9/('Serial Data'!AA9+'Serial Data'!AB9+'Serial Data'!Z9)","v":{"$error":"#DIV/0!"}},{"$f":"'Serial Data'!Z9/('Serial Data'!AA9+'Serial Data'!AB9+'Serial Data'!Z9)","v":{"$error":"#DIV/0!"}},{"$f":"'Serial Data'!AA9/('Serial Data'!AA9+'Serial Data'!AB9+'Serial Data'!Z9)","v":{"$error":"#DIV/0!"}},{"$f":"IF('Serial Data'!AB9+'Serial Data'!AA9+'Serial Data'!Z9<>0,(Z9+(AA9*0.5)),NA())","v":{"$error":"#N/A"}},{"$f":"IF('Serial Data'!AB9+'Serial Data'!AA9+'Serial Data'!Z9<>0,(AA9*0.866*Templates!K2),NA())","v":{"$error":"#N/A"}},null,{"$f":"'Serial Data'!AG9/('Serial Data'!AG9+'Serial Data'!AE9+'Serial Data'!AF9)","v":{"$error":"#DIV/0!"}},{"$f":"'Serial Data'!AE9/('Serial Data'!AG9+'Serial Data'!AE9+'Serial Data'!AF9)","v":{"$error":"#DIV/0!"}},{"$f":"'Serial Data'!AF9/('Serial Data'!AG9+'Serial Data'!AE9+'Serial Data'!AF9)","v":{"$error":"#DIV/0!"}},{"$f":"IF('Serial Data'!AE9+'Serial Data'!AF9+'Serial Data'!AG9<>0,(AF9+(AG9*0.5)),NA())","v":{"$error":"#N/A"}},{"$f":"IF('Serial Data'!AE9+'Serial Data'!AF9+'Serial Data'!AG9<>0,(AG9*0.866*Templates!K2),NA())","v":{"$error":"#N/A"}},null,{"$f":"'Serial Data'!AL9/('Serial Data'!AJ9+'Serial Data'!AK9+'Serial Data'!AL9)","v":{"$error":"#DIV/0!"}},{"$f":"'Serial Data'!AJ9/('Serial Data'!AJ9+'Serial Data'!AK9+'Serial Data'!AL9)","v":{"$error":"#DIV/0!"}},{"$f":"'Serial Data'!AK9/('Serial Data'!AJ9+'Serial Data'!AK9+'Serial Data'!AL9)","v":{"$error":"#DIV/0!"}},{"$f":"IF('Serial Data'!AJ9+'Serial Data'!AK9+'Serial Data'!AL9<>0,(AL9+(AM9*0.5)),NA())","v":{"$error":"#N/A"}},{"$f":"IF('Serial Data'!AJ9+'Serial Data'!AK9+'Serial Data'!AL9<>0,(AM9*0.866*Templates!K2),NA())","v":{"$error":"#N/A"}},null,{"$f":"'Serial Data'!AQ9/('Serial Data'!AO9+'Serial Data'!AP9+'Serial Data'!AQ9)","v":{"$error":"#DIV/0!"}},{"$f":"'Serial Data'!AO9/('Serial Data'!AO9+'Serial Data'!AP9+'Serial Data'!AQ9)","v":{"$error":"#DIV/0!"}},{"$f":"'Serial Data'!AP9/('Serial Data'!AO9+'Serial Data'!AP9+'Serial Data'!AQ9)","v":{"$error":"#DIV/0!"}},{"$f":"IF('Serial Data'!AO9+'Serial Data'!AP9+'Serial Data'!AQ9<>0,(AR9+(AS9*0.5)),NA())","v":{"$error":"#N/A"}},{"$f":"IF('Serial Data'!AO9+'Serial Data'!AP9+'Serial Data'!AQ9<>0,(AS9*0.866*Templates!K2),NA())","v":{"$error":"#N/A"}},null,{"$f":"'Serial Data'!AV9/('Serial Data'!AT9+'Serial Data'!AU9+'Serial Data'!AV9)","v":{"$error":"#DIV/0!"}},{"$f":"'Serial Data'!AT9/('Serial Data'!AT9+'Serial Data'!AU9+'Serial Data'!AV9)","v":{"$error":"#DIV/0!"}},{"$f":"'Serial Data'!AU9/('Serial Data'!AT9+'Serial Data'!AU9+'Serial Data'!AV9)","v":{"$error":"#DIV/0!"}},{"$f":"IF('Serial Data'!AT9+'Serial Data'!AU9+'Serial Data'!AV9<>0,(AX9+(AY9*0.5)),NA())","v":{"$error":"#N/A"}},{"$f":"IF('Serial Data'!AT9+'Serial Data'!AU9+'Serial Data'!AV9<>0,(AY9*0.866*Templates!K2),NA())","v":{"$error":"#N/A"}},null,{"$f":"'Serial Data'!BA9/('Serial Data'!AY9+'Serial Data'!AZ9+'Serial Data'!BA9)","v":{"$error":"#DIV/0!"}},{"$f":"'Serial Data'!AY9/('Serial Data'!AY9+'Serial Data'!AZ9+'Serial Data'!BA9)","v":{"$error":"#DIV/0!"}},{"$f":"'Serial Data'!AZ9/('Serial Data'!AY9+'Serial Data'!AZ9+'Serial Data'!BA9)","v":{"$error":"#DIV/0!"}},{"$f":"IF('Serial Data'!AY9+'Serial Data'!AZ9+'Serial Data'!BA9<>0,(BD9+(BE9*0.5)),NA())","v":{"$error":"#N/A"}},{"$f":"IF('Serial Data'!AY9+'Serial Data'!AZ9+'Serial Data'!BA9<>0,(BE9*0.866*Templates!K2),NA())","v":{"$error":"#N/A"}},null,{"$f":"'Serial Data'!BF9/('Serial Data'!BD9+'Serial Data'!BE9+'Serial Data'!BF9)","v":{"$error":"#DIV/0!"}},{"$f":"'Serial Data'!BD9/('Serial Data'!BD9+'Serial Data'!BE9+'Serial Data'!BF9)","v":{"$error":"#DIV/0!"}},{"$f":"'Serial Data'!BE9/('Serial Data'!BD9+'Serial Data'!BE9+'Serial Data'!BF9)","v":{"$error":"#DIV/0!"}},{"$f":"IF('Serial Data'!BD9+'Serial Data'!BE9+'Serial Data'!BF9<>0,(BJ9+(BK9*0.5)),NA())","v":{"$error":"#N/A"}},{"$f":"IF('Serial Data'!BD9+'Serial Data'!BE9+'Serial Data'!BF9<>0,(BK9*0.866*Templates!K2),NA())","v":{"$error":"#N/A"}}]
[{"$f":"'Single Data'!N11/('Single Data'!L11+'Single Data'!M11+'Single Data'!N11)","v":{"$error":"#DIV/0!"}},{"$f":"'Single Data'!L11/('Single Data'!L11+'Single Data'!M11+'Single Data'!N11)","v":{"$error":"#DIV/0!"}},{"$f":"'Single Data'!M11/('Single Data'!L11+'Single Data'!M11+'Single Data'!N11)","v":{"$error":"#DIV/0!"}},{"$f":"IF('Single Data'!L11+'Single Data'!M11+'Single Data'!N11<>0,(B10+(C10*0.5)),NA())","v":{"$error":"#N/A"}},{"$f":"IF('Single Data'!L11+'Single Data'!M11+'Single Data'!N11<>0,(C10*0.866*Templates!K2),NA())","v":{"$error":"#N/A"}},null,{"$f":"'Serial Data'!M10/('Serial Data'!K10+'Serial Data'!L10+'Serial Data'!M10)","v":{"$error":"#DIV/0!"}},{"$f":"'Serial Data'!K10/('Serial Data'!K10+'Serial Data'!L10+'Serial Data'!M10)","v":{"$error":"#DIV/0!"}},{"$f":"'Serial Data'!L10/('Serial Data'!K10+'Serial Data'!L10+'Serial Data'!M10)","v":{"$error":"#DIV/0!"}},{"$f":"IF('Serial Data'!K10+'Serial Data'!L10+'Serial Data'!M10<>0,(H10+(I10*0.5)),NA())","v":{"$error":"#N/A"}},{"$f":"IF('Serial Data'!K10+'Serial Data'!L10+'Serial Data'!M10<>0,(I10*0.866*Templates!K2),NA())","v":{"$error":"#N/A"}},null,{"$f":"'Serial Data'!R10/('Serial Data'!P10+'Serial Data'!Q10+'Serial Data'!R10)","v":{"$error":"#DIV/0!"}},{"$f":"'Serial Data'!P10/('Serial Data'!P10+'Serial Data'!Q10+'Serial Data'!R10)","v":{"$error":"#DIV/0!"}},{"$f":"'Serial Data'!Q10/('Serial Data'!P10+'Serial Data'!Q10+'Serial Data'!R10)","v":{"$error":"#DIV/0!"}},{"$f":"IF('Serial Data'!P10+'Serial Data'!Q10+'Serial Data'!R10<>0,(N10+(O10*0.5)),NA())","v":{"$error":"#N/A"}},{"$f":"IF('Serial Data'!P10+'Serial Data'!Q10+'Serial Data'!R10<>0,(O10*0.866*Templates!K2),NA())","v":{"$error":"#N/A"}},null,{"$f":"'Serial Data'!W10/('Serial Data'!U10+'Serial Data'!V10+'Serial Data'!W10)","v":{"$error":"#DIV/0!"}},{"$f":"'Serial Data'!U10/('Serial Data'!U10+'Serial Data'!V10+'Serial Data'!W10)","v":{"$error":"#DIV/0!"}},{"$f":"'Serial Data'!V10/('Serial Data'!U10+'Serial Data'!V10+'Serial Data'!W10)","v":{"$error":"#DIV/0!"}},{"$f":"IF('Serial Data'!V10+'Serial Data'!W10+'Serial Data'!U10<>0,(T10+(U10*0.5)),NA())","v":{"$error":"#N/A"}},{"$f":"IF('Serial Data'!V10+'Serial Data'!W10+'Serial Data'!U10<>0,(U10*0.866*Templates!K2),NA())","v":{"$error":"#N/A"}},null,{"$f":"'Serial Data'!AB10/('Serial Data'!AA10+'Serial Data'!AB10+'Serial Data'!Z10)","v":{"$error":"#DIV/0!"}},{"$f":"'Serial Data'!Z10/('Serial Data'!AA10+'Serial Data'!AB10+'Serial Data'!Z10)","v":{"$error":"#DIV/0!"}},{"$f":"'Serial Data'!AA10/('Serial Data'!AA10+'Serial Data'!AB10+'Serial Data'!Z10)","v":{"$error":"#DIV/0!"}},{"$f":"IF('Serial Data'!AB10+'Serial Data'!AA10+'Serial Data'!Z10<>0,(Z10+(AA10*0.5)),NA())","v":{"$error":"#N/A"}},{"$f":"IF('Serial Data'!AB10+'Serial Data'!AA10+'Serial Data'!Z10<>0,(AA10*0.866*Templates!K2),NA())","v":{"$error":"#N/A"}},null,{"$f":"'Serial Data'!AG10/('Serial Data'!AG10+'Serial Data'!AE10+'Serial Data'!AF10)","v":{"$error":"#DIV/0!"}},{"$f":"'Serial Data'!AE10/('Serial Data'!AG10+'Serial Data'!AE10+'Serial Data'!AF10)","v":{"$error":"#DIV/0!"}},{"$f":"'Serial Data'!AF10/('Serial Data'!AG10+'Serial Data'!AE10+'Serial Data'!AF10)","v":{"$error":"#DIV/0!"}},{"$f":"IF('Serial Data'!AE10+'Serial Data'!AF10+'Serial Data'!AG10<>0,(AF10+(AG10*0.5)),NA())","v":{"$error":"#N/A"}},{"$f":"IF('Serial Data'!AE10+'Serial Data'!AF10+'Serial Data'!AG10<>0,(AG10*0.866*Templates!K2),NA())","v":{"$error":"#N/A"}},null,{"$f":"'Serial Data'!AL10/('Serial Data'!AJ10+'Serial Data'!AK10+'Serial Data'!AL10)","v":{"$error":"#DIV/0!"}},{"$f":"'Serial Data'!AJ10/('Serial Data'!AJ10+'Serial Data'!AK10+'Serial Data'!AL10)","v":{"$error":"#DIV/0!"}},{"$f":"'Serial Data'!AK10/('Serial Data'!AJ10+'Serial Data'!AK10+'Serial Data'!AL10)","v":{"$error":"#DIV/0!"}},{"$f":"IF('Serial Data'!AJ10+'Serial Data'!AK10+'Serial Data'!AL10<>0,(AL10+(AM10*0.5)),NA())","v":{"$error":"#N/A"}},{"$f":"IF('Serial Data'!AJ10+'Serial Data'!AK10+'Serial Data'!AL10<>0,(AM10*0.866*Templates!K2),NA())","v":{"$error":"#N/A"}},null,{"$f":"'Serial Data'!AQ10/('Serial Data'!AO10+'Serial Data'!AP10+'Serial Data'!AQ10)","v":{"$error":"#DIV/0!"}},{"$f":"'Serial Data'!AO10/('Serial Data'!AO10+'Serial Data'!AP10+'Serial Data'!AQ10)","v":{"$error":"#DIV/0!"}},{"$f":"'Serial Data'!AP10/('Serial Data'!AO10+'Serial Data'!AP10+'Serial Data'!AQ10)","v":{"$error":"#DIV/0!"}},{"$f":"IF('Serial Data'!AO10+'Serial Data'!AP10+'Serial Data'!AQ10<>0,(AR10+(AS10*0.5)),NA())","v":{"$error":"#N/A"}},{"$f":"IF('Serial Data'!AO10+'Serial Data'!AP10+'Serial Data'!AQ10<>0,(AS10*0.866*Templates!K2),NA())","v":{"$error":"#N/A"}},null,{"$f":"'Serial Data'!AV10/('Serial Data'!AT10+'Serial Data'!AU10+'Serial Data'!AV10)","v":{"$error":"#DIV/0!"}},{"$f":"'Serial Data'!AT10/('Serial Data'!AT10+'Serial Data'!AU10+'Serial Data'!AV10)","v":{"$error":"#DIV/0!"}},{"$f":"'Serial Data'!AU10/('Serial Data'!AT10+'Serial Data'!AU10+'Serial Data'!AV10)","v":{"$error":"#DIV/0!"}},{"$f":"IF('Serial Data'!AT10+'Serial Data'!AU10+'Serial Data'!AV10<>0,(AX10+(AY10*0.5)),NA())","v":{"$error":"#N/A"}},{"$f":"IF('Serial Data'!AT10+'Serial Data'!AU10+'Serial Data'!AV10<>0,(AY10*0.866*Templates!K2),NA())","v":{"$error":"#N/A"}},null,{"$f":"'Serial Data'!BA10/('Serial Data'!AY10+'Serial Data'!AZ10+'Serial Data'!BA10)","v":{"$error":"#DIV/0!"}},{"$f":"'Serial Data'!AY10/('Serial Data'!AY10+'Serial Data'!AZ10+'Serial Data'!BA10)","v":{"$error":"#DIV/0!"}},{"$f":"'Serial Data'!AZ10/('Serial Data'!AY10+'Serial Data'!AZ10+'Serial Data'!BA10)","v":{"$error":"#DIV/0!"}},{"$f":"IF('Serial Data'!AY10+'Serial Data'!AZ10+'Serial Data'!BA10<>0,(BD10+(BE10*0.5)),NA())","v":{"$error":"#N/A"}},{"$f":"IF('Serial Data'!AY10+'Serial Data'!AZ10+'Serial Data'!BA10<>0,(BE10*0.866*Templates!K2),NA())","v":{"$error":"#N/A"}},null,{"$f":"'Serial Data'!BF10/('Serial Data'!BD10+'Serial Data'!BE10+'Serial Data'!BF10)","v":{"$error":"#DIV/0!"}},{"$f":"'Serial Data'!BD10/('Serial Data'!BD10+'Serial Data'!BE10+'Serial Data'!BF10)","v":{"$error":"#DIV/0!"}},{"$f":"'Serial Data'!BE10/('Serial Data'!BD10+'Serial Data'!BE10+'Serial Data'!BF10)","v":{"$error":"#DIV/0!"}},{"$f":"IF('Serial Data'!BD10+'Serial Data'!BE10+'Serial Data'!BF10<>0,(BJ10+(BK10*0.5)),NA())","v":{"$error":"#N/A"}},{"$f":"IF('Serial Data'!BD10+'Serial Data'!BE10+'Serial Data'!BF10<>0,(BK10*0.866*Templates!K2),NA())","v":{"$error":"#N/A"}}]
[{"$f":"'Single Data'!N12/('Single Data'!L12+'Single Data'!M12+'Single Data'!N12)","v":{"$error":"#DIV/0!"}},{"$f":"'Single Data'!L12/('Single Data'!L12+'Single Data'!M12+'Single Data'!N12)","v":{"$error":"#DIV/0!"}},{"$f":"'Single Data'!M12/('Single Data'!L12+'Single Data'!M12+'Single Data'!N12)","v":{"$error":"#DIV/0!"}},{"$f":"IF('Single Data'!L12+'Single Data'!M12+'Single Data'!N12<>0,(B11+(C11*0.5)),NA())","v":{"$error":"#N/A"}},{"$f":"IF('Single Data'!L12+'Single Data'!M12+'Single Data'!N12<>0,(C11*0.866*Templates!K2),NA())","v":{"$error":"#N/A"}},null,{"$f":"'Serial Data'!M11/('Serial Data'!K11+'Serial Data'!L11+'Serial Data'!M11)","v":{"$error":"#DIV/0!"}},{"$f":"'Serial Data'!K11/('Serial Data'!K11+'Serial Data'!L11+'Serial Data'!M11)","v":{"$error":"#DIV/0!"}},{"$f":"'Serial Data'!L11/('Serial Data'!K11+'Serial Data'!L11+'Serial Data'!M11)","v":{"$error":"#DIV/0!"}},{"$f":"IF('Serial Data'!K11+'Serial Data'!L11+'Serial Data'!M11<>0,(H11+(I11*0.5)),NA())","v":{"$error":"#N/A"}},{"$f":"IF('Serial Data'!K11+'Serial Data'!L11+'Serial Data'!M11<>0,(I11*0.866*Templates!K2),NA())","v":{"$error":"#N/A"}},null,{"$f":"'Serial Data'!R11/('Serial Data'!P11+'Serial Data'!Q11+'Serial Data'!R11)","v":{"$error":"#DIV/0!"}},{"$f":"'Serial Data'!P11/('Serial Data'!P11+'Serial Data'!Q11+'Serial Data'!R11)","v":{"$error":"#DIV/0!"}},{"$f":"'Serial Data'!Q11/('Serial Data'!P11+'Serial Data'!Q11+'Serial Data'!R11)","v":{"$error":"#DIV/0!"}},{"$f":"IF('Serial Data'!P11+'Serial Data'!Q11+'Serial Data'!R11<>0,(N11+(O11*0.5)),NA())","v":{"$error":"#N/A"}},{"$f":"IF('Serial Data'!P11+'Serial Data'!Q11+'Serial Data'!R11<>0,(O11*0.866*Templates!K2),NA())","v":{"$error":"#N/A"}},null,{"$f":"'Serial Data'!W11/('Serial Data'!U11+'Serial Data'!V11+'Serial Data'!W11)","v":{"$error":"#DIV/0!"}},{"$f":"'Serial Data'!U11/('Serial Data'!U11+'Serial Data'!V11+'Serial Data'!W11)","v":{"$error":"#DIV/0!"}},{"$f":"'Serial Data'!V11/('Serial Data'!U11+'Serial Data'!V11+'Serial Data'!W11)","v":{"$error":"#DIV/0!"}},{"$f":"IF('Serial Data'!V11+'Serial Data'!W11+'Serial Data'!U11<>0,(T11+(U11*0.5)),NA())","v":{"$error":"#N/A"}},{"$f":"IF('Serial Data'!V11+'Serial Data'!W11+'Serial Data'!U11<>0,(U11*0.866*Templates!K2),NA())","v":{"$error":"#N/A"}},null,{"$f":"'Serial Data'!AB11/('Serial Data'!AA11+'Serial Data'!AB11+'Serial Data'!Z11)","v":{"$error":"#DIV/0!"}},{"$f":"'Serial Data'!Z11/('Serial Data'!AA11+'Serial Data'!AB11+'Serial Data'!Z11)","v":{"$error":"#DIV/0!"}},{"$f":"'Serial Data'!AA11/('Serial Data'!AA11+'Serial Data'!AB11+'Serial Data'!Z11)","v":{"$error":"#DIV/0!"}},{"$f":"IF('Serial Data'!AB11+'Serial Data'!AA11+'Serial Data'!Z11<>0,(Z11+(AA11*0.5)),NA())","v":{"$error":"#N/A"}},{"$f":"IF('Serial Data'!AB11+'Serial Data'!AA11+'Serial Data'!Z11<>0,(AA11*0.866*Templates!K2),NA())","v":{"$error":"#N/A"}},null,{"$f":"'Serial Data'!AG11/('Serial Data'!AG11+'Serial Data'!AE11+'Serial Data'!AF11)","v":{"$error":"#DIV/0!"}},{"$f":"'Serial Data'!AE11/('Serial Data'!AG11+'Serial Data'!AE11+'Serial Data'!AF11)","v":{"$error":"#DIV/0!"}},{"$f":"'Serial Data'!AF11/('Serial Data'!AG11+'Serial Data'!AE11+'Serial Data'!AF11)","v":{"$error":"#DIV/0!"}},{"$f":"IF('Serial Data'!AE11+'Serial Data'!AF11+'Serial Data'!AG11<>0,(AF11+(AG11*0.5)),NA())","v":{"$error":"#N/A"}},{"$f":"IF('Serial Data'!AE11+'Serial Data'!AF11+'Serial Data'!AG11<>0,(AG11*0.866*Templates!K2),NA())","v":{"$error":"#N/A"}},null,{"$f":"'Serial Data'!AL11/('Serial Data'!AJ11+'Serial Data'!AK11+'Serial Data'!AL11)","v":{"$error":"#DIV/0!"}},{"$f":"'Serial Data'!AJ11/('Serial Data'!AJ11+'Serial Data'!AK11+'Serial Data'!AL11)","v":{"$error":"#DIV/0!"}},{"$f":"'Serial Data'!AK11/('Serial Data'!AJ11+'Serial Data'!AK11+'Serial Data'!AL11)","v":{"$error":"#DIV/0!"}},{"$f":"IF('Serial Data'!AJ11+'Serial Data'!AK11+'Serial Data'!AL11<>0,(AL11+(AM11*0.5)),NA())","v":{"$error":"#N/A"}},{"$f":"IF('Serial Data'!AJ11+'Serial Data'!AK11+'Serial Data'!AL11<>0,(AM11*0.866*Templates!K2),NA())","v":{"$error":"#N/A"}},null,{"$f":"'Serial Data'!AQ11/('Serial Data'!AO11+'Serial Data'!AP11+'Serial Data'!AQ11)","v":{"$error":"#DIV/0!"}},{"$f":"'Serial Data'!AO11/('Serial Data'!AO11+'Serial Data'!AP11+'Serial Data'!AQ11)","v":{"$error":"#DIV/0!"}},{"$f":"'Serial Data'!AP11/('Serial Data'!AO11+'Serial Data'!AP11+'Serial Data'!AQ11)","v":{"$error":"#DIV/0!"}},{"$f":"IF('Serial Data'!AO11+'Serial Data'!AP11+'Serial Data'!AQ11<>0,(AR11+(AS11*0.5)),NA())","v":{"$error":"#N/A"}},{"$f":"IF('Serial Data'!AO11+'Serial Data'!AP11+'Serial Data'!AQ11<>0,(AS11*0.866*Templates!K2),NA())","v":{"$error":"#N/A"}},null,{"$f":"'Serial Data'!AV11/('Serial Data'!AT11+'Serial Data'!AU11+'Serial Data'!AV11)","v":{"$error":"#DIV/0!"}},{"$f":"'Serial Data'!AT11/('Serial Data'!AT11+'Serial Data'!AU11+'Serial Data'!AV11)","v":{"$error":"#DIV/0!"}},{"$f":"'Serial Data'!AU11/('Serial Data'!AT11+'Serial Data'!AU11+'Serial Data'!AV11)","v":{"$error":"#DIV/0!"}},{"$f":"IF('Serial Data'!AT11+'Serial Data'!AU11+'Serial Data'!AV11<>0,(AX11+(AY11*0.5)),NA())","v":{"$error":"#N/A"}},{"$f":"IF('Serial Data'!AT11+'Serial Data'!AU11+'Serial Data'!AV11<>0,(AY11*0.866*Templates!K2),NA())","v":{"$error":"#N/A"}},null,{"$f":"'Serial Data'!BA11/('Serial Data'!AY11+'Serial Data'!AZ11+'Serial Data'!BA11)","v":{"$error":"#DIV/0!"}},{"$f":"'Serial Data'!AY11/('Serial Data'!AY11+'Serial Data'!AZ11+'Serial Data'!BA11)","v":{"$error":"#DIV/0!"}},{"$f":"'Serial Data'!AZ11/('Serial Data'!AY11+'Serial Data'!AZ11+'Serial Data'!BA11)","v":{"$error":"#DIV/0!"}},{"$f":"IF('Serial Data'!AY11+'Serial Data'!AZ11+'Serial Data'!BA11<>0,(BD11+(BE11*0.5)),NA())","v":{"$error":"#N/A"}},{"$f":"IF('Serial Data'!AY11+'Serial Data'!AZ11+'Serial Data'!BA11<>0,(BE11*0.866*Templates!K2),NA())","v":{"$error":"#N/A"}},null,{"$f":"'Serial Data'!BF11/('Serial Data'!BD11+'Serial Data'!BE11+'Serial Data'!BF11)","v":{"$error":"#DIV/0!"}},{"$f":"'Serial Data'!BD11/('Serial Data'!BD11+'Serial Data'!BE11+'Serial Data'!BF11)","v":{"$error":"#DIV/0!"}},{"$f":"'Serial Data'!BE11/('Serial Data'!BD11+'Serial Data'!BE11+'Serial Data'!BF11)","v":{"$error":"#DIV/0!"}},{"$f":"IF('Serial Data'!BD11+'Serial Data'!BE11+'Serial Data'!BF11<>0,(BJ11+(BK11*0.5)),NA())","v":{"$error":"#N/A"}},{"$f":"IF('Serial Data'!BD11+'Serial Data'!BE11+'Serial Data'!BF11<>0,(BK11*0.866*Templates!K2),NA())","v":{"$error":"#N/A"}}]
[{"$f":"'Single Data'!N13/('Single Data'!L13+'Single Data'!M13+'Single Data'!N13)","v":{"$error":"#DIV/0!"}},{"$f":"'Single Data'!L13/('Single Data'!L13+'Single Data'!M13+'Single Data'!N13)","v":{"$error":"#DIV/0!"}},{"$f":"'Single Data'!M13/('Single Data'!L13+'Single Data'!M13+'Single Data'!N13)","v":{"$error":"#DIV/0!"}},{"$f":"IF('Single Data'!L13+'Single Data'!M13+'Single Data'!N13<>0,(B12+(C12*0.5)),NA())","v":{"$error":"#N/A"}},{"$f":"IF('Single Data'!L13+'Single Data'!M13+'Single Data'!N13<>0,(C12*0.866*Templates!K2),NA())","v":{"$error":"#N/A"}},null,{"$f":"'Serial Data'!M12/('Serial Data'!K12+'Serial Data'!L12+'Serial Data'!M12)","v":{"$error":"#DIV/0!"}},{"$f":"'Serial Data'!K12/('Serial Data'!K12+'Serial Data'!L12+'Serial Data'!M12)","v":{"$error":"#DIV/0!"}},{"$f":"'Serial Data'!L12/('Serial Data'!K12+'Serial Data'!L12+'Serial Data'!M12)","v":{"$error":"#DIV/0!"}},{"$f":"IF('Serial Data'!K12+'Serial Data'!L12+'Serial Data'!M12<>0,(H12+(I12*0.5)),NA())","v":{"$error":"#N/A"}},{"$f":"IF('Serial Data'!K12+'Serial Data'!L12+'Serial Data'!M12<>0,(I12*0.866*Templates!K2),NA())","v":{"$error":"#N/A"}},null,{"$f":"'Serial Data'!R12/('Serial Data'!P12+'Serial Data'!Q12+'Serial Data'!R12)","v":{"$error":"#DIV/0!"}},{"$f":"'Serial Data'!P12/('Serial Data'!P12+'Serial Data'!Q12+'Serial Data'!R12)","v":{"$error":"#DIV/0!"}},{"$f":"'Serial Data'!Q12/('Serial Data'!P12+'Serial Data'!Q12+'Serial Data'!R12)","v":{"$error":"#DIV/0!"}},{"$f":"IF('Serial Data'!P12+'Serial Data'!Q12+'Serial Data'!R12<>0,(N12+(O12*0.5)),NA())","v":{"$error":"#N/A"}},{"$f":"IF('Serial Data'!P12+'Serial Data'!Q12+'Serial Data'!R12<>0,(O12*0.866*Templates!K2),NA())","v":{"$error":"#N/A"}},null,{"$f":"'Serial Data'!W12/('Serial Data'!U12+'Serial Data'!V12+'Serial Data'!W12)","v":{"$error":"#DIV/0!"}},{"$f":"'Serial Data'!U12/('Serial Data'!U12+'Serial Data'!V12+'Serial Data'!W12)","v":{"$error":"#DIV/0!"}},{"$f":"'Serial Data'!V12/('Serial Data'!U12+'Serial Data'!V12+'Serial Data'!W12)","v":{"$error":"#DIV/0!"}},{"$f":"IF('Serial Data'!V12+'Serial Data'!W12+'Serial Data'!U12<>0,(T12+(U12*0.5)),NA())","v":{"$error":"#N/A"}},{"$f":"IF('Serial Data'!V12+'Serial Data'!W12+'Serial Data'!U12<>0,(U12*0.866*Templates!K2),NA())","v":{"$error":"#N/A"}},null,{"$f":"'Serial Data'!AB12/('Serial Data'!AA12+'Serial Data'!AB12+'Serial Data'!Z12)","v":{"$error":"#DIV/0!"}},{"$f":"'Serial Data'!Z12/('Serial Data'!AA12+'Serial Data'!AB12+'Serial Data'!Z12)","v":{"$error":"#DIV/0!"}},{"$f":"'Serial Data'!AA12/('Serial Data'!AA12+'Serial Data'!AB12+'Serial Data'!Z12)","v":{"$error":"#DIV/0!"}},{"$f":"IF('Serial Data'!AB12+'Serial Data'!AA12+'Serial Data'!Z12<>0,(Z12+(AA12*0.5)),NA())","v":{"$error":"#N/A"}},{"$f":"IF('Serial Data'!AB12+'Serial Data'!AA12+'Serial Data'!Z12<>0,(AA12*0.866*Templates!K2),NA())","v":{"$error":"#N/A"}},null,{"$f":"'Serial Data'!AG12/('Serial Data'!AG12+'Serial Data'!AE12+'Serial Data'!AF12)","v":{"$error":"#DIV/0!"}},{"$f":"'Serial Data'!AE12/('Serial Data'!AG12+'Serial Data'!AE12+'Serial Data'!AF12)","v":{"$error":"#DIV/0!"}},{"$f":"'Serial Data'!AF12/('Serial Data'!AG12+'Serial Data'!AE12+'Serial Data'!AF12)","v":{"$error":"#DIV/0!"}},{"$f":"IF('Serial Data'!AE12+'Serial Data'!AF12+'Serial Data'!AG12<>0,(AF12+(AG12*0.5)),NA())","v":{"$error":"#N/A"}},{"$f":"IF('Serial Data'!AE12+'Serial Data'!AF12+'Serial Data'!AG12<>0,(AG12*0.866*Templates!K2),NA())","v":{"$error":"#N/A"}},null,{"$f":"'Serial Data'!AL12/('Serial Data'!AJ12+'Serial Data'!AK12+'Serial Data'!AL12)","v":{"$error":"#DIV/0!"}},{"$f":"'Serial Data'!AJ12/('Serial Data'!AJ12+'Serial Data'!AK12+'Serial Data'!AL12)","v":{"$error":"#DIV/0!"}},{"$f":"'Serial Data'!AK12/('Serial Data'!AJ12+'Serial Data'!AK12+'Serial Data'!AL12)","v":{"$error":"#DIV/0!"}},{"$f":"IF('Serial Data'!AJ12+'Serial Data'!AK12+'Serial Data'!AL12<>0,(AL12+(AM12*0.5)),NA())","v":{"$error":"#N/A"}},{"$f":"IF('Serial Data'!AJ12+'Serial Data'!AK12+'Serial Data'!AL12<>0,(AM12*0.866*Templates!K2),NA())","v":{"$error":"#N/A"}},null,{"$f":"'Serial Data'!AQ12/('Serial Data'!AO12+'Serial Data'!AP12+'Serial Data'!AQ12)","v":{"$error":"#DIV/0!"}},{"$f":"'Serial Data'!AO12/('Serial Data'!AO12+'Serial Data'!AP12+'Serial Data'!AQ12)","v":{"$error":"#DIV/0!"}},{"$f":"'Serial Data'!AP12/('Serial Data'!AO12+'Serial Data'!AP12+'Serial Data'!AQ12)","v":{"$error":"#DIV/0!"}},{"$f":"IF('Serial Data'!AO12+'Serial Data'!AP12+'Serial Data'!AQ12<>0,(AR12+(AS12*0.5)),NA())","v":{"$error":"#N/A"}},{"$f":"IF('Serial Data'!AO12+'Serial Data'!AP12+'Serial Data'!AQ12<>0,(AS12*0.866*Templates!K2),NA())","v":{"$error":"#N/A"}},null,{"$f":"'Serial Data'!AV12/('Serial Data'!AT12+'Serial Data'!AU12+'Serial Data'!AV12)","v":{"$error":"#DIV/0!"}},{"$f":"'Serial Data'!AT12/('Serial Data'!AT12+'Serial Data'!AU12+'Serial Data'!AV12)","v":{"$error":"#DIV/0!"}},{"$f":"'Serial Data'!AU12/('Serial Data'!AT12+'Serial Data'!AU12+'Serial Data'!AV12)","v":{"$error":"#DIV/0!"}},{"$f":"IF('Serial Data'!AT12+'Serial Data'!AU12+'Serial Data'!AV12<>0,(AX12+(AY12*0.5)),NA())","v":{"$error":"#N/A"}},{"$f":"IF('Serial Data'!AT12+'Serial Data'!AU12+'Serial Data'!AV12<>0,(AY12*0.866*Templates!K2),NA())","v":{"$error":"#N/A"}},null,{"$f":"'Serial Data'!BA12/('Serial Data'!AY12+'Serial Data'!AZ12+'Serial Data'!BA12)","v":{"$error":"#DIV/0!"}},{"$f":"'Serial Data'!AY12/('Serial Data'!AY12+'Serial Data'!AZ12+'Serial Data'!BA12)","v":{"$error":"#DIV/0!"}},{"$f":"'Serial Data'!AZ12/('Serial Data'!AY12+'Serial Data'!AZ12+'Serial Data'!BA12)","v":{"$error":"#DIV/0!"}},{"$f":"IF('Serial Data'!AY12+'Serial Data'!AZ12+'Serial Data'!BA12<>0,(BD12+(BE12*0.5)),NA())","v":{"$error":"#N/A"}},{"$f":"IF('Serial Data'!AY12+'Serial Data'!AZ12+'Serial Data'!BA12<>0,(BE12*0.866*Templates!K2),NA())","v":{"$error":"#N/A"}},null,{"$f":"'Serial Data'!BF12/('Serial Data'!BD12+'Serial Data'!BE12+'Serial Data'!BF12)","v":{"$error":"#DIV/0!"}},{"$f":"'Serial Data'!BD12/('Serial Data'!BD12+'Serial Data'!BE12+'Serial Data'!BF12)","v":{"$error":"#DIV/0!"}},{"$f":"'Serial Data'!BE12/('Serial Data'!BD12+'Serial Data'!BE12+'Serial Data'!BF12)","v":{"$error":"#DIV/0!"}},{"$f":"IF('Serial Data'!BD12+'Serial Data'!BE12+'Serial Data'!BF12<>0,(BJ12+(BK12*0.5)),NA())","v":{"$error":"#N/A"}},{"$f":"IF('Serial Data'!BD12+'Serial Data'!BE12+'Serial Data'!BF12<>0,(BK12*0.866*Templates!K2),NA())","v":{"$error":"#N/A"}}]
[{"$f":"'Single Data'!N14/('Single Data'!L14+'Single Data'!M14+'Single Data'!N14)","v":{"$error":"#DIV/0!"}},{"$f":"'Single Data'!L14/('Single Data'!L14+'Single Data'!M14+'Single Data'!N14)","v":{"$error":"#DIV/0!"}},{"$f":"'Single Data'!M14/('Single Data'!L14+'Single Data'!M14+'Single Data'!N14)","v":{"$error":"#DIV/0!"}},{"$f":"IF('Single Data'!L14+'Single Data'!M14+'Single Data'!N14<>0,(B13+(C13*0.5)),NA())","v":{"$error":"#N/A"}},{"$f":"IF('Single Data'!L14+'Single Data'!M14+'Single Data'!N14<>0,(C13*0.866*Templates!K2),NA())","v":{"$error":"#N/A"}},null,{"$f":"'Serial Data'!M13/('Serial Data'!K13+'Serial Data'!L13+'Serial Data'!M13)","v":{"$error":"#DIV/0!"}},{"$f":"'Serial Data'!K13/('Serial Data'!K13+'Serial Data'!L13+'Serial Data'!M13)","v":{"$error":"#DIV/0!"}},{"$f":"'Serial Data'!L13/('Serial Data'!K13+'Serial Data'!L13+'Serial Data'!M13)","v":{"$error":"#DIV/0!"}},{"$f":"IF('Serial Data'!K13+'Serial Data'!L13+'Serial Data'!M13<>0,(H13+(I13*0.5)),NA())","v":{"$error":"#N/A"}},{"$f":"IF('Serial Data'!K13+'Serial Data'!L13+'Serial Data'!M13<>0,(I13*0.866*Templates!K2),NA())","v":{"$error":"#N/A"}},null,{"$f":"'Serial Data'!R13/('Serial Data'!P13+'Serial Data'!Q13+'Serial Data'!R13)","v":{"$error":"#DIV/0!"}},{"$f":"'Serial Data'!P13/('Serial Data'!P13+'Serial Data'!Q13+'Serial Data'!R13)","v":{"$error":"#DIV/0!"}},{"$f":"'Serial Data'!Q13/('Serial Data'!P13+'Serial Data'!Q13+'Serial Data'!R13)","v":{"$error":"#DIV/0!"}},{"$f":"IF('Serial Data'!P13+'Serial Data'!Q13+'Serial Data'!R13<>0,(N13+(O13*0.5)),NA())","v":{"$error":"#N/A"}},{"$f":"IF('Serial Data'!P13+'Serial Data'!Q13+'Serial Data'!R13<>0,(O13*0.866*Templates!K2),NA())","v":{"$error":"#N/A"}},null,{"$f":"'Serial Data'!W13/('Serial Data'!U13+'Serial Data'!V13+'Serial Data'!W13)","v":{"$error":"#DIV/0!"}},{"$f":"'Serial Data'!U13/('Serial Data'!U13+'Serial Data'!V13+'Serial Data'!W13)","v":{"$error":"#DIV/0!"}},{"$f":"'Serial Data'!V13/('Serial Data'!U13+'Serial Data'!V13+'Serial Data'!W13)","v":{"$error":"#DIV/0!"}},{"$f":"IF('Serial Data'!V13+'Serial Data'!W13+'Serial Data'!U13<>0,(T13+(U13*0.5)),NA())","v":{"$error":"#N/A"}},{"$f":"IF('Serial Data'!V13+'Serial Data'!W13+'Serial Data'!U13<>0,(U13*0.866*Templates!K2),NA())","v":{"$error":"#N/A"}},null,{"$f":"'Serial Data'!AB13/('Serial Data'!AA13+'Serial Data'!AB13+'Serial Data'!Z13)","v":{"$error":"#DIV/0!"}},{"$f":"'Serial Data'!Z13/('Serial Data'!AA13+'Serial Data'!AB13+'Serial Data'!Z13)","v":{"$error":"#DIV/0!"}},{"$f":"'Serial Data'!AA13/('Serial Data'!AA13+'Serial Data'!AB13+'Serial Data'!Z13)","v":{"$error":"#DIV/0!"}},{"$f":"IF('Serial Data'!AB13+'Serial Data'!AA13+'Serial Data'!Z13<>0,(Z13+(AA13*0.5)),NA())","v":{"$error":"#N/A"}},{"$f":"IF('Serial Data'!AB13+'Serial Data'!AA13+'Serial Data'!Z13<>0,(AA13*0.866*Templates!K2),NA())","v":{"$error":"#N/A"}},null,{"$f":"'Serial Data'!AG13/('Serial Data'!AG13+'Serial Data'!AE13+'Serial Data'!AF13)","v":{"$error":"#DIV/0!"}},{"$f":"'Serial Data'!AE13/('Serial Data'!AG13+'Serial Data'!AE13+'Serial Data'!AF13)","v":{"$error":"#DIV/0!"}},{"$f":"'Serial Data'!AF13/('Serial Data'!AG13+'Serial Data'!AE13+'Serial Data'!AF13)","v":{"$error":"#DIV/0!"}},{"$f":"IF('Serial Data'!AE13+'Serial Data'!AF13+'Serial Data'!AG13<>0,(AF13+(AG13*0.5)),NA())","v":{"$error":"#N/A"}},{"$f":"IF('Serial Data'!AE13+'Serial Data'!AF13+'Serial Data'!AG13<>0,(AG13*0.866*Templates!K2),NA())","v":{"$error":"#N/A"}},null,{"$f":"'Serial Data'!AL13/('Serial Data'!AJ13+'Serial Data'!AK13+'Serial Data'!AL13)","v":{"$error":"#DIV/0!"}},{"$f":"'Serial Data'!AJ13/('Serial Data'!AJ13+'Serial Data'!AK13+'Serial Data'!AL13)","v":{"$error":"#DIV/0!"}},{"$f":"'Serial Data'!AK13/('Serial Data'!AJ13+'Serial Data'!AK13+'Serial Data'!AL13)","v":{"$error":"#DIV/0!"}},{"$f":"IF('Serial Data'!AJ13+'Serial Data'!AK13+'Serial Data'!AL13<>0,(AL13+(AM13*0.5)),NA())","v":{"$error":"#N/A"}},{"$f":"IF('Serial Data'!AJ13+'Serial Data'!AK13+'Serial Data'!AL13<>0,(AM13*0.866*Templates!K2),NA())","v":{"$error":"#N/A"}},null,{"$f":"'Serial Data'!AQ13/('Serial Data'!AO13+'Serial Data'!AP13+'Serial Data'!AQ13)","v":{"$error":"#DIV/0!"}},{"$f":"'Serial Data'!AO13/('Serial Data'!AO13+'Serial Data'!AP13+'Serial Data'!AQ13)","v":{"$error":"#DIV/0!"}},{"$f":"'Serial Data'!AP13/('Serial Data'!AO13+'Serial Data'!AP13+'Serial Data'!AQ13)","v":{"$error":"#DIV/0!"}},{"$f":"IF('Serial Data'!AO13+'Serial Data'!AP13+'Serial Data'!AQ13<>0,(AR13+(AS13*0.5)),NA())","v":{"$error":"#N/A"}},{"$f":"IF('Serial Data'!AO13+'Serial Data'!AP13+'Serial Data'!AQ13<>0,(AS13*0.866*Templates!K2),NA())","v":{"$error":"#N/A"}},null,{"$f":"'Serial Data'!AV13/('Serial Data'!AT13+'Serial Data'!AU13+'Serial Data'!AV13)","v":{"$error":"#DIV/0!"}},{"$f":"'Serial Data'!AT13/('Serial Data'!AT13+'Serial Data'!AU13+'Serial Data'!AV13)","v":{"$error":"#DIV/0!"}},{"$f":"'Serial Data'!AU13/('Serial Data'!AT13+'Serial Data'!AU13+'Serial Data'!AV13)","v":{"$error":"#DIV/0!"}},{"$f":"IF('Serial Data'!AT13+'Serial Data'!AU13+'Serial Data'!AV13<>0,(AX13+(AY13*0.5)),NA())","v":{"$error":"#N/A"}},{"$f":"IF('Serial Data'!AT13+'Serial Data'!AU13+'Serial Data'!AV13<>0,(AY13*0.866*Templates!K2),NA())","v":{"$error":"#N/A"}},null,{"$f":"'Serial Data'!BA13/('Serial Data'!AY13+'Serial Data'!AZ13+'Serial Data'!BA13)","v":{"$error":"#DIV/0!"}},{"$f":"'Serial Data'!AY13/('Serial Data'!AY13+'Serial Data'!AZ13+'Serial Data'!BA13)","v":{"$error":"#DIV/0!"}},{"$f":"'Serial Data'!AZ13/('Serial Data'!AY13+'Serial Data'!AZ13+'Serial Data'!BA13)","v":{"$error":"#DIV/0!"}},{"$f":"IF('Serial Data'!AY13+'Serial Data'!AZ13+'Serial Data'!BA13<>0,(BD13+(BE13*0.5)),NA())","v":{"$error":"#N/A"}},{"$f":"IF('Serial Data'!AY13+'Serial Data'!AZ13+'Serial Data'!BA13<>0,(BE13*0.866*Templates!K2),NA())","v":{"$error":"#N/A"}},null,{"$f":"'Serial Data'!BF13/('Serial Data'!BD13+'Serial Data'!BE13+'Serial Data'!BF13)","v":{"$error":"#DIV/0!"}},{"$f":"'Serial Data'!BD13/('Serial Data'!BD13+'Serial Data'!BE13+'Serial Data'!BF13)","v":{"$error":"#DIV/0!"}},{"$f":"'Serial Data'!BE13/('Serial Data'!BD13+'Serial Data'!BE13+'Serial Data'!BF13)","v":{"$error":"#DIV/0!"}},{"$f":"IF('Serial Data'!BD13+'Serial Data'!BE13+'Serial Data'!BF13<>0,(BJ13+(BK13*0.5)),NA())","v":{"$error":"#N/A"}},{"$f":"IF('Serial Data'!BD13+'Serial Data'!BE13+'Serial Data'!BF13<>0,(BK13*0.866*Templates!K2),NA())","v":{"$error":"#N/A"}}]
[{"$f":"'Single Data'!N15/('Single Data'!L15+'Single Data'!M15+'Single Data'!N15)","v":{"$error":"#DIV/0!"}},{"$f":"'Single Data'!L15/('Single Data'!L15+'Single Data'!M15+'Single Data'!N15)","v":{"$error":"#DIV/0!"}},{"$f":"'Single Data'!M15/('Single Data'!L15+'Single Data'!M15+'Single Data'!N15)","v":{"$error":"#DIV/0!"}},{"$f":"IF('Single Data'!L15+'Single Data'!M15+'Single Data'!N15<>0,(B14+(C14*0.5)),NA())","v":{"$error":"#N/A"}},{"$f":"IF('Single Data'!L15+'Single Data'!M15+'Single Data'!N15<>0,(C14*0.866*Templates!K2),NA())","v":{"$error":"#N/A"}},null,{"$f":"'Serial Data'!M14/('Serial Data'!K14+'Serial Data'!L14+'Serial Data'!M14)","v":{"$error":"#DIV/0!"}},{"$f":"'Serial Data'!K14/('Serial Data'!K14+'Serial Data'!L14+'Serial Data'!M14)","v":{"$error":"#DIV/0!"}},{"$f":"'Serial Data'!L14/('Serial Data'!K14+'Serial Data'!L14+'Serial Data'!M14)","v":{"$error":"#DIV/0!"}},{"$f":"IF('Serial Data'!K14+'Serial Data'!L14+'Serial Data'!M14<>0,(H14+(I14*0.5)),NA())","v":{"$error":"#N/A"}},{"$f":"IF('Serial Data'!K14+'Serial Data'!L14+'Serial Data'!M14<>0,(I14*0.866*Templates!K2),NA())","v":{"$error":"#N/A"}},null,{"$f":"'Serial Data'!R14/('Serial Data'!P14+'Serial Data'!Q14+'Serial Data'!R14)","v":{"$error":"#DIV/0!"}},{"$f":"'Serial Data'!P14/('Serial Data'!P14+'Serial Data'!Q14+'Serial Data'!R14)","v":{"$error":"#DIV/0!"}},{"$f":"'Serial Data'!Q14/('Serial Data'!P14+'Serial Data'!Q14+'Serial Data'!R14)","v":{"$error":"#DIV/0!"}},{"$f":"IF('Serial Data'!P14+'Serial Data'!Q14+'Serial Data'!R14<>0,(N14+(O14*0.5)),NA())","v":{"$error":"#N/A"}},{"$f":"IF('Serial Data'!P14+'Serial Data'!Q14+'Serial Data'!R14<>0,(O14*0.866*Templates!K2),NA())","v":{"$error":"#N/A"}},null,{"$f":"'Serial Data'!W14/('Serial Data'!U14+'Serial Data'!V14+'Serial Data'!W14)","v":{"$error":"#DIV/0!"}},{"$f":"'Serial Data'!U14/('Serial Data'!U14+'Serial Data'!V14+'Serial Data'!W14)","v":{"$error":"#DIV/0!"}},{"$f":"'Serial Data'!V14/('Serial Data'!U14+'Serial Data'!V14+'Serial Data'!W14)","v":{"$error":"#DIV/0!"}},{"$f":"IF('Serial Data'!V14+'Serial Data'!W14+'Serial Data'!U14<>0,(T14+(U14*0.5)),NA())","v":{"$error":"#N/A"}},{"$f":"IF('Serial Data'!V14+'Serial Data'!W14+'Serial Data'!U14<>0,(U14*0.866*Templates!K2),NA())","v":{"$error":"#N/A"}},null,{"$f":"'Serial Data'!AB14/('Serial Data'!AA14+'Serial Data'!AB14+'Serial Data'!Z14)","v":{"$error":"#DIV/0!"}},{"$f":"'Serial Data'!Z14/('Serial Data'!AA14+'Serial Data'!AB14+'Serial Data'!Z14)","v":{"$error":"#DIV/0!"}},{"$f":"'Serial Data'!AA14/('Serial Data'!AA14+'Serial Data'!AB14+'Serial Data'!Z14)","v":{"$error":"#DIV/0!"}},{"$f":"IF('Serial Data'!AB14+'Serial Data'!AA14+'Serial Data'!Z14<>0,(Z14+(AA14*0.5)),NA())","v":{"$error":"#N/A"}},{"$f":"IF('Serial Data'!AB14+'Serial Data'!AA14+'Serial Data'!Z14<>0,(AA14*0.866*Templates!K2),NA())","v":{"$error":"#N/A"}},null,{"$f":"'Serial Data'!AG14/('Serial Data'!AG14+'Serial Data'!AE14+'Serial Data'!AF14)","v":{"$error":"#DIV/0!"}},{"$f":"'Serial Data'!AE14/('Serial Data'!AG14+'Serial Data'!AE14+'Serial Data'!AF14)","v":{"$error":"#DIV/0!"}},{"$f":"'Serial Data'!AF14/('Serial Data'!AG14+'Serial Data'!AE14+'Serial Data'!AF14)","v":{"$error":"#DIV/0!"}},{"$f":"IF('Serial Data'!AE14+'Serial Data'!AF14+'Serial Data'!AG14<>0,(AF14+(AG14*0.5)),NA())","v":{"$error":"#N/A"}},{"$f":"IF('Serial Data'!AE14+'Serial Data'!AF14+'Serial Data'!AG14<>0,(AG14*0.866*Templates!K2),NA())","v":{"$error":"#N/A"}},null,{"$f":"'Serial Data'!AL14/('Serial Data'!AJ14+'Serial Data'!AK14+'Serial Data'!AL14)","v":{"$error":"#DIV/0!"}},{"$f":"'Serial Data'!AJ14/('Serial Data'!AJ14+'Serial Data'!AK14+'Serial Data'!AL14)","v":{"$error":"#DIV/0!"}},{"$f":"'Serial Data'!AK14/('Serial Data'!AJ14+'Serial Data'!AK14+'Serial Data'!AL14)","v":{"$error":"#DIV/0!"}},{"$f":"IF('Serial Data'!AJ14+'Serial Data'!AK14+'Serial Data'!AL14<>0,(AL14+(AM14*0.5)),NA())","v":{"$error":"#N/A"}},{"$f":"IF('Serial Data'!AJ14+'Serial Data'!AK14+'Serial Data'!AL14<>0,(AM14*0.866*Templates!K2),NA())","v":{"$error":"#N/A"}},null,{"$f":"'Serial Data'!AQ14/('Serial Data'!AO14+'Serial Data'!AP14+'Serial Data'!AQ14)","v":{"$error":"#DIV/0!"}},{"$f":"'Serial Data'!AO14/('Serial Data'!AO14+'Serial Data'!AP14+'Serial Data'!AQ14)","v":{"$error":"#DIV/0!"}},{"$f":"'Serial Data'!AP14/('Serial Data'!AO14+'Serial Data'!AP14+'Serial Data'!AQ14)","v":{"$error":"#DIV/0!"}},{"$f":"IF('Serial Data'!AO14+'Serial Data'!AP14+'Serial Data'!AQ14<>0,(AR14+(AS14*0.5)),NA())","v":{"$error":"#N/A"}},{"$f":"IF('Serial Data'!AO14+'Serial Data'!AP14+'Serial Data'!AQ14<>0,(AS14*0.866*Templates!K2),NA())","v":{"$error":"#N/A"}},null,{"$f":"'Serial Data'!AV14/('Serial Data'!AT14+'Serial Data'!AU14+'Serial Data'!AV14)","v":{"$error":"#DIV/0!"}},{"$f":"'Serial Data'!AT14/('Serial Data'!AT14+'Serial Data'!AU14+'Serial Data'!AV14)","v":{"$error":"#DIV/0!"}},{"$f":"'Serial Data'!AU14/('Serial Data'!AT14+'Serial Data'!AU14+'Serial Data'!AV14)","v":{"$error":"#DIV/0!"}},{"$f":"IF('Serial Data'!AT14+'Serial Data'!AU14+'Serial Data'!AV14<>0,(AX14+(AY14*0.5)),NA())","v":{"$error":"#N/A"}},{"$f":"IF('Serial Data'!AT14+'Serial Data'!AU14+'Serial Data'!AV14<>0,(AY14*0.866*Templates!K2),NA())","v":{"$error":"#N/A"}},null,{"$f":"'Serial Data'!BA14/('Serial Data'!AY14+'Serial Data'!AZ14+'Serial Data'!BA14)","v":{"$error":"#DIV/0!"}},{"$f":"'Serial Data'!AY14/('Serial Data'!AY14+'Serial Data'!AZ14+'Serial Data'!BA14)","v":{"$error":"#DIV/0!"}},{"$f":"'Serial Data'!AZ14/('Serial Data'!AY14+'Serial Data'!AZ14+'Serial Data'!BA14)","v":{"$error":"#DIV/0!"}},{"$f":"IF('Serial Data'!AY14+'Serial Data'!AZ14+'Serial Data'!BA14<>0,(BD14+(BE14*0.5)),NA())","v":{"$error":"#N/A"}},{"$f":"IF('Serial Data'!AY14+'Serial Data'!AZ14+'Serial Data'!BA14<>0,(BE14*0.866*Templates!K2),NA())","v":{"$error":"#N/A"}},null,{"$f":"'Serial Data'!BF14/('Serial Data'!BD14+'Serial Data'!BE14+'Serial Data'!BF14)","v":{"$error":"#DIV/0!"}},{"$f":"'Serial Data'!BD14/('Serial Data'!BD14+'Serial Data'!BE14+'Serial Data'!BF14)","v":{"$error":"#DIV/0!"}},{"$f":"'Serial Data'!BE14/('Serial Data'!BD14+'Serial Data'!BE14+'Serial Data'!BF14)","v":{"$error":"#DIV/0!"}},{"$f":"IF('Serial Data'!BD14+'Serial Data'!BE14+'Serial Data'!BF14<>0,(BJ14+(BK14*0.5)),NA())","v":{"$error":"#N/A"}},{"$f":"IF('Serial Data'!BD14+'Serial Data'!BE14+'Serial Data'!BF14<>0,(BK14*0.866*Templates!K2),NA())","v":{"$error":"#N/A"}}]
[{"$f":"'Single Data'!N16/('Single Data'!L16+'Single Data'!M16+'Single Data'!N16)","v":{"$error":"#DIV/0!"}},{"$f":"'Single Data'!L16/('Single Data'!L16+'Single Data'!M16+'Single Data'!N16)","v":{"$error":"#DIV/0!"}},{"$f":"'Single Data'!M16/('Single Data'!L16+'Single Data'!M16+'Single Data'!N16)","v":{"$error":"#DIV/0!"}},{"$f":"IF('Single Data'!L16+'Single Data'!M16+'Single Data'!N16<>0,(B15+(C15*0.5)),NA())","v":{"$error":"#N/A"}},{"$f":"IF('Single Data'!L16+'Single Data'!M16+'Single Data'!N16<>0,(C15*0.866*Templates!K2),NA())","v":{"$error":"#N/A"}},null,{"$f":"'Serial Data'!M15/('Serial Data'!K15+'Serial Data'!L15+'Serial Data'!M15)","v":{"$error":"#DIV/0!"}},{"$f":"'Serial Data'!K15/('Serial Data'!K15+'Serial Data'!L15+'Serial Data'!M15)","v":{"$error":"#DIV/0!"}},{"$f":"'Serial Data'!L15/('Serial Data'!K15+'Serial Data'!L15+'Serial Data'!M15)","v":{"$error":"#DIV/0!"}},{"$f":"IF('Serial Data'!K15+'Serial Data'!L15+'Serial Data'!M15<>0,(H15+(I15*0.5)),NA())","v":{"$error":"#N/A"}},{"$f":"IF('Serial Data'!K15+'Serial Data'!L15+'Serial Data'!M15<>0,(I15*0.866*Templates!K2),NA())","v":{"$error":"#N/A"}},null,{"$f":"'Serial Data'!R15/('Serial Data'!P15+'Serial Data'!Q15+'Serial Data'!R15)","v":{"$error":"#DIV/0!"}},{"$f":"'Serial Data'!P15/('Serial Data'!P15+'Serial Data'!Q15+'Serial Data'!R15)","v":{"$error":"#DIV/0!"}},{"$f":"'Serial Data'!Q15/('Serial Data'!P15+'Serial Data'!Q15+'Serial Data'!R15)","v":{"$error":"#DIV/0!"}},{"$f":"IF('Serial Data'!P15+'Serial Data'!Q15+'Serial Data'!R15<>0,(N15+(O15*0.5)),NA())","v":{"$error":"#N/A"}},{"$f":"IF('Serial Data'!P15+'Serial Data'!Q15+'Serial Data'!R15<>0,(O15*0.866*Templates!K2),NA())","v":{"$error":"#N/A"}},null,{"$f":"'Serial Data'!W15/('Serial Data'!U15+'Serial Data'!V15+'Serial Data'!W15)","v":{"$error":"#DIV/0!"}},{"$f":"'Serial Data'!U15/('Serial Data'!U15+'Serial Data'!V15+'Serial Data'!W15)","v":{"$error":"#DIV/0!"}},{"$f":"'Serial Data'!V15/('Serial Data'!U15+'Serial Data'!V15+'Serial Data'!W15)","v":{"$error":"#DIV/0!"}},{"$f":"IF('Serial Data'!V15+'Serial Data'!W15+'Serial Data'!U15<>0,(T15+(U15*0.5)),NA())","v":{"$error":"#N/A"}},{"$f":"IF('Serial Data'!V15+'Serial Data'!W15+'Serial Data'!U15<>0,(U15*0.866*Templates!K2),NA())","v":{"$error":"#N/A"}},null,{"$f":"'Serial Data'!AB15/('Serial Data'!AA15+'Serial Data'!AB15+'Serial Data'!Z15)","v":{"$error":"#DIV/0!"}},{"$f":"'Serial Data'!Z15/('Serial Data'!AA15+'Serial Data'!AB15+'Serial Data'!Z15)","v":{"$error":"#DIV/0!"}},{"$f":"'Serial Data'!AA15/('Serial Data'!AA15+'Serial Data'!AB15+'Serial Data'!Z15)","v":{"$error":"#DIV/0!"}},{"$f":"IF('Serial Data'!AB15+'Serial Data'!AA15+'Serial Data'!Z15<>0,(Z15+(AA15*0.5)),NA())","v":{"$error":"#N/A"}},{"$f":"IF('Serial Data'!AB15+'Serial Data'!AA15+'Serial Data'!Z15<>0,(AA15*0.866*Templates!K2),NA())","v":{"$error":"#N/A"}},null,{"$f":"'Serial Data'!AG15/('Serial Data'!AG15+'Serial Data'!AE15+'Serial Data'!AF15)","v":{"$error":"#DIV/0!"}},{"$f":"'Serial Data'!AE15/('Serial Data'!AG15+'Serial Data'!AE15+'Serial Data'!AF15)","v":{"$error":"#DIV/0!"}},{"$f":"'Serial Data'!AF15/('Serial Data'!AG15+'Serial Data'!AE15+'Serial Data'!AF15)","v":{"$error":"#DIV/0!"}},{"$f":"IF('Serial Data'!AE15+'Serial Data'!AF15+'Serial Data'!AG15<>0,(AF15+(AG15*0.5)),NA())","v":{"$error":"#N/A"}},{"$f":"IF('Serial Data'!AE15+'Serial Data'!AF15+'Serial Data'!AG15<>0,(AG15*0.866*Templates!K2),NA())","v":{"$error":"#N/A"}},null,{"$f":"'Serial Data'!AL15/('Serial Data'!AJ15+'Serial Data'!AK15+'Serial Data'!AL15)","v":{"$error":"#DIV/0!"}},{"$f":"'Serial Data'!AJ15/('Serial Data'!AJ15+'Serial Data'!AK15+'Serial Data'!AL15)","v":{"$error":"#DIV/0!"}},{"$f":"'Serial Data'!AK15/('Serial Data'!AJ15+'Serial Data'!AK15+'Serial Data'!AL15)","v":{"$error":"#DIV/0!"}},{"$f":"IF('Serial Data'!AJ15+'Serial Data'!AK15+'Serial Data'!AL15<>0,(AL15+(AM15*0.5)),NA())","v":{"$error":"#N/A"}},{"$f":"IF('Serial Data'!AJ15+'Serial Data'!AK15+'Serial Data'!AL15<>0,(AM15*0.866*Templates!K2),NA())","v":{"$error":"#N/A"}},null,{"$f":"'Serial Data'!AQ15/('Serial Data'!AO15+'Serial Data'!AP15+'Serial Data'!AQ15)","v":{"$error":"#DIV/0!"}},{"$f":"'Serial Data'!AO15/('Serial Data'!AO15+'Serial Data'!AP15+'Serial Data'!AQ15)","v":{"$error":"#DIV/0!"}},{"$f":"'Serial Data'!AP15/('Serial Data'!AO15+'Serial Data'!AP15+'Serial Data'!AQ15)","v":{"$error":"#DIV/0!"}},{"$f":"IF('Serial Data'!AO15+'Serial Data'!AP15+'Serial Data'!AQ15<>0,(AR15+(AS15*0.5)),NA())","v":{"$error":"#N/A"}},{"$f":"IF('Serial Data'!AO15+'Serial Data'!AP15+'Serial Data'!AQ15<>0,(AS15*0.866*Templates!K2),NA())","v":{"$error":"#N/A"}},null,{"$f":"'Serial Data'!AV15/('Serial Data'!AT15+'Serial Data'!AU15+'Serial Data'!AV15)","v":{"$error":"#DIV/0!"}},{"$f":"'Serial Data'!AT15/('Serial Data'!AT15+'Serial Data'!AU15+'Serial Data'!AV15)","v":{"$error":"#DIV/0!"}},{"$f":"'Serial Data'!AU15/('Serial Data'!AT15+'Serial Data'!AU15+'Serial Data'!AV15)","v":{"$error":"#DIV/0!"}},{"$f":"IF('Serial Data'!AT15+'Serial Data'!AU15+'Serial Data'!AV15<>0,(AX15+(AY15*0.5)),NA())","v":{"$error":"#N/A"}},{"$f":"IF('Serial Data'!AT15+'Serial Data'!AU15+'Serial Data'!AV15<>0,(AY15*0.866*Templates!K2),NA())","v":{"$error":"#N/A"}},null,{"$f":"'Serial Data'!BA15/('Serial Data'!AY15+'Serial Data'!AZ15+'Serial Data'!BA15)","v":{"$error":"#DIV/0!"}},{"$f":"'Serial Data'!AY15/('Serial Data'!AY15+'Serial Data'!AZ15+'Serial Data'!BA15)","v":{"$error":"#DIV/0!"}},{"$f":"'Serial Data'!AZ15/('Serial Data'!AY15+'Serial Data'!AZ15+'Serial Data'!BA15)","v":{"$error":"#DIV/0!"}},{"$f":"IF('Serial Data'!AY15+'Serial Data'!AZ15+'Serial Data'!BA15<>0,(BD15+(BE15*0.5)),NA())","v":{"$error":"#N/A"}},{"$f":"IF('Serial Data'!AY15+'Serial Data'!AZ15+'Serial Data'!BA15<>0,(BE15*0.866*Templates!K2),NA())","v":{"$error":"#N/A"}},null,{"$f":"'Serial Data'!BF15/('Serial Data'!BD15+'Serial Data'!BE15+'Serial Data'!BF15)","v":{"$error":"#DIV/0!"}},{"$f":"'Serial Data'!BD15/('Serial Data'!BD15+'Serial Data'!BE15+'Serial Data'!BF15)","v":{"$error":"#DIV/0!"}},{"$f":"'Serial Data'!BE15/('Serial Data'!BD15+'Serial Data'!BE15+'Serial Data'!BF15)","v":{"$error":"#DIV/0!"}},{"$f":"IF('Serial Data'!BD15+'Serial Data'!BE15+'Serial Data'!BF15<>0,(BJ15+(BK15*0.5)),NA())","v":{"$error":"#N/A"}},{"$f":"IF('Serial Data'!BD15+'Serial Data'!BE15+'Serial Data'!BF15<>0,(BK15*0.866*Templates!K2),NA())","v":{"$error":"#N/A"}}]
[{"$f":"'Single Data'!N17/('Single Data'!L17+'Single Data'!M17+'Single Data'!N17)","v":{"$error":"#DIV/0!"}},{"$f":"'Single Data'!L17/('Single Data'!L17+'Single Data'!M17+'Single Data'!N17)","v":{"$error":"#DIV/0!"}},{"$f":"'Single Data'!M17/('Single Data'!L17+'Single Data'!M17+'Single Data'!N17)","v":{"$error":"#DIV/0!"}},{"$f":"IF('Single Data'!L17+'Single Data'!M17+'Single Data'!N17<>0,(B16+(C16*0.5)),NA())","v":{"$error":"#N/A"}},{"$f":"IF('Single Data'!L17+'Single Data'!M17+'Single Data'!N17<>0,(C16*0.866*Templates!K2),NA())","v":{"$error":"#N/A"}},null,{"$f":"'Serial Data'!M16/('Serial Data'!K16+'Serial Data'!L16+'Serial Data'!M16)","v":{"$error":"#DIV/0!"}},{"$f":"'Serial Data'!K16/('Serial Data'!K16+'Serial Data'!L16+'Serial Data'!M16)","v":{"$error":"#DIV/0!"}},{"$f":"'Serial Data'!L16/('Serial Data'!K16+'Serial Data'!L16+'Serial Data'!M16)","v":{"$error":"#DIV/0!"}},{"$f":"IF('Serial Data'!K16+'Serial Data'!L16+'Serial Data'!M16<>0,(H16+(I16*0.5)),NA())","v":{"$error":"#N/A"}},{"$f":"IF('Serial Data'!K16+'Serial Data'!L16+'Serial Data'!M16<>0,(I16*0.866*Templates!K2),NA())","v":{"$error":"#N/A"}},null,{"$f":"'Serial Data'!R16/('Serial Data'!P16+'Serial Data'!Q16+'Serial Data'!R16)","v":{"$error":"#DIV/0!"}},{"$f":"'Serial Data'!P16/('Serial Data'!P16+'Serial Data'!Q16+'Serial Data'!R16)","v":{"$error":"#DIV/0!"}},{"$f":"'Serial Data'!Q16/('Serial Data'!P16+'Serial Data'!Q16+'Serial Data'!R16)","v":{"$error":"#DIV/0!"}},{"$f":"IF('Serial Data'!P16+'Serial Data'!Q16+'Serial Data'!R16<>0,(N16+(O16*0.5)),NA())","v":{"$error":"#N/A"}},{"$f":"IF('Serial Data'!P16+'Serial Data'!Q16+'Serial Data'!R16<>0,(O16*0.866*Templates!K2),NA())","v":{"$error":"#N/A"}},null,{"$f":"'Serial Data'!W16/('Serial Data'!U16+'Serial Data'!V16+'Serial Data'!W16)","v":{"$error":"#DIV/0!"}},{"$f":"'Serial Data'!U16/('Serial Data'!U16+'Serial Data'!V16+'Serial Data'!W16)","v":{"$error":"#DIV/0!"}},{"$f":"'Serial Data'!V16/('Serial Data'!U16+'Serial Data'!V16+'Serial Data'!W16)","v":{"$error":"#DIV/0!"}},{"$f":"IF('Serial Data'!V16+'Serial Data'!W16+'Serial Data'!U16<>0,(T16+(U16*0.5)),NA())","v":{"$error":"#N/A"}},{"$f":"IF('Serial Data'!V16+'Serial Data'!W16+'Serial Data'!U16<>0,(U16*0.866*Templates!K2),NA())","v":{"$error":"#N/A"}},null,{"$f":"'Serial Data'!AB16/('Serial Data'!AA16+'Serial Data'!AB16+'Serial Data'!Z16)","v":{"$error":"#DIV/0!"}},{"$f":"'Serial Data'!Z16/('Serial Data'!AA16+'Serial Data'!AB16+'Serial Data'!Z16)","v":{"$error":"#DIV/0!"}},{"$f":"'Serial Data'!AA16/('Serial Data'!AA16+'Serial Data'!AB16+'Serial Data'!Z16)","v":{"$error":"#DIV/0!"}},{"$f":"IF('Serial Data'!AB16+'Serial Data'!AA16+'Serial Data'!Z16<>0,(Z16+(AA16*0.5)),NA())","v":{"$error":"#N/A"}},{"$f":"IF('Serial Data'!AB16+'Serial Data'!AA16+'Serial Data'!Z16<>0,(AA16*0.866*Templates!K2),NA())","v":{"$error":"#N/A"}},null,{"$f":"'Serial Data'!AG16/('Serial Data'!AG16+'Serial Data'!AE16+'Serial Data'!AF16)","v":{"$error":"#DIV/0!"}},{"$f":"'Serial Data'!AE16/('Serial Data'!AG16+'Serial Data'!AE16+'Serial Data'!AF16)","v":{"$error":"#DIV/0!"}},{"$f":"'Serial Data'!AF16/('Serial Data'!AG16+'Serial Data'!AE16+'Serial Data'!AF16)","v":{"$error":"#DIV/0!"}},{"$f":"IF('Serial Data'!AE16+'Serial Data'!AF16+'Serial Data'!AG16<>0,(AF16+(AG16*0.5)),NA())","v":{"$error":"#N/A"}},{"$f":"IF('Serial Data'!AE16+'Serial Data'!AF16+'Serial Data'!AG16<>0,(AG16*0.866*Templates!K2),NA())","v":{"$error":"#N/A"}},null,{"$f":"'Serial Data'!AL16/('Serial Data'!AJ16+'Serial Data'!AK16+'Serial Data'!AL16)","v":{"$error":"#DIV/0!"}},{"$f":"'Serial Data'!AJ16/('Serial Data'!AJ16+'Serial Data'!AK16+'Serial Data'!AL16)","v":{"$error":"#DIV/0!"}},{"$f":"'Serial Data'!AK16/('Serial Data'!AJ16+'Serial Data'!AK16+'Serial Data'!AL16)","v":{"$error":"#DIV/0!"}},{"$f":"IF('Serial Data'!AJ16+'Serial Data'!AK16+'Serial Data'!AL16<>0,(AL16+(AM16*0.5)),NA())","v":{"$error":"#N/A"}},{"$f":"IF('Serial Data'!AJ16+'Serial Data'!AK16+'Serial Data'!AL16<>0,(AM16*0.866*Templates!K2),NA())","v":{"$error":"#N/A"}},null,{"$f":"'Serial Data'!AQ16/('Serial Data'!AO16+'Serial Data'!AP16+'Serial Data'!AQ16)","v":{"$error":"#DIV/0!"}},{"$f":"'Serial Data'!AO16/('Serial Data'!AO16+'Serial Data'!AP16+'Serial Data'!AQ16)","v":{"$error":"#DIV/0!"}},{"$f":"'Serial Data'!AP16/('Serial Data'!AO16+'Serial Data'!AP16+'Serial Data'!AQ16)","v":{"$error":"#DIV/0!"}},{"$f":"IF('Serial Data'!AO16+'Serial Data'!AP16+'Serial Data'!AQ16<>0,(AR16+(AS16*0.5)),NA())","v":{"$error":"#N/A"}},{"$f":"IF('Serial Data'!AO16+'Serial Data'!AP16+'Serial Data'!AQ16<>0,(AS16*0.866*Templates!K2),NA())","v":{"$error":"#N/A"}},null,{"$f":"'Serial Data'!AV16/('Serial Data'!AT16+'Serial Data'!AU16+'Serial Data'!AV16)","v":{"$error":"#DIV/0!"}},{"$f":"'Serial Data'!AT16/('Serial Data'!AT16+'Serial Data'!AU16+'Serial Data'!AV16)","v":{"$error":"#DIV/0!"}},{"$f":"'Serial Data'!AU16/('Serial Data'!AT16+'Serial Data'!AU16+'Serial Data'!AV16)","v":{"$error":"#DIV/0!"}},{"$f":"IF('Serial Data'!AT16+'Serial Data'!AU16+'Serial Data'!AV16<>0,(AX16+(AY16*0.5)),NA())","v":{"$error":"#N/A"}},{"$f":"IF('Serial Data'!AT16+'Serial Data'!AU16+'Serial Data'!AV16<>0,(AY16*0.866*Templates!K2),NA())","v":{"$error":"#N/A"}},null,{"$f":"'Serial Data'!BA16/('Serial Data'!AY16+'Serial Data'!AZ16+'Serial Data'!BA16)","v":{"$error":"#DIV/0!"}},{"$f":"'Serial Data'!AY16/('Serial Data'!AY16+'Serial Data'!AZ16+'Serial Data'!BA16)","v":{"$error":"#DIV/0!"}},{"$f":"'Serial Data'!AZ16/('Serial Data'!AY16+'Serial Data'!AZ16+'Serial Data'!BA16)","v":{"$error":"#DIV/0!"}},{"$f":"IF('Serial Data'!AY16+'Serial Data'!AZ16+'Serial Data'!BA16<>0,(BD16+(BE16*0.5)),NA())","v":{"$error":"#N/A"}},{"$f":"IF('Serial Data'!AY16+'Serial Data'!AZ16+'Serial Data'!BA16<>0,(BE16*0.866*Templates!K2),NA())","v":{"$error":"#N/A"}},null,{"$f":"'Serial Data'!BF16/('Serial Data'!BD16+'Serial Data'!BE16+'Serial Data'!BF16)","v":{"$error":"#DIV/0!"}},{"$f":"'Serial Data'!BD16/('Serial Data'!BD16+'Serial Data'!BE16+'Serial Data'!BF16)","v":{"$error":"#DIV/0!"}},{"$f":"'Serial Data'!BE16/('Serial Data'!BD16+'Serial Data'!BE16+'Serial Data'!BF16)","v":{"$error":"#DIV/0!"}},{"$f":"IF('Serial Data'!BD16+'Serial Data'!BE16+'Serial Data'!BF16<>0,(BJ16+(BK16*0.5)),NA())","v":{"$error":"#N/A"}},{"$f":"IF('Serial Data'!BD16+'Serial Data'!BE16+'Serial Data'!BF16<>0,(BK16*0.866*Templates!K2),NA())","v":{"$error":"#N/A"}}]
[{"$f":"'Single Data'!N18/('Single Data'!L18+'Single Data'!M18+'Single Data'!N18)","v":{"$error":"#DIV/0!"}},{"$f":"'Single Data'!L18/('Single Data'!L18+'Single Data'!M18+'Single Data'!N18)","v":{"$error":"#DIV/0!"}},{"$f":"'Single Data'!M18/('Single Data'!L18+'Single Data'!M18+'Single Data'!N18)","v":{"$error":"#DIV/0!"}},{"$f":"IF('Single Data'!L18+'Single Data'!M18+'Single Data'!N18<>0,(B17+(C17*0.5)),NA())","v":{"$error":"#N/A"}},{"$f":"IF('Single Data'!L18+'Single Data'!M18+'Single Data'!N18<>0,(C17*0.866*Templates!K2),NA())","v":{"$error":"#N/A"}},null,{"$f":"'Serial Data'!M17/('Serial Data'!K17+'Serial Data'!L17+'Serial Data'!M17)","v":{"$error":"#DIV/0!"}},{"$f":"'Serial Data'!K17/('Serial Data'!K17+'Serial Data'!L17+'Serial Data'!M17)","v":{"$error":"#DIV/0!"}},{"$f":"'Serial Data'!L17/('Serial Data'!K17+'Serial Data'!L17+'Serial Data'!M17)","v":{"$error":"#DIV/0!"}},{"$f":"IF('Serial Data'!K17+'Serial Data'!L17+'Serial Data'!M17<>0,(H17+(I17*0.5)),NA())","v":{"$error":"#N/A"}},{"$f":"IF('Serial Data'!K17+'Serial Data'!L17+'Serial Data'!M17<>0,(I17*0.866*Templates!K2),NA())","v":{"$error":"#N/A"}},null,{"$f":"'Serial Data'!R17/('Serial Data'!P17+'Serial Data'!Q17+'Serial Data'!R17)","v":{"$error":"#DIV/0!"}},{"$f":"'Serial Data'!P17/('Serial Data'!P17+'Serial Data'!Q17+'Serial Data'!R17)","v":{"$error":"#DIV/0!"}},{"$f":"'Serial Data'!Q17/('Serial Data'!P17+'Serial Data'!Q17+'Serial Data'!R17)","v":{"$error":"#DIV/0!"}},{"$f":"IF('Serial Data'!P17+'Serial Data'!Q17+'Serial Data'!R17<>0,(N17+(O17*0.5)),NA())","v":{"$error":"#N/A"}},{"$f":"IF('Serial Data'!P17+'Serial Data'!Q17+'Serial Data'!R17<>0,(O17*0.866*Templates!K2),NA())","v":{"$error":"#N/A"}},null,{"$f":"'Serial Data'!W17/('Serial Data'!U17+'Serial Data'!V17+'Serial Data'!W17)","v":{"$error":"#DIV/0!"}},{"$f":"'Serial Data'!U17/('Serial Data'!U17+'Serial Data'!V17+'Serial Data'!W17)","v":{"$error":"#DIV/0!"}},{"$f":"'Serial Data'!V17/('Serial Data'!U17+'Serial Data'!V17+'Serial Data'!W17)","v":{"$error":"#DIV/0!"}},{"$f":"IF('Serial Data'!V17+'Serial Data'!W17+'Serial Data'!U17<>0,(T17+(U17*0.5)),NA())","v":{"$error":"#N/A"}},{"$f":"IF('Serial Data'!V17+'Serial Data'!W17+'Serial Data'!U17<>0,(U17*0.866*Templates!K2),NA())","v":{"$error":"#N/A"}},null,{"$f":"'Serial Data'!AB17/('Serial Data'!AA17+'Serial Data'!AB17+'Serial Data'!Z17)","v":{"$error":"#DIV/0!"}},{"$f":"'Serial Data'!Z17/('Serial Data'!AA17+'Serial Data'!AB17+'Serial Data'!Z17)","v":{"$error":"#DIV/0!"}},{"$f":"'Serial Data'!AA17/('Serial Data'!AA17+'Serial Data'!AB17+'Serial Data'!Z17)","v":{"$error":"#DIV/0!"}},{"$f":"IF('Serial Data'!AB17+'Serial Data'!AA17+'Serial Data'!Z17<>0,(Z17+(AA17*0.5)),NA())","v":{"$error":"#N/A"}},{"$f":"IF('Serial Data'!AB17+'Serial Data'!AA17+'Serial Data'!Z17<>0,(AA17*0.866*Templates!K2),NA())","v":{"$error":"#N/A"}},null,{"$f":"'Serial Data'!AG17/('Serial Data'!AG17+'Serial Data'!AE17+'Serial Data'!AF17)","v":{"$error":"#DIV/0!"}},{"$f":"'Serial Data'!AE17/('Serial Data'!AG17+'Serial Data'!AE17+'Serial Data'!AF17)","v":{"$error":"#DIV/0!"}},{"$f":"'Serial Data'!AF17/('Serial Data'!AG17+'Serial Data'!AE17+'Serial Data'!AF17)","v":{"$error":"#DIV/0!"}},{"$f":"IF('Serial Data'!AE17+'Serial Data'!AF17+'Serial Data'!AG17<>0,(AF17+(AG17*0.5)),NA())","v":{"$error":"#N/A"}},{"$f":"IF('Serial Data'!AE17+'Serial Data'!AF17+'Serial Data'!AG17<>0,(AG17*0.866*Templates!K2),NA())","v":{"$error":"#N/A"}},null,{"$f":"'Serial Data'!AL17/('Serial Data'!AJ17+'Serial Data'!AK17+'Serial Data'!AL17)","v":{"$error":"#DIV/0!"}},{"$f":"'Serial Data'!AJ17/('Serial Data'!AJ17+'Serial Data'!AK17+'Serial Data'!AL17)","v":{"$error":"#DIV/0!"}},{"$f":"'Serial Data'!AK17/('Serial Data'!AJ17+'Serial Data'!AK17+'Serial Data'!AL17)","v":{"$error":"#DIV/0!"}},{"$f":"IF('Serial Data'!AJ17+'Serial Data'!AK17+'Serial Data'!AL17<>0,(AL17+(AM17*0.5)),NA())","v":{"$error":"#N/A"}},{"$f":"IF('Serial Data'!AJ17+'Serial Data'!AK17+'Serial Data'!AL17<>0,(AM17*0.866*Templates!K2),NA())","v":{"$error":"#N/A"}},null,{"$f":"'Serial Data'!AQ17/('Serial Data'!AO17+'Serial Data'!AP17+'Serial Data'!AQ17)","v":{"$error":"#DIV/0!"}},{"$f":"'Serial Data'!AO17/('Serial Data'!AO17+'Serial Data'!AP17+'Serial Data'!AQ17)","v":{"$error":"#DIV/0!"}},{"$f":"'Serial Data'!AP17/('Serial Data'!AO17+'Serial Data'!AP17+'Serial Data'!AQ17)","v":{"$error":"#DIV/0!"}},{"$f":"IF('Serial Data'!AO17+'Serial Data'!AP17+'Serial Data'!AQ17<>0,(AR17+(AS17*0.5)),NA())","v":{"$error":"#N/A"}},{"$f":"IF('Serial Data'!AO17+'Serial Data'!AP17+'Serial Data'!AQ17<>0,(AS17*0.866*Templates!K2),NA())","v":{"$error":"#N/A"}},null,{"$f":"'Serial Data'!AV17/('Serial Data'!AT17+'Serial Data'!AU17+'Serial Data'!AV17)","v":{"$error":"#DIV/0!"}},{"$f":"'Serial Data'!AT17/('Serial Data'!AT17+'Serial Data'!AU17+'Serial Data'!AV17)","v":{"$error":"#DIV/0!"}},{"$f":"'Serial Data'!AU17/('Serial Data'!AT17+'Serial Data'!AU17+'Serial Data'!AV17)","v":{"$error":"#DIV/0!"}},{"$f":"IF('Serial Data'!AT17+'Serial Data'!AU17+'Serial Data'!AV17<>0,(AX17+(AY17*0.5)),NA())","v":{"$error":"#N/A"}},{"$f":"IF('Serial Data'!AT17+'Serial Data'!AU17+'Serial Data'!AV17<>0,(AY17*0.866*Templates!K2),NA())","v":{"$error":"#N/A"}},null,{"$f":"'Serial Data'!BA17/('Serial Data'!AY17+'Serial Data'!AZ17+'Serial Data'!BA17)","v":{"$error":"#DIV/0!"}},{"$f":"'Serial Data'!AY17/('Serial Data'!AY17+'Serial Data'!AZ17+'Serial Data'!BA17)","v":{"$error":"#DIV/0!"}},{"$f":"'Serial Data'!AZ17/('Serial Data'!AY17+'Serial Data'!AZ17+'Serial Data'!BA17)","v":{"$error":"#DIV/0!"}},{"$f":"IF('Serial Data'!AY17+'Serial Data'!AZ17+'Serial Data'!BA17<>0,(BD17+(BE17*0.5)),NA())","v":{"$error":"#N/A"}},{"$f":"IF('Serial Data'!AY17+'Serial Data'!AZ17+'Serial Data'!BA17<>0,(BE17*0.866*Templates!K2),NA())","v":{"$error":"#N/A"}},null,{"$f":"'Serial Data'!BF17/('Serial Data'!BD17+'Serial Data'!BE17+'Serial Data'!BF17)","v":{"$error":"#DIV/0!"}},{"$f":"'Serial Data'!BD17/('Serial Data'!BD17+'Serial Data'!BE17+'Serial Data'!BF17)","v":{"$error":"#DIV/0!"}},{"$f":"'Serial Data'!BE17/('Serial Data'!BD17+'Serial Data'!BE17+'Serial Data'!BF17)","v":{"$error":"#DIV/0!"}},{"$f":"IF('Serial Data'!BD17+'Serial Data'!BE17+'Serial Data'!BF17<>0,(BJ17+(BK17*0.5)),NA())","v":{"$error":"#N/A"}},{"$f":"IF('Serial Data'!BD17+'Serial Data'!BE17+'Serial Data'!BF17<>0,(BK17*0.866*Templates!K2),NA())","v":{"$error":"#N/A"}}]
[{"$f":"'Single Data'!N19/('Single Data'!L19+'Single Data'!M19+'Single Data'!N19)","v":{"$error":"#DIV/0!"}},{"$f":"'Single Data'!L19/('Single Data'!L19+'Single Data'!M19+'Single Data'!N19)","v":{"$error":"#DIV/0!"}},{"$f":"'Single Data'!M19/('Single Data'!L19+'Single Data'!M19+'Single Data'!N19)","v":{"$error":"#DIV/0!"}},{"$f":"IF('Single Data'!L19+'Single Data'!M19+'Single Data'!N19<>0,(B18+(C18*0.5)),NA())","v":{"$error":"#N/A"}},{"$f":"IF('Single Data'!L19+'Single Data'!M19+'Single Data'!N19<>0,(C18*0.866*Templates!K2),NA())","v":{"$error":"#N/A"}},null,{"$f":"'Serial Data'!M18/('Serial Data'!K18+'Serial Data'!L18+'Serial Data'!M18)","v":{"$error":"#DIV/0!"}},{"$f":"'Serial Data'!K18/('Serial Data'!K18+'Serial Data'!L18+'Serial Data'!M18)","v":{"$error":"#DIV/0!"}},{"$f":"'Serial Data'!L18/('Serial Data'!K18+'Serial Data'!L18+'Serial Data'!M18)","v":{"$error":"#DIV/0!"}},{"$f":"IF('Serial Data'!K18+'Serial Data'!L18+'Serial Data'!M18<>0,(H18+(I18*0.5)),NA())","v":{"$error":"#N/A"}},{"$f":"IF('Serial Data'!K18+'Serial Data'!L18+'Serial Data'!M18<>0,(I18*0.866*Templates!K2),NA())","v":{"$error":"#N/A"}},null,{"$f":"'Serial Data'!R18/('Serial Data'!P18+'Serial Data'!Q18+'Serial Data'!R18)","v":{"$error":"#DIV/0!"}},{"$f":"'Serial Data'!P18/('Serial Data'!P18+'Serial Data'!Q18+'Serial Data'!R18)","v":{"$error":"#DIV/0!"}},{"$f":"'Serial Data'!Q18/('Serial Data'!P18+'Serial Data'!Q18+'Serial Data'!R18)","v":{"$error":"#DIV/0!"}},{"$f":"IF('Serial Data'!P18+'Serial Data'!Q18+'Serial Data'!R18<>0,(N18+(O18*0.5)),NA())","v":{"$error":"#N/A"}},{"$f":"IF('Serial Data'!P18+'Serial Data'!Q18+'Serial Data'!R18<>0,(O18*0.866*Templates!K2),NA())","v":{"$error":"#N/A"}},null,{"$f":"'Serial Data'!W18/('Serial Data'!U18+'Serial Data'!V18+'Serial Data'!W18)","v":{"$error":"#DIV/0!"}},{"$f":"'Serial Data'!U18/('Serial Data'!U18+'Serial Data'!V18+'Serial Data'!W18)","v":{"$error":"#DIV/0!"}},{"$f":"'Serial Data'!V18/('Serial Data'!U18+'Serial Data'!V18+'Serial Data'!W18)","v":{"$error":"#DIV/0!"}},{"$f":"IF('Serial Data'!V18+'Serial Data'!W18+'Serial Data'!U18<>0,(T18+(U18*0.5)),NA())","v":{"$error":"#N/A"}},{"$f":"IF('Serial Data'!V18+'Serial Data'!W18+'Serial Data'!U18<>0,(U18*0.866*Templates!K2),NA())","v":{"$error":"#N/A"}},null,{"$f":"'Serial Data'!AB18/('Serial Data'!AA18+'Serial Data'!AB18+'Serial Data'!Z18)","v":{"$error":"#DIV/0!"}},{"$f":"'Serial Data'!Z18/('Serial Data'!AA18+'Serial Data'!AB18+'Serial Data'!Z18)","v":{"$error":"#DIV/0!"}},{"$f":"'Serial Data'!AA18/('Serial Data'!AA18+'Serial Data'!AB18+'Serial Data'!Z18)","v":{"$error":"#DIV/0!"}},{"$f":"IF('Serial Data'!AB18+'Serial Data'!AA18+'Serial Data'!Z18<>0,(Z18+(AA18*0.5)),NA())","v":{"$error":"#N/A"}},{"$f":"IF('Serial Data'!AB18+'Serial Data'!AA18+'Serial Data'!Z18<>0,(AA18*0.866*Templates!K2),NA())","v":{"$error":"#N/A"}},null,{"$f":"'Serial Data'!AG18/('Serial Data'!AG18+'Serial Data'!AE18+'Serial Data'!AF18)","v":{"$error":"#DIV/0!"}},{"$f":"'Serial Data'!AE18/('Serial Data'!AG18+'Serial Data'!AE18+'Serial Data'!AF18)","v":{"$error":"#DIV/0!"}},{"$f":"'Serial Data'!AF18/('Serial Data'!AG18+'Serial Data'!AE18+'Serial Data'!AF18)","v":{"$error":"#DIV/0!"}},{"$f":"IF('Serial Data'!AE18+'Serial Data'!AF18+'Serial Data'!AG18<>0,(AF18+(AG18*0.5)),NA())","v":{"$error":"#N/A"}},{"$f":"IF('Serial Data'!AE18+'Serial Data'!AF18+'Serial Data'!AG18<>0,(AG18*0.866*Templates!K2),NA())","v":{"$error":"#N/A"}},null,{"$f":"'Serial Data'!AL18/('Serial Data'!AJ18+'Serial Data'!AK18+'Serial Data'!AL18)","v":{"$error":"#DIV/0!"}},{"$f":"'Serial Data'!AJ18/('Serial Data'!AJ18+'Serial Data'!AK18+'Serial Data'!AL18)","v":{"$error":"#DIV/0!"}},{"$f":"'Serial Data'!AK18/('Serial Data'!AJ18+'Serial Data'!AK18+'Serial Data'!AL18)","v":{"$error":"#DIV/0!"}},{"$f":"IF('Serial Data'!AJ18+'Serial Data'!AK18+'Serial Data'!AL18<>0,(AL18+(AM18*0.5)),NA())","v":{"$error":"#N/A"}},{"$f":"IF('Serial Data'!AJ18+'Serial Data'!AK18+'Serial Data'!AL18<>0,(AM18*0.866*Templates!K2),NA())","v":{"$error":"#N/A"}},null,{"$f":"'Serial Data'!AQ18/('Serial Data'!AO18+'Serial Data'!AP18+'Serial Data'!AQ18)","v":{"$error":"#DIV/0!"}},{"$f":"'Serial Data'!AO18/('Serial Data'!AO18+'Serial Data'!AP18+'Serial Data'!AQ18)","v":{"$error":"#DIV/0!"}},{"$f":"'Serial Data'!AP18/('Serial Data'!AO18+'Serial Data'!AP18+'Serial Data'!AQ18)","v":{"$error":"#DIV/0!"}},{"$f":"IF('Serial Data'!AO18+'Serial Data'!AP18+'Serial Data'!AQ18<>0,(AR18+(AS18*0.5)),NA())","v":{"$error":"#N/A"}},{"$f":"IF('Serial Data'!AO18+'Serial Data'!AP18+'Serial Data'!AQ18<>0,(AS18*0.866*Templates!K2),NA())","v":{"$error":"#N/A"}},null,{"$f":"'Serial Data'!AV18/('Serial Data'!AT18+'Serial Data'!AU18+'Serial Data'!AV18)","v":{"$error":"#DIV/0!"}},{"$f":"'Serial Data'!AT18/('Serial Data'!AT18+'Serial Data'!AU18+'Serial Data'!AV18)","v":{"$error":"#DIV/0!"}},{"$f":"'Serial Data'!AU18/('Serial Data'!AT18+'Serial Data'!AU18+'Serial Data'!AV18)","v":{"$error":"#DIV/0!"}},{"$f":"IF('Serial Data'!AT18+'Serial Data'!AU18+'Serial Data'!AV18<>0,(AX18+(AY18*0.5)),NA())","v":{"$error":"#N/A"}},{"$f":"IF('Serial Data'!AT18+'Serial Data'!AU18+'Serial Data'!AV18<>0,(AY18*0.866*Templates!K2),NA())","v":{"$error":"#N/A"}},null,{"$f":"'Serial Data'!BA18/('Serial Data'!AY18+'Serial Data'!AZ18+'Serial Data'!BA18)","v":{"$error":"#DIV/0!"}},{"$f":"'Serial Data'!AY18/('Serial Data'!AY18+'Serial Data'!AZ18+'Serial Data'!BA18)","v":{"$error":"#DIV/0!"}},{"$f":"'Serial Data'!AZ18/('Serial Data'!AY18+'Serial Data'!AZ18+'Serial Data'!BA18)","v":{"$error":"#DIV/0!"}},{"$f":"IF('Serial Data'!AY18+'Serial Data'!AZ18+'Serial Data'!BA18<>0,(BD18+(BE18*0.5)),NA())","v":{"$error":"#N/A"}},{"$f":"IF('Serial Data'!AY18+'Serial Data'!AZ18+'Serial Data'!BA18<>0,(BE18*0.866*Templates!K2),NA())","v":{"$error":"#N/A"}},null,{"$f":"'Serial Data'!BF18/('Serial Data'!BD18+'Serial Data'!BE18+'Serial Data'!BF18)","v":{"$error":"#DIV/0!"}},{"$f":"'Serial Data'!BD18/('Serial Data'!BD18+'Serial Data'!BE18+'Serial Data'!BF18)","v":{"$error":"#DIV/0!"}},{"$f":"'Serial Data'!BE18/('Serial Data'!BD18+'Serial Data'!BE18+'Serial Data'!BF18)","v":{"$error":"#DIV/0!"}},{"$f":"IF('Serial Data'!BD18+'Serial Data'!BE18+'Serial Data'!BF18<>0,(BJ18+(BK18*0.5)),NA())","v":{"$error":"#N/A"}},{"$f":"IF('Serial Data'!BD18+'Serial Data'!BE18+'Serial Data'!BF18<>0,(BK18*0.866*Templates!K2),NA())","v":{"$error":"#N/A"}}]
[{"$f":"'Single Data'!N20/('Single Data'!L20+'Single Data'!M20+'Single Data'!N20)","v":{"$error":"#DIV/0!"}},{"$f":"'Single Data'!L20/('Single Data'!L20+'Single Data'!M20+'Single Data'!N20)","v":{"$error":"#DIV/0!"}},{"$f":"'Single Data'!M20/('Single Data'!L20+'Single Data'!M20+'Single Data'!N20)","v":{"$error":"#DIV/0!"}},{"$f":"IF('Single Data'!L20+'Single Data'!M20+'Single Data'!N20<>0,(B19+(C19*0.5)),NA())","v":{"$error":"#N/A"}},{"$f":"IF('Single Data'!L20+'Single Data'!M20+'Single Data'!N20<>0,(C19*0.866*Templates!K2),NA())","v":{"$error":"#N/A"}},null,{"$f":"'Serial Data'!M19/('Serial Data'!K19+'Serial Data'!L19+'Serial Data'!M19)","v":{"$error":"#DIV/0!"}},{"$f":"'Serial Data'!K19/('Serial Data'!K19+'Serial Data'!L19+'Serial Data'!M19)","v":{"$error":"#DIV/0!"}},{"$f":"'Serial Data'!L19/('Serial Data'!K19+'Serial Data'!L19+'Serial Data'!M19)","v":{"$error":"#DIV/0!"}},{"$f":"IF('Serial Data'!K19+'Serial Data'!L19+'Serial Data'!M19<>0,(H19+(I19*0.5)),NA())","v":{"$error":"#N/A"}},{"$f":"IF('Serial Data'!K19+'Serial Data'!L19+'Serial Data'!M19<>0,(I19*0.866*Templates!K2),NA())","v":{"$error":"#N/A"}},null,{"$f":"'Serial Data'!R19/('Serial Data'!P19+'Serial Data'!Q19+'Serial Data'!R19)","v":{"$error":"#DIV/0!"}},{"$f":"'Serial Data'!P19/('Serial Data'!P19+'Serial Data'!Q19+'Serial Data'!R19)","v":{"$error":"#DIV/0!"}},{"$f":"'Serial Data'!Q19/('Serial Data'!P19+'Serial Data'!Q19+'Serial Data'!R19)","v":{"$error":"#DIV/0!"}},{"$f":"IF('Serial Data'!P19+'Serial Data'!Q19+'Serial Data'!R19<>0,(N19+(O19*0.5)),NA())","v":{"$error":"#N/A"}},{"$f":"IF('Serial Data'!P19+'Serial Data'!Q19+'Serial Data'!R19<>0,(O19*0.866*Templates!K2),NA())","v":{"$error":"#N/A"}},null,{"$f":"'Serial Data'!W19/('Serial Data'!U19+'Serial Data'!V19+'Serial Data'!W19)","v":{"$error":"#DIV/0!"}},{"$f":"'Serial Data'!U19/('Serial Data'!U19+'Serial Data'!V19+'Serial Data'!W19)","v":{"$error":"#DIV/0!"}},{"$f":"'Serial Data'!V19/('Serial Data'!U19+'Serial Data'!V19+'Serial Data'!W19)","v":{"$error":"#DIV/0!"}},{"$f":"IF('Serial Data'!V19+'Serial Data'!W19+'Serial Data'!U19<>0,(T19+(U19*0.5)),NA())","v":{"$error":"#N/A"}},{"$f":"IF('Serial Data'!V19+'Serial Data'!W19+'Serial Data'!U19<>0,(U19*0.866*Templates!K2),NA())","v":{"$error":"#N/A"}},null,{"$f":"'Serial Data'!AB19/('Serial Data'!AA19+'Serial Data'!AB19+'Serial Data'!Z19)","v":{"$error":"#DIV/0!"}},{"$f":"'Serial Data'!Z19/('Serial Data'!AA19+'Serial Data'!AB19+'Serial Data'!Z19)","v":{"$error":"#DIV/0!"}},{"$f":"'Serial Data'!AA19/('Serial Data'!AA19+'Serial Data'!AB19+'Serial Data'!Z19)","v":{"$error":"#DIV/0!"}},{"$f":"IF('Serial Data'!AB19+'Serial Data'!AA19+'Serial Data'!Z19<>0,(Z19+(AA19*0.5)),NA())","v":{"$error":"#N/A"}},{"$f":"IF('Serial Data'!AB19+'Serial Data'!AA19+'Serial Data'!Z19<>0,(AA19*0.866*Templates!K2),NA())","v":{"$error":"#N/A"}},null,{"$f":"'Serial Data'!AG19/('Serial Data'!AG19+'Serial Data'!AE19+'Serial Data'!AF19)","v":{"$error":"#DIV/0!"}},{"$f":"'Serial Data'!AE19/('Serial Data'!AG19+'Serial Data'!AE19+'Serial Data'!AF19)","v":{"$error":"#DIV/0!"}},{"$f":"'Serial Data'!AF19/('Serial Data'!AG19+'Serial Data'!AE19+'Serial Data'!AF19)","v":{"$error":"#DIV/0!"}},{"$f":"IF('Serial Data'!AE19+'Serial Data'!AF19+'Serial Data'!AG19<>0,(AF19+(AG19*0.5)),NA())","v":{"$error":"#N/A"}},{"$f":"IF('Serial Data'!AE19+'Serial Data'!AF19+'Serial Data'!AG19<>0,(AG19*0.866*Templates!K2),NA())","v":{"$error":"#N/A"}},null,{"$f":"'Serial Data'!AL19/('Serial Data'!AJ19+'Serial Data'!AK19+'Serial Data'!AL19)","v":{"$error":"#DIV/0!"}},{"$f":"'Serial Data'!AJ19/('Serial Data'!AJ19+'Serial Data'!AK19+'Serial Data'!AL19)","v":{"$error":"#DIV/0!"}},{"$f":"'Serial Data'!AK19/('Serial Data'!AJ19+'Serial Data'!AK19+'Serial Data'!AL19)","v":{"$error":"#DIV/0!"}},{"$f":"IF('Serial Data'!AJ19+'Serial Data'!AK19+'Serial Data'!AL19<>0,(AL19+(AM19*0.5)),NA())","v":{"$error":"#N/A"}},{"$f":"IF('Serial Data'!AJ19+'Serial Data'!AK19+'Serial Data'!AL19<>0,(AM19*0.866*Templates!K2),NA())","v":{"$error":"#N/A"}},null,{"$f":"'Serial Data'!AQ19/('Serial Data'!AO19+'Serial Data'!AP19+'Serial Data'!AQ19)","v":{"$error":"#DIV/0!"}},{"$f":"'Serial Data'!AO19/('Serial Data'!AO19+'Serial Data'!AP19+'Serial Data'!AQ19)","v":{"$error":"#DIV/0!"}},{"$f":"'Serial Data'!AP19/('Serial Data'!AO19+'Serial Data'!AP19+'Serial Data'!AQ19)","v":{"$error":"#DIV/0!"}},{"$f":"IF('Serial Data'!AO19+'Serial Data'!AP19+'Serial Data'!AQ19<>0,(AR19+(AS19*0.5)),NA())","v":{"$error":"#N/A"}},{"$f":"IF('Serial Data'!AO19+'Serial Data'!AP19+'Serial Data'!AQ19<>0,(AS19*0.866*Templates!K2),NA())","v":{"$error":"#N/A"}},null,{"$f":"'Serial Data'!AV19/('Serial Data'!AT19+'Serial Data'!AU19+'Serial Data'!AV19)","v":{"$error":"#DIV/0!"}},{"$f":"'Serial Data'!AT19/('Serial Data'!AT19+'Serial Data'!AU19+'Serial Data'!AV19)","v":{"$error":"#DIV/0!"}},{"$f":"'Serial Data'!AU19/('Serial Data'!AT19+'Serial Data'!AU19+'Serial Data'!AV19)","v":{"$error":"#DIV/0!"}},{"$f":"IF('Serial Data'!AT19+'Serial Data'!AU19+'Serial Data'!AV19<>0,(AX19+(AY19*0.5)),NA())","v":{"$error":"#N/A"}},{"$f":"IF('Serial Data'!AT19+'Serial Data'!AU19+'Serial Data'!AV19<>0,(AY19*0.866*Templates!K2),NA())","v":{"$error":"#N/A"}},null,{"$f":"'Serial Data'!BA19/('Serial Data'!AY19+'Serial Data'!AZ19+'Serial Data'!BA19)","v":{"$error":"#DIV/0!"}},{"$f":"'Serial Data'!AY19/('Serial Data'!AY19+'Serial Data'!AZ19+'Serial Data'!BA19)","v":{"$error":"#DIV/0!"}},{"$f":"'Serial Data'!AZ19/('Serial Data'!AY19+'Serial Data'!AZ19+'Serial Data'!BA19)","v":{"$error":"#DIV/0!"}},{"$f":"IF('Serial Data'!AY19+'Serial Data'!AZ19+'Serial Data'!BA19<>0,(BD19+(BE19*0.5)),NA())","v":{"$error":"#N/A"}},{"$f":"IF('Serial Data'!AY19+'Serial Data'!AZ19+'Serial Data'!BA19<>0,(BE19*0.866*Templates!K2),NA())","v":{"$error":"#N/A"}},null,{"$f":"'Serial Data'!BF19/('Serial Data'!BD19+'Serial Data'!BE19+'Serial Data'!BF19)","v":{"$error":"#DIV/0!"}},{"$f":"'Serial Data'!BD19/('Serial Data'!BD19+'Serial Data'!BE19+'Serial Data'!BF19)","v":{"$error":"#DIV/0!"}},{"$f":"'Serial Data'!BE19/('Serial Data'!BD19+'Serial Data'!BE19+'Serial Data'!BF19)","v":{"$error":"#DIV/0!"}},{"$f":"IF('Serial Data'!BD19+'Serial Data'!BE19+'Serial Data'!BF19<>0,(BJ19+(BK19*0.5)),NA())","v":{"$error":"#N/A"}},{"$f":"IF('Serial Data'!BD19+'Serial Data'!BE19+'Serial Data'!BF19<>0,(BK19*0.866*Templates!K2),NA())","v":{"$error":"#N/A"}}]
[{"$f":"'Single Data'!N21/('Single Data'!L21+'Single Data'!M21+'Single Data'!N21)","v":{"$error":"#DIV/0!"}},{"$f":"'Single Data'!L21/('Single Data'!L21+'Single Data'!M21+'Single Data'!N21)","v":{"$error":"#DIV/0!"}},{"$f":"'Single Data'!M21/('Single Data'!L21+'Single Data'!M21+'Single Data'!N21)","v":{"$error":"#DIV/0!"}},{"$f":"IF('Single Data'!L21+'Single Data'!M21+'Single Data'!N21<>0,(B20+(C20*0.5)),NA())","v":{"$error":"#N/A"}},{"$f":"IF('Single Data'!L21+'Single Data'!M21+'Single Data'!N21<>0,(C20*0.866*Templates!K2),NA())","v":{"$error":"#N/A"}},null,{"$f":"'Serial Data'!M20/('Serial Data'!K20+'Serial Data'!L20+'Serial Data'!M20)","v":{"$error":"#DIV/0!"}},{"$f":"'Serial Data'!K20/('Serial Data'!K20+'Serial Data'!L20+'Serial Data'!M20)","v":{"$error":"#DIV/0!"}},{"$f":"'Serial Data'!L20/('Serial Data'!K20+'Serial Data'!L20+'Serial Data'!M20)","v":{"$error":"#DIV/0!"}},{"$f":"IF('Serial Data'!K20+'Serial Data'!L20+'Serial Data'!M20<>0,(H20+(I20*0.5)),NA())","v":{"$error":"#N/A"}},{"$f":"IF('Serial Data'!K20+'Serial Data'!L20+'Serial Data'!M20<>0,(I20*0.866*Templates!K2),NA())","v":{"$error":"#N/A"}},null,{"$f":"'Serial Data'!R20/('Serial Data'!P20+'Serial Data'!Q20+'Serial Data'!R20)","v":{"$error":"#DIV/0!"}},{"$f":"'Serial Data'!P20/('Serial Data'!P20+'Serial Data'!Q20+'Serial Data'!R20)","v":{"$error":"#DIV/0!"}},{"$f":"'Serial Data'!Q20/('Serial Data'!P20+'Serial Data'!Q20+'Serial Data'!R20)","v":{"$error":"#DIV/0!"}},{"$f":"IF('Serial Data'!P20+'Serial Data'!Q20+'Serial Data'!R20<>0,(N20+(O20*0.5)),NA())","v":{"$error":"#N/A"}},{"$f":"IF('Serial Data'!P20+'Serial Data'!Q20+'Serial Data'!R20<>0,(O20*0.866*Templates!K2),NA())","v":{"$error":"#N/A"}},null,{"$f":"'Serial Data'!W20/('Serial Data'!U20+'Serial Data'!V20+'Serial Data'!W20)","v":{"$error":"#DIV/0!"}},{"$f":"'Serial Data'!U20/('Serial Data'!U20+'Serial Data'!V20+'Serial Data'!W20)","v":{"$error":"#DIV/0!"}},{"$f":"'Serial Data'!V20/('Serial Data'!U20+'Serial Data'!V20+'Serial Data'!W20)","v":{"$error":"#DIV/0!"}},{"$f":"IF('Serial Data'!V20+'Serial Data'!W20+'Serial Data'!U20<>0,(T20+(U20*0.5)),NA())","v":{"$error":"#N/A"}},{"$f":"IF('Serial Data'!V20+'Serial Data'!W20+'Serial Data'!U20<>0,(U20*0.866*Templates!K2),NA())","v":{"$error":"#N/A"}},null,{"$f":"'Serial Data'!AB20/('Serial Data'!AA20+'Serial Data'!AB20+'Serial Data'!Z20)","v":{"$error":"#DIV/0!"}},{"$f":"'Serial Data'!Z20/('Serial Data'!AA20+'Serial Data'!AB20+'Serial Data'!Z20)","v":{"$error":"#DIV/0!"}},{"$f":"'Serial Data'!AA20/('Serial Data'!AA20+'Serial Data'!AB20+'Serial Data'!Z20)","v":{"$error":"#DIV/0!"}},{"$f":"IF('Serial Data'!AB20+'Serial Data'!AA20+'Serial Data'!Z20<>0,(Z20+(AA20*0.5)),NA())","v":{"$error":"#N/A"}},{"$f":"IF('Serial Data'!AB20+'Serial Data'!AA20+'Serial Data'!Z20<>0,(AA20*0.866*Templates!K2),NA())","v":{"$error":"#N/A"}},null,{"$f":"'Serial Data'!AG20/('Serial Data'!AG20+'Serial Data'!AE20+'Serial Data'!AF20)","v":{"$error":"#DIV/0!"}},{"$f":"'Serial Data'!AE20/('Serial Data'!AG20+'Serial Data'!AE20+'Serial Data'!AF20)","v":{"$error":"#DIV/0!"}},{"$f":"'Serial Data'!AF20/('Serial Data'!AG20+'Serial Data'!AE20+'Serial Data'!AF20)","v":{"$error":"#DIV/0!"}},{"$f":"IF('Serial Data'!AE20+'Serial Data'!AF20+'Serial Data'!AG20<>0,(AF20+(AG20*0.5)),NA())","v":{"$error":"#N/A"}},{"$f":"IF('Serial Data'!AE20+'Serial Data'!AF20+'Serial Data'!AG20<>0,(AG20*0.866*Templates!K2),NA())","v":{"$error":"#N/A"}},null,{"$f":"'Serial Data'!AL20/('Serial Data'!AJ20+'Serial Data'!AK20+'Serial Data'!AL20)","v":{"$error":"#DIV/0!"}},{"$f":"'Serial Data'!AJ20/('Serial Data'!AJ20+'Serial Data'!AK20+'Serial Data'!AL20)","v":{"$error":"#DIV/0!"}},{"$f":"'Serial Data'!AK20/('Serial Data'!AJ20+'Serial Data'!AK20+'Serial Data'!AL20)","v":{"$error":"#DIV/0!"}},{"$f":"IF('Serial Data'!AJ20+'Serial Data'!AK20+'Serial Data'!AL20<>0,(AL20+(AM20*0.5)),NA())","v":{"$error":"#N/A"}},{"$f":"IF('Serial Data'!AJ20+'Serial Data'!AK20+'Serial Data'!AL20<>0,(AM20*0.866*Templates!K2),NA())","v":{"$error":"#N/A"}},null,{"$f":"'Serial Data'!AQ20/('Serial Data'!AO20+'Serial Data'!AP20+'Serial Data'!AQ20)","v":{"$error":"#DIV/0!"}},{"$f":"'Serial Data'!AO20/('Serial Data'!AO20+'Serial Data'!AP20+'Serial Data'!AQ20)","v":{"$error":"#DIV/0!"}},{"$f":"'Serial Data'!AP20/('Serial Data'!AO20+'Serial Data'!AP20+'Serial Data'!AQ20)","v":{"$error":"#DIV/0!"}},{"$f":"IF('Serial Data'!AO20+'Serial Data'!AP20+'Serial Data'!AQ20<>0,(AR20+(AS20*0.5)),NA())","v":{"$error":"#N/A"}},{"$f":"IF('Serial Data'!AO20+'Serial Data'!AP20+'Serial Data'!AQ20<>0,(AS20*0.866*Templates!K2),NA())","v":{"$error":"#N/A"}},null,{"$f":"'Serial Data'!AV20/('Serial Data'!AT20+'Serial Data'!AU20+'Serial Data'!AV20)","v":{"$error":"#DIV/0!"}},{"$f":"'Serial Data'!AT20/('Serial Data'!AT20+'Serial Data'!AU20+'Serial Data'!AV20)","v":{"$error":"#DIV/0!"}},{"$f":"'Serial Data'!AU20/('Serial Data'!AT20+'Serial Data'!AU20+'Serial Data'!AV20)","v":{"$error":"#DIV/0!"}},{"$f":"IF('Serial Data'!AT20+'Serial Data'!AU20+'Serial Data'!AV20<>0,(AX20+(AY20*0.5)),NA())","v":{"$error":"#N/A"}},{"$f":"IF('Serial Data'!AT20+'Serial Data'!AU20+'Serial Data'!AV20<>0,(AY20*0.866*Templates!K2),NA())","v":{"$error":"#N/A"}},null,{"$f":"'Serial Data'!BA20/('Serial Data'!AY20+'Serial Data'!AZ20+'Serial Data'!BA20)","v":{"$error":"#DIV/0!"}},{"$f":"'Serial Data'!AY20/('Serial Data'!AY20+'Serial Data'!AZ20+'Serial Data'!BA20)","v":{"$error":"#DIV/0!"}},{"$f":"'Serial Data'!AZ20/('Serial Data'!AY20+'Serial Data'!AZ20+'Serial Data'!BA20)","v":{"$error":"#DIV/0!"}},{"$f":"IF('Serial Data'!AY20+'Serial Data'!AZ20+'Serial Data'!BA20<>0,(BD20+(BE20*0.5)),NA())","v":{"$error":"#N/A"}},{"$f":"IF('Serial Data'!AY20+'Serial Data'!AZ20+'Serial Data'!BA20<>0,(BE20*0.866*Templates!K2),NA())","v":{"$error":"#N/A"}},null,{"$f":"'Serial Data'!BF20/('Serial Data'!BD20+'Serial Data'!BE20+'Serial Data'!BF20)","v":{"$error":"#DIV/0!"}},{"$f":"'Serial Data'!BD20/('Serial Data'!BD20+'Serial Data'!BE20+'Serial Data'!BF20)","v":{"$error":"#DIV/0!"}},{"$f":"'Serial Data'!BE20/('Serial Data'!BD20+'Serial Data'!BE20+'Serial Data'!BF20)","v":{"$error":"#DIV/0!"}},{"$f":"IF('Serial Data'!BD20+'Serial Data'!BE20+'Serial Data'!BF20<>0,(BJ20+(BK20*0.5)),NA())","v":{"$error":"#N/A"}},{"$f":"IF('Serial Data'!BD20+'Serial Data'!BE20+'Serial Data'!BF20<>0,(BK20*0.866*Templates!K2),NA())","v":{"$error":"#N/A"}}]
[{"$f":"'Single Data'!N22/('Single Data'!L22+'Single Data'!M22+'Single Data'!N22)","v":{"$error":"#DIV/0!"}},{"$f":"'Single Data'!L22/('Single Data'!L22+'Single Data'!M22+'Single Data'!N22)","v":{"$error":"#DIV/0!"}},{"$f":"'Single Data'!M22/('Single Data'!L22+'Single Data'!M22+'Single Data'!N22)","v":{"$error":"#DIV/0!"}},{"$f":"IF('Single Data'!L22+'Single Data'!M22+'Single Data'!N22<>0,(B21+(C21*0.5)),NA())","v":{"$error":"#N/A"}},{"$f":"IF('Single Data'!L22+'Single Data'!M22+'Single Data'!N22<>0,(C21*0.866*Templates!K2),NA())","v":{"$error":"#N/A"}},null,{"$f":"'Serial Data'!M21/('Serial Data'!K21+'Serial Data'!L21+'Serial Data'!M21)","v":{"$error":"#DIV/0!"}},{"$f":"'Serial Data'!K21/('Serial Data'!K21+'Serial Data'!L21+'Serial Data'!M21)","v":{"$error":"#DIV/0!"}},{"$f":"'Serial Data'!L21/('Serial Data'!K21+'Serial Data'!L21+'Serial Data'!M21)","v":{"$error":"#DIV/0!"}},{"$f":"IF('Serial Data'!K21+'Serial Data'!L21+'Serial Data'!M21<>0,(H21+(I21*0.5)),NA())","v":{"$error":"#N/A"}},{"$f":"IF('Serial Data'!K21+'Serial Data'!L21+'Serial Data'!M21<>0,(I21*0.866*Templates!K2),NA())","v":{"$error":"#N/A"}},null,{"$f":"'Serial Data'!R21/('Serial Data'!P21+'Serial Data'!Q21+'Serial Data'!R21)","v":{"$error":"#DIV/0!"}},{"$f":"'Serial Data'!P21/('Serial Data'!P21+'Serial Data'!Q21+'Serial Data'!R21)","v":{"$error":"#DIV/0!"}},{"$f":"'Serial Data'!Q21/('Serial Data'!P21+'Serial Data'!Q21+'Serial Data'!R21)","v":{"$error":"#DIV/0!"}},{"$f":"IF('Serial Data'!P21+'Serial Data'!Q21+'Serial Data'!R21<>0,(N21+(O21*0.5)),NA())","v":{"$error":"#N/A"}},{"$f":"IF('Serial Data'!P21+'Serial Data'!Q21+'Serial Data'!R21<>0,(O21*0.866*Templates!K2),NA())","v":{"$error":"#N/A"}},null,{"$f":"'Serial Data'!W21/('Serial Data'!U21+'Serial Data'!V21+'Serial Data'!W21)","v":{"$error":"#DIV/0!"}},{"$f":"'Serial Data'!U21/('Serial Data'!U21+'Serial Data'!V21+'Serial Data'!W21)","v":{"$error":"#DIV/0!"}},{"$f":"'Serial Data'!V21/('Serial Data'!U21+'Serial Data'!V21+'Serial Data'!W21)","v":{"$error":"#DIV/0!"}},{"$f":"IF('Serial Data'!V21+'Serial Data'!W21+'Serial Data'!U21<>0,(T21+(U21*0.5)),NA())","v":{"$error":"#N/A"}},{"$f":"IF('Serial Data'!V21+'Serial Data'!W21+'Serial Data'!U21<>0,(U21*0.866*Templates!K2),NA())","v":{"$error":"#N/A"}},null,{"$f":"'Serial Data'!AB21/('Serial Data'!AA21+'Serial Data'!AB21+'Serial Data'!Z21)","v":{"$error":"#DIV/0!"}},{"$f":"'Serial Data'!Z21/('Serial Data'!AA21+'Serial Data'!AB21+'Serial Data'!Z21)","v":{"$error":"#DIV/0!"}},{"$f":"'Serial Data'!AA21/('Serial Data'!AA21+'Serial Data'!AB21+'Serial Data'!Z21)","v":{"$error":"#DIV/0!"}},{"$f":"IF('Serial Data'!AB21+'Serial Data'!AA21+'Serial Data'!Z21<>0,(Z21+(AA21*0.5)),NA())","v":{"$error":"#N/A"}},{"$f":"IF('Serial Data'!AB21+'Serial Data'!AA21+'Serial Data'!Z21<>0,(AA21*0.866*Templates!K2),NA())","v":{"$error":"#N/A"}},null,{"$f":"'Serial Data'!AG21/('Serial Data'!AG21+'Serial Data'!AE21+'Serial Data'!AF21)","v":{"$error":"#DIV/0!"}},{"$f":"'Serial Data'!AE21/('Serial Data'!AG21+'Serial Data'!AE21+'Serial Data'!AF21)","v":{"$error":"#DIV/0!"}},{"$f":"'Serial Data'!AF21/('Serial Data'!AG21+'Serial Data'!AE21+'Serial Data'!AF21)","v":{"$error":"#DIV/0!"}},{"$f":"IF('Serial Data'!AE21+'Serial Data'!AF21+'Serial Data'!AG21<>0,(AF21+(AG21*0.5)),NA())","v":{"$error":"#N/A"}},{"$f":"IF('Serial Data'!AE21+'Serial Data'!AF21+'Serial Data'!AG21<>0,(AG21*0.866*Templates!K2),NA())","v":{"$error":"#N/A"}},null,{"$f":"'Serial Data'!AL21/('Serial Data'!AJ21+'Serial Data'!AK21+'Serial Data'!AL21)","v":{"$error":"#DIV/0!"}},{"$f":"'Serial Data'!AJ21/('Serial Data'!AJ21+'Serial Data'!AK21+'Serial Data'!AL21)","v":{"$error":"#DIV/0!"}},{"$f":"'Serial Data'!AK21/('Serial Data'!AJ21+'Serial Data'!AK21+'Serial Data'!AL21)","v":{"$error":"#DIV/0!"}},{"$f":"IF('Serial Data'!AJ21+'Serial Data'!AK21+'Serial Data'!AL21<>0,(AL21+(AM21*0.5)),NA())","v":{"$error":"#N/A"}},{"$f":"IF('Serial Data'!AJ21+'Serial Data'!AK21+'Serial Data'!AL21<>0,(AM21*0.866*Templates!K2),NA())","v":{"$error":"#N/A"}},null,{"$f":"'Serial Data'!AQ21/('Serial Data'!AO21+'Serial Data'!AP21+'Serial Data'!AQ21)","v":{"$error":"#DIV/0!"}},{"$f":"'Serial Data'!AO21/('Serial Data'!AO21+'Serial Data'!AP21+'Serial Data'!AQ21)","v":{"$error":"#DIV/0!"}},{"$f":"'Serial Data'!AP21/('Serial Data'!AO21+'Serial Data'!AP21+'Serial Data'!AQ21)","v":{"$error":"#DIV/0!"}},{"$f":"IF('Serial Data'!AO21+'Serial Data'!AP21+'Serial Data'!AQ21<>0,(AR21+(AS21*0.5)),NA())","v":{"$error":"#N/A"}},{"$f":"IF('Serial Data'!AO21+'Serial Data'!AP21+'Serial Data'!AQ21<>0,(AS21*0.866*Templates!K2),NA())","v":{"$error":"#N/A"}},null,{"$f":"'Serial Data'!AV21/('Serial Data'!AT21+'Serial Data'!AU21+'Serial Data'!AV21)","v":{"$error":"#DIV/0!"}},{"$f":"'Serial Data'!AT21/('Serial Data'!AT21+'Serial Data'!AU21+'Serial Data'!AV21)","v":{"$error":"#DIV/0!"}},{"$f":"'Serial Data'!AU21/('Serial Data'!AT21+'Serial Data'!AU21+'Serial Data'!AV21)","v":{"$error":"#DIV/0!"}},{"$f":"IF('Serial Data'!AT21+'Serial Data'!AU21+'Serial Data'!AV21<>0,(AX21+(AY21*0.5)),NA())","v":{"$error":"#N/A"}},{"$f":"IF('Serial Data'!AT21+'Serial Data'!AU21+'Serial Data'!AV21<>0,(AY21*0.866*Templates!K2),NA())","v":{"$error":"#N/A"}},null,{"$f":"'Serial Data'!BA21/('Serial Data'!AY21+'Serial Data'!AZ21+'Serial Data'!BA21)","v":{"$error":"#DIV/0!"}},{"$f":"'Serial Data'!AY21/('Serial Data'!AY21+'Serial Data'!AZ21+'Serial Data'!BA21)","v":{"$error":"#DIV/0!"}},{"$f":"'Serial Data'!AZ21/('Serial Data'!AY21+'Serial Data'!AZ21+'Serial Data'!BA21)","v":{"$error":"#DIV/0!"}},{"$f":"IF('Serial Data'!AY21+'Serial Data'!AZ21+'Serial Data'!BA21<>0,(BD21+(BE21*0.5)),NA())","v":{"$error":"#N/A"}},{"$f":"IF('Serial Data'!AY21+'Serial Data'!AZ21+'Serial Data'!BA21<>0,(BE21*0.866*Templates!K2),NA())","v":{"$error":"#N/A"}},null,{"$f":"'Serial Data'!BF21/('Serial Data'!BD21+'Serial Data'!BE21+'Serial Data'!BF21)","v":{"$error":"#DIV/0!"}},{"$f":"'Serial Data'!BD21/('Serial Data'!BD21+'Serial Data'!BE21+'Serial Data'!BF21)","v":{"$error":"#DIV/0!"}},{"$f":"'Serial Data'!BE21/('Serial Data'!BD21+'Serial Data'!BE21+'Serial Data'!BF21)","v":{"$error":"#DIV/0!"}},{"$f":"IF('Serial Data'!BD21+'Serial Data'!BE21+'Serial Data'!BF21<>0,(BJ21+(BK21*0.5)),NA())","v":{"$error":"#N/A"}},{"$f":"IF('Serial Data'!BD21+'Serial Data'!BE21+'Serial Data'!BF21<>0,(BK21*0.866*Templates!K2),NA())","v":{"$error":"#N/A"}}]
[{"$f":"'Single Data'!N23/('Single Data'!L23+'Single Data'!M23+'Single Data'!N23)","v":{"$error":"#DIV/0!"}},{"$f":"'Single Data'!L23/('Single Data'!L23+'Single Data'!M23+'Single Data'!N23)","v":{"$error":"#DIV/0!"}},{"$f":"'Single Data'!M23/('Single Data'!L23+'Single Data'!M23+'Single Data'!N23)","v":{"$error":"#DIV/0!"}},{"$f":"IF('Single Data'!L23+'Single Data'!M23+'Single Data'!N23<>0,(B22+(C22*0.5)),NA())","v":{"$error":"#N/A"}},{"$f":"IF('Single Data'!L23+'Single Data'!M23+'Single Data'!N23<>0,(C22*0.866*Templates!K2),NA())","v":{"$error":"#N/A"}},null,{"$f":"'Serial Data'!M22/('Serial Data'!K22+'Serial Data'!L22+'Serial Data'!M22)","v":{"$error":"#DIV/0!"}},{"$f":"'Serial Data'!K22/('Serial Data'!K22+'Serial Data'!L22+'Serial Data'!M22)","v":{"$error":"#DIV/0!"}},{"$f":"'Serial Data'!L22/('Serial Data'!K22+'Serial Data'!L22+'Serial Data'!M22)","v":{"$error":"#DIV/0!"}},{"$f":"IF('Serial Data'!K22+'Serial Data'!L22+'Serial Data'!M22<>0,(H22+(I22*0.5)),NA())","v":{"$error":"#N/A"}},{"$f":"IF('Serial Data'!K22+'Serial Data'!L22+'Serial Data'!M22<>0,(I22*0.866*Templates!K2),NA())","v":{"$error":"#N/A"}},null,{"$f":"'Serial Data'!R22/('Serial Data'!P22+'Serial Data'!Q22+'Serial Data'!R22)","v":{"$error":"#DIV/0!"}},{"$f":"'Serial Data'!P22/('Serial Data'!P22+'Serial Data'!Q22+'Serial Data'!R22)","v":{"$error":"#DIV/0!"}},{"$f":"'Serial Data'!Q22/('Serial Data'!P22+'Serial Data'!Q22+'Serial Data'!R22)","v":{"$error":"#DIV/0!"}},{"$f":"IF('Serial Data'!P22+'Serial Data'!Q22+'Serial Data'!R22<>0,(N22+(O22*0.5)),NA())","v":{"$error":"#N/A"}},{"$f":"IF('Serial Data'!P22+'Serial Data'!Q22+'Serial Data'!R22<>0,(O22*0.866*Templates!K2),NA())","v":{"$error":"#N/A"}},null,{"$f":"'Serial Data'!W22/('Serial Data'!U22+'Serial Data'!V22+'Serial Data'!W22)","v":{"$error":"#DIV/0!"}},{"$f":"'Serial Data'!U22/('Serial Data'!U22+'Serial Data'!V22+'Serial Data'!W22)","v":{"$error":"#DIV/0!"}},{"$f":"'Serial Data'!V22/('Serial Data'!U22+'Serial Data'!V22+'Serial Data'!W22)","v":{"$error":"#DIV/0!"}},{"$f":"IF('Serial Data'!V22+'Serial Data'!W22+'Serial Data'!U22<>0,(T22+(U22*0.5)),NA())","v":{"$error":"#N/A"}},{"$f":"IF('Serial Data'!V22+'Serial Data'!W22+'Serial Data'!U22<>0,(U22*0.866*Templates!K2),NA())","v":{"$error":"#N/A"}},null,{"$f":"'Serial Data'!AB22/('Serial Data'!AA22+'Serial Data'!AB22+'Serial Data'!Z22)","v":{"$error":"#DIV/0!"}},{"$f":"'Serial Data'!Z22/('Serial Data'!AA22+'Serial Data'!AB22+'Serial Data'!Z22)","v":{"$error":"#DIV/0!"}},{"$f":"'Serial Data'!AA22/('Serial Data'!AA22+'Serial Data'!AB22+'Serial Data'!Z22)","v":{"$error":"#DIV/0!"}},{"$f":"IF('Serial Data'!AB22+'Serial Data'!AA22+'Serial Data'!Z22<>0,(Z22+(AA22*0.5)),NA())","v":{"$error":"#N/A"}},{"$f":"IF('Serial Data'!AB22+'Serial Data'!AA22+'Serial Data'!Z22<>0,(AA22*0.866*Templates!K2),NA())","v":{"$error":"#N/A"}},null,{"$f":"'Serial Data'!AG22/('Serial Data'!AG22+'Serial Data'!AE22+'Serial Data'!AF22)","v":{"$error":"#DIV/0!"}},{"$f":"'Serial Data'!AE22/('Serial Data'!AG22+'Serial Data'!AE22+'Serial Data'!AF22)","v":{"$error":"#DIV/0!"}},{"$f":"'Serial Data'!AF22/('Serial Data'!AG22+'Serial Data'!AE22+'Serial Data'!AF22)","v":{"$error":"#DIV/0!"}},{"$f":"IF('Serial Data'!AE22+'Serial Data'!AF22+'Serial Data'!AG22<>0,(AF22+(AG22*0.5)),NA())","v":{"$error":"#N/A"}},{"$f":"IF('Serial Data'!AE22+'Serial Data'!AF22+'Serial Data'!AG22<>0,(AG22*0.866*Templates!K2),NA())","v":{"$error":"#N/A"}},null,{"$f":"'Serial Data'!AL22/('Serial Data'!AJ22+'Serial Data'!AK22+'Serial Data'!AL22)","v":{"$error":"#DIV/0!"}},{"$f":"'Serial Data'!AJ22/('Serial Data'!AJ22+'Serial Data'!AK22+'Serial Data'!AL22)","v":{"$error":"#DIV/0!"}},{"$f":"'Serial Data'!AK22/('Serial Data'!AJ22+'Serial Data'!AK22+'Serial Data'!AL22)","v":{"$error":"#DIV/0!"}},{"$f":"IF('Serial Data'!AJ22+'Serial Data'!AK22+'Serial Data'!AL22<>0,(AL22+(AM22*0.5)),NA())","v":{"$error":"#N/A"}},{"$f":"IF('Serial Data'!AJ22+'Serial Data'!AK22+'Serial Data'!AL22<>0,(AM22*0.866*Templates!K2),NA())","v":{"$error":"#N/A"}},null,{"$f":"'Serial Data'!AQ22/('Serial Data'!AO22+'Serial Data'!AP22+'Serial Data'!AQ22)","v":{"$error":"#DIV/0!"}},{"$f":"'Serial Data'!AO22/('Serial Data'!AO22+'Serial Data'!AP22+'Serial Data'!AQ22)","v":{"$error":"#DIV/0!"}},{"$f":"'Serial Data'!AP22/('Serial Data'!AO22+'Serial Data'!AP22+'Serial Data'!AQ22)","v":{"$error":"#DIV/0!"}},{"$f":"IF('Serial Data'!AO22+'Serial Data'!AP22+'Serial Data'!AQ22<>0,(AR22+(AS22*0.5)),NA())","v":{"$error":"#N/A"}},{"$f":"IF('Serial Data'!AO22+'Serial Data'!AP22+'Serial Data'!AQ22<>0,(AS22*0.866*Templates!K2),NA())","v":{"$error":"#N/A"}},null,{"$f":"'Serial Data'!AV22/('Serial Data'!AT22+'Serial Data'!AU22+'Serial Data'!AV22)","v":{"$error":"#DIV/0!"}},{"$f":"'Serial Data'!AT22/('Serial Data'!AT22+'Serial Data'!AU22+'Serial Data'!AV22)","v":{"$error":"#DIV/0!"}},{"$f":"'Serial Data'!AU22/('Serial Data'!AT22+'Serial Data'!AU22+'Serial Data'!AV22)","v":{"$error":"#DIV/0!"}},{"$f":"IF('Serial Data'!AT22+'Serial Data'!AU22+'Serial Data'!AV22<>0,(AX22+(AY22*0.5)),NA())","v":{"$error":"#N/A"}},{"$f":"IF('Serial Data'!AT22+'Serial Data'!AU22+'Serial Data'!AV22<>0,(AY22*0.866*Templates!K2),NA())","v":{"$error":"#N/A"}},null,{"$f":"'Serial Data'!BA22/('Serial Data'!AY22+'Serial Data'!AZ22+'Serial Data'!BA22)","v":{"$error":"#DIV/0!"}},{"$f":"'Serial Data'!AY22/('Serial Data'!AY22+'Serial Data'!AZ22+'Serial Data'!BA22)","v":{"$error":"#DIV/0!"}},{"$f":"'Serial Data'!AZ22/('Serial Data'!AY22+'Serial Data'!AZ22+'Serial Data'!BA22)","v":{"$error":"#DIV/0!"}},{"$f":"IF('Serial Data'!AY22+'Serial Data'!AZ22+'Serial Data'!BA22<>0,(BD22+(BE22*0.5)),NA())","v":{"$error":"#N/A"}},{"$f":"IF('Serial Data'!AY22+'Serial Data'!AZ22+'Serial Data'!BA22<>0,(BE22*0.866*Templates!K2),NA())","v":{"$error":"#N/A"}},null,{"$f":"'Serial Data'!BF22/('Serial Data'!BD22+'Serial Data'!BE22+'Serial Data'!BF22)","v":{"$error":"#DIV/0!"}},{"$f":"'Serial Data'!BD22/('Serial Data'!BD22+'Serial Data'!BE22+'Serial Data'!BF22)","v":{"$error":"#DIV/0!"}},{"$f":"'Serial Data'!BE22/('Serial Data'!BD22+'Serial Data'!BE22+'Serial Data'!BF22)","v":{"$error":"#DIV/0!"}},{"$f":"IF('Serial Data'!BD22+'Serial Data'!BE22+'Serial Data'!BF22<>0,(BJ22+(BK22*0.5)),NA())","v":{"$error":"#N/A"}},{"$f":"IF('Serial Data'!BD22+'Serial Data'!BE22+'Serial Data'!BF22<>0,(BK22*0.866*Templates!K2),NA())","v":{"$error":"#N/A"}}]
[{"$f":"'Single Data'!N24/('Single Data'!L24+'Single Data'!M24+'Single Data'!N24)","v":{"$error":"#DIV/0!"}},{"$f":"'Single Data'!L24/('Single Data'!L24+'Single Data'!M24+'Single Data'!N24)","v":{"$error":"#DIV/0!"}},{"$f":"'Single Data'!M24/('Single Data'!L24+'Single Data'!M24+'Single Data'!N24)","v":{"$error":"#DIV/0!"}},{"$f":"IF('Single Data'!L24+'Single Data'!M24+'Single Data'!N24<>0,(B23+(C23*0.5)),NA())","v":{"$error":"#N/A"}},{"$f":"IF('Single Data'!L24+'Single Data'!M24+'Single Data'!N24<>0,(C23*0.866*Templates!K2),NA())","v":{"$error":"#N/A"}},null,{"$f":"'Serial Data'!M23/('Serial Data'!K23+'Serial Data'!L23+'Serial Data'!M23)","v":{"$error":"#DIV/0!"}},{"$f":"'Serial Data'!K23/('Serial Data'!K23+'Serial Data'!L23+'Serial Data'!M23)","v":{"$error":"#DIV/0!"}},{"$f":"'Serial Data'!L23/('Serial Data'!K23+'Serial Data'!L23+'Serial Data'!M23)","v":{"$error":"#DIV/0!"}},{"$f":"IF('Serial Data'!K23+'Serial Data'!L23+'Serial Data'!M23<>0,(H23+(I23*0.5)),NA())","v":{"$error":"#N/A"}},{"$f":"IF('Serial Data'!K23+'Serial Data'!L23+'Serial Data'!M23<>0,(I23*0.866*Templates!K2),NA())","v":{"$error":"#N/A"}},null,{"$f":"'Serial Data'!R23/('Serial Data'!P23+'Serial Data'!Q23+'Serial Data'!R23)","v":{"$error":"#DIV/0!"}},{"$f":"'Serial Data'!P23/('Serial Data'!P23+'Serial Data'!Q23+'Serial Data'!R23)","v":{"$error":"#DIV/0!"}},{"$f":"'Serial Data'!Q23/('Serial Data'!P23+'Serial Data'!Q23+'Serial Data'!R23)","v":{"$error":"#DIV/0!"}},{"$f":"IF('Serial Data'!P23+'Serial Data'!Q23+'Serial Data'!R23<>0,(N23+(O23*0.5)),NA())","v":{"$error":"#N/A"}},{"$f":"IF('Serial Data'!P23+'Serial Data'!Q23+'Serial Data'!R23<>0,(O23*0.866*Templates!K2),NA())","v":{"$error":"#N/A"}},null,{"$f":"'Serial Data'!W23/('Serial Data'!U23+'Serial Data'!V23+'Serial Data'!W23)","v":{"$error":"#DIV/0!"}},{"$f":"'Serial Data'!U23/('Serial Data'!U23+'Serial Data'!V23+'Serial Data'!W23)","v":{"$error":"#DIV/0!"}},{"$f":"'Serial Data'!V23/('Serial Data'!U23+'Serial Data'!V23+'Serial Data'!W23)","v":{"$error":"#DIV/0!"}},{"$f":"IF('Serial Data'!V23+'Serial Data'!W23+'Serial Data'!U23<>0,(T23+(U23*0.5)),NA())","v":{"$error":"#N/A"}},{"$f":"IF('Serial Data'!V23+'Serial Data'!W23+'Serial Data'!U23<>0,(U23*0.866*Templates!K2),NA())","v":{"$error":"#N/A"}},null,{"$f":"'Serial Data'!AB23/('Serial Data'!AA23+'Serial Data'!AB23+'Serial Data'!Z23)","v":{"$error":"#DIV/0!"}},{"$f":"'Serial Data'!Z23/('Serial Data'!AA23+'Serial Data'!AB23+'Serial Data'!Z23)","v":{"$error":"#DIV/0!"}},{"$f":"'Serial Data'!AA23/('Serial Data'!AA23+'Serial Data'!AB23+'Serial Data'!Z23)","v":{"$error":"#DIV/0!"}},{"$f":"IF('Serial Data'!AB23+'Serial Data'!AA23+'Serial Data'!Z23<>0,(Z23+(AA23*0.5)),NA())","v":{"$error":"#N/A"}},{"$f":"IF('Serial Data'!AB23+'Serial Data'!AA23+'Serial Data'!Z23<>0,(AA23*0.866*Templates!K2),NA())","v":{"$error":"#N/A"}},null,{"$f":"'Serial Data'!AG23/('Serial Data'!AG23+'Serial Data'!AE23+'Serial Data'!AF23)","v":{"$error":"#DIV/0!"}},{"$f":"'Serial Data'!AE23/('Serial Data'!AG23+'Serial Data'!AE23+'Serial Data'!AF23)","v":{"$error":"#DIV/0!"}},{"$f":"'Serial Data'!AF23/('Serial Data'!AG23+'Serial Data'!AE23+'Serial Data'!AF23)","v":{"$error":"#DIV/0!"}},{"$f":"IF('Serial Data'!AE23+'Serial Data'!AF23+'Serial Data'!AG23<>0,(AF23+(AG23*0.5)),NA())","v":{"$error":"#N/A"}},{"$f":"IF('Serial Data'!AE23+'Serial Data'!AF23+'Serial Data'!AG23<>0,(AG23*0.866*Templates!K2),NA())","v":{"$error":"#N/A"}},null,{"$f":"'Serial Data'!AL23/('Serial Data'!AJ23+'Serial Data'!AK23+'Serial Data'!AL23)","v":{"$error":"#DIV/0!"}},{"$f":"'Serial Data'!AJ23/('Serial Data'!AJ23+'Serial Data'!AK23+'Serial Data'!AL23)","v":{"$error":"#DIV/0!"}},{"$f":"'Serial Data'!AK23/('Serial Data'!AJ23+'Serial Data'!AK23+'Serial Data'!AL23)","v":{"$error":"#DIV/0!"}},{"$f":"IF('Serial Data'!AJ23+'Serial Data'!AK23+'Serial Data'!AL23<>0,(AL23+(AM23*0.5)),NA())","v":{"$error":"#N/A"}},{"$f":"IF('Serial Data'!AJ23+'Serial Data'!AK23+'Serial Data'!AL23<>0,(AM23*0.866*Templates!K2),NA())","v":{"$error":"#N/A"}},null,{"$f":"'Serial Data'!AQ23/('Serial Data'!AO23+'Serial Data'!AP23+'Serial Data'!AQ23)","v":{"$error":"#DIV/0!"}},{"$f":"'Serial Data'!AO23/('Serial Data'!AO23+'Serial Data'!AP23+'Serial Data'!AQ23)","v":{"$error":"#DIV/0!"}},{"$f":"'Serial Data'!AP23/('Serial Data'!AO23+'Serial Data'!AP23+'Serial Data'!AQ23)","v":{"$error":"#DIV/0!"}},{"$f":"IF('Serial Data'!AO23+'Serial Data'!AP23+'Serial Data'!AQ23<>0,(AR23+(AS23*0.5)),NA())","v":{"$error":"#N/A"}},{"$f":"IF('Serial Data'!AO23+'Serial Data'!AP23+'Serial Data'!AQ23<>0,(AS23*0.866*Templates!K2),NA())","v":{"$error":"#N/A"}},null,{"$f":"'Serial Data'!AV23/('Serial Data'!AT23+'Serial Data'!AU23+'Serial Data'!AV23)","v":{"$error":"#DIV/0!"}},{"$f":"'Serial Data'!AT23/('Serial Data'!AT23+'Serial Data'!AU23+'Serial Data'!AV23)","v":{"$error":"#DIV/0!"}},{"$f":"'Serial Data'!AU23/('Serial Data'!AT23+'Serial Data'!AU23+'Serial Data'!AV23)","v":{"$error":"#DIV/0!"}},{"$f":"IF('Serial Data'!AT23+'Serial Data'!AU23+'Serial Data'!AV23<>0,(AX23+(AY23*0.5)),NA())","v":{"$error":"#N/A"}},{"$f":"IF('Serial Data'!AT23+'Serial Data'!AU23+'Serial Data'!AV23<>0,(AY23*0.866*Templates!K2),NA())","v":{"$error":"#N/A"}},null,{"$f":"'Serial Data'!BA23/('Serial Data'!AY23+'Serial Data'!AZ23+'Serial Data'!BA23)","v":{"$error":"#DIV/0!"}},{"$f":"'Serial Data'!AY23/('Serial Data'!AY23+'Serial Data'!AZ23+'Serial Data'!BA23)","v":{"$error":"#DIV/0!"}},{"$f":"'Serial Data'!AZ23/('Serial Data'!AY23+'Serial Data'!AZ23+'Serial Data'!BA23)","v":{"$error":"#DIV/0!"}},{"$f":"IF('Serial Data'!AY23+'Serial Data'!AZ23+'Serial Data'!BA23<>0,(BD23+(BE23*0.5)),NA())","v":{"$error":"#N/A"}},{"$f":"IF('Serial Data'!AY23+'Serial Data'!AZ23+'Serial Data'!BA23<>0,(BE23*0.866*Templates!K2),NA())","v":{"$error":"#N/A"}},null,{"$f":"'Serial Data'!BF23/('Serial Data'!BD23+'Serial Data'!BE23+'Serial Data'!BF23)","v":{"$error":"#DIV/0!"}},{"$f":"'Serial Data'!BD23/('Serial Data'!BD23+'Serial Data'!BE23+'Serial Data'!BF23)","v":{"$error":"#DIV/0!"}},{"$f":"'Serial Data'!BE23/('Serial Data'!BD23+'Serial Data'!BE23+'Serial Data'!BF23)","v":{"$error":"#DIV/0!"}},{"$f":"IF('Serial Data'!BD23+'Serial Data'!BE23+'Serial Data'!BF23<>0,(BJ23+(BK23*0.5)),NA())","v":{"$error":"#N/A"}},{"$f":"IF('Serial Data'!BD23+'Serial Data'!BE23+'Serial Data'!BF23<>0,(BK23*0.866*Templates!K2),NA())","v":{"$error":"#N/A"}}]
[{"$f":"'Single Data'!N25/('Single Data'!L25+'Single Data'!M25+'Single Data'!N25)","v":{"$error":"#DIV/0!"}},{"$f":"'Single Data'!L25/('Single Data'!L25+'Single Data'!M25+'Single Data'!N25)","v":{"$error":"#DIV/0!"}},{"$f":"'Single Data'!M25/('Single Data'!L25+'Single Data'!M25+'Single Data'!N25)","v":{"$error":"#DIV/0!"}},{"$f":"IF('Single Data'!L25+'Single Data'!M25+'Single Data'!N25<>0,(B24+(C24*0.5)),NA())","v":{"$error":"#N/A"}},{"$f":"IF('Single Data'!L25+'Single Data'!M25+'Single Data'!N25<>0,(C24*0.866*Templates!K2),NA())","v":{"$error":"#N/A"}},null,{"$f":"'Serial Data'!M24/('Serial Data'!K24+'Serial Data'!L24+'Serial Data'!M24)","v":{"$error":"#DIV/0!"}},{"$f":"'Serial Data'!K24/('Serial Data'!K24+'Serial Data'!L24+'Serial Data'!M24)","v":{"$error":"#DIV/0!"}},{"$f":"'Serial Data'!L24/('Serial Data'!K24+'Serial Data'!L24+'Serial Data'!M24)","v":{"$error":"#DIV/0!"}},{"$f":"IF('Serial Data'!K24+'Serial Data'!L24+'Serial Data'!M24<>0,(H24+(I24*0.5)),NA())","v":{"$error":"#N/A"}},{"$f":"IF('Serial Data'!K24+'Serial Data'!L24+'Serial Data'!M24<>0,(I24*0.866*Templates!K2),NA())","v":{"$error":"#N/A"}},null,{"$f":"'Serial Data'!R24/('Serial Data'!P24+'Serial Data'!Q24+'Serial Data'!R24)","v":{"$error":"#DIV/0!"}},{"$f":"'Serial Data'!P24/('Serial Data'!P24+'Serial Data'!Q24+'Serial Data'!R24)","v":{"$error":"#DIV/0!"}},{"$f":"'Serial Data'!Q24/('Serial Data'!P24+'Serial Data'!Q24+'Serial Data'!R24)","v":{"$error":"#DIV/0!"}},{"$f":"IF('Serial Data'!P24+'Serial Data'!Q24+'Serial Data'!R24<>0,(N24+(O24*0.5)),NA())","v":{"$error":"#N/A"}},{"$f":"IF('Serial Data'!P24+'Serial Data'!Q24+'Serial Data'!R24<>0,(O24*0.866*Templates!K2),NA())","v":{"$error":"#N/A"}},null,{"$f":"'Serial Data'!W24/('Serial Data'!U24+'Serial Data'!V24+'Serial Data'!W24)","v":{"$error":"#DIV/0!"}},{"$f":"'Serial Data'!U24/('Serial Data'!U24+'Serial Data'!V24+'Serial Data'!W24)","v":{"$error":"#DIV/0!"}},{"$f":"'Serial Data'!V24/('Serial Data'!U24+'Serial Data'!V24+'Serial Data'!W24)","v":{"$error":"#DIV/0!"}},{"$f":"IF('Serial Data'!V24+'Serial Data'!W24+'Serial Data'!U24<>0,(T24+(U24*0.5)),NA())","v":{"$error":"#N/A"}},{"$f":"IF('Serial Data'!V24+'Serial Data'!W24+'Serial Data'!U24<>0,(U24*0.866*Templates!K2),NA())","v":{"$error":"#N/A"}},null,{"$f":"'Serial Data'!AB24/('Serial Data'!AA24+'Serial Data'!AB24+'Serial Data'!Z24)","v":{"$error":"#DIV/0!"}},{"$f":"'Serial Data'!Z24/('Serial Data'!AA24+'Serial Data'!AB24+'Serial Data'!Z24)","v":{"$error":"#DIV/0!"}},{"$f":"'Serial Data'!AA24/('Serial Data'!AA24+'Serial Data'!AB24+'Serial Data'!Z24)","v":{"$error":"#DIV/0!"}},{"$f":"IF('Serial Data'!AB24+'Serial Data'!AA24+'Serial Data'!Z24<>0,(Z24+(AA24*0.5)),NA())","v":{"$error":"#N/A"}},{"$f":"IF('Serial Data'!AB24+'Serial Data'!AA24+'Serial Data'!Z24<>0,(AA24*0.866*Templates!K2),NA())","v":{"$error":"#N/A"}},null,{"$f":"'Serial Data'!AG24/('Serial Data'!AG24+'Serial Data'!AE24+'Serial Data'!AF24)","v":{"$error":"#DIV/0!"}},{"$f":"'Serial Data'!AE24/('Serial Data'!AG24+'Serial Data'!AE24+'Serial Data'!AF24)","v":{"$error":"#DIV/0!"}},{"$f":"'Serial Data'!AF24/('Serial Data'!AG24+'Serial Data'!AE24+'Serial Data'!AF24)","v":{"$error":"#DIV/0!"}},{"$f":"IF('Serial Data'!AE24+'Serial Data'!AF24+'Serial Data'!AG24<>0,(AF24+(AG24*0.5)),NA())","v":{"$error":"#N/A"}},{"$f":"IF('Serial Data'!AE24+'Serial Data'!AF24+'Serial Data'!AG24<>0,(AG24*0.866*Templates!K2),NA())","v":{"$error":"#N/A"}},null,{"$f":"'Serial Data'!AL24/('Serial Data'!AJ24+'Serial Data'!AK24+'Serial Data'!AL24)","v":{"$error":"#DIV/0!"}},{"$f":"'Serial Data'!AJ24/('Serial Data'!AJ24+'Serial Data'!AK24+'Serial Data'!AL24)","v":{"$error":"#DIV/0!"}},{"$f":"'Serial Data'!AK24/('Serial Data'!AJ24+'Serial Data'!AK24+'Serial Data'!AL24)","v":{"$error":"#DIV/0!"}},{"$f":"IF('Serial Data'!AJ24+'Serial Data'!AK24+'Serial Data'!AL24<>0,(AL24+(AM24*0.5)),NA())","v":{"$error":"#N/A"}},{"$f":"IF('Serial Data'!AJ24+'Serial Data'!AK24+'Serial Data'!AL24<>0,(AM24*0.866*Templates!K2),NA())","v":{"$error":"#N/A"}},null,{"$f":"'Serial Data'!AQ24/('Serial Data'!AO24+'Serial Data'!AP24+'Serial Data'!AQ24)","v":{"$error":"#DIV/0!"}},{"$f":"'Serial Data'!AO24/('Serial Data'!AO24+'Serial Data'!AP24+'Serial Data'!AQ24)","v":{"$error":"#DIV/0!"}},{"$f":"'Serial Data'!AP24/('Serial Data'!AO24+'Serial Data'!AP24+'Serial Data'!AQ24)","v":{"$error":"#DIV/0!"}},{"$f":"IF('Serial Data'!AO24+'Serial Data'!AP24+'Serial Data'!AQ24<>0,(AR24+(AS24*0.5)),NA())","v":{"$error":"#N/A"}},{"$f":"IF('Serial Data'!AO24+'Serial Data'!AP24+'Serial Data'!AQ24<>0,(AS24*0.866*Templates!K2),NA())","v":{"$error":"#N/A"}},null,{"$f":"'Serial Data'!AV24/('Serial Data'!AT24+'Serial Data'!AU24+'Serial Data'!AV24)","v":{"$error":"#DIV/0!"}},{"$f":"'Serial Data'!AT24/('Serial Data'!AT24+'Serial Data'!AU24+'Serial Data'!AV24)","v":{"$error":"#DIV/0!"}},{"$f":"'Serial Data'!AU24/('Serial Data'!AT24+'Serial Data'!AU24+'Serial Data'!AV24)","v":{"$error":"#DIV/0!"}},{"$f":"IF('Serial Data'!AT24+'Serial Data'!AU24+'Serial Data'!AV24<>0,(AX24+(AY24*0.5)),NA())","v":{"$error":"#N/A"}},{"$f":"IF('Serial Data'!AT24+'Serial Data'!AU24+'Serial Data'!AV24<>0,(AY24*0.866*Templates!K2),NA())","v":{"$error":"#N/A"}},null,{"$f":"'Serial Data'!BA24/('Serial Data'!AY24+'Serial Data'!AZ24+'Serial Data'!BA24)","v":{"$error":"#DIV/0!"}},{"$f":"'Serial Data'!AY24/('Serial Data'!AY24+'Serial Data'!AZ24+'Serial Data'!BA24)","v":{"$error":"#DIV/0!"}},{"$f":"'Serial Data'!AZ24/('Serial Data'!AY24+'Serial Data'!AZ24+'Serial Data'!BA24)","v":{"$error":"#DIV/0!"}},{"$f":"IF('Serial Data'!AY24+'Serial Data'!AZ24+'Serial Data'!BA24<>0,(BD24+(BE24*0.5)),NA())","v":{"$error":"#N/A"}},{"$f":"IF('Serial Data'!AY24+'Serial Data'!AZ24+'Serial Data'!BA24<>0,(BE24*0.866*Templates!K2),NA())","v":{"$error":"#N/A"}},null,{"$f":"'Serial Data'!BF24/('Serial Data'!BD24+'Serial Data'!BE24+'Serial Data'!BF24)","v":{"$error":"#DIV/0!"}},{"$f":"'Serial Data'!BD24/('Serial Data'!BD24+'Serial Data'!BE24+'Serial Data'!BF24)","v":{"$error":"#DIV/0!"}},{"$f":"'Serial Data'!BE24/('Serial Data'!BD24+'Serial Data'!BE24+'Serial Data'!BF24)","v":{"$error":"#DIV/0!"}},{"$f":"IF('Serial Data'!BD24+'Serial Data'!BE24+'Serial Data'!BF24<>0,(BJ24+(BK24*0.5)),NA())","v":{"$error":"#N/A"}},{"$f":"IF('Serial Data'!BD24+'Serial Data'!BE24+'Serial Data'!BF24<>0,(BK24*0.866*Templates!K2),NA())","v":{"$error":"#N/A"}}]
[{"$f":"'Single Data'!N26/('Single Data'!L26+'Single Data'!M26+'Single Data'!N26)","v":{"$error":"#DIV/0!"}},{"$f":"'Single Data'!L26/('Single Data'!L26+'Single Data'!M26+'Single Data'!N26)","v":{"$error":"#DIV/0!"}},{"$f":"'Single Data'!M26/('Single Data'!L26+'Single Data'!M26+'Single Data'!N26)","v":{"$error":"#DIV/0!"}},{"$f":"IF('Single Data'!L26+'Single Data'!M26+'Single Data'!N26<>0,(B25+(C25*0.5)),NA())","v":{"$error":"#N/A"}},{"$f":"IF('Single Data'!L26+'Single Data'!M26+'Single Data'!N26<>0,(C25*0.866*Templates!K2),NA())","v":{"$error":"#N/A"}},null,{"$f":"'Serial Data'!M25/('Serial Data'!K25+'Serial Data'!L25+'Serial Data'!M25)","v":{"$error":"#DIV/0!"}},{"$f":"'Serial Data'!K25/('Serial Data'!K25+'Serial Data'!L25+'Serial Data'!M25)","v":{"$error":"#DIV/0!"}},{"$f":"'Serial Data'!L25/('Serial Data'!K25+'Serial Data'!L25+'Serial Data'!M25)","v":{"$error":"#DIV/0!"}},{"$f":"IF('Serial Data'!K25+'Serial Data'!L25+'Serial Data'!M25<>0,(H25+(I25*0.5)),NA())","v":{"$error":"#N/A"}},{"$f":"IF('Serial Data'!K25+'Serial Data'!L25+'Serial Data'!M25<>0,(I25*0.866*Templates!K2),NA())","v":{"$error":"#N/A"}},null,{"$f":"'Serial Data'!R25/('Serial Data'!P25+'Serial Data'!Q25+'Serial Data'!R25)","v":{"$error":"#DIV/0!"}},{"$f":"'Serial Data'!P25/('Serial Data'!P25+'Serial Data'!Q25+'Serial Data'!R25)","v":{"$error":"#DIV/0!"}},{"$f":"'Serial Data'!Q25/('Serial Data'!P25+'Serial Data'!Q25+'Serial Data'!R25)","v":{"$error":"#DIV/0!"}},{"$f":"IF('Serial Data'!P25+'Serial Data'!Q25+'Serial Data'!R25<>0,(N25+(O25*0.5)),NA())","v":{"$error":"#N/A"}},{"$f":"IF('Serial Data'!P25+'Serial Data'!Q25+'Serial Data'!R25<>0,(O25*0.866*Templates!K2),NA())","v":{"$error":"#N/A"}},null,{"$f":"'Serial Data'!W25/('Serial Data'!U25+'Serial Data'!V25+'Serial Data'!W25)","v":{"$error":"#DIV/0!"}},{"$f":"'Serial Data'!U25/('Serial Data'!U25+'Serial Data'!V25+'Serial Data'!W25)","v":{"$error":"#DIV/0!"}},{"$f":"'Serial Data'!V25/('Serial Data'!U25+'Serial Data'!V25+'Serial Data'!W25)","v":{"$error":"#DIV/0!"}},{"$f":"IF('Serial Data'!V25+'Serial Data'!W25+'Serial Data'!U25<>0,(T25+(U25*0.5)),NA())","v":{"$error":"#N/A"}},{"$f":"IF('Serial Data'!V25+'Serial Data'!W25+'Serial Data'!U25<>0,(U25*0.866*Templates!K2),NA())","v":{"$error":"#N/A"}},null,{"$f":"'Serial Data'!AB25/('Serial Data'!AA25+'Serial Data'!AB25+'Serial Data'!Z25)","v":{"$error":"#DIV/0!"}},{"$f":"'Serial Data'!Z25/('Serial Data'!AA25+'Serial Data'!AB25+'Serial Data'!Z25)","v":{"$error":"#DIV/0!"}},{"$f":"'Serial Data'!AA25/('Serial Data'!AA25+'Serial Data'!AB25+'Serial Data'!Z25)","v":{"$error":"#DIV/0!"}},{"$f":"IF('Serial Data'!AB25+'Serial Data'!AA25+'Serial Data'!Z25<>0,(Z25+(AA25*0.5)),NA())","v":{"$error":"#N/A"}},{"$f":"IF('Serial Data'!AB25+'Serial Data'!AA25+'Serial Data'!Z25<>0,(AA25*0.866*Templates!K2),NA())","v":{"$error":"#N/A"}},null,{"$f":"'Serial Data'!AG25/('Serial Data'!AG25+'Serial Data'!AE25+'Serial Data'!AF25)","v":{"$error":"#DIV/0!"}},{"$f":"'Serial Data'!AE25/('Serial Data'!AG25+'Serial Data'!AE25+'Serial Data'!AF25)","v":{"$error":"#DIV/0!"}},{"$f":"'Serial Data'!AF25/('Serial Data'!AG25+'Serial Data'!AE25+'Serial Data'!AF25)","v":{"$error":"#DIV/0!"}},{"$f":"IF('Serial Data'!AE25+'Serial Data'!AF25+'Serial Data'!AG25<>0,(AF25+(AG25*0.5)),NA())","v":{"$error":"#N/A"}},{"$f":"IF('Serial Data'!AE25+'Serial Data'!AF25+'Serial Data'!AG25<>0,(AG25*0.866*Templates!K2),NA())","v":{"$error":"#N/A"}},null,{"$f":"'Serial Data'!AL25/('Serial Data'!AJ25+'Serial Data'!AK25+'Serial Data'!AL25)","v":{"$error":"#DIV/0!"}},{"$f":"'Serial Data'!AJ25/('Serial Data'!AJ25+'Serial Data'!AK25+'Serial Data'!AL25)","v":{"$error":"#DIV/0!"}},{"$f":"'Serial Data'!AK25/('Serial Data'!AJ25+'Serial Data'!AK25+'Serial Data'!AL25)","v":{"$error":"#DIV/0!"}},{"$f":"IF('Serial Data'!AJ25+'Serial Data'!AK25+'Serial Data'!AL25<>0,(AL25+(AM25*0.5)),NA())","v":{"$error":"#N/A"}},{"$f":"IF('Serial Data'!AJ25+'Serial Data'!AK25+'Serial Data'!AL25<>0,(AM25*0.866*Templates!K2),NA())","v":{"$error":"#N/A"}},null,{"$f":"'Serial Data'!AQ25/('Serial Data'!AO25+'Serial Data'!AP25+'Serial Data'!AQ25)","v":{"$error":"#DIV/0!"}},{"$f":"'Serial Data'!AO25/('Serial Data'!AO25+'Serial Data'!AP25+'Serial Data'!AQ25)","v":{"$error":"#DIV/0!"}},{"$f":"'Serial Data'!AP25/('Serial Data'!AO25+'Serial Data'!AP25+'Serial Data'!AQ25)","v":{"$error":"#DIV/0!"}},{"$f":"IF('Serial Data'!AO25+'Serial Data'!AP25+'Serial Data'!AQ25<>0,(AR25+(AS25*0.5)),NA())","v":{"$error":"#N/A"}},{"$f":"IF('Serial Data'!AO25+'Serial Data'!AP25+'Serial Data'!AQ25<>0,(AS25*0.866*Templates!K2),NA())","v":{"$error":"#N/A"}},null,{"$f":"'Serial Data'!AV25/('Serial Data'!AT25+'Serial Data'!AU25+'Serial Data'!AV25)","v":{"$error":"#DIV/0!"}},{"$f":"'Serial Data'!AT25/('Serial Data'!AT25+'Serial Data'!AU25+'Serial Data'!AV25)","v":{"$error":"#DIV/0!"}},{"$f":"'Serial Data'!AU25/('Serial Data'!AT25+'Serial Data'!AU25+'Serial Data'!AV25)","v":{"$error":"#DIV/0!"}},{"$f":"IF('Serial Data'!AT25+'Serial Data'!AU25+'Serial Data'!AV25<>0,(AX25+(AY25*0.5)),NA())","v":{"$error":"#N/A"}},{"$f":"IF('Serial Data'!AT25+'Serial Data'!AU25+'Serial Data'!AV25<>0,(AY25*0.866*Templates!K2),NA())","v":{"$error":"#N/A"}},null,{"$f":"'Serial Data'!BA25/('Serial Data'!AY25+'Serial Data'!AZ25+'Serial Data'!BA25)","v":{"$error":"#DIV/0!"}},{"$f":"'Serial Data'!AY25/('Serial Data'!AY25+'Serial Data'!AZ25+'Serial Data'!BA25)","v":{"$error":"#DIV/0!"}},{"$f":"'Serial Data'!AZ25/('Serial Data'!AY25+'Serial Data'!AZ25+'Serial Data'!BA25)","v":{"$error":"#DIV/0!"}},{"$f":"IF('Serial Data'!AY25+'Serial Data'!AZ25+'Serial Data'!BA25<>0,(BD25+(BE25*0.5)),NA())","v":{"$error":"#N/A"}},{"$f":"IF('Serial Data'!AY25+'Serial Data'!AZ25+'Serial Data'!BA25<>0,(BE25*0.866*Templates!K2),NA())","v":{"$error":"#N/A"}},null,{"$f":"'Serial Data'!BF25/('Serial Data'!BD25+'Serial Data'!BE25+'Serial Data'!BF25)","v":{"$error":"#DIV/0!"}},{"$f":"'Serial Data'!BD25/('Serial Data'!BD25+'Serial Data'!BE25+'Serial Data'!BF25)","v":{"$error":"#DIV/0!"}},{"$f":"'Serial Data'!BE25/('Serial Data'!BD25+'Serial Data'!BE25+'Serial Data'!BF25)","v":{"$error":"#DIV/0!"}},{"$f":"IF('Serial Data'!BD25+'Serial Data'!BE25+'Serial Data'!BF25<>0,(BJ25+(BK25*0.5)),NA())","v":{"$error":"#N/A"}},{"$f":"IF('Serial Data'!BD25+'Serial Data'!BE25+'Serial Data'!BF25<>0,(BK25*0.866*Templates!K2),NA())","v":{"$error":"#N/A"}}]
[{"$f":"'Single Data'!N27/('Single Data'!L27+'Single Data'!M27+'Single Data'!N27)","v":{"$error":"#DIV/0!"}},{"$f":"'Single Data'!L27/('Single Data'!L27+'Single Data'!M27+'Single Data'!N27)","v":{"$error":"#DIV/0!"}},{"$f":"'Single Data'!M27/('Single Data'!L27+'Single Data'!M27+'Single Data'!N27)","v":{"$error":"#DIV/0!"}},{"$f":"IF('Single Data'!L27+'Single Data'!M27+'Single Data'!N27<>0,(B26+(C26*0.5)),NA())","v":{"$error":"#N/A"}},{"$f":"IF('Single Data'!L27+'Single Data'!M27+'Single Data'!N27<>0,(C26*0.866*Templates!K2),NA())","v":{"$error":"#N/A"}},null,{"$f":"'Serial Data'!M26/('Serial Data'!K26+'Serial Data'!L26+'Serial Data'!M26)","v":{"$error":"#DIV/0!"}},{"$f":"'Serial Data'!K26/('Serial Data'!K26+'Serial Data'!L26+'Serial Data'!M26)","v":{"$error":"#DIV/0!"}},{"$f":"'Serial Data'!L26/('Serial Data'!K26+'Serial Data'!L26+'Serial Data'!M26)","v":{"$error":"#DIV/0!"}},{"$f":"IF('Serial Data'!K26+'Serial Data'!L26+'Serial Data'!M26<>0,(H26+(I26*0.5)),NA())","v":{"$error":"#N/A"}},{"$f":"IF('Serial Data'!K26+'Serial Data'!L26+'Serial Data'!M26<>0,(I26*0.866*Templates!K2),NA())","v":{"$error":"#N/A"}},null,{"$f":"'Serial Data'!R26/('Serial Data'!P26+'Serial Data'!Q26+'Serial Data'!R26)","v":{"$error":"#DIV/0!"}},{"$f":"'Serial Data'!P26/('Serial Data'!P26+'Serial Data'!Q26+'Serial Data'!R26)","v":{"$error":"#DIV/0!"}},{"$f":"'Serial Data'!Q26/('Serial Data'!P26+'Serial Data'!Q26+'Serial Data'!R26)","v":{"$error":"#DIV/0!"}},{"$f":"IF('Serial Data'!P26+'Serial Data'!Q26+'Serial Data'!R26<>0,(N26+(O26*0.5)),NA())","v":{"$error":"#N/A"}},{"$f":"IF('Serial Data'!P26+'Serial Data'!Q26+'Serial Data'!R26<>0,(O26*0.866*Templates!K2),NA())","v":{"$error":"#N/A"}},null,{"$f":"'Serial Data'!W26/('Serial Data'!U26+'Serial Data'!V26+'Serial Data'!W26)","v":{"$error":"#DIV/0!"}},{"$f":"'Serial Data'!U26/('Serial Data'!U26+'Serial Data'!V26+'Serial Data'!W26)","v":{"$error":"#DIV/0!"}},{"$f":"'Serial Data'!V26/('Serial Data'!U26+'Serial Data'!V26+'Serial Data'!W26)","v":{"$error":"#DIV/0!"}},{"$f":"IF('Serial Data'!V26+'Serial Data'!W26+'Serial Data'!U26<>0,(T26+(U26*0.5)),NA())","v":{"$error":"#N/A"}},{"$f":"IF('Serial Data'!V26+'Serial Data'!W26+'Serial Data'!U26<>0,(U26*0.866*Templates!K2),NA())","v":{"$error":"#N/A"}},null,{"$f":"'Serial Data'!AB26/('Serial Data'!AA26+'Serial Data'!AB26+'Serial Data'!Z26)","v":{"$error":"#DIV/0!"}},{"$f":"'Serial Data'!Z26/('Serial Data'!AA26+'Serial Data'!AB26+'Serial Data'!Z26)","v":{"$error":"#DIV/0!"}},{"$f":"'Serial Data'!AA26/('Serial Data'!AA26+'Serial Data'!AB26+'Serial Data'!Z26)","v":{"$error":"#DIV/0!"}},{"$f":"IF('Serial Data'!AB26+'Serial Data'!AA26+'Serial Data'!Z26<>0,(Z26+(AA26*0.5)),NA())","v":{"$error":"#N/A"}},{"$f":"IF('Serial Data'!AB26+'Serial Data'!AA26+'Serial Data'!Z26<>0,(AA26*0.866*Templates!K2),NA())","v":{"$error":"#N/A"}},null,{"$f":"'Serial Data'!AG26/('Serial Data'!AG26+'Serial Data'!AE26+'Serial Data'!AF26)","v":{"$error":"#DIV/0!"}},{"$f":"'Serial Data'!AE26/('Serial Data'!AG26+'Serial Data'!AE26+'Serial Data'!AF26)","v":{"$error":"#DIV/0!"}},{"$f":"'Serial Data'!AF26/('Serial Data'!AG26+'Serial Data'!AE26+'Serial Data'!AF26)","v":{"$error":"#DIV/0!"}},{"$f":"IF('Serial Data'!AE26+'Serial Data'!AF26+'Serial Data'!AG26<>0,(AF26+(AG26*0.5)),NA())","v":{"$error":"#N/A"}},{"$f":"IF('Serial Data'!AE26+'Serial Data'!AF26+'Serial Data'!AG26<>0,(AG26*0.866*Templates!K2),NA())","v":{"$error":"#N/A"}},null,{"$f":"'Serial Data'!AL26/('Serial Data'!AJ26+'Serial Data'!AK26+'Serial Data'!AL26)","v":{"$error":"#DIV/0!"}},{"$f":"'Serial Data'!AJ26/('Serial Data'!AJ26+'Serial Data'!AK26+'Serial Data'!AL26)","v":{"$error":"#DIV/0!"}},{"$f":"'Serial Data'!AK26/('Serial Data'!AJ26+'Serial Data'!AK26+'Serial Data'!AL26)","v":{"$error":"#DIV/0!"}},{"$f":"IF('Serial Data'!AJ26+'Serial Data'!AK26+'Serial Data'!AL26<>0,(AL26+(AM26*0.5)),NA())","v":{"$error":"#N/A"}},{"$f":"IF('Serial Data'!AJ26+'Serial Data'!AK26+'Serial Data'!AL26<>0,(AM26*0.866*Templates!K2),NA())","v":{"$error":"#N/A"}},null,{"$f":"'Serial Data'!AQ26/('Serial Data'!AO26+'Serial Data'!AP26+'Serial Data'!AQ26)","v":{"$error":"#DIV/0!"}},{"$f":"'Serial Data'!AO26/('Serial Data'!AO26+'Serial Data'!AP26+'Serial Data'!AQ26)","v":{"$error":"#DIV/0!"}},{"$f":"'Serial Data'!AP26/('Serial Data'!AO26+'Serial Data'!AP26+'Serial Data'!AQ26)","v":{"$error":"#DIV/0!"}},{"$f":"IF('Serial Data'!AO26+'Serial Data'!AP26+'Serial Data'!AQ26<>0,(AR26+(AS26*0.5)),NA())","v":{"$error":"#N/A"}},{"$f":"IF('Serial Data'!AO26+'Serial Data'!AP26+'Serial Data'!AQ26<>0,(AS26*0.866*Templates!K2),NA())","v":{"$error":"#N/A"}},null,{"$f":"'Serial Data'!AV26/('Serial Data'!AT26+'Serial Data'!AU26+'Serial Data'!AV26)","v":{"$error":"#DIV/0!"}},{"$f":"'Serial Data'!AT26/('Serial Data'!AT26+'Serial Data'!AU26+'Serial Data'!AV26)","v":{"$error":"#DIV/0!"}},{"$f":"'Serial Data'!AU26/('Serial Data'!AT26+'Serial Data'!AU26+'Serial Data'!AV26)","v":{"$error":"#DIV/0!"}},{"$f":"IF('Serial Data'!AT26+'Serial Data'!AU26+'Serial Data'!AV26<>0,(AX26+(AY26*0.5)),NA())","v":{"$error":"#N/A"}},{"$f":"IF('Serial Data'!AT26+'Serial Data'!AU26+'Serial Data'!AV26<>0,(AY26*0.866*Templates!K2),NA())","v":{"$error":"#N/A"}},null,{"$f":"'Serial Data'!BA26/('Serial Data'!AY26+'Serial Data'!AZ26+'Serial Data'!BA26)","v":{"$error":"#DIV/0!"}},{"$f":"'Serial Data'!AY26/('Serial Data'!AY26+'Serial Data'!AZ26+'Serial Data'!BA26)","v":{"$error":"#DIV/0!"}},{"$f":"'Serial Data'!AZ26/('Serial Data'!AY26+'Serial Data'!AZ26+'Serial Data'!BA26)","v":{"$error":"#DIV/0!"}},{"$f":"IF('Serial Data'!AY26+'Serial Data'!AZ26+'Serial Data'!BA26<>0,(BD26+(BE26*0.5)),NA())","v":{"$error":"#N/A"}},{"$f":"IF('Serial Data'!AY26+'Serial Data'!AZ26+'Serial Data'!BA26<>0,(BE26*0.866*Templates!K2),NA())","v":{"$error":"#N/A"}},null,{"$f":"'Serial Data'!BF26/('Serial Data'!BD26+'Serial Data'!BE26+'Serial Data'!BF26)","v":{"$error":"#DIV/0!"}},{"$f":"'Serial Data'!BD26/('Serial Data'!BD26+'Serial Data'!BE26+'Serial Data'!BF26)","v":{"$error":"#DIV/0!"}},{"$f":"'Serial Data'!BE26/('Serial Data'!BD26+'Serial Data'!BE26+'Serial Data'!BF26)","v":{"$error":"#DIV/0!"}},{"$f":"IF('Serial Data'!BD26+'Serial Data'!BE26+'Serial Data'!BF26<>0,(BJ26+(BK26*0.5)),NA())","v":{"$error":"#N/A"}},{"$f":"IF('Serial Data'!BD26+'Serial Data'!BE26+'Serial Data'!BF26<>0,(BK26*0.866*Templates!K2),NA())","v":{"$error":"#N/A"}}]
[{"$f":"'Single Data'!N28/('Single Data'!L28+'Single Data'!M28+'Single Data'!N28)","v":{"$error":"#DIV/0!"}},{"$f":"'Single Data'!L28/('Single Data'!L28+'Single Data'!M28+'Single Data'!N28)","v":{"$error":"#DIV/0!"}},{"$f":"'Single Data'!M28/('Single Data'!L28+'Single Data'!M28+'Single Data'!N28)","v":{"$error":"#DIV/0!"}},{"$f":"IF('Single Data'!L28+'Single Data'!M28+'Single Data'!N28<>0,(B27+(C27*0.5)),NA())","v":{"$error":"#N/A"}},{"$f":"IF('Single Data'!L28+'Single Data'!M28+'Single Data'!N28<>0,(C27*0.866*Templates!K2),NA())","v":{"$error":"#N/A"}},null,{"$f":"'Serial Data'!M27/('Serial Data'!K27+'Serial Data'!L27+'Serial Data'!M27)","v":{"$error":"#DIV/0!"}},{"$f":"'Serial Data'!K27/('Serial Data'!K27+'Serial Data'!L27+'Serial Data'!M27)","v":{"$error":"#DIV/0!"}},{"$f":"'Serial Data'!L27/('Serial Data'!K27+'Serial Data'!L27+'Serial Data'!M27)","v":{"$error":"#DIV/0!"}},{"$f":"IF('Serial Data'!K27+'Serial Data'!L27+'Serial Data'!M27<>0,(H27+(I27*0.5)),NA())","v":{"$error":"#N/A"}},{"$f":"IF('Serial Data'!K27+'Serial Data'!L27+'Serial Data'!M27<>0,(I27*0.866*Templates!K2),NA())","v":{"$error":"#N/A"}},null,{"$f":"'Serial Data'!R27/('Serial Data'!P27+'Serial Data'!Q27+'Serial Data'!R27)","v":{"$error":"#DIV/0!"}},{"$f":"'Serial Data'!P27/('Serial Data'!P27+'Serial Data'!Q27+'Serial Data'!R27)","v":{"$error":"#DIV/0!"}},{"$f":"'Serial Data'!Q27/('Serial Data'!P27+'Serial Data'!Q27+'Serial Data'!R27)","v":{"$error":"#DIV/0!"}},{"$f":"IF('Serial Data'!P27+'Serial Data'!Q27+'Serial Data'!R27<>0,(N27+(O27*0.5)),NA())","v":{"$error":"#N/A"}},{"$f":"IF('Serial Data'!P27+'Serial Data'!Q27+'Serial Data'!R27<>0,(O27*0.866*Templates!K2),NA())","v":{"$error":"#N/A"}},null,{"$f":"'Serial Data'!W27/('Serial Data'!U27+'Serial Data'!V27+'Serial Data'!W27)","v":{"$error":"#DIV/0!"}},{"$f":"'Serial Data'!U27/('Serial Data'!U27+'Serial Data'!V27+'Serial Data'!W27)","v":{"$error":"#DIV/0!"}},{"$f":"'Serial Data'!V27/('Serial Data'!U27+'Serial Data'!V27+'Serial Data'!W27)","v":{"$error":"#DIV/0!"}},{"$f":"IF('Serial Data'!V27+'Serial Data'!W27+'Serial Data'!U27<>0,(T27+(U27*0.5)),NA())","v":{"$error":"#N/A"}},{"$f":"IF('Serial Data'!V27+'Serial Data'!W27+'Serial Data'!U27<>0,(U27*0.866*Templates!K2),NA())","v":{"$error":"#N/A"}},null,{"$f":"'Serial Data'!AB27/('Serial Data'!AA27+'Serial Data'!AB27+'Serial Data'!Z27)","v":{"$error":"#DIV/0!"}},{"$f":"'Serial Data'!Z27/('Serial Data'!AA27+'Serial Data'!AB27+'Serial Data'!Z27)","v":{"$error":"#DIV/0!"}},{"$f":"'Serial Data'!AA27/('Serial Data'!AA27+'Serial Data'!AB27+'Serial Data'!Z27)","v":{"$error":"#DIV/0!"}},{"$f":"IF('Serial Data'!AB27+'Serial Data'!AA27+'Serial Data'!Z27<>0,(Z27+(AA27*0.5)),NA())","v":{"$error":"#N/A"}},{"$f":"IF('Serial Data'!AB27+'Serial Data'!AA27+'Serial Data'!Z27<>0,(AA27*0.866*Templates!K2),NA())","v":{"$error":"#N/A"}},null,{"$f":"'Serial Data'!AG27/('Serial Data'!AG27+'Serial Data'!AE27+'Serial Data'!AF27)","v":{"$error":"#DIV/0!"}},{"$f":"'Serial Data'!AE27/('Serial Data'!AG27+'Serial Data'!AE27+'Serial Data'!AF27)","v":{"$error":"#DIV/0!"}},{"$f":"'Serial Data'!AF27/('Serial Data'!AG27+'Serial Data'!AE27+'Serial Data'!AF27)","v":{"$error":"#DIV/0!"}},{"$f":"IF('Serial Data'!AE27+'Serial Data'!AF27+'Serial Data'!AG27<>0,(AF27+(AG27*0.5)),NA())","v":{"$error":"#N/A"}},{"$f":"IF('Serial Data'!AE27+'Serial Data'!AF27+'Serial Data'!AG27<>0,(AG27*0.866*Templates!K2),NA())","v":{"$error":"#N/A"}},null,{"$f":"'Serial Data'!AL27/('Serial Data'!AJ27+'Serial Data'!AK27+'Serial Data'!AL27)","v":{"$error":"#DIV/0!"}},{"$f":"'Serial Data'!AJ27/('Serial Data'!AJ27+'Serial Data'!AK27+'Serial Data'!AL27)","v":{"$error":"#DIV/0!"}},{"$f":"'Serial Data'!AK27/('Serial Data'!AJ27+'Serial Data'!AK27+'Serial Data'!AL27)","v":{"$error":"#DIV/0!"}},{"$f":"IF('Serial Data'!AJ27+'Serial Data'!AK27+'Serial Data'!AL27<>0,(AL27+(AM27*0.5)),NA())","v":{"$error":"#N/A"}},{"$f":"IF('Serial Data'!AJ27+'Serial Data'!AK27+'Serial Data'!AL27<>0,(AM27*0.866*Templates!K2),NA())","v":{"$error":"#N/A"}},null,{"$f":"'Serial Data'!AQ27/('Serial Data'!AO27+'Serial Data'!AP27+'Serial Data'!AQ27)","v":{"$error":"#DIV/0!"}},{"$f":"'Serial Data'!AO27/('Serial Data'!AO27+'Serial Data'!AP27+'Serial Data'!AQ27)","v":{"$error":"#DIV/0!"}},{"$f":"'Serial Data'!AP27/('Serial Data'!AO27+'Serial Data'!AP27+'Serial Data'!AQ27)","v":{"$error":"#DIV/0!"}},{"$f":"IF('Serial Data'!AO27+'Serial Data'!AP27+'Serial Data'!AQ27<>0,(AR27+(AS27*0.5)),NA())","v":{"$error":"#N/A"}},{"$f":"IF('Serial Data'!AO27+'Serial Data'!AP27+'Serial Data'!AQ27<>0,(AS27*0.866*Templates!K2),NA())","v":{"$error":"#N/A"}},null,{"$f":"'Serial Data'!AV27/('Serial Data'!AT27+'Serial Data'!AU27+'Serial Data'!AV27)","v":{"$error":"#DIV/0!"}},{"$f":"'Serial Data'!AT27/('Serial Data'!AT27+'Serial Data'!AU27+'Serial Data'!AV27)","v":{"$error":"#DIV/0!"}},{"$f":"'Serial Data'!AU27/('Serial Data'!AT27+'Serial Data'!AU27+'Serial Data'!AV27)","v":{"$error":"#DIV/0!"}},{"$f":"IF('Serial Data'!AT27+'Serial Data'!AU27+'Serial Data'!AV27<>0,(AX27+(AY27*0.5)),NA())","v":{"$error":"#N/A"}},{"$f":"IF('Serial Data'!AT27+'Serial Data'!AU27+'Serial Data'!AV27<>0,(AY27*0.866*Templates!K2),NA())","v":{"$error":"#N/A"}},null,{"$f":"'Serial Data'!BA27/('Serial Data'!AY27+'Serial Data'!AZ27+'Serial Data'!BA27)","v":{"$error":"#DIV/0!"}},{"$f":"'Serial Data'!AY27/('Serial Data'!AY27+'Serial Data'!AZ27+'Serial Data'!BA27)","v":{"$error":"#DIV/0!"}},{"$f":"'Serial Data'!AZ27/('Serial Data'!AY27+'Serial Data'!AZ27+'Serial Data'!BA27)","v":{"$error":"#DIV/0!"}},{"$f":"IF('Serial Data'!AY27+'Serial Data'!AZ27+'Serial Data'!BA27<>0,(BD27+(BE27*0.5)),NA())","v":{"$error":"#N/A"}},{"$f":"IF('Serial Data'!AY27+'Serial Data'!AZ27+'Serial Data'!BA27<>0,(BE27*0.866*Templates!K2),NA())","v":{"$error":"#N/A"}},null,{"$f":"'Serial Data'!BF27/('Serial Data'!BD27+'Serial Data'!BE27+'Serial Data'!BF27)","v":{"$error":"#DIV/0!"}},{"$f":"'Serial Data'!BD27/('Serial Data'!BD27+'Serial Data'!BE27+'Serial Data'!BF27)","v":{"$error":"#DIV/0!"}},{"$f":"'Serial Data'!BE27/('Serial Data'!BD27+'Serial Data'!BE27+'Serial Data'!BF27)","v":{"$error":"#DIV/0!"}},{"$f":"IF('Serial Data'!BD27+'Serial Data'!BE27+'Serial Data'!BF27<>0,(BJ27+(BK27*0.5)),NA())","v":{"$error":"#N/A"}},{"$f":"IF('Serial Data'!BD27+'Serial Data'!BE27+'Serial Data'!BF27<>0,(BK27*0.866*Templates!K2),NA())","v":{"$error":"#N/A"}}]
[{"$f":"'Single Data'!N29/('Single Data'!L29+'Single Data'!M29+'Single Data'!N29)","v":{"$error":"#DIV/0!"}},{"$f":"'Single Data'!L29/('Single Data'!L29+'Single Data'!M29+'Single Data'!N29)","v":{"$error":"#DIV/0!"}},{"$f":"'Single Data'!M29/('Single Data'!L29+'Single Data'!M29+'Single Data'!N29)","v":{"$error":"#DIV/0!"}},{"$f":"IF('Single Data'!L29+'Single Data'!M29+'Single Data'!N29<>0,(B28+(C28*0.5)),NA())","v":{"$error":"#N/A"}},{"$f":"IF('Single Data'!L29+'Single Data'!M29+'Single Data'!N29<>0,(C28*0.866*Templates!K2),NA())","v":{"$error":"#N/A"}},null,{"$f":"'Serial Data'!M28/('Serial Data'!K28+'Serial Data'!L28+'Serial Data'!M28)","v":{"$error":"#DIV/0!"}},{"$f":"'Serial Data'!K28/('Serial Data'!K28+'Serial Data'!L28+'Serial Data'!M28)","v":{"$error":"#DIV/0!"}},{"$f":"'Serial Data'!L28/('Serial Data'!K28+'Serial Data'!L28+'Serial Data'!M28)","v":{"$error":"#DIV/0!"}},{"$f":"IF('Serial Data'!K28+'Serial Data'!L28+'Serial Data'!M28<>0,(H28+(I28*0.5)),NA())","v":{"$error":"#N/A"}},{"$f":"IF('Serial Data'!K28+'Serial Data'!L28+'Serial Data'!M28<>0,(I28*0.866*Templates!K2),NA())","v":{"$error":"#N/A"}},null,{"$f":"'Serial Data'!R28/('Serial Data'!P28+'Serial Data'!Q28+'Serial Data'!R28)","v":{"$error":"#DIV/0!"}},{"$f":"'Serial Data'!P28/('Serial Data'!P28+'Serial Data'!Q28+'Serial Data'!R28)","v":{"$error":"#DIV/0!"}},{"$f":"'Serial Data'!Q28/('Serial Data'!P28+'Serial Data'!Q28+'Serial Data'!R28)","v":{"$error":"#DIV/0!"}},{"$f":"IF('Serial Data'!P28+'Serial Data'!Q28+'Serial Data'!R28<>0,(N28+(O28*0.5)),NA())","v":{"$error":"#N/A"}},{"$f":"IF('Serial Data'!P28+'Serial Data'!Q28+'Serial Data'!R28<>0,(O28*0.866*Templates!K2),NA())","v":{"$error":"#N/A"}},null,{"$f":"'Serial Data'!W28/('Serial Data'!U28+'Serial Data'!V28+'Serial Data'!W28)","v":{"$error":"#DIV/0!"}},{"$f":"'Serial Data'!U28/('Serial Data'!U28+'Serial Data'!V28+'Serial Data'!W28)","v":{"$error":"#DIV/0!"}},{"$f":"'Serial Data'!V28/('Serial Data'!U28+'Serial Data'!V28+'Serial Data'!W28)","v":{"$error":"#DIV/0!"}},{"$f":"IF('Serial Data'!V28+'Serial Data'!W28+'Serial Data'!U28<>0,(T28+(U28*0.5)),NA())","v":{"$error":"#N/A"}},{"$f":"IF('Serial Data'!V28+'Serial Data'!W28+'Serial Data'!U28<>0,(U28*0.866*Templates!K2),NA())","v":{"$error":"#N/A"}},null,{"$f":"'Serial Data'!AB28/('Serial Data'!AA28+'Serial Data'!AB28+'Serial Data'!Z28)","v":{"$error":"#DIV/0!"}},{"$f":"'Serial Data'!Z28/('Serial Data'!AA28+'Serial Data'!AB28+'Serial Data'!Z28)","v":{"$error":"#DIV/0!"}},{"$f":"'Serial Data'!AA28/('Serial Data'!AA28+'Serial Data'!AB28+'Serial Data'!Z28)","v":{"$error":"#DIV/0!"}},{"$f":"IF('Serial Data'!AB28+'Serial Data'!AA28+'Serial Data'!Z28<>0,(Z28+(AA28*0.5)),NA())","v":{"$error":"#N/A"}},{"$f":"IF('Serial Data'!AB28+'Serial Data'!AA28+'Serial Data'!Z28<>0,(AA28*0.866*Templates!K2),NA())","v":{"$error":"#N/A"}},null,{"$f":"'Serial Data'!AG28/('Serial Data'!AG28+'Serial Data'!AE28+'Serial Data'!AF28)","v":{"$error":"#DIV/0!"}},{"$f":"'Serial Data'!AE28/('Serial Data'!AG28+'Serial Data'!AE28+'Serial Data'!AF28)","v":{"$error":"#DIV/0!"}},{"$f":"'Serial Data'!AF28/('Serial Data'!AG28+'Serial Data'!AE28+'Serial Data'!AF28)","v":{"$error":"#DIV/0!"}},{"$f":"IF('Serial Data'!AE28+'Serial Data'!AF28+'Serial Data'!AG28<>0,(AF28+(AG28*0.5)),NA())","v":{"$error":"#N/A"}},{"$f":"IF('Serial Data'!AE28+'Serial Data'!AF28+'Serial Data'!AG28<>0,(AG28*0.866*Templates!K2),NA())","v":{"$error":"#N/A"}},null,{"$f":"'Serial Data'!AL28/('Serial Data'!AJ28+'Serial Data'!AK28+'Serial Data'!AL28)","v":{"$error":"#DIV/0!"}},{"$f":"'Serial Data'!AJ28/('Serial Data'!AJ28+'Serial Data'!AK28+'Serial Data'!AL28)","v":{"$error":"#DIV/0!"}},{"$f":"'Serial Data'!AK28/('Serial Data'!AJ28+'Serial Data'!AK28+'Serial Data'!AL28)","v":{"$error":"#DIV/0!"}},{"$f":"IF('Serial Data'!AJ28+'Serial Data'!AK28+'Serial Data'!AL28<>0,(AL28+(AM28*0.5)),NA())","v":{"$error":"#N/A"}},{"$f":"IF('Serial Data'!AJ28+'Serial Data'!AK28+'Serial Data'!AL28<>0,(AM28*0.866*Templates!K2),NA())","v":{"$error":"#N/A"}},null,{"$f":"'Serial Data'!AQ28/('Serial Data'!AO28+'Serial Data'!AP28+'Serial Data'!AQ28)","v":{"$error":"#DIV/0!"}},{"$f":"'Serial Data'!AO28/('Serial Data'!AO28+'Serial Data'!AP28+'Serial Data'!AQ28)","v":{"$error":"#DIV/0!"}},{"$f":"'Serial Data'!AP28/('Serial Data'!AO28+'Serial Data'!AP28+'Serial Data'!AQ28)","v":{"$error":"#DIV/0!"}},{"$f":"IF('Serial Data'!AO28+'Serial Data'!AP28+'Serial Data'!AQ28<>0,(AR28+(AS28*0.5)),NA())","v":{"$error":"#N/A"}},{"$f":"IF('Serial Data'!AO28+'Serial Data'!AP28+'Serial Data'!AQ28<>0,(AS28*0.866*Templates!K2),NA())","v":{"$error":"#N/A"}},null,{"$f":"'Serial Data'!AV28/('Serial Data'!AT28+'Serial Data'!AU28+'Serial Data'!AV28)","v":{"$error":"#DIV/0!"}},{"$f":"'Serial Data'!AT28/('Serial Data'!AT28+'Serial Data'!AU28+'Serial Data'!AV28)","v":{"$error":"#DIV/0!"}},{"$f":"'Serial Data'!AU28/('Serial Data'!AT28+'Serial Data'!AU28+'Serial Data'!AV28)","v":{"$error":"#DIV/0!"}},{"$f":"IF('Serial Data'!AT28+'Serial Data'!AU28+'Serial Data'!AV28<>0,(AX28+(AY28*0.5)),NA())","v":{"$error":"#N/A"}},{"$f":"IF('Serial Data'!AT28+'Serial Data'!AU28+'Serial Data'!AV28<>0,(AY28*0.866*Templates!K2),NA())","v":{"$error":"#N/A"}},null,{"$f":"'Serial Data'!BA28/('Serial Data'!AY28+'Serial Data'!AZ28+'Serial Data'!BA28)","v":{"$error":"#DIV/0!"}},{"$f":"'Serial Data'!AY28/('Serial Data'!AY28+'Serial Data'!AZ28+'Serial Data'!BA28)","v":{"$error":"#DIV/0!"}},{"$f":"'Serial Data'!AZ28/('Serial Data'!AY28+'Serial Data'!AZ28+'Serial Data'!BA28)","v":{"$error":"#DIV/0!"}},{"$f":"IF('Serial Data'!AY28+'Serial Data'!AZ28+'Serial Data'!BA28<>0,(BD28+(BE28*0.5)),NA())","v":{"$error":"#N/A"}},{"$f":"IF('Serial Data'!AY28+'Serial Data'!AZ28+'Serial Data'!BA28<>0,(BE28*0.866*Templates!K2),NA())","v":{"$error":"#N/A"}},null,{"$f":"'Serial Data'!BF28/('Serial Data'!BD28+'Serial Data'!BE28+'Serial Data'!BF28)","v":{"$error":"#DIV/0!"}},{"$f":"'Serial Data'!BD28/('Serial Data'!BD28+'Serial Data'!BE28+'Serial Data'!BF28)","v":{"$error":"#DIV/0!"}},{"$f":"'Serial Data'!BE28/('Serial Data'!BD28+'Serial Data'!BE28+'Serial Data'!BF28)","v":{"$error":"#DIV/0!"}},{"$f":"IF('Serial Data'!BD28+'Serial Data'!BE28+'Serial Data'!BF28<>0,(BJ28+(BK28*0.5)),NA())","v":{"$error":"#N/A"}},{"$f":"IF('Serial Data'!BD28+'Serial Data'!BE28+'Serial Data'!BF28<>0,(BK28*0.866*Templates!K2),NA())","v":{"$error":"#N/A"}}]
[{"$f":"'Single Data'!N30/('Single Data'!L30+'Single Data'!M30+'Single Data'!N30)","v":{"$error":"#DIV/0!"}},{"$f":"'Single Data'!L30/('Single Data'!L30+'Single Data'!M30+'Single Data'!N30)","v":{"$error":"#DIV/0!"}},{"$f":"'Single Data'!M30/('Single Data'!L30+'Single Data'!M30+'Single Data'!N30)","v":{"$error":"#DIV/0!"}},{"$f":"IF('Single Data'!L30+'Single Data'!M30+'Single Data'!N30<>0,(B29+(C29*0.5)),NA())","v":{"$error":"#N/A"}},{"$f":"IF('Single Data'!L30+'Single Data'!M30+'Single Data'!N30<>0,(C29*0.866*Templates!K2),NA())","v":{"$error":"#N/A"}},null,{"$f":"'Serial Data'!M29/('Serial Data'!K29+'Serial Data'!L29+'Serial Data'!M29)","v":{"$error":"#DIV/0!"}},{"$f":"'Serial Data'!K29/('Serial Data'!K29+'Serial Data'!L29+'Serial Data'!M29)","v":{"$error":"#DIV/0!"}},{"$f":"'Serial Data'!L29/('Serial Data'!K29+'Serial Data'!L29+'Serial Data'!M29)","v":{"$error":"#DIV/0!"}},{"$f":"IF('Serial Data'!K29+'Serial Data'!L29+'Serial Data'!M29<>0,(H29+(I29*0.5)),NA())","v":{"$error":"#N/A"}},{"$f":"IF('Serial Data'!K29+'Serial Data'!L29+'Serial Data'!M29<>0,(I29*0.866*Templates!K2),NA())","v":{"$error":"#N/A"}},null,{"$f":"'Serial Data'!R29/('Serial Data'!P29+'Serial Data'!Q29+'Serial Data'!R29)","v":{"$error":"#DIV/0!"}},{"$f":"'Serial Data'!P29/('Serial Data'!P29+'Serial Data'!Q29+'Serial Data'!R29)","v":{"$error":"#DIV/0!"}},{"$f":"'Serial Data'!Q29/('Serial Data'!P29+'Serial Data'!Q29+'Serial Data'!R29)","v":{"$error":"#DIV/0!"}},{"$f":"IF('Serial Data'!P29+'Serial Data'!Q29+'Serial Data'!R29<>0,(N29+(O29*0.5)),NA())","v":{"$error":"#N/A"}},{"$f":"IF('Serial Data'!P29+'Serial Data'!Q29+'Serial Data'!R29<>0,(O29*0.866*Templates!K2),NA())","v":{"$error":"#N/A"}},null,{"$f":"'Serial Data'!W29/('Serial Data'!U29+'Serial Data'!V29+'Serial Data'!W29)","v":{"$error":"#DIV/0!"}},{"$f":"'Serial Data'!U29/('Serial Data'!U29+'Serial Data'!V29+'Serial Data'!W29)","v":{"$error":"#DIV/0!"}},{"$f":"'Serial Data'!V29/('Serial Data'!U29+'Serial Data'!V29+'Serial Data'!W29)","v":{"$error":"#DIV/0!"}},{"$f":"IF('Serial Data'!V29+'Serial Data'!W29+'Serial Data'!U29<>0,(T29+(U29*0.5)),NA())","v":{"$error":"#N/A"}},{"$f":"IF('Serial Data'!V29+'Serial Data'!W29+'Serial Data'!U29<>0,(U29*0.866*Templates!K2),NA())","v":{"$error":"#N/A"}},null,{"$f":"'Serial Data'!AB29/('Serial Data'!AA29+'Serial Data'!AB29+'Serial Data'!Z29)","v":{"$error":"#DIV/0!"}},{"$f":"'Serial Data'!Z29/('Serial Data'!AA29+'Serial Data'!AB29+'Serial Data'!Z29)","v":{"$error":"#DIV/0!"}},{"$f":"'Serial Data'!AA29/('Serial Data'!AA29+'Serial Data'!AB29+'Serial Data'!Z29)","v":{"$error":"#DIV/0!"}},{"$f":"IF('Serial Data'!AB29+'Serial Data'!AA29+'Serial Data'!Z29<>0,(Z29+(AA29*0.5)),NA())","v":{"$error":"#N/A"}},{"$f":"IF('Serial Data'!AB29+'Serial Data'!AA29+'Serial Data'!Z29<>0,(AA29*0.866*Templates!K2),NA())","v":{"$error":"#N/A"}},null,{"$f":"'Serial Data'!AG29/('Serial Data'!AG29+'Serial Data'!AE29+'Serial Data'!AF29)","v":{"$error":"#DIV/0!"}},{"$f":"'Serial Data'!AE29/('Serial Data'!AG29+'Serial Data'!AE29+'Serial Data'!AF29)","v":{"$error":"#DIV/0!"}},{"$f":"'Serial Data'!AF29/('Serial Data'!AG29+'Serial Data'!AE29+'Serial Data'!AF29)","v":{"$error":"#DIV/0!"}},{"$f":"IF('Serial Data'!AE29+'Serial Data'!AF29+'Serial Data'!AG29<>0,(AF29+(AG29*0.5)),NA())","v":{"$error":"#N/A"}},{"$f":"IF('Serial Data'!AE29+'Serial Data'!AF29+'Serial Data'!AG29<>0,(AG29*0.866*Templates!K2),NA())","v":{"$error":"#N/A"}},null,{"$f":"'Serial Data'!AL29/('Serial Data'!AJ29+'Serial Data'!AK29+'Serial Data'!AL29)","v":{"$error":"#DIV/0!"}},{"$f":"'Serial Data'!AJ29/('Serial Data'!AJ29+'Serial Data'!AK29+'Serial Data'!AL29)","v":{"$error":"#DIV/0!"}},{"$f":"'Serial Data'!AK29/('Serial Data'!AJ29+'Serial Data'!AK29+'Serial Data'!AL29)","v":{"$error":"#DIV/0!"}},{"$f":"IF('Serial Data'!AJ29+'Serial Data'!AK29+'Serial Data'!AL29<>0,(AL29+(AM29*0.5)),NA())","v":{"$error":"#N/A"}},{"$f":"IF('Serial Data'!AJ29+'Serial Data'!AK29+'Serial Data'!AL29<>0,(AM29*0.866*Templates!K2),NA())","v":{"$error":"#N/A"}},null,{"$f":"'Serial Data'!AQ29/('Serial Data'!AO29+'Serial Data'!AP29+'Serial Data'!AQ29)","v":{"$error":"#DIV/0!"}},{"$f":"'Serial Data'!AO29/('Serial Data'!AO29+'Serial Data'!AP29+'Serial Data'!AQ29)","v":{"$error":"#DIV/0!"}},{"$f":"'Serial Data'!AP29/('Serial Data'!AO29+'Serial Data'!AP29+'Serial Data'!AQ29)","v":{"$error":"#DIV/0!"}},{"$f":"IF('Serial Data'!AO29+'Serial Data'!AP29+'Serial Data'!AQ29<>0,(AR29+(AS29*0.5)),NA())","v":{"$error":"#N/A"}},{"$f":"IF('Serial Data'!AO29+'Serial Data'!AP29+'Serial Data'!AQ29<>0,(AS29*0.866*Templates!K2),NA())","v":{"$error":"#N/A"}},null,{"$f":"'Serial Data'!AV29/('Serial Data'!AT29+'Serial Data'!AU29+'Serial Data'!AV29)","v":{"$error":"#DIV/0!"}},{"$f":"'Serial Data'!AT29/('Serial Data'!AT29+'Serial Data'!AU29+'Serial Data'!AV29)","v":{"$error":"#DIV/0!"}},{"$f":"'Serial Data'!AU29/('Serial Data'!AT29+'Serial Data'!AU29+'Serial Data'!AV29)","v":{"$error":"#DIV/0!"}},{"$f":"IF('Serial Data'!AT29+'Serial Data'!AU29+'Serial Data'!AV29<>0,(AX29+(AY29*0.5)),NA())","v":{"$error":"#N/A"}},{"$f":"IF('Serial Data'!AT29+'Serial Data'!AU29+'Serial Data'!AV29<>0,(AY29*0.866*Templates!K2),NA())","v":{"$error":"#N/A"}},null,{"$f":"'Serial Data'!BA29/('Serial Data'!AY29+'Serial Data'!AZ29+'Serial Data'!BA29)","v":{"$error":"#DIV/0!"}},{"$f":"'Serial Data'!AY29/('Serial Data'!AY29+'Serial Data'!AZ29+'Serial Data'!BA29)","v":{"$error":"#DIV/0!"}},{"$f":"'Serial Data'!AZ29/('Serial Data'!AY29+'Serial Data'!AZ29+'Serial Data'!BA29)","v":{"$error":"#DIV/0!"}},{"$f":"IF('Serial Data'!AY29+'Serial Data'!AZ29+'Serial Data'!BA29<>0,(BD29+(BE29*0.5)),NA())","v":{"$error":"#N/A"}},{"$f":"IF('Serial Data'!AY29+'Serial Data'!AZ29+'Serial Data'!BA29<>0,(BE29*0.866*Templates!K2),NA())","v":{"$error":"#N/A"}},null,{"$f":"'Serial Data'!BF29/('Serial Data'!BD29+'Serial Data'!BE29+'Serial Data'!BF29)","v":{"$error":"#DIV/0!"}},{"$f":"'Serial Data'!BD29/('Serial Data'!BD29+'Serial Data'!BE29+'Serial Data'!BF29)","v":{"$error":"#DIV/0!"}},{"$f":"'Serial Data'!BE29/('Serial Data'!BD29+'Serial Data'!BE29+'Serial Data'!BF29)","v":{"$error":"#DIV/0!"}},{"$f":"IF('Serial Data'!BD29+'Serial Data'!BE29+'Serial Data'!BF29<>0,(BJ29+(BK29*0.5)),NA())","v":{"$error":"#N/A"}},{"$f":"IF('Serial Data'!BD29+'Serial Data'!BE29+'Serial Data'!BF29<>0,(BK29*0.866*Templates!K2),NA())","v":{"$error":"#N/A"}}]
[{"$f":"'Single Data'!N31/('Single Data'!L31+'Single Data'!M31+'Single Data'!N31)","v":{"$error":"#DIV/0!"}},{"$f":"'Single Data'!L31/('Single Data'!L31+'Single Data'!M31+'Single Data'!N31)","v":{"$error":"#DIV/0!"}},{"$f":"'Single Data'!M31/('Single Data'!L31+'Single Data'!M31+'Single Data'!N31)","v":{"$error":"#DIV/0!"}},{"$f":"IF('Single Data'!L31+'Single Data'!M31+'Single Data'!N31<>0,(B30+(C30*0.5)),NA())","v":{"$error":"#N/A"}},{"$f":"IF('Single Data'!L31+'Single Data'!M31+'Single Data'!N31<>0,(C30*0.866*Templates!K2),NA())","v":{"$error":"#N/A"}},null,{"$f":"'Serial Data'!M30/('Serial Data'!K30+'Serial Data'!L30+'Serial Data'!M30)","v":{"$error":"#DIV/0!"}},{"$f":"'Serial Data'!K30/('Serial Data'!K30+'Serial Data'!L30+'Serial Data'!M30)","v":{"$error":"#DIV/0!"}},{"$f":"'Serial Data'!L30/('Serial Data'!K30+'Serial Data'!L30+'Serial Data'!M30)","v":{"$error":"#DIV/0!"}},{"$f":"IF('Serial Data'!K30+'Serial Data'!L30+'Serial Data'!M30<>0,(H30+(I30*0.5)),NA())","v":{"$error":"#N/A"}},{"$f":"IF('Serial Data'!K30+'Serial Data'!L30+'Serial Data'!M30<>0,(I30*0.866*Templates!K2),NA())","v":{"$error":"#N/A"}},null,{"$f":"'Serial Data'!R30/('Serial Data'!P30+'Serial Data'!Q30+'Serial Data'!R30)","v":{"$error":"#DIV/0!"}},{"$f":"'Serial Data'!P30/('Serial Data'!P30+'Serial Data'!Q30+'Serial Data'!R30)","v":{"$error":"#DIV/0!"}},{"$f":"'Serial Data'!Q30/('Serial Data'!P30+'Serial Data'!Q30+'Serial Data'!R30)","v":{"$error":"#DIV/0!"}},{"$f":"IF('Serial Data'!P30+'Serial Data'!Q30+'Serial Data'!R30<>0,(N30+(O30*0.5)),NA())","v":{"$error":"#N/A"}},{"$f":"IF('Serial Data'!P30+'Serial Data'!Q30+'Serial Data'!R30<>0,(O30*0.866*Templates!K2),NA())","v":{"$error":"#N/A"}},null,{"$f":"'Serial Data'!W30/('Serial Data'!U30+'Serial Data'!V30+'Serial Data'!W30)","v":{"$error":"#DIV/0!"}},{"$f":"'Serial Data'!U30/('Serial Data'!U30+'Serial Data'!V30+'Serial Data'!W30)","v":{"$error":"#DIV/0!"}},{"$f":"'Serial Data'!V30/('Serial Data'!U30+'Serial Data'!V30+'Serial Data'!W30)","v":{"$error":"#DIV/0!"}},{"$f":"IF('Serial Data'!V30+'Serial Data'!W30+'Serial Data'!U30<>0,(T30+(U30*0.5)),NA())","v":{"$error":"#N/A"}},{"$f":"IF('Serial Data'!V30+'Serial Data'!W30+'Serial Data'!U30<>0,(U30*0.866*Templates!K2),NA())","v":{"$error":"#N/A"}},null,{"$f":"'Serial Data'!AB30/('Serial Data'!AA30+'Serial Data'!AB30+'Serial Data'!Z30)","v":{"$error":"#DIV/0!"}},{"$f":"'Serial Data'!Z30/('Serial Data'!AA30+'Serial Data'!AB30+'Serial Data'!Z30)","v":{"$error":"#DIV/0!"}},{"$f":"'Serial Data'!AA30/('Serial Data'!AA30+'Serial Data'!AB30+'Serial Data'!Z30)","v":{"$error":"#DIV/0!"}},{"$f":"IF('Serial Data'!AB30+'Serial Data'!AA30+'Serial Data'!Z30<>0,(Z30+(AA30*0.5)),NA())","v":{"$error":"#N/A"}},{"$f":"IF('Serial Data'!AB30+'Serial Data'!AA30+'Serial Data'!Z30<>0,(AA30*0.866*Templates!K2),NA())","v":{"$error":"#N/A"}},null,{"$f":"'Serial Data'!AG30/('Serial Data'!AG30+'Serial Data'!AE30+'Serial Data'!AF30)","v":{"$error":"#DIV/0!"}},{"$f":"'Serial Data'!AE30/('Serial Data'!AG30+'Serial Data'!AE30+'Serial Data'!AF30)","v":{"$error":"#DIV/0!"}},{"$f":"'Serial Data'!AF30/('Serial Data'!AG30+'Serial Data'!AE30+'Serial Data'!AF30)","v":{"$error":"#DIV/0!"}},{"$f":"IF('Serial Data'!AE30+'Serial Data'!AF30+'Serial Data'!AG30<>0,(AF30+(AG30*0.5)),NA())","v":{"$error":"#N/A"}},{"$f":"IF('Serial Data'!AE30+'Serial Data'!AF30+'Serial Data'!AG30<>0,(AG30*0.866*Templates!K2),NA())","v":{"$error":"#N/A"}},null,{"$f":"'Serial Data'!AL30/('Serial Data'!AJ30+'Serial Data'!AK30+'Serial Data'!AL30)","v":{"$error":"#DIV/0!"}},{"$f":"'Serial Data'!AJ30/('Serial Data'!AJ30+'Serial Data'!AK30+'Serial Data'!AL30)","v":{"$error":"#DIV/0!"}},{"$f":"'Serial Data'!AK30/('Serial Data'!AJ30+'Serial Data'!AK30+'Serial Data'!AL30)","v":{"$error":"#DIV/0!"}},{"$f":"IF('Serial Data'!AJ30+'Serial Data'!AK30+'Serial Data'!AL30<>0,(AL30+(AM30*0.5)),NA())","v":{"$error":"#N/A"}},{"$f":"IF('Serial Data'!AJ30+'Serial Data'!AK30+'Serial Data'!AL30<>0,(AM30*0.866*Templates!K2),NA())","v":{"$error":"#N/A"}},null,{"$f":"'Serial Data'!AQ30/('Serial Data'!AO30+'Serial Data'!AP30+'Serial Data'!AQ30)","v":{"$error":"#DIV/0!"}},{"$f":"'Serial Data'!AO30/('Serial Data'!AO30+'Serial Data'!AP30+'Serial Data'!AQ30)","v":{"$error":"#DIV/0!"}},{"$f":"'Serial Data'!AP30/('Serial Data'!AO30+'Serial Data'!AP30+'Serial Data'!AQ30)","v":{"$error":"#DIV/0!"}},{"$f":"IF('Serial Data'!AO30+'Serial Data'!AP30+'Serial Data'!AQ30<>0,(AR30+(AS30*0.5)),NA())","v":{"$error":"#N/A"}},{"$f":"IF('Serial Data'!AO30+'Serial Data'!AP30+'Serial Data'!AQ30<>0,(AS30*0.866*Templates!K2),NA())","v":{"$error":"#N/A"}},null,{"$f":"'Serial Data'!AV30/('Serial Data'!AT30+'Serial Data'!AU30+'Serial Data'!AV30)","v":{"$error":"#DIV/0!"}},{"$f":"'Serial Data'!AT30/('Serial Data'!AT30+'Serial Data'!AU30+'Serial Data'!AV30)","v":{"$error":"#DIV/0!"}},{"$f":"'Serial Data'!AU30/('Serial Data'!AT30+'Serial Data'!AU30+'Serial Data'!AV30)","v":{"$error":"#DIV/0!"}},{"$f":"IF('Serial Data'!AT30+'Serial Data'!AU30+'Serial Data'!AV30<>0,(AX30+(AY30*0.5)),NA())","v":{"$error":"#N/A"}},{"$f":"IF('Serial Data'!AT30+'Serial Data'!AU30+'Serial Data'!AV30<>0,(AY30*0.866*Templates!K2),NA())","v":{"$error":"#N/A"}},null,{"$f":"'Serial Data'!BA30/('Serial Data'!AY30+'Serial Data'!AZ30+'Serial Data'!BA30)","v":{"$error":"#DIV/0!"}},{"$f":"'Serial Data'!AY30/('Serial Data'!AY30+'Serial Data'!AZ30+'Serial Data'!BA30)","v":{"$error":"#DIV/0!"}},{"$f":"'Serial Data'!AZ30/('Serial Data'!AY30+'Serial Data'!AZ30+'Serial Data'!BA30)","v":{"$error":"#DIV/0!"}},{"$f":"IF('Serial Data'!AY30+'Serial Data'!AZ30+'Serial Data'!BA30<>0,(BD30+(BE30*0.5)),NA())","v":{"$error":"#N/A"}},{"$f":"IF('Serial Data'!AY30+'Serial Data'!AZ30+'Serial Data'!BA30<>0,(BE30*0.866*Templates!K2),NA())","v":{"$error":"#N/A"}},null,{"$f":"'Serial Data'!BF30/('Serial Data'!BD30+'Serial Data'!BE30+'Serial Data'!BF30)","v":{"$error":"#DIV/0!"}},{"$f":"'Serial Data'!BD30/('Serial Data'!BD30+'Serial Data'!BE30+'Serial Data'!BF30)","v":{"$error":"#DIV/0!"}},{"$f":"'Serial Data'!BE30/('Serial Data'!BD30+'Serial Data'!BE30+'Serial Data'!BF30)","v":{"$error":"#DIV/0!"}},{"$f":"IF('Serial Data'!BD30+'Serial Data'!BE30+'Serial Data'!BF30<>0,(BJ30+(BK30*0.5)),NA())","v":{"$error":"#N/A"}},{"$f":"IF('Serial Data'!BD30+'Serial Data'!BE30+'Serial Data'!BF30<>0,(BK30*0.866*Templates!K2),NA())","v":{"$error":"#N/A"}}]
[{"$f":"'Single Data'!N32/('Single Data'!L32+'Single Data'!M32+'Single Data'!N32)","v":{"$error":"#DIV/0!"}},{"$f":"'Single Data'!L32/('Single Data'!L32+'Single Data'!M32+'Single Data'!N32)","v":{"$error":"#DIV/0!"}},{"$f":"'Single Data'!M32/('Single Data'!L32+'Single Data'!M32+'Single Data'!N32)","v":{"$error":"#DIV/0!"}},{"$f":"IF('Single Data'!L32+'Single Data'!M32+'Single Data'!N32<>0,(B31+(C31*0.5)),NA())","v":{"$error":"#N/A"}},{"$f":"IF('Single Data'!L32+'Single Data'!M32+'Single Data'!N32<>0,(C31*0.866*Templates!K2),NA())","v":{"$error":"#N/A"}},null,{"$f":"'Serial Data'!M31/('Serial Data'!K31+'Serial Data'!L31+'Serial Data'!M31)","v":{"$error":"#DIV/0!"}},{"$f":"'Serial Data'!K31/('Serial Data'!K31+'Serial Data'!L31+'Serial Data'!M31)","v":{"$error":"#DIV/0!"}},{"$f":"'Serial Data'!L31/('Serial Data'!K31+'Serial Data'!L31+'Serial Data'!M31)","v":{"$error":"#DIV/0!"}},{"$f":"IF('Serial Data'!K31+'Serial Data'!L31+'Serial Data'!M31<>0,(H31+(I31*0.5)),NA())","v":{"$error":"#N/A"}},{"$f":"IF('Serial Data'!K31+'Serial Data'!L31+'Serial Data'!M31<>0,(I31*0.866*Templates!K2),NA())","v":{"$error":"#N/A"}},null,{"$f":"'Serial Data'!R31/('Serial Data'!P31+'Serial Data'!Q31+'Serial Data'!R31)","v":{"$error":"#DIV/0!"}},{"$f":"'Serial Data'!P31/('Serial Data'!P31+'Serial Data'!Q31+'Serial Data'!R31)","v":{"$error":"#DIV/0!"}},{"$f":"'Serial Data'!Q31/('Serial Data'!P31+'Serial Data'!Q31+'Serial Data'!R31)","v":{"$error":"#DIV/0!"}},{"$f":"IF('Serial Data'!P31+'Serial Data'!Q31+'Serial Data'!R31<>0,(N31+(O31*0.5)),NA())","v":{"$error":"#N/A"}},{"$f":"IF('Serial Data'!P31+'Serial Data'!Q31+'Serial Data'!R31<>0,(O31*0.866*Templates!K2),NA())","v":{"$error":"#N/A"}},null,{"$f":"'Serial Data'!W31/('Serial Data'!U31+'Serial Data'!V31+'Serial Data'!W31)","v":{"$error":"#DIV/0!"}},{"$f":"'Serial Data'!U31/('Serial Data'!U31+'Serial Data'!V31+'Serial Data'!W31)","v":{"$error":"#DIV/0!"}},{"$f":"'Serial Data'!V31/('Serial Data'!U31+'Serial Data'!V31+'Serial Data'!W31)","v":{"$error":"#DIV/0!"}},{"$f":"IF('Serial Data'!V31+'Serial Data'!W31+'Serial Data'!U31<>0,(T31+(U31*0.5)),NA())","v":{"$error":"#N/A"}},{"$f":"IF('Serial Data'!V31+'Serial Data'!W31+'Serial Data'!U31<>0,(U31*0.866*Templates!K2),NA())","v":{"$error":"#N/A"}},null,{"$f":"'Serial Data'!AB31/('Serial Data'!AA31+'Serial Data'!AB31+'Serial Data'!Z31)","v":{"$error":"#DIV/0!"}},{"$f":"'Serial Data'!Z31/('Serial Data'!AA31+'Serial Data'!AB31+'Serial Data'!Z31)","v":{"$error":"#DIV/0!"}},{"$f":"'Serial Data'!AA31/('Serial Data'!AA31+'Serial Data'!AB31+'Serial Data'!Z31)","v":{"$error":"#DIV/0!"}},{"$f":"IF('Serial Data'!AB31+'Serial Data'!AA31+'Serial Data'!Z31<>0,(Z31+(AA31*0.5)),NA())","v":{"$error":"#N/A"}},{"$f":"IF('Serial Data'!AB31+'Serial Data'!AA31+'Serial Data'!Z31<>0,(AA31*0.866*Templates!K2),NA())","v":{"$error":"#N/A"}},null,{"$f":"'Serial Data'!AG31/('Serial Data'!AG31+'Serial Data'!AE31+'Serial Data'!AF31)","v":{"$error":"#DIV/0!"}},{"$f":"'Serial Data'!AE31/('Serial Data'!AG31+'Serial Data'!AE31+'Serial Data'!AF31)","v":{"$error":"#DIV/0!"}},{"$f":"'Serial Data'!AF31/('Serial Data'!AG31+'Serial Data'!AE31+'Serial Data'!AF31)","v":{"$error":"#DIV/0!"}},{"$f":"IF('Serial Data'!AE31+'Serial Data'!AF31+'Serial Data'!AG31<>0,(AF31+(AG31*0.5)),NA())","v":{"$error":"#N/A"}},{"$f":"IF('Serial Data'!AE31+'Serial Data'!AF31+'Serial Data'!AG31<>0,(AG31*0.866*Templates!K2),NA())","v":{"$error":"#N/A"}},null,{"$f":"'Serial Data'!AL31/('Serial Data'!AJ31+'Serial Data'!AK31+'Serial Data'!AL31)","v":{"$error":"#DIV/0!"}},{"$f":"'Serial Data'!AJ31/('Serial Data'!AJ31+'Serial Data'!AK31+'Serial Data'!AL31)","v":{"$error":"#DIV/0!"}},{"$f":"'Serial Data'!AK31/('Serial Data'!AJ31+'Serial Data'!AK31+'Serial Data'!AL31)","v":{"$error":"#DIV/0!"}},{"$f":"IF('Serial Data'!AJ31+'Serial Data'!AK31+'Serial Data'!AL31<>0,(AL31+(AM31*0.5)),NA())","v":{"$error":"#N/A"}},{"$f":"IF('Serial Data'!AJ31+'Serial Data'!AK31+'Serial Data'!AL31<>0,(AM31*0.866*Templates!K2),NA())","v":{"$error":"#N/A"}},null,{"$f":"'Serial Data'!AQ31/('Serial Data'!AO31+'Serial Data'!AP31+'Serial Data'!AQ31)","v":{"$error":"#DIV/0!"}},{"$f":"'Serial Data'!AO31/('Serial Data'!AO31+'Serial Data'!AP31+'Serial Data'!AQ31)","v":{"$error":"#DIV/0!"}},{"$f":"'Serial Data'!AP31/('Serial Data'!AO31+'Serial Data'!AP31+'Serial Data'!AQ31)","v":{"$error":"#DIV/0!"}},{"$f":"IF('Serial Data'!AO31+'Serial Data'!AP31+'Serial Data'!AQ31<>0,(AR31+(AS31*0.5)),NA())","v":{"$error":"#N/A"}},{"$f":"IF('Serial Data'!AO31+'Serial Data'!AP31+'Serial Data'!AQ31<>0,(AS31*0.866*Templates!K2),NA())","v":{"$error":"#N/A"}},null,{"$f":"'Serial Data'!AV31/('Serial Data'!AT31+'Serial Data'!AU31+'Serial Data'!AV31)","v":{"$error":"#DIV/0!"}},{"$f":"'Serial Data'!AT31/('Serial Data'!AT31+'Serial Data'!AU31+'Serial Data'!AV31)","v":{"$error":"#DIV/0!"}},{"$f":"'Serial Data'!AU31/('Serial Data'!AT31+'Serial Data'!AU31+'Serial Data'!AV31)","v":{"$error":"#DIV/0!"}},{"$f":"IF('Serial Data'!AT31+'Serial Data'!AU31+'Serial Data'!AV31<>0,(AX31+(AY31*0.5)),NA())","v":{"$error":"#N/A"}},{"$f":"IF('Serial Data'!AT31+'Serial Data'!AU31+'Serial Data'!AV31<>0,(AY31*0.866*Templates!K2),NA())","v":{"$error":"#N/A"}},null,{"$f":"'Serial Data'!BA31/('Serial Data'!AY31+'Serial Data'!AZ31+'Serial Data'!BA31)","v":{"$error":"#DIV/0!"}},{"$f":"'Serial Data'!AY31/('Serial Data'!AY31+'Serial Data'!AZ31+'Serial Data'!BA31)","v":{"$error":"#DIV/0!"}},{"$f":"'Serial Data'!AZ31/('Serial Data'!AY31+'Serial Data'!AZ31+'Serial Data'!BA31)","v":{"$error":"#DIV/0!"}},{"$f":"IF('Serial Data'!AY31+'Serial Data'!AZ31+'Serial Data'!BA31<>0,(BD31+(BE31*0.5)),NA())","v":{"$error":"#N/A"}},{"$f":"IF('Serial Data'!AY31+'Serial Data'!AZ31+'Serial Data'!BA31<>0,(BE31*0.866*Templates!K2),NA())","v":{"$error":"#N/A"}},null,{"$f":"'Serial Data'!BF31/('Serial Data'!BD31+'Serial Data'!BE31+'Serial Data'!BF31)","v":{"$error":"#DIV/0!"}},{"$f":"'Serial Data'!BD31/('Serial Data'!BD31+'Serial Data'!BE31+'Serial Data'!BF31)","v":{"$error":"#DIV/0!"}},{"$f":"'Serial Data'!BE31/('Serial Data'!BD31+'Serial Data'!BE31+'Serial Data'!BF31)","v":{"$error":"#DIV/0!"}},{"$f":"IF('Serial Data'!BD31+'Serial Data'!BE31+'Serial Data'!BF31<>0,(BJ31+(BK31*0.5)),NA())","v":{"$error":"#N/A"}},{"$f":"IF('Serial Data'!BD31+'Serial Data'!BE31+'Serial Data'!BF31<>0,(BK31*0.866*Templates!K2),NA())","v":{"$error":"#N/A"}}]
[{"$f":"'Single Data'!N33/('Single Data'!L33+'Single Data'!M33+'Single Data'!N33)","v":{"$error":"#DIV/0!"}},{"$f":"'Single Data'!L33/('Single Data'!L33+'Single Data'!M33+'Single Data'!N33)","v":{"$error":"#DIV/0!"}},{"$f":"'Single Data'!M33/('Single Data'!L33+'Single Data'!M33+'Single Data'!N33)","v":{"$error":"#DIV/0!"}},{"$f":"IF('Single Data'!L33+'Single Data'!M33+'Single Data'!N33<>0,(B32+(C32*0.5)),NA())","v":{"$error":"#N/A"}},{"$f":"IF('Single Data'!L33+'Single Data'!M33+'Single Data'!N33<>0,(C32*0.866*Templates!K2),NA())","v":{"$error":"#N/A"}},null,{"$f":"'Serial Data'!M32/('Serial Data'!K32+'Serial Data'!L32+'Serial Data'!M32)","v":{"$error":"#DIV/0!"}},{"$f":"'Serial Data'!K32/('Serial Data'!K32+'Serial Data'!L32+'Serial Data'!M32)","v":{"$error":"#DIV/0!"}},{"$f":"'Serial Data'!L32/('Serial Data'!K32+'Serial Data'!L32+'Serial Data'!M32)","v":{"$error":"#DIV/0!"}},{"$f":"IF('Serial Data'!K32+'Serial Data'!L32+'Serial Data'!M32<>0,(H32+(I32*0.5)),NA())","v":{"$error":"#N/A"}},{"$f":"IF('Serial Data'!K32+'Serial Data'!L32+'Serial Data'!M32<>0,(I32*0.866*Templates!K2),NA())","v":{"$error":"#N/A"}},null,{"$f":"'Serial Data'!R32/('Serial Data'!P32+'Serial Data'!Q32+'Serial Data'!R32)","v":{"$error":"#DIV/0!"}},{"$f":"'Serial Data'!P32/('Serial Data'!P32+'Serial Data'!Q32+'Serial Data'!R32)","v":{"$error":"#DIV/0!"}},{"$f":"'Serial Data'!Q32/('Serial Data'!P32+'Serial Data'!Q32+'Serial Data'!R32)","v":{"$error":"#DIV/0!"}},{"$f":"IF('Serial Data'!P32+'Serial Data'!Q32+'Serial Data'!R32<>0,(N32+(O32*0.5)),NA())","v":{"$error":"#N/A"}},{"$f":"IF('Serial Data'!P32+'Serial Data'!Q32+'Serial Data'!R32<>0,(O32*0.866*Templates!K2),NA())","v":{"$error":"#N/A"}},null,{"$f":"'Serial Data'!W32/('Serial Data'!U32+'Serial Data'!V32+'Serial Data'!W32)","v":{"$error":"#DIV/0!"}},{"$f":"'Serial Data'!U32/('Serial Data'!U32+'Serial Data'!V32+'Serial Data'!W32)","v":{"$error":"#DIV/0!"}},{"$f":"'Serial Data'!V32/('Serial Data'!U32+'Serial Data'!V32+'Serial Data'!W32)","v":{"$error":"#DIV/0!"}},{"$f":"IF('Serial Data'!V32+'Serial Data'!W32+'Serial Data'!U32<>0,(T32+(U32*0.5)),NA())","v":{"$error":"#N/A"}},{"$f":"IF('Serial Data'!V32+'Serial Data'!W32+'Serial Data'!U32<>0,(U32*0.866*Templates!K2),NA())","v":{"$error":"#N/A"}},null,{"$f":"'Serial Data'!AB32/('Serial Data'!AA32+'Serial Data'!AB32+'Serial Data'!Z32)","v":{"$error":"#DIV/0!"}},{"$f":"'Serial Data'!Z32/('Serial Data'!AA32+'Serial Data'!AB32+'Serial Data'!Z32)","v":{"$error":"#DIV/0!"}},{"$f":"'Serial Data'!AA32/('Serial Data'!AA32+'Serial Data'!AB32+'Serial Data'!Z32)","v":{"$error":"#DIV/0!"}},{"$f":"IF('Serial Data'!AB32+'Serial Data'!AA32+'Serial Data'!Z32<>0,(Z32+(AA32*0.5)),NA())","v":{"$error":"#N/A"}},{"$f":"IF('Serial Data'!AB32+'Serial Data'!AA32+'Serial Data'!Z32<>0,(AA32*0.866*Templates!K2),NA())","v":{"$error":"#N/A"}},null,{"$f":"'Serial Data'!AG32/('Serial Data'!AG32+'Serial Data'!AE32+'Serial Data'!AF32)","v":{"$error":"#DIV/0!"}},{"$f":"'Serial Data'!AE32/('Serial Data'!AG32+'Serial Data'!AE32+'Serial Data'!AF32)","v":{"$error":"#DIV/0!"}},{"$f":"'Serial Data'!AF32/('Serial Data'!AG32+'Serial Data'!AE32+'Serial Data'!AF32)","v":{"$error":"#DIV/0!"}},{"$f":"IF('Serial Data'!AE32+'Serial Data'!AF32+'Serial Data'!AG32<>0,(AF32+(AG32*0.5)),NA())","v":{"$error":"#N/A"}},{"$f":"IF('Serial Data'!AE32+'Serial Data'!AF32+'Serial Data'!AG32<>0,(AG32*0.866*Templates!K2),NA())","v":{"$error":"#N/A"}},null,{"$f":"'Serial Data'!AL32/('Serial Data'!AJ32+'Serial Data'!AK32+'Serial Data'!AL32)","v":{"$error":"#DIV/0!"}},{"$f":"'Serial Data'!AJ32/('Serial Data'!AJ32+'Serial Data'!AK32+'Serial Data'!AL32)","v":{"$error":"#DIV/0!"}},{"$f":"'Serial Data'!AK32/('Serial Data'!AJ32+'Serial Data'!AK32+'Serial Data'!AL32)","v":{"$error":"#DIV/0!"}},{"$f":"IF('Serial Data'!AJ32+'Serial Data'!AK32+'Serial Data'!AL32<>0,(AL32+(AM32*0.5)),NA())","v":{"$error":"#N/A"}},{"$f":"IF('Serial Data'!AJ32+'Serial Data'!AK32+'Serial Data'!AL32<>0,(AM32*0.866*Templates!K2),NA())","v":{"$error":"#N/A"}},null,{"$f":"'Serial Data'!AQ32/('Serial Data'!AO32+'Serial Data'!AP32+'Serial Data'!AQ32)","v":{"$error":"#DIV/0!"}},{"$f":"'Serial Data'!AO32/('Serial Data'!AO32+'Serial Data'!AP32+'Serial Data'!AQ32)","v":{"$error":"#DIV/0!"}},{"$f":"'Serial Data'!AP32/('Serial Data'!AO32+'Serial Data'!AP32+'Serial Data'!AQ32)","v":{"$error":"#DIV/0!"}},{"$f":"IF('Serial Data'!AO32+'Serial Data'!AP32+'Serial Data'!AQ32<>0,(AR32+(AS32*0.5)),NA())","v":{"$error":"#N/A"}},{"$f":"IF('Serial Data'!AO32+'Serial Data'!AP32+'Serial Data'!AQ32<>0,(AS32*0.866*Templates!K2),NA())","v":{"$error":"#N/A"}},null,{"$f":"'Serial Data'!AV32/('Serial Data'!AT32+'Serial Data'!AU32+'Serial Data'!AV32)","v":{"$error":"#DIV/0!"}},{"$f":"'Serial Data'!AT32/('Serial Data'!AT32+'Serial Data'!AU32+'Serial Data'!AV32)","v":{"$error":"#DIV/0!"}},{"$f":"'Serial Data'!AU32/('Serial Data'!AT32+'Serial Data'!AU32+'Serial Data'!AV32)","v":{"$error":"#DIV/0!"}},{"$f":"IF('Serial Data'!AT32+'Serial Data'!AU32+'Serial Data'!AV32<>0,(AX32+(AY32*0.5)),NA())","v":{"$error":"#N/A"}},{"$f":"IF('Serial Data'!AT32+'Serial Data'!AU32+'Serial Data'!AV32<>0,(AY32*0.866*Templates!K2),NA())","v":{"$error":"#N/A"}},null,{"$f":"'Serial Data'!BA32/('Serial Data'!AY32+'Serial Data'!AZ32+'Serial Data'!BA32)","v":{"$error":"#DIV/0!"}},{"$f":"'Serial Data'!AY32/('Serial Data'!AY32+'Serial Data'!AZ32+'Serial Data'!BA32)","v":{"$error":"#DIV/0!"}},{"$f":"'Serial Data'!AZ32/('Serial Data'!AY32+'Serial Data'!AZ32+'Serial Data'!BA32)","v":{"$error":"#DIV/0!"}},{"$f":"IF('Serial Data'!AY32+'Serial Data'!AZ32+'Serial Data'!BA32<>0,(BD32+(BE32*0.5)),NA())","v":{"$error":"#N/A"}},{"$f":"IF('Serial Data'!AY32+'Serial Data'!AZ32+'Serial Data'!BA32<>0,(BE32*0.866*Templates!K2),NA())","v":{"$error":"#N/A"}},null,{"$f":"'Serial Data'!BF32/('Serial Data'!BD32+'Serial Data'!BE32+'Serial Data'!BF32)","v":{"$error":"#DIV/0!"}},{"$f":"'Serial Data'!BD32/('Serial Data'!BD32+'Serial Data'!BE32+'Serial Data'!BF32)","v":{"$error":"#DIV/0!"}},{"$f":"'Serial Data'!BE32/('Serial Data'!BD32+'Serial Data'!BE32+'Serial Data'!BF32)","v":{"$error":"#DIV/0!"}},{"$f":"IF('Serial Data'!BD32+'Serial Data'!BE32+'Serial Data'!BF32<>0,(BJ32+(BK32*0.5)),NA())","v":{"$error":"#N/A"}},{"$f":"IF('Serial Data'!BD32+'Serial Data'!BE32+'Serial Data'!BF32<>0,(BK32*0.866*Templates!K2),NA())","v":{"$error":"#N/A"}}]
[{"$f":"'Single Data'!N34/('Single Data'!L34+'Single Data'!M34+'Single Data'!N34)","v":{"$error":"#DIV/0!"}},{"$f":"'Single Data'!L34/('Single Data'!L34+'Single Data'!M34+'Single Data'!N34)","v":{"$error":"#DIV/0!"}},{"$f":"'Single Data'!M34/('Single Data'!L34+'Single Data'!M34+'Single Data'!N34)","v":{"$error":"#DIV/0!"}},{"$f":"IF('Single Data'!L34+'Single Data'!M34+'Single Data'!N34<>0,(B33+(C33*0.5)),NA())","v":{"$error":"#N/A"}},{"$f":"IF('Single Data'!L34+'Single Data'!M34+'Single Data'!N34<>0,(C33*0.866*Templates!K2),NA())","v":{"$error":"#N/A"}},null,{"$f":"'Serial Data'!M33/('Serial Data'!K33+'Serial Data'!L33+'Serial Data'!M33)","v":{"$error":"#DIV/0!"}},{"$f":"'Serial Data'!K33/('Serial Data'!K33+'Serial Data'!L33+'Serial Data'!M33)","v":{"$error":"#DIV/0!"}},{"$f":"'Serial Data'!L33/('Serial Data'!K33+'Serial Data'!L33+'Serial Data'!M33)","v":{"$error":"#DIV/0!"}},{"$f":"IF('Serial Data'!K33+'Serial Data'!L33+'Serial Data'!M33<>0,(H33+(I33*0.5)),NA())","v":{"$error":"#N/A"}},{"$f":"IF('Serial Data'!K33+'Serial Data'!L33+'Serial Data'!M33<>0,(I33*0.866*Templates!K2),NA())","v":{"$error":"#N/A"}},null,{"$f":"'Serial Data'!R33/('Serial Data'!P33+'Serial Data'!Q33+'Serial Data'!R33)","v":{"$error":"#DIV/0!"}},{"$f":"'Serial Data'!P33/('Serial Data'!P33+'Serial Data'!Q33+'Serial Data'!R33)","v":{"$error":"#DIV/0!"}},{"$f":"'Serial Data'!Q33/('Serial Data'!P33+'Serial Data'!Q33+'Serial Data'!R33)","v":{"$error":"#DIV/0!"}},{"$f":"IF('Serial Data'!P33+'Serial Data'!Q33+'Serial Data'!R33<>0,(N33+(O33*0.5)),NA())","v":{"$error":"#N/A"}},{"$f":"IF('Serial Data'!P33+'Serial Data'!Q33+'Serial Data'!R33<>0,(O33*0.866*Templates!K2),NA())","v":{"$error":"#N/A"}},null,{"$f":"'Serial Data'!W33/('Serial Data'!U33+'Serial Data'!V33+'Serial Data'!W33)","v":{"$error":"#DIV/0!"}},{"$f":"'Serial Data'!U33/('Serial Data'!U33+'Serial Data'!V33+'Serial Data'!W33)","v":{"$error":"#DIV/0!"}},{"$f":"'Serial Data'!V33/('Serial Data'!U33+'Serial Data'!V33+'Serial Data'!W33)","v":{"$error":"#DIV/0!"}},{"$f":"IF('Serial Data'!V33+'Serial Data'!W33+'Serial Data'!U33<>0,(T33+(U33*0.5)),NA())","v":{"$error":"#N/A"}},{"$f":"IF('Serial Data'!V33+'Serial Data'!W33+'Serial Data'!U33<>0,(U33*0.866*Templates!K2),NA())","v":{"$error":"#N/A"}},null,{"$f":"'Serial Data'!AB33/('Serial Data'!AA33+'Serial Data'!AB33+'Serial Data'!Z33)","v":{"$error":"#DIV/0!"}},{"$f":"'Serial Data'!Z33/('Serial Data'!AA33+'Serial Data'!AB33+'Serial Data'!Z33)","v":{"$error":"#DIV/0!"}},{"$f":"'Serial Data'!AA33/('Serial Data'!AA33+'Serial Data'!AB33+'Serial Data'!Z33)","v":{"$error":"#DIV/0!"}},{"$f":"IF('Serial Data'!AB33+'Serial Data'!AA33+'Serial Data'!Z33<>0,(Z33+(AA33*0.5)),NA())","v":{"$error":"#N/A"}},{"$f":"IF('Serial Data'!AB33+'Serial Data'!AA33+'Serial Data'!Z33<>0,(AA33*0.866*Templates!K2),NA())","v":{"$error":"#N/A"}},null,{"$f":"'Serial Data'!AG33/('Serial Data'!AG33+'Serial Data'!AE33+'Serial Data'!AF33)","v":{"$error":"#DIV/0!"}},{"$f":"'Serial Data'!AE33/('Serial Data'!AG33+'Serial Data'!AE33+'Serial Data'!AF33)","v":{"$error":"#DIV/0!"}},{"$f":"'Serial Data'!AF33/('Serial Data'!AG33+'Serial Data'!AE33+'Serial Data'!AF33)","v":{"$error":"#DIV/0!"}},{"$f":"IF('Serial Data'!AE33+'Serial Data'!AF33+'Serial Data'!AG33<>0,(AF33+(AG33*0.5)),NA())","v":{"$error":"#N/A"}},{"$f":"IF('Serial Data'!AE33+'Serial Data'!AF33+'Serial Data'!AG33<>0,(AG33*0.866*Templates!K2),NA())","v":{"$error":"#N/A"}},null,{"$f":"'Serial Data'!AL33/('Serial Data'!AJ33+'Serial Data'!AK33+'Serial Data'!AL33)","v":{"$error":"#DIV/0!"}},{"$f":"'Serial Data'!AJ33/('Serial Data'!AJ33+'Serial Data'!AK33+'Serial Data'!AL33)","v":{"$error":"#DIV/0!"}},{"$f":"'Serial Data'!AK33/('Serial Data'!AJ33+'Serial Data'!AK33+'Serial Data'!AL33)","v":{"$error":"#DIV/0!"}},{"$f":"IF('Serial Data'!AJ33+'Serial Data'!AK33+'Serial Data'!AL33<>0,(AL33+(AM33*0.5)),NA())","v":{"$error":"#N/A"}},{"$f":"IF('Serial Data'!AJ33+'Serial Data'!AK33+'Serial Data'!AL33<>0,(AM33*0.866*Templates!K2),NA())","v":{"$error":"#N/A"}},null,{"$f":"'Serial Data'!AQ33/('Serial Data'!AO33+'Serial Data'!AP33+'Serial Data'!AQ33)","v":{"$error":"#DIV/0!"}},{"$f":"'Serial Data'!AO33/('Serial Data'!AO33+'Serial Data'!AP33+'Serial Data'!AQ33)","v":{"$error":"#DIV/0!"}},{"$f":"'Serial Data'!AP33/('Serial Data'!AO33+'Serial Data'!AP33+'Serial Data'!AQ33)","v":{"$error":"#DIV/0!"}},{"$f":"IF('Serial Data'!AO33+'Serial Data'!AP33+'Serial Data'!AQ33<>0,(AR33+(AS33*0.5)),NA())","v":{"$error":"#N/A"}},{"$f":"IF('Serial Data'!AO33+'Serial Data'!AP33+'Serial Data'!AQ33<>0,(AS33*0.866*Templates!K2),NA())","v":{"$error":"#N/A"}},null,{"$f":"'Serial Data'!AV33/('Serial Data'!AT33+'Serial Data'!AU33+'Serial Data'!AV33)","v":{"$error":"#DIV/0!"}},{"$f":"'Serial Data'!AT33/('Serial Data'!AT33+'Serial Data'!AU33+'Serial Data'!AV33)","v":{"$error":"#DIV/0!"}},{"$f":"'Serial Data'!AU33/('Serial Data'!AT33+'Serial Data'!AU33+'Serial Data'!AV33)","v":{"$error":"#DIV/0!"}},{"$f":"IF('Serial Data'!AT33+'Serial Data'!AU33+'Serial Data'!AV33<>0,(AX33+(AY33*0.5)),NA())","v":{"$error":"#N/A"}},{"$f":"IF('Serial Data'!AT33+'Serial Data'!AU33+'Serial Data'!AV33<>0,(AY33*0.866*Templates!K2),NA())","v":{"$error":"#N/A"}},null,{"$f":"'Serial Data'!BA33/('Serial Data'!AY33+'Serial Data'!AZ33+'Serial Data'!BA33)","v":{"$error":"#DIV/0!"}},{"$f":"'Serial Data'!AY33/('Serial Data'!AY33+'Serial Data'!AZ33+'Serial Data'!BA33)","v":{"$error":"#DIV/0!"}},{"$f":"'Serial Data'!AZ33/('Serial Data'!AY33+'Serial Data'!AZ33+'Serial Data'!BA33)","v":{"$error":"#DIV/0!"}},{"$f":"IF('Serial Data'!AY33+'Serial Data'!AZ33+'Serial Data'!BA33<>0,(BD33+(BE33*0.5)),NA())","v":{"$error":"#N/A"}},{"$f":"IF('Serial Data'!AY33+'Serial Data'!AZ33+'Serial Data'!BA33<>0,(BE33*0.866*Templates!K2),NA())","v":{"$error":"#N/A"}},null,{"$f":"'Serial Data'!BF33/('Serial Data'!BD33+'Serial Data'!BE33+'Serial Data'!BF33)","v":{"$error":"#DIV/0!"}},{"$f":"'Serial Data'!BD33/('Serial Data'!BD33+'Serial Data'!BE33+'Serial Data'!BF33)","v":{"$error":"#DIV/0!"}},{"$f":"'Serial Data'!BE33/('Serial Data'!BD33+'Serial Data'!BE33+'Serial Data'!BF33)","v":{"$error":"#DIV/0!"}},{"$f":"IF('Serial Data'!BD33+'Serial Data'!BE33+'Serial Data'!BF33<>0,(BJ33+(BK33*0.5)),NA())","v":{"$error":"#N/A"}},{"$f":"IF('Serial Data'!BD33+'Serial Data'!BE33+'Serial Data'!BF33<>0,(BK33*0.866*Templates!K2),NA())","v":{"$error":"#N/A"}}]
[{"$f":"'Single Data'!N35/('Single Data'!L35+'Single Data'!M35+'Single Data'!N35)","v":{"$error":"#DIV/0!"}},{"$f":"'Single Data'!L35/('Single Data'!L35+'Single Data'!M35+'Single Data'!N35)","v":{"$error":"#DIV/0!"}},{"$f":"'Single Data'!M35/('Single Data'!L35+'Single Data'!M35+'Single Data'!N35)","v":{"$error":"#DIV/0!"}},{"$f":"IF('Single Data'!L35+'Single Data'!M35+'Single Data'!N35<>0,(B34+(C34*0.5)),NA())","v":{"$error":"#N/A"}},{"$f":"IF('Single Data'!L35+'Single Data'!M35+'Single Data'!N35<>0,(C34*0.866*Templates!K2),NA())","v":{"$error":"#N/A"}},null,{"$f":"'Serial Data'!M34/('Serial Data'!K34+'Serial Data'!L34+'Serial Data'!M34)","v":{"$error":"#DIV/0!"}},{"$f":"'Serial Data'!K34/('Serial Data'!K34+'Serial Data'!L34+'Serial Data'!M34)","v":{"$error":"#DIV/0!"}},{"$f":"'Serial Data'!L34/('Serial Data'!K34+'Serial Data'!L34+'Serial Data'!M34)","v":{"$error":"#DIV/0!"}},{"$f":"IF('Serial Data'!K34+'Serial Data'!L34+'Serial Data'!M34<>0,(H34+(I34*0.5)),NA())","v":{"$error":"#N/A"}},{"$f":"IF('Serial Data'!K34+'Serial Data'!L34+'Serial Data'!M34<>0,(I34*0.866*Templates!K2),NA())","v":{"$error":"#N/A"}},null,{"$f":"'Serial Data'!R34/('Serial Data'!P34+'Serial Data'!Q34+'Serial Data'!R34)","v":{"$error":"#DIV/0!"}},{"$f":"'Serial Data'!P34/('Serial Data'!P34+'Serial Data'!Q34+'Serial Data'!R34)","v":{"$error":"#DIV/0!"}},{"$f":"'Serial Data'!Q34/('Serial Data'!P34+'Serial Data'!Q34+'Serial Data'!R34)","v":{"$error":"#DIV/0!"}},{"$f":"IF('Serial Data'!P34+'Serial Data'!Q34+'Serial Data'!R34<>0,(N34+(O34*0.5)),NA())","v":{"$error":"#N/A"}},{"$f":"IF('Serial Data'!P34+'Serial Data'!Q34+'Serial Data'!R34<>0,(O34*0.866*Templates!K2),NA())","v":{"$error":"#N/A"}},null,{"$f":"'Serial Data'!W34/('Serial Data'!U34+'Serial Data'!V34+'Serial Data'!W34)","v":{"$error":"#DIV/0!"}},{"$f":"'Serial Data'!U34/('Serial Data'!U34+'Serial Data'!V34+'Serial Data'!W34)","v":{"$error":"#DIV/0!"}},{"$f":"'Serial Data'!V34/('Serial Data'!U34+'Serial Data'!V34+'Serial Data'!W34)","v":{"$error":"#DIV/0!"}},{"$f":"IF('Serial Data'!V34+'Serial Data'!W34+'Serial Data'!U34<>0,(T34+(U34*0.5)),NA())","v":{"$error":"#N/A"}},{"$f":"IF('Serial Data'!V34+'Serial Data'!W34+'Serial Data'!U34<>0,(U34*0.866*Templates!K2),NA())","v":{"$error":"#N/A"}},null,{"$f":"'Serial Data'!AB34/('Serial Data'!AA34+'Serial Data'!AB34+'Serial Data'!Z34)","v":{"$error":"#DIV/0!"}},{"$f":"'Serial Data'!Z34/('Serial Data'!AA34+'Serial Data'!AB34+'Serial Data'!Z34)","v":{"$error":"#DIV/0!"}},{"$f":"'Serial Data'!AA34/('Serial Data'!AA34+'Serial Data'!AB34+'Serial Data'!Z34)","v":{"$error":"#DIV/0!"}},{"$f":"IF('Serial Data'!AB34+'Serial Data'!AA34+'Serial Data'!Z34<>0,(Z34+(AA34*0.5)),NA())","v":{"$error":"#N/A"}},{"$f":"IF('Serial Data'!AB34+'Serial Data'!AA34+'Serial Data'!Z34<>0,(AA34*0.866*Templates!K2),NA())","v":{"$error":"#N/A"}},null,{"$f":"'Serial Data'!AG34/('Serial Data'!AG34+'Serial Data'!AE34+'Serial Data'!AF34)","v":{"$error":"#DIV/0!"}},{"$f":"'Serial Data'!AE34/('Serial Data'!AG34+'Serial Data'!AE34+'Serial Data'!AF34)","v":{"$error":"#DIV/0!"}},{"$f":"'Serial Data'!AF34/('Serial Data'!AG34+'Serial Data'!AE34+'Serial Data'!AF34)","v":{"$error":"#DIV/0!"}},{"$f":"IF('Serial Data'!AE34+'Serial Data'!AF34+'Serial Data'!AG34<>0,(AF34+(AG34*0.5)),NA())","v":{"$error":"#N/A"}},{"$f":"IF('Serial Data'!AE34+'Serial Data'!AF34+'Serial Data'!AG34<>0,(AG34*0.866*Templates!K2),NA())","v":{"$error":"#N/A"}},null,{"$f":"'Serial Data'!AL34/('Serial Data'!AJ34+'Serial Data'!AK34+'Serial Data'!AL34)","v":{"$error":"#DIV/0!"}},{"$f":"'Serial Data'!AJ34/('Serial Data'!AJ34+'Serial Data'!AK34+'Serial Data'!AL34)","v":{"$error":"#DIV/0!"}},{"$f":"'Serial Data'!AK34/('Serial Data'!AJ34+'Serial Data'!AK34+'Serial Data'!AL34)","v":{"$error":"#DIV/0!"}},{"$f":"IF('Serial Data'!AJ34+'Serial Data'!AK34+'Serial Data'!AL34<>0,(AL34+(AM34*0.5)),NA())","v":{"$error":"#N/A"}},{"$f":"IF('Serial Data'!AJ34+'Serial Data'!AK34+'Serial Data'!AL34<>0,(AM34*0.866*Templates!K2),NA())","v":{"$error":"#N/A"}},null,{"$f":"'Serial Data'!AQ34/('Serial Data'!AO34+'Serial Data'!AP34+'Serial Data'!AQ34)","v":{"$error":"#DIV/0!"}},{"$f":"'Serial Data'!AO34/('Serial Data'!AO34+'Serial Data'!AP34+'Serial Data'!AQ34)","v":{"$error":"#DIV/0!"}},{"$f":"'Serial Data'!AP34/('Serial Data'!AO34+'Serial Data'!AP34+'Serial Data'!AQ34)","v":{"$error":"#DIV/0!"}},{"$f":"IF('Serial Data'!AO34+'Serial Data'!AP34+'Serial Data'!AQ34<>0,(AR34+(AS34*0.5)),NA())","v":{"$error":"#N/A"}},{"$f":"IF('Serial Data'!AO34+'Serial Data'!AP34+'Serial Data'!AQ34<>0,(AS34*0.866*Templates!K2),NA())","v":{"$error":"#N/A"}},null,{"$f":"'Serial Data'!AV34/('Serial Data'!AT34+'Serial Data'!AU34+'Serial Data'!AV34)","v":{"$error":"#DIV/0!"}},{"$f":"'Serial Data'!AT34/('Serial Data'!AT34+'Serial Data'!AU34+'Serial Data'!AV34)","v":{"$error":"#DIV/0!"}},{"$f":"'Serial Data'!AU34/('Serial Data'!AT34+'Serial Data'!AU34+'Serial Data'!AV34)","v":{"$error":"#DIV/0!"}},{"$f":"IF('Serial Data'!AT34+'Serial Data'!AU34+'Serial Data'!AV34<>0,(AX34+(AY34*0.5)),NA())","v":{"$error":"#N/A"}},{"$f":"IF('Serial Data'!AT34+'Serial Data'!AU34+'Serial Data'!AV34<>0,(AY34*0.866*Templates!K2),NA())","v":{"$error":"#N/A"}},null,{"$f":"'Serial Data'!BA34/('Serial Data'!AY34+'Serial Data'!AZ34+'Serial Data'!BA34)","v":{"$error":"#DIV/0!"}},{"$f":"'Serial Data'!AY34/('Serial Data'!AY34+'Serial Data'!AZ34+'Serial Data'!BA34)","v":{"$error":"#DIV/0!"}},{"$f":"'Serial Data'!AZ34/('Serial Data'!AY34+'Serial Data'!AZ34+'Serial Data'!BA34)","v":{"$error":"#DIV/0!"}},{"$f":"IF('Serial Data'!AY34+'Serial Data'!AZ34+'Serial Data'!BA34<>0,(BD34+(BE34*0.5)),NA())","v":{"$error":"#N/A"}},{"$f":"IF('Serial Data'!AY34+'Serial Data'!AZ34+'Serial Data'!BA34<>0,(BE34*0.866*Templates!K2),NA())","v":{"$error":"#N/A"}},null,{"$f":"'Serial Data'!BF34/('Serial Data'!BD34+'Serial Data'!BE34+'Serial Data'!BF34)","v":{"$error":"#DIV/0!"}},{"$f":"'Serial Data'!BD34/('Serial Data'!BD34+'Serial Data'!BE34+'Serial Data'!BF34)","v":{"$error":"#DIV/0!"}},{"$f":"'Serial Data'!BE34/('Serial Data'!BD34+'Serial Data'!BE34+'Serial Data'!BF34)","v":{"$error":"#DIV/0!"}},{"$f":"IF('Serial Data'!BD34+'Serial Data'!BE34+'Serial Data'!BF34<>0,(BJ34+(BK34*0.5)),NA())","v":{"$error":"#N/A"}},{"$f":"IF('Serial Data'!BD34+'Serial Data'!BE34+'Serial Data'!BF34<>0,(BK34*0.866*Templates!K2),NA())","v":{"$error":"#N/A"}}]
[{"$f":"'Single Data'!N36/('Single Data'!L36+'Single Data'!M36+'Single Data'!N36)","v":{"$error":"#DIV/0!"}},{"$f":"'Single Data'!L36/('Single Data'!L36+'Single Data'!M36+'Single Data'!N36)","v":{"$error":"#DIV/0!"}},{"$f":"'Single Data'!M36/('Single Data'!L36+'Single Data'!M36+'Single Data'!N36)","v":{"$error":"#DIV/0!"}},{"$f":"IF('Single Data'!L36+'Single Data'!M36+'Single Data'!N36<>0,(B35+(C35*0.5)),NA())","v":{"$error":"#N/A"}},{"$f":"IF('Single Data'!L36+'Single Data'!M36+'Single Data'!N36<>0,(C35*0.866*Templates!K2),NA())","v":{"$error":"#N/A"}},null,{"$f":"'Serial Data'!M35/('Serial Data'!K35+'Serial Data'!L35+'Serial Data'!M35)","v":{"$error":"#DIV/0!"}},{"$f":"'Serial Data'!K35/('Serial Data'!K35+'Serial Data'!L35+'Serial Data'!M35)","v":{"$error":"#DIV/0!"}},{"$f":"'Serial Data'!L35/('Serial Data'!K35+'Serial Data'!L35+'Serial Data'!M35)","v":{"$error":"#DIV/0!"}},{"$f":"IF('Serial Data'!K35+'Serial Data'!L35+'Serial Data'!M35<>0,(H35+(I35*0.5)),NA())","v":{"$error":"#N/A"}},{"$f":"IF('Serial Data'!K35+'Serial Data'!L35+'Serial Data'!M35<>0,(I35*0.866*Templates!K2),NA())","v":{"$error":"#N/A"}},null,{"$f":"'Serial Data'!R35/('Serial Data'!P35+'Serial Data'!Q35+'Serial Data'!R35)","v":{"$error":"#DIV/0!"}},{"$f":"'Serial Data'!P35/('Serial Data'!P35+'Serial Data'!Q35+'Serial Data'!R35)","v":{"$error":"#DIV/0!"}},{"$f":"'Serial Data'!Q35/('Serial Data'!P35+'Serial Data'!Q35+'Serial Data'!R35)","v":{"$error":"#DIV/0!"}},{"$f":"IF('Serial Data'!P35+'Serial Data'!Q35+'Serial Data'!R35<>0,(N35+(O35*0.5)),NA())","v":{"$error":"#N/A"}},{"$f":"IF('Serial Data'!P35+'Serial Data'!Q35+'Serial Data'!R35<>0,(O35*0.866*Templates!K2),NA())","v":{"$error":"#N/A"}},null,{"$f":"'Serial Data'!W35/('Serial Data'!U35+'Serial Data'!V35+'Serial Data'!W35)","v":{"$error":"#DIV/0!"}},{"$f":"'Serial Data'!U35/('Serial Data'!U35+'Serial Data'!V35+'Serial Data'!W35)","v":{"$error":"#DIV/0!"}},{"$f":"'Serial Data'!V35/('Serial Data'!U35+'Serial Data'!V35+'Serial Data'!W35)","v":{"$error":"#DIV/0!"}},{"$f":"IF('Serial Data'!V35+'Serial Data'!W35+'Serial Data'!U35<>0,(T35+(U35*0.5)),NA())","v":{"$error":"#N/A"}},{"$f":"IF('Serial Data'!V35+'Serial Data'!W35+'Serial Data'!U35<>0,(U35*0.866*Templates!K2),NA())","v":{"$error":"#N/A"}},null,{"$f":"'Serial Data'!AB35/('Serial Data'!AA35+'Serial Data'!AB35+'Serial Data'!Z35)","v":{"$error":"#DIV/0!"}},{"$f":"'Serial Data'!Z35/('Serial Data'!AA35+'Serial Data'!AB35+'Serial Data'!Z35)","v":{"$error":"#DIV/0!"}},{"$f":"'Serial Data'!AA35/('Serial Data'!AA35+'Serial Data'!AB35+'Serial Data'!Z35)","v":{"$error":"#DIV/0!"}},{"$f":"IF('Serial Data'!AB35+'Serial Data'!AA35+'Serial Data'!Z35<>0,(Z35+(AA35*0.5)),NA())","v":{"$error":"#N/A"}},{"$f":"IF('Serial Data'!AB35+'Serial Data'!AA35+'Serial Data'!Z35<>0,(AA35*0.866*Templates!K2),NA())","v":{"$error":"#N/A"}},null,{"$f":"'Serial Data'!AG35/('Serial Data'!AG35+'Serial Data'!AE35+'Serial Data'!AF35)","v":{"$error":"#DIV/0!"}},{"$f":"'Serial Data'!AE35/('Serial Data'!AG35+'Serial Data'!AE35+'Serial Data'!AF35)","v":{"$error":"#DIV/0!"}},{"$f":"'Serial Data'!AF35/('Serial Data'!AG35+'Serial Data'!AE35+'Serial Data'!AF35)","v":{"$error":"#DIV/0!"}},{"$f":"IF('Serial Data'!AE35+'Serial Data'!AF35+'Serial Data'!AG35<>0,(AF35+(AG35*0.5)),NA())","v":{"$error":"#N/A"}},{"$f":"IF('Serial Data'!AE35+'Serial Data'!AF35+'Serial Data'!AG35<>0,(AG35*0.866*Templates!K2),NA())","v":{"$error":"#N/A"}},null,{"$f":"'Serial Data'!AL35/('Serial Data'!AJ35+'Serial Data'!AK35+'Serial Data'!AL35)","v":{"$error":"#DIV/0!"}},{"$f":"'Serial Data'!AJ35/('Serial Data'!AJ35+'Serial Data'!AK35+'Serial Data'!AL35)","v":{"$error":"#DIV/0!"}},{"$f":"'Serial Data'!AK35/('Serial Data'!AJ35+'Serial Data'!AK35+'Serial Data'!AL35)","v":{"$error":"#DIV/0!"}},{"$f":"IF('Serial Data'!AJ35+'Serial Data'!AK35+'Serial Data'!AL35<>0,(AL35+(AM35*0.5)),NA())","v":{"$error":"#N/A"}},{"$f":"IF('Serial Data'!AJ35+'Serial Data'!AK35+'Serial Data'!AL35<>0,(AM35*0.866*Templates!K2),NA())","v":{"$error":"#N/A"}},null,{"$f":"'Serial Data'!AQ35/('Serial Data'!AO35+'Serial Data'!AP35+'Serial Data'!AQ35)","v":{"$error":"#DIV/0!"}},{"$f":"'Serial Data'!AO35/('Serial Data'!AO35+'Serial Data'!AP35+'Serial Data'!AQ35)","v":{"$error":"#DIV/0!"}},{"$f":"'Serial Data'!AP35/('Serial Data'!AO35+'Serial Data'!AP35+'Serial Data'!AQ35)","v":{"$error":"#DIV/0!"}},{"$f":"IF('Serial Data'!AO35+'Serial Data'!AP35+'Serial Data'!AQ35<>0,(AR35+(AS35*0.5)),NA())","v":{"$error":"#N/A"}},{"$f":"IF('Serial Data'!AO35+'Serial Data'!AP35+'Serial Data'!AQ35<>0,(AS35*0.866*Templates!K2),NA())","v":{"$error":"#N/A"}},null,{"$f":"'Serial Data'!AV35/('Serial Data'!AT35+'Serial Data'!AU35+'Serial Data'!AV35)","v":{"$error":"#DIV/0!"}},{"$f":"'Serial Data'!AT35/('Serial Data'!AT35+'Serial Data'!AU35+'Serial Data'!AV35)","v":{"$error":"#DIV/0!"}},{"$f":"'Serial Data'!AU35/('Serial Data'!AT35+'Serial Data'!AU35+'Serial Data'!AV35)","v":{"$error":"#DIV/0!"}},{"$f":"IF('Serial Data'!AT35+'Serial Data'!AU35+'Serial Data'!AV35<>0,(AX35+(AY35*0.5)),NA())","v":{"$error":"#N/A"}},{"$f":"IF('Serial Data'!AT35+'Serial Data'!AU35+'Serial Data'!AV35<>0,(AY35*0.866*Templates!K2),NA())","v":{"$error":"#N/A"}},null,{"$f":"'Serial Data'!BA35/('Serial Data'!AY35+'Serial Data'!AZ35+'Serial Data'!BA35)","v":{"$error":"#DIV/0!"}},{"$f":"'Serial Data'!AY35/('Serial Data'!AY35+'Serial Data'!AZ35+'Serial Data'!BA35)","v":{"$error":"#DIV/0!"}},{"$f":"'Serial Data'!AZ35/('Serial Data'!AY35+'Serial Data'!AZ35+'Serial Data'!BA35)","v":{"$error":"#DIV/0!"}},{"$f":"IF('Serial Data'!AY35+'Serial Data'!AZ35+'Serial Data'!BA35<>0,(BD35+(BE35*0.5)),NA())","v":{"$error":"#N/A"}},{"$f":"IF('Serial Data'!AY35+'Serial Data'!AZ35+'Serial Data'!BA35<>0,(BE35*0.866*Templates!K2),NA())","v":{"$error":"#N/A"}},null,{"$f":"'Serial Data'!BF35/('Serial Data'!BD35+'Serial Data'!BE35+'Serial Data'!BF35)","v":{"$error":"#DIV/0!"}},{"$f":"'Serial Data'!BD35/('Serial Data'!BD35+'Serial Data'!BE35+'Serial Data'!BF35)","v":{"$error":"#DIV/0!"}},{"$f":"'Serial Data'!BE35/('Serial Data'!BD35+'Serial Data'!BE35+'Serial Data'!BF35)","v":{"$error":"#DIV/0!"}},{"$f":"IF('Serial Data'!BD35+'Serial Data'!BE35+'Serial Data'!BF35<>0,(BJ35+(BK35*0.5)),NA())","v":{"$error":"#N/A"}},{"$f":"IF('Serial Data'!BD35+'Serial Data'!BE35+'Serial Data'!BF35<>0,(BK35*0.866*Templates!K2),NA())","v":{"$error":"#N/A"}}]
[{"$f":"'Single Data'!N37/('Single Data'!L37+'Single Data'!M37+'Single Data'!N37)","v":{"$error":"#DIV/0!"}},{"$f":"'Single Data'!L37/('Single Data'!L37+'Single Data'!M37+'Single Data'!N37)","v":{"$error":"#DIV/0!"}},{"$f":"'Single Data'!M37/('Single Data'!L37+'Single Data'!M37+'Single Data'!N37)","v":{"$error":"#DIV/0!"}},{"$f":"IF('Single Data'!L37+'Single Data'!M37+'Single Data'!N37<>0,(B36+(C36*0.5)),NA())","v":{"$error":"#N/A"}},{"$f":"IF('Single Data'!L37+'Single Data'!M37+'Single Data'!N37<>0,(C36*0.866*Templates!K2),NA())","v":{"$error":"#N/A"}},null,{"$f":"'Serial Data'!M36/('Serial Data'!K36+'Serial Data'!L36+'Serial Data'!M36)","v":{"$error":"#DIV/0!"}},{"$f":"'Serial Data'!K36/('Serial Data'!K36+'Serial Data'!L36+'Serial Data'!M36)","v":{"$error":"#DIV/0!"}},{"$f":"'Serial Data'!L36/('Serial Data'!K36+'Serial Data'!L36+'Serial Data'!M36)","v":{"$error":"#DIV/0!"}},{"$f":"IF('Serial Data'!K36+'Serial Data'!L36+'Serial Data'!M36<>0,(H36+(I36*0.5)),NA())","v":{"$error":"#N/A"}},{"$f":"IF('Serial Data'!K36+'Serial Data'!L36+'Serial Data'!M36<>0,(I36*0.866*Templates!K2),NA())","v":{"$error":"#N/A"}},null,{"$f":"'Serial Data'!R36/('Serial Data'!P36+'Serial Data'!Q36+'Serial Data'!R36)","v":{"$error":"#DIV/0!"}},{"$f":"'Serial Data'!P36/('Serial Data'!P36+'Serial Data'!Q36+'Serial Data'!R36)","v":{"$error":"#DIV/0!"}},{"$f":"'Serial Data'!Q36/('Serial Data'!P36+'Serial Data'!Q36+'Serial Data'!R36)","v":{"$error":"#DIV/0!"}},{"$f":"IF('Serial Data'!P36+'Serial Data'!Q36+'Serial Data'!R36<>0,(N36+(O36*0.5)),NA())","v":{"$error":"#N/A"}},{"$f":"IF('Serial Data'!P36+'Serial Data'!Q36+'Serial Data'!R36<>0,(O36*0.866*Templates!K2),NA())","v":{"$error":"#N/A"}},null,{"$f":"'Serial Data'!W36/('Serial Data'!U36+'Serial Data'!V36+'Serial Data'!W36)","v":{"$error":"#DIV/0!"}},{"$f":"'Serial Data'!U36/('Serial Data'!U36+'Serial Data'!V36+'Serial Data'!W36)","v":{"$error":"#DIV/0!"}},{"$f":"'Serial Data'!V36/('Serial Data'!U36+'Serial Data'!V36+'Serial Data'!W36)","v":{"$error":"#DIV/0!"}},{"$f":"IF('Serial Data'!V36+'Serial Data'!W36+'Serial Data'!U36<>0,(T36+(U36*0.5)),NA())","v":{"$error":"#N/A"}},{"$f":"IF('Serial Data'!V36+'Serial Data'!W36+'Serial Data'!U36<>0,(U36*0.866*Templates!K2),NA())","v":{"$error":"#N/A"}},null,{"$f":"'Serial Data'!AB36/('Serial Data'!AA36+'Serial Data'!AB36+'Serial Data'!Z36)","v":{"$error":"#DIV/0!"}},{"$f":"'Serial Data'!Z36/('Serial Data'!AA36+'Serial Data'!AB36+'Serial Data'!Z36)","v":{"$error":"#DIV/0!"}},{"$f":"'Serial Data'!AA36/('Serial Data'!AA36+'Serial Data'!AB36+'Serial Data'!Z36)","v":{"$error":"#DIV/0!"}},{"$f":"IF('Serial Data'!AB36+'Serial Data'!AA36+'Serial Data'!Z36<>0,(Z36+(AA36*0.5)),NA())","v":{"$error":"#N/A"}},{"$f":"IF('Serial Data'!AB36+'Serial Data'!AA36+'Serial Data'!Z36<>0,(AA36*0.866*Templates!K2),NA())","v":{"$error":"#N/A"}},null,{"$f":"'Serial Data'!AG36/('Serial Data'!AG36+'Serial Data'!AE36+'Serial Data'!AF36)","v":{"$error":"#DIV/0!"}},{"$f":"'Serial Data'!AE36/('Serial Data'!AG36+'Serial Data'!AE36+'Serial Data'!AF36)","v":{"$error":"#DIV/0!"}},{"$f":"'Serial Data'!AF36/('Serial Data'!AG36+'Serial Data'!AE36+'Serial Data'!AF36)","v":{"$error":"#DIV/0!"}},{"$f":"IF('Serial Data'!AE36+'Serial Data'!AF36+'Serial Data'!AG36<>0,(AF36+(AG36*0.5)),NA())","v":{"$error":"#N/A"}},{"$f":"IF('Serial Data'!AE36+'Serial Data'!AF36+'Serial Data'!AG36<>0,(AG36*0.866*Templates!K2),NA())","v":{"$error":"#N/A"}},null,{"$f":"'Serial Data'!AL36/('Serial Data'!AJ36+'Serial Data'!AK36+'Serial Data'!AL36)","v":{"$error":"#DIV/0!"}},{"$f":"'Serial Data'!AJ36/('Serial Data'!AJ36+'Serial Data'!AK36+'Serial Data'!AL36)","v":{"$error":"#DIV/0!"}},{"$f":"'Serial Data'!AK36/('Serial Data'!AJ36+'Serial Data'!AK36+'Serial Data'!AL36)","v":{"$error":"#DIV/0!"}},{"$f":"IF('Serial Data'!AJ36+'Serial Data'!AK36+'Serial Data'!AL36<>0,(AL36+(AM36*0.5)),NA())","v":{"$error":"#N/A"}},{"$f":"IF('Serial Data'!AJ36+'Serial Data'!AK36+'Serial Data'!AL36<>0,(AM36*0.866*Templates!K2),NA())","v":{"$error":"#N/A"}},null,{"$f":"'Serial Data'!AQ36/('Serial Data'!AO36+'Serial Data'!AP36+'Serial Data'!AQ36)","v":{"$error":"#DIV/0!"}},{"$f":"'Serial Data'!AO36/('Serial Data'!AO36+'Serial Data'!AP36+'Serial Data'!AQ36)","v":{"$error":"#DIV/0!"}},{"$f":"'Serial Data'!AP36/('Serial Data'!AO36+'Serial Data'!AP36+'Serial Data'!AQ36)","v":{"$error":"#DIV/0!"}},{"$f":"IF('Serial Data'!AO36+'Serial Data'!AP36+'Serial Data'!AQ36<>0,(AR36+(AS36*0.5)),NA())","v":{"$error":"#N/A"}},{"$f":"IF('Serial Data'!AO36+'Serial Data'!AP36+'Serial Data'!AQ36<>0,(AS36*0.866*Templates!K2),NA())","v":{"$error":"#N/A"}},null,{"$f":"'Serial Data'!AV36/('Serial Data'!AT36+'Serial Data'!AU36+'Serial Data'!AV36)","v":{"$error":"#DIV/0!"}},{"$f":"'Serial Data'!AT36/('Serial Data'!AT36+'Serial Data'!AU36+'Serial Data'!AV36)","v":{"$error":"#DIV/0!"}},{"$f":"'Serial Data'!AU36/('Serial Data'!AT36+'Serial Data'!AU36+'Serial Data'!AV36)","v":{"$error":"#DIV/0!"}},{"$f":"IF('Serial Data'!AT36+'Serial Data'!AU36+'Serial Data'!AV36<>0,(AX36+(AY36*0.5)),NA())","v":{"$error":"#N/A"}},{"$f":"IF('Serial Data'!AT36+'Serial Data'!AU36+'Serial Data'!AV36<>0,(AY36*0.866*Templates!K2),NA())","v":{"$error":"#N/A"}},null,{"$f":"'Serial Data'!BA36/('Serial Data'!AY36+'Serial Data'!AZ36+'Serial Data'!BA36)","v":{"$error":"#DIV/0!"}},{"$f":"'Serial Data'!AY36/('Serial Data'!AY36+'Serial Data'!AZ36+'Serial Data'!BA36)","v":{"$error":"#DIV/0!"}},{"$f":"'Serial Data'!AZ36/('Serial Data'!AY36+'Serial Data'!AZ36+'Serial Data'!BA36)","v":{"$error":"#DIV/0!"}},{"$f":"IF('Serial Data'!AY36+'Serial Data'!AZ36+'Serial Data'!BA36<>0,(BD36+(BE36*0.5)),NA())","v":{"$error":"#N/A"}},{"$f":"IF('Serial Data'!AY36+'Serial Data'!AZ36+'Serial Data'!BA36<>0,(BE36*0.866*Templates!K2),NA())","v":{"$error":"#N/A"}},null,{"$f":"'Serial Data'!BF36/('Serial Data'!BD36+'Serial Data'!BE36+'Serial Data'!BF36)","v":{"$error":"#DIV/0!"}},{"$f":"'Serial Data'!BD36/('Serial Data'!BD36+'Serial Data'!BE36+'Serial Data'!BF36)","v":{"$error":"#DIV/0!"}},{"$f":"'Serial Data'!BE36/('Serial Data'!BD36+'Serial Data'!BE36+'Serial Data'!BF36)","v":{"$error":"#DIV/0!"}},{"$f":"IF('Serial Data'!BD36+'Serial Data'!BE36+'Serial Data'!BF36<>0,(BJ36+(BK36*0.5)),NA())","v":{"$error":"#N/A"}},{"$f":"IF('Serial Data'!BD36+'Serial Data'!BE36+'Serial Data'!BF36<>0,(BK36*0.866*Templates!K2),NA())","v":{"$error":"#N/A"}}]
[{"$f":"'Single Data'!N38/('Single Data'!L38+'Single Data'!M38+'Single Data'!N38)","v":{"$error":"#DIV/0!"}},{"$f":"'Single Data'!L38/('Single Data'!L38+'Single Data'!M38+'Single Data'!N38)","v":{"$error":"#DIV/0!"}},{"$f":"'Single Data'!M38/('Single Data'!L38+'Single Data'!M38+'Single Data'!N38)","v":{"$error":"#DIV/0!"}},{"$f":"IF('Single Data'!L38+'Single Data'!M38+'Single Data'!N38<>0,(B37+(C37*0.5)),NA())","v":{"$error":"#N/A"}},{"$f":"IF('Single Data'!L38+'Single Data'!M38+'Single Data'!N38<>0,(C37*0.866*Templates!K2),NA())","v":{"$error":"#N/A"}},null,{"$f":"'Serial Data'!M37/('Serial Data'!K37+'Serial Data'!L37+'Serial Data'!M37)","v":{"$error":"#DIV/0!"}},{"$f":"'Serial Data'!K37/('Serial Data'!K37+'Serial Data'!L37+'Serial Data'!M37)","v":{"$error":"#DIV/0!"}},{"$f":"'Serial Data'!L37/('Serial Data'!K37+'Serial Data'!L37+'Serial Data'!M37)","v":{"$error":"#DIV/0!"}},{"$f":"IF('Serial Data'!K37+'Serial Data'!L37+'Serial Data'!M37<>0,(H37+(I37*0.5)),NA())","v":{"$error":"#N/A"}},{"$f":"IF('Serial Data'!K37+'Serial Data'!L37+'Serial Data'!M37<>0,(I37*0.866*Templates!K2),NA())","v":{"$error":"#N/A"}},null,{"$f":"'Serial Data'!R37/('Serial Data'!P37+'Serial Data'!Q37+'Serial Data'!R37)","v":{"$error":"#DIV/0!"}},{"$f":"'Serial Data'!P37/('Serial Data'!P37+'Serial Data'!Q37+'Serial Data'!R37)","v":{"$error":"#DIV/0!"}},{"$f":"'Serial Data'!Q37/('Serial Data'!P37+'Serial Data'!Q37+'Serial Data'!R37)","v":{"$error":"#DIV/0!"}},{"$f":"IF('Serial Data'!P37+'Serial Data'!Q37+'Serial Data'!R37<>0,(N37+(O37*0.5)),NA())","v":{"$error":"#N/A"}},{"$f":"IF('Serial Data'!P37+'Serial Data'!Q37+'Serial Data'!R37<>0,(O37*0.866*Templates!K2),NA())","v":{"$error":"#N/A"}},null,{"$f":"'Serial Data'!W37/('Serial Data'!U37+'Serial Data'!V37+'Serial Data'!W37)","v":{"$error":"#DIV/0!"}},{"$f":"'Serial Data'!U37/('Serial Data'!U37+'Serial Data'!V37+'Serial Data'!W37)","v":{"$error":"#DIV/0!"}},{"$f":"'Serial Data'!V37/('Serial Data'!U37+'Serial Data'!V37+'Serial Data'!W37)","v":{"$error":"#DIV/0!"}},{"$f":"IF('Serial Data'!V37+'Serial Data'!W37+'Serial Data'!U37<>0,(T37+(U37*0.5)),NA())","v":{"$error":"#N/A"}},{"$f":"IF('Serial Data'!V37+'Serial Data'!W37+'Serial Data'!U37<>0,(U37*0.866*Templates!K2),NA())","v":{"$error":"#N/A"}},null,{"$f":"'Serial Data'!AB37/('Serial Data'!AA37+'Serial Data'!AB37+'Serial Data'!Z37)","v":{"$error":"#DIV/0!"}},{"$f":"'Serial Data'!Z37/('Serial Data'!AA37+'Serial Data'!AB37+'Serial Data'!Z37)","v":{"$error":"#DIV/0!"}},{"$f":"'Serial Data'!AA37/('Serial Data'!AA37+'Serial Data'!AB37+'Serial Data'!Z37)","v":{"$error":"#DIV/0!"}},{"$f":"IF('Serial Data'!AB37+'Serial Data'!AA37+'Serial Data'!Z37<>0,(Z37+(AA37*0.5)),NA())","v":{"$error":"#N/A"}},{"$f":"IF('Serial Data'!AB37+'Serial Data'!AA37+'Serial Data'!Z37<>0,(AA37*0.866*Templates!K2),NA())","v":{"$error":"#N/A"}},null,{"$f":"'Serial Data'!AG37/('Serial Data'!AG37+'Serial Data'!AE37+'Serial Data'!AF37)","v":{"$error":"#DIV/0!"}},{"$f":"'Serial Data'!AE37/('Serial Data'!AG37+'Serial Data'!AE37+'Serial Data'!AF37)","v":{"$error":"#DIV/0!"}},{"$f":"'Serial Data'!AF37/('Serial Data'!AG37+'Serial Data'!AE37+'Serial Data'!AF37)","v":{"$error":"#DIV/0!"}},{"$f":"IF('Serial Data'!AE37+'Serial Data'!AF37+'Serial Data'!AG37<>0,(AF37+(AG37*0.5)),NA())","v":{"$error":"#N/A"}},{"$f":"IF('Serial Data'!AE37+'Serial Data'!AF37+'Serial Data'!AG37<>0,(AG37*0.866*Templates!K2),NA())","v":{"$error":"#N/A"}},null,{"$f":"'Serial Data'!AL37/('Serial Data'!AJ37+'Serial Data'!AK37+'Serial Data'!AL37)","v":{"$error":"#DIV/0!"}},{"$f":"'Serial Data'!AJ37/('Serial Data'!AJ37+'Serial Data'!AK37+'Serial Data'!AL37)","v":{"$error":"#DIV/0!"}},{"$f":"'Serial Data'!AK37/('Serial Data'!AJ37+'Serial Data'!AK37+'Serial Data'!AL37)","v":{"$error":"#DIV/0!"}},{"$f":"IF('Serial Data'!AJ37+'Serial Data'!AK37+'Serial Data'!AL37<>0,(AL37+(AM37*0.5)),NA())","v":{"$error":"#N/A"}},{"$f":"IF('Serial Data'!AJ37+'Serial Data'!AK37+'Serial Data'!AL37<>0,(AM37*0.866*Templates!K2),NA())","v":{"$error":"#N/A"}},null,{"$f":"'Serial Data'!AQ37/('Serial Data'!AO37+'Serial Data'!AP37+'Serial Data'!AQ37)","v":{"$error":"#DIV/0!"}},{"$f":"'Serial Data'!AO37/('Serial Data'!AO37+'Serial Data'!AP37+'Serial Data'!AQ37)","v":{"$error":"#DIV/0!"}},{"$f":"'Serial Data'!AP37/('Serial Data'!AO37+'Serial Data'!AP37+'Serial Data'!AQ37)","v":{"$error":"#DIV/0!"}},{"$f":"IF('Serial Data'!AO37+'Serial Data'!AP37+'Serial Data'!AQ37<>0,(AR37+(AS37*0.5)),NA())","v":{"$error":"#N/A"}},{"$f":"IF('Serial Data'!AO37+'Serial Data'!AP37+'Serial Data'!AQ37<>0,(AS37*0.866*Templates!K2),NA())","v":{"$error":"#N/A"}},null,{"$f":"'Serial Data'!AV37/('Serial Data'!AT37+'Serial Data'!AU37+'Serial Data'!AV37)","v":{"$error":"#DIV/0!"}},{"$f":"'Serial Data'!AT37/('Serial Data'!AT37+'Serial Data'!AU37+'Serial Data'!AV37)","v":{"$error":"#DIV/0!"}},{"$f":"'Serial Data'!AU37/('Serial Data'!AT37+'Serial Data'!AU37+'Serial Data'!AV37)","v":{"$error":"#DIV/0!"}},{"$f":"IF('Serial Data'!AT37+'Serial Data'!AU37+'Serial Data'!AV37<>0,(AX37+(AY37*0.5)),NA())","v":{"$error":"#N/A"}},{"$f":"IF('Serial Data'!AT37+'Serial Data'!AU37+'Serial Data'!AV37<>0,(AY37*0.866*Templates!K2),NA())","v":{"$error":"#N/A"}},null,{"$f":"'Serial Data'!BA37/('Serial Data'!AY37+'Serial Data'!AZ37+'Serial Data'!BA37)","v":{"$error":"#DIV/0!"}},{"$f":"'Serial Data'!AY37/('Serial Data'!AY37+'Serial Data'!AZ37+'Serial Data'!BA37)","v":{"$error":"#DIV/0!"}},{"$f":"'Serial Data'!AZ37/('Serial Data'!AY37+'Serial Data'!AZ37+'Serial Data'!BA37)","v":{"$error":"#DIV/0!"}},{"$f":"IF('Serial Data'!AY37+'Serial Data'!AZ37+'Serial Data'!BA37<>0,(BD37+(BE37*0.5)),NA())","v":{"$error":"#N/A"}},{"$f":"IF('Serial Data'!AY37+'Serial Data'!AZ37+'Serial Data'!BA37<>0,(BE37*0.866*Templates!K2),NA())","v":{"$error":"#N/A"}},null,{"$f":"'Serial Data'!BF37/('Serial Data'!BD37+'Serial Data'!BE37+'Serial Data'!BF37)","v":{"$error":"#DIV/0!"}},{"$f":"'Serial Data'!BD37/('Serial Data'!BD37+'Serial Data'!BE37+'Serial Data'!BF37)","v":{"$error":"#DIV/0!"}},{"$f":"'Serial Data'!BE37/('Serial Data'!BD37+'Serial Data'!BE37+'Serial Data'!BF37)","v":{"$error":"#DIV/0!"}},{"$f":"IF('Serial Data'!BD37+'Serial Data'!BE37+'Serial Data'!BF37<>0,(BJ37+(BK37*0.5)),NA())","v":{"$error":"#N/A"}},{"$f":"IF('Serial Data'!BD37+'Serial Data'!BE37+'Serial Data'!BF37<>0,(BK37*0.866*Templates!K2),NA())","v":{"$error":"#N/A"}}]
[{"$f":"'Single Data'!N39/('Single Data'!L39+'Single Data'!M39+'Single Data'!N39)","v":{"$error":"#DIV/0!"}},{"$f":"'Single Data'!L39/('Single Data'!L39+'Single Data'!M39+'Single Data'!N39)","v":{"$error":"#DIV/0!"}},{"$f":"'Single Data'!M39/('Single Data'!L39+'Single Data'!M39+'Single Data'!N39)","v":{"$error":"#DIV/0!"}},{"$f":"IF('Single Data'!L39+'Single Data'!M39+'Single Data'!N39<>0,(B38+(C38*0.5)),NA())","v":{"$error":"#N/A"}},{"$f":"IF('Single Data'!L39+'Single Data'!M39+'Single Data'!N39<>0,(C38*0.866*Templates!K2),NA())","v":{"$error":"#N/A"}},null,{"$f":"'Serial Data'!M38/('Serial Data'!K38+'Serial Data'!L38+'Serial Data'!M38)","v":{"$error":"#DIV/0!"}},{"$f":"'Serial Data'!K38/('Serial Data'!K38+'Serial Data'!L38+'Serial Data'!M38)","v":{"$error":"#DIV/0!"}},{"$f":"'Serial Data'!L38/('Serial Data'!K38+'Serial Data'!L38+'Serial Data'!M38)","v":{"$error":"#DIV/0!"}},{"$f":"IF('Serial Data'!K38+'Serial Data'!L38+'Serial Data'!M38<>0,(H38+(I38*0.5)),NA())","v":{"$error":"#N/A"}},{"$f":"IF('Serial Data'!K38+'Serial Data'!L38+'Serial Data'!M38<>0,(I38*0.866*Templates!K2),NA())","v":{"$error":"#N/A"}},null,{"$f":"'Serial Data'!R38/('Serial Data'!P38+'Serial Data'!Q38+'Serial Data'!R38)","v":{"$error":"#DIV/0!"}},{"$f":"'Serial Data'!P38/('Serial Data'!P38+'Serial Data'!Q38+'Serial Data'!R38)","v":{"$error":"#DIV/0!"}},{"$f":"'Serial Data'!Q38/('Serial Data'!P38+'Serial Data'!Q38+'Serial Data'!R38)","v":{"$error":"#DIV/0!"}},{"$f":"IF('Serial Data'!P38+'Serial Data'!Q38+'Serial Data'!R38<>0,(N38+(O38*0.5)),NA())","v":{"$error":"#N/A"}},{"$f":"IF('Serial Data'!P38+'Serial Data'!Q38+'Serial Data'!R38<>0,(O38*0.866*Templates!K2),NA())","v":{"$error":"#N/A"}},null,{"$f":"'Serial Data'!W38/('Serial Data'!U38+'Serial Data'!V38+'Serial Data'!W38)","v":{"$error":"#DIV/0!"}},{"$f":"'Serial Data'!U38/('Serial Data'!U38+'Serial Data'!V38+'Serial Data'!W38)","v":{"$error":"#DIV/0!"}},{"$f":"'Serial Data'!V38/('Serial Data'!U38+'Serial Data'!V38+'Serial Data'!W38)","v":{"$error":"#DIV/0!"}},{"$f":"IF('Serial Data'!V38+'Serial Data'!W38+'Serial Data'!U38<>0,(T38+(U38*0.5)),NA())","v":{"$error":"#N/A"}},{"$f":"IF('Serial Data'!V38+'Serial Data'!W38+'Serial Data'!U38<>0,(U38*0.866*Templates!K2),NA())","v":{"$error":"#N/A"}},null,{"$f":"'Serial Data'!AB38/('Serial Data'!AA38+'Serial Data'!AB38+'Serial Data'!Z38)","v":{"$error":"#DIV/0!"}},{"$f":"'Serial Data'!Z38/('Serial Data'!AA38+'Serial Data'!AB38+'Serial Data'!Z38)","v":{"$error":"#DIV/0!"}},{"$f":"'Serial Data'!AA38/('Serial Data'!AA38+'Serial Data'!AB38+'Serial Data'!Z38)","v":{"$error":"#DIV/0!"}},{"$f":"IF('Serial Data'!AB38+'Serial Data'!AA38+'Serial Data'!Z38<>0,(Z38+(AA38*0.5)),NA())","v":{"$error":"#N/A"}},{"$f":"IF('Serial Data'!AB38+'Serial Data'!AA38+'Serial Data'!Z38<>0,(AA38*0.866*Templates!K2),NA())","v":{"$error":"#N/A"}},null,{"$f":"'Serial Data'!AG38/('Serial Data'!AG38+'Serial Data'!AE38+'Serial Data'!AF38)","v":{"$error":"#DIV/0!"}},{"$f":"'Serial Data'!AE38/('Serial Data'!AG38+'Serial Data'!AE38+'Serial Data'!AF38)","v":{"$error":"#DIV/0!"}},{"$f":"'Serial Data'!AF38/('Serial Data'!AG38+'Serial Data'!AE38+'Serial Data'!AF38)","v":{"$error":"#DIV/0!"}},{"$f":"IF('Serial Data'!AE38+'Serial Data'!AF38+'Serial Data'!AG38<>0,(AF38+(AG38*0.5)),NA())","v":{"$error":"#N/A"}},{"$f":"IF('Serial Data'!AE38+'Serial Data'!AF38+'Serial Data'!AG38<>0,(AG38*0.866*Templates!K2),NA())","v":{"$error":"#N/A"}},null,{"$f":"'Serial Data'!AL38/('Serial Data'!AJ38+'Serial Data'!AK38+'Serial Data'!AL38)","v":{"$error":"#DIV/0!"}},{"$f":"'Serial Data'!AJ38/('Serial Data'!AJ38+'Serial Data'!AK38+'Serial Data'!AL38)","v":{"$error":"#DIV/0!"}},{"$f":"'Serial Data'!AK38/('Serial Data'!AJ38+'Serial Data'!AK38+'Serial Data'!AL38)","v":{"$error":"#DIV/0!"}},{"$f":"IF('Serial Data'!AJ38+'Serial Data'!AK38+'Serial Data'!AL38<>0,(AL38+(AM38*0.5)),NA())","v":{"$error":"#N/A"}},{"$f":"IF('Serial Data'!AJ38+'Serial Data'!AK38+'Serial Data'!AL38<>0,(AM38*0.866*Templates!K2),NA())","v":{"$error":"#N/A"}},null,{"$f":"'Serial Data'!AQ38/('Serial Data'!AO38+'Serial Data'!AP38+'Serial Data'!AQ38)","v":{"$error":"#DIV/0!"}},{"$f":"'Serial Data'!AO38/('Serial Data'!AO38+'Serial Data'!AP38+'Serial Data'!AQ38)","v":{"$error":"#DIV/0!"}},{"$f":"'Serial Data'!AP38/('Serial Data'!AO38+'Serial Data'!AP38+'Serial Data'!AQ38)","v":{"$error":"#DIV/0!"}},{"$f":"IF('Serial Data'!AO38+'Serial Data'!AP38+'Serial Data'!AQ38<>0,(AR38+(AS38*0.5)),NA())","v":{"$error":"#N/A"}},{"$f":"IF('Serial Data'!AO38+'Serial Data'!AP38+'Serial Data'!AQ38<>0,(AS38*0.866*Templates!K2),NA())","v":{"$error":"#N/A"}},null,{"$f":"'Serial Data'!AV38/('Serial Data'!AT38+'Serial Data'!AU38+'Serial Data'!AV38)","v":{"$error":"#DIV/0!"}},{"$f":"'Serial Data'!AT38/('Serial Data'!AT38+'Serial Data'!AU38+'Serial Data'!AV38)","v":{"$error":"#DIV/0!"}},{"$f":"'Serial Data'!AU38/('Serial Data'!AT38+'Serial Data'!AU38+'Serial Data'!AV38)","v":{"$error":"#DIV/0!"}},{"$f":"IF('Serial Data'!AT38+'Serial Data'!AU38+'Serial Data'!AV38<>0,(AX38+(AY38*0.5)),NA())","v":{"$error":"#N/A"}},{"$f":"IF('Serial Data'!AT38+'Serial Data'!AU38+'Serial Data'!AV38<>0,(AY38*0.866*Templates!K2),NA())","v":{"$error":"#N/A"}},null,{"$f":"'Serial Data'!BA38/('Serial Data'!AY38+'Serial Data'!AZ38+'Serial Data'!BA38)","v":{"$error":"#DIV/0!"}},{"$f":"'Serial Data'!AY38/('Serial Data'!AY38+'Serial Data'!AZ38+'Serial Data'!BA38)","v":{"$error":"#DIV/0!"}},{"$f":"'Serial Data'!AZ38/('Serial Data'!AY38+'Serial Data'!AZ38+'Serial Data'!BA38)","v":{"$error":"#DIV/0!"}},{"$f":"IF('Serial Data'!AY38+'Serial Data'!AZ38+'Serial Data'!BA38<>0,(BD38+(BE38*0.5)),NA())","v":{"$error":"#N/A"}},{"$f":"IF('Serial Data'!AY38+'Serial Data'!AZ38+'Serial Data'!BA38<>0,(BE38*0.866*Templates!K2),NA())","v":{"$error":"#N/A"}},null,{"$f":"'Serial Data'!BF38/('Serial Data'!BD38+'Serial Data'!BE38+'Serial Data'!BF38)","v":{"$error":"#DIV/0!"}},{"$f":"'Serial Data'!BD38/('Serial Data'!BD38+'Serial Data'!BE38+'Serial Data'!BF38)","v":{"$error":"#DIV/0!"}},{"$f":"'Serial Data'!BE38/('Serial Data'!BD38+'Serial Data'!BE38+'Serial Data'!BF38)","v":{"$error":"#DIV/0!"}},{"$f":"IF('Serial Data'!BD38+'Serial Data'!BE38+'Serial Data'!BF38<>0,(BJ38+(BK38*0.5)),NA())","v":{"$error":"#N/A"}},{"$f":"IF('Serial Data'!BD38+'Serial Data'!BE38+'Serial Data'!BF38<>0,(BK38*0.866*Templates!K2),NA())","v":{"$error":"#N/A"}}]
[{"$f":"'Single Data'!N40/('Single Data'!L40+'Single Data'!M40+'Single Data'!N40)","v":{"$error":"#DIV/0!"}},{"$f":"'Single Data'!L40/('Single Data'!L40+'Single Data'!M40+'Single Data'!N40)","v":{"$error":"#DIV/0!"}},{"$f":"'Single Data'!M40/('Single Data'!L40+'Single Data'!M40+'Single Data'!N40)","v":{"$error":"#DIV/0!"}},{"$f":"IF('Single Data'!L40+'Single Data'!M40+'Single Data'!N40<>0,(B39+(C39*0.5)),NA())","v":{"$error":"#N/A"}},{"$f":"IF('Single Data'!L40+'Single Data'!M40+'Single Data'!N40<>0,(C39*0.866*Templates!K2),NA())","v":{"$error":"#N/A"}},null,{"$f":"'Serial Data'!M39/('Serial Data'!K39+'Serial Data'!L39+'Serial Data'!M39)","v":{"$error":"#DIV/0!"}},{"$f":"'Serial Data'!K39/('Serial Data'!K39+'Serial Data'!L39+'Serial Data'!M39)","v":{"$error":"#DIV/0!"}},{"$f":"'Serial Data'!L39/('Serial Data'!K39+'Serial Data'!L39+'Serial Data'!M39)","v":{"$error":"#DIV/0!"}},{"$f":"IF('Serial Data'!K39+'Serial Data'!L39+'Serial Data'!M39<>0,(H39+(I39*0.5)),NA())","v":{"$error":"#N/A"}},{"$f":"IF('Serial Data'!K39+'Serial Data'!L39+'Serial Data'!M39<>0,(I39*0.866*Templates!K2),NA())","v":{"$error":"#N/A"}},null,{"$f":"'Serial Data'!R39/('Serial Data'!P39+'Serial Data'!Q39+'Serial Data'!R39)","v":{"$error":"#DIV/0!"}},{"$f":"'Serial Data'!P39/('Serial Data'!P39+'Serial Data'!Q39+'Serial Data'!R39)","v":{"$error":"#DIV/0!"}},{"$f":"'Serial Data'!Q39/('Serial Data'!P39+'Serial Data'!Q39+'Serial Data'!R39)","v":{"$error":"#DIV/0!"}},{"$f":"IF('Serial Data'!P39+'Serial Data'!Q39+'Serial Data'!R39<>0,(N39+(O39*0.5)),NA())","v":{"$error":"#N/A"}},{"$f":"IF('Serial Data'!P39+'Serial Data'!Q39+'Serial Data'!R39<>0,(O39*0.866*Templates!K2),NA())","v":{"$error":"#N/A"}},null,{"$f":"'Serial Data'!W39/('Serial Data'!U39+'Serial Data'!V39+'Serial Data'!W39)","v":{"$error":"#DIV/0!"}},{"$f":"'Serial Data'!U39/('Serial Data'!U39+'Serial Data'!V39+'Serial Data'!W39)","v":{"$error":"#DIV/0!"}},{"$f":"'Serial Data'!V39/('Serial Data'!U39+'Serial Data'!V39+'Serial Data'!W39)","v":{"$error":"#DIV/0!"}},{"$f":"IF('Serial Data'!V39+'Serial Data'!W39+'Serial Data'!U39<>0,(T39+(U39*0.5)),NA())","v":{"$error":"#N/A"}},{"$f":"IF('Serial Data'!V39+'Serial Data'!W39+'Serial Data'!U39<>0,(U39*0.866*Templates!K2),NA())","v":{"$error":"#N/A"}},null,{"$f":"'Serial Data'!AB39/('Serial Data'!AA39+'Serial Data'!AB39+'Serial Data'!Z39)","v":{"$error":"#DIV/0!"}},{"$f":"'Serial Data'!Z39/('Serial Data'!AA39+'Serial Data'!AB39+'Serial Data'!Z39)","v":{"$error":"#DIV/0!"}},{"$f":"'Serial Data'!AA39/('Serial Data'!AA39+'Serial Data'!AB39+'Serial Data'!Z39)","v":{"$error":"#DIV/0!"}},{"$f":"IF('Serial Data'!AB39+'Serial Data'!AA39+'Serial Data'!Z39<>0,(Z39+(AA39*0.5)),NA())","v":{"$error":"#N/A"}},{"$f":"IF('Serial Data'!AB39+'Serial Data'!AA39+'Serial Data'!Z39<>0,(AA39*0.866*Templates!K2),NA())","v":{"$error":"#N/A"}},null,{"$f":"'Serial Data'!AG39/('Serial Data'!AG39+'Serial Data'!AE39+'Serial Data'!AF39)","v":{"$error":"#DIV/0!"}},{"$f":"'Serial Data'!AE39/('Serial Data'!AG39+'Serial Data'!AE39+'Serial Data'!AF39)","v":{"$error":"#DIV/0!"}},{"$f":"'Serial Data'!AF39/('Serial Data'!AG39+'Serial Data'!AE39+'Serial Data'!AF39)","v":{"$error":"#DIV/0!"}},{"$f":"IF('Serial Data'!AE39+'Serial Data'!AF39+'Serial Data'!AG39<>0,(AF39+(AG39*0.5)),NA())","v":{"$error":"#N/A"}},{"$f":"IF('Serial Data'!AE39+'Serial Data'!AF39+'Serial Data'!AG39<>0,(AG39*0.866*Templates!K2),NA())","v":{"$error":"#N/A"}},null,{"$f":"'Serial Data'!AL39/('Serial Data'!AJ39+'Serial Data'!AK39+'Serial Data'!AL39)","v":{"$error":"#DIV/0!"}},{"$f":"'Serial Data'!AJ39/('Serial Data'!AJ39+'Serial Data'!AK39+'Serial Data'!AL39)","v":{"$error":"#DIV/0!"}},{"$f":"'Serial Data'!AK39/('Serial Data'!AJ39+'Serial Data'!AK39+'Serial Data'!AL39)","v":{"$error":"#DIV/0!"}},{"$f":"IF('Serial Data'!AJ39+'Serial Data'!AK39+'Serial Data'!AL39<>0,(AL39+(AM39*0.5)),NA())","v":{"$error":"#N/A"}},{"$f":"IF('Serial Data'!AJ39+'Serial Data'!AK39+'Serial Data'!AL39<>0,(AM39*0.866*Templates!K2),NA())","v":{"$error":"#N/A"}},null,{"$f":"'Serial Data'!AQ39/('Serial Data'!AO39+'Serial Data'!AP39+'Serial Data'!AQ39)","v":{"$error":"#DIV/0!"}},{"$f":"'Serial Data'!AO39/('Serial Data'!AO39+'Serial Data'!AP39+'Serial Data'!AQ39)","v":{"$error":"#DIV/0!"}},{"$f":"'Serial Data'!AP39/('Serial Data'!AO39+'Serial Data'!AP39+'Serial Data'!AQ39)","v":{"$error":"#DIV/0!"}},{"$f":"IF('Serial Data'!AO39+'Serial Data'!AP39+'Serial Data'!AQ39<>0,(AR39+(AS39*0.5)),NA())","v":{"$error":"#N/A"}},{"$f":"IF('Serial Data'!AO39+'Serial Data'!AP39+'Serial Data'!AQ39<>0,(AS39*0.866*Templates!K2),NA())","v":{"$error":"#N/A"}},null,{"$f":"'Serial Data'!AV39/('Serial Data'!AT39+'Serial Data'!AU39+'Serial Data'!AV39)","v":{"$error":"#DIV/0!"}},{"$f":"'Serial Data'!AT39/('Serial Data'!AT39+'Serial Data'!AU39+'Serial Data'!AV39)","v":{"$error":"#DIV/0!"}},{"$f":"'Serial Data'!AU39/('Serial Data'!AT39+'Serial Data'!AU39+'Serial Data'!AV39)","v":{"$error":"#DIV/0!"}},{"$f":"IF('Serial Data'!AT39+'Serial Data'!AU39+'Serial Data'!AV39<>0,(AX39+(AY39*0.5)),NA())","v":{"$error":"#N/A"}},{"$f":"IF('Serial Data'!AT39+'Serial Data'!AU39+'Serial Data'!AV39<>0,(AY39*0.866*Templates!K2),NA())","v":{"$error":"#N/A"}},null,{"$f":"'Serial Data'!BA39/('Serial Data'!AY39+'Serial Data'!AZ39+'Serial Data'!BA39)","v":{"$error":"#DIV/0!"}},{"$f":"'Serial Data'!AY39/('Serial Data'!AY39+'Serial Data'!AZ39+'Serial Data'!BA39)","v":{"$error":"#DIV/0!"}},{"$f":"'Serial Data'!AZ39/('Serial Data'!AY39+'Serial Data'!AZ39+'Serial Data'!BA39)","v":{"$error":"#DIV/0!"}},{"$f":"IF('Serial Data'!AY39+'Serial Data'!AZ39+'Serial Data'!BA39<>0,(BD39+(BE39*0.5)),NA())","v":{"$error":"#N/A"}},{"$f":"IF('Serial Data'!AY39+'Serial Data'!AZ39+'Serial Data'!BA39<>0,(BE39*0.866*Templates!K2),NA())","v":{"$error":"#N/A"}},null,{"$f":"'Serial Data'!BF39/('Serial Data'!BD39+'Serial Data'!BE39+'Serial Data'!BF39)","v":{"$error":"#DIV/0!"}},{"$f":"'Serial Data'!BD39/('Serial Data'!BD39+'Serial Data'!BE39+'Serial Data'!BF39)","v":{"$error":"#DIV/0!"}},{"$f":"'Serial Data'!BE39/('Serial Data'!BD39+'Serial Data'!BE39+'Serial Data'!BF39)","v":{"$error":"#DIV/0!"}},{"$f":"IF('Serial Data'!BD39+'Serial Data'!BE39+'Serial Data'!BF39<>0,(BJ39+(BK39*0.5)),NA())","v":{"$error":"#N/A"}},{"$f":"IF('Serial Data'!BD39+'Serial Data'!BE39+'Serial Data'!BF39<>0,(BK39*0.866*Templates!K2),NA())","v":{"$error":"#N/A"}}]
[{"$f":"'Single Data'!N41/('Single Data'!L41+'Single Data'!M41+'Single Data'!N41)","v":{"$error":"#DIV/0!"}},{"$f":"'Single Data'!L41/('Single Data'!L41+'Single Data'!M41+'Single Data'!N41)","v":{"$error":"#DIV/0!"}},{"$f":"'Single Data'!M41/('Single Data'!L41+'Single Data'!M41+'Single Data'!N41)","v":{"$error":"#DIV/0!"}},{"$f":"IF('Single Data'!L41+'Single Data'!M41+'Single Data'!N41<>0,(B40+(C40*0.5)),NA())","v":{"$error":"#N/A"}},{"$f":"IF('Single Data'!L41+'Single Data'!M41+'Single Data'!N41<>0,(C40*0.866*Templates!K2),NA())","v":{"$error":"#N/A"}},null,{"$f":"'Serial Data'!M40/('Serial Data'!K40+'Serial Data'!L40+'Serial Data'!M40)","v":{"$error":"#DIV/0!"}},{"$f":"'Serial Data'!K40/('Serial Data'!K40+'Serial Data'!L40+'Serial Data'!M40)","v":{"$error":"#DIV/0!"}},{"$f":"'Serial Data'!L40/('Serial Data'!K40+'Serial Data'!L40+'Serial Data'!M40)","v":{"$error":"#DIV/0!"}},{"$f":"IF('Serial Data'!K40+'Serial Data'!L40+'Serial Data'!M40<>0,(H40+(I40*0.5)),NA())","v":{"$error":"#N/A"}},{"$f":"IF('Serial Data'!K40+'Serial Data'!L40+'Serial Data'!M40<>0,(I40*0.866*Templates!K2),NA())","v":{"$error":"#N/A"}},null,{"$f":"'Serial Data'!R40/('Serial Data'!P40+'Serial Data'!Q40+'Serial Data'!R40)","v":{"$error":"#DIV/0!"}},{"$f":"'Serial Data'!P40/('Serial Data'!P40+'Serial Data'!Q40+'Serial Data'!R40)","v":{"$error":"#DIV/0!"}},{"$f":"'Serial Data'!Q40/('Serial Data'!P40+'Serial Data'!Q40+'Serial Data'!R40)","v":{"$error":"#DIV/0!"}},{"$f":"IF('Serial Data'!P40+'Serial Data'!Q40+'Serial Data'!R40<>0,(N40+(O40*0.5)),NA())","v":{"$error":"#N/A"}},{"$f":"IF('Serial Data'!P40+'Serial Data'!Q40+'Serial Data'!R40<>0,(O40*0.866*Templates!K2),NA())","v":{"$error":"#N/A"}},null,{"$f":"'Serial Data'!W40/('Serial Data'!U40+'Serial Data'!V40+'Serial Data'!W40)","v":{"$error":"#DIV/0!"}},{"$f":"'Serial Data'!U40/('Serial Data'!U40+'Serial Data'!V40+'Serial Data'!W40)","v":{"$error":"#DIV/0!"}},{"$f":"'Serial Data'!V40/('Serial Data'!U40+'Serial Data'!V40+'Serial Data'!W40)","v":{"$error":"#DIV/0!"}},{"$f":"IF('Serial Data'!V40+'Serial Data'!W40+'Serial Data'!U40<>0,(T40+(U40*0.5)),NA())","v":{"$error":"#N/A"}},{"$f":"IF('Serial Data'!V40+'Serial Data'!W40+'Serial Data'!U40<>0,(U40*0.866*Templates!K2),NA())","v":{"$error":"#N/A"}},null,{"$f":"'Serial Data'!AB40/('Serial Data'!AA40+'Serial Data'!AB40+'Serial Data'!Z40)","v":{"$error":"#DIV/0!"}},{"$f":"'Serial Data'!Z40/('Serial Data'!AA40+'Serial Data'!AB40+'Serial Data'!Z40)","v":{"$error":"#DIV/0!"}},{"$f":"'Serial Data'!AA40/('Serial Data'!AA40+'Serial Data'!AB40+'Serial Data'!Z40)","v":{"$error":"#DIV/0!"}},{"$f":"IF('Serial Data'!AB40+'Serial Data'!AA40+'Serial Data'!Z40<>0,(Z40+(AA40*0.5)),NA())","v":{"$error":"#N/A"}},{"$f":"IF('Serial Data'!AB40+'Serial Data'!AA40+'Serial Data'!Z40<>0,(AA40*0.866*Templates!K2),NA())","v":{"$error":"#N/A"}},null,{"$f":"'Serial Data'!AG40/('Serial Data'!AG40+'Serial Data'!AE40+'Serial Data'!AF40)","v":{"$error":"#DIV/0!"}},{"$f":"'Serial Data'!AE40/('Serial Data'!AG40+'Serial Data'!AE40+'Serial Data'!AF40)","v":{"$error":"#DIV/0!"}},{"$f":"'Serial Data'!AF40/('Serial Data'!AG40+'Serial Data'!AE40+'Serial Data'!AF40)","v":{"$error":"#DIV/0!"}},{"$f":"IF('Serial Data'!AE40+'Serial Data'!AF40+'Serial Data'!AG40<>0,(AF40+(AG40*0.5)),NA())","v":{"$error":"#N/A"}},{"$f":"IF('Serial Data'!AE40+'Serial Data'!AF40+'Serial Data'!AG40<>0,(AG40*0.866*Templates!K2),NA())","v":{"$error":"#N/A"}},null,{"$f":"'Serial Data'!AL40/('Serial Data'!AJ40+'Serial Data'!AK40+'Serial Data'!AL40)","v":{"$error":"#DIV/0!"}},{"$f":"'Serial Data'!AJ40/('Serial Data'!AJ40+'Serial Data'!AK40+'Serial Data'!AL40)","v":{"$error":"#DIV/0!"}},{"$f":"'Serial Data'!AK40/('Serial Data'!AJ40+'Serial Data'!AK40+'Serial Data'!AL40)","v":{"$error":"#DIV/0!"}},{"$f":"IF('Serial Data'!AJ40+'Serial Data'!AK40+'Serial Data'!AL40<>0,(AL40+(AM40*0.5)),NA())","v":{"$error":"#N/A"}},{"$f":"IF('Serial Data'!AJ40+'Serial Data'!AK40+'Serial Data'!AL40<>0,(AM40*0.866*Templates!K2),NA())","v":{"$error":"#N/A"}},null,{"$f":"'Serial Data'!AQ40/('Serial Data'!AO40+'Serial Data'!AP40+'Serial Data'!AQ40)","v":{"$error":"#DIV/0!"}},{"$f":"'Serial Data'!AO40/('Serial Data'!AO40+'Serial Data'!AP40+'Serial Data'!AQ40)","v":{"$error":"#DIV/0!"}},{"$f":"'Serial Data'!AP40/('Serial Data'!AO40+'Serial Data'!AP40+'Serial Data'!AQ40)","v":{"$error":"#DIV/0!"}},{"$f":"IF('Serial Data'!AO40+'Serial Data'!AP40+'Serial Data'!AQ40<>0,(AR40+(AS40*0.5)),NA())","v":{"$error":"#N/A"}},{"$f":"IF('Serial Data'!AO40+'Serial Data'!AP40+'Serial Data'!AQ40<>0,(AS40*0.866*Templates!K2),NA())","v":{"$error":"#N/A"}},null,{"$f":"'Serial Data'!AV40/('Serial Data'!AT40+'Serial Data'!AU40+'Serial Data'!AV40)","v":{"$error":"#DIV/0!"}},{"$f":"'Serial Data'!AT40/('Serial Data'!AT40+'Serial Data'!AU40+'Serial Data'!AV40)","v":{"$error":"#DIV/0!"}},{"$f":"'Serial Data'!AU40/('Serial Data'!AT40+'Serial Data'!AU40+'Serial Data'!AV40)","v":{"$error":"#DIV/0!"}},{"$f":"IF('Serial Data'!AT40+'Serial Data'!AU40+'Serial Data'!AV40<>0,(AX40+(AY40*0.5)),NA())","v":{"$error":"#N/A"}},{"$f":"IF('Serial Data'!AT40+'Serial Data'!AU40+'Serial Data'!AV40<>0,(AY40*0.866*Templates!K2),NA())","v":{"$error":"#N/A"}},null,{"$f":"'Serial Data'!BA40/('Serial Data'!AY40+'Serial Data'!AZ40+'Serial Data'!BA40)","v":{"$error":"#DIV/0!"}},{"$f":"'Serial Data'!AY40/('Serial Data'!AY40+'Serial Data'!AZ40+'Serial Data'!BA40)","v":{"$error":"#DIV/0!"}},{"$f":"'Serial Data'!AZ40/('Serial Data'!AY40+'Serial Data'!AZ40+'Serial Data'!BA40)","v":{"$error":"#DIV/0!"}},{"$f":"IF('Serial Data'!AY40+'Serial Data'!AZ40+'Serial Data'!BA40<>0,(BD40+(BE40*0.5)),NA())","v":{"$error":"#N/A"}},{"$f":"IF('Serial Data'!AY40+'Serial Data'!AZ40+'Serial Data'!BA40<>0,(BE40*0.866*Templates!K2),NA())","v":{"$error":"#N/A"}},null,{"$f":"'Serial Data'!BF40/('Serial Data'!BD40+'Serial Data'!BE40+'Serial Data'!BF40)","v":{"$error":"#DIV/0!"}},{"$f":"'Serial Data'!BD40/('Serial Data'!BD40+'Serial Data'!BE40+'Serial Data'!BF40)","v":{"$error":"#DIV/0!"}},{"$f":"'Serial Data'!BE40/('Serial Data'!BD40+'Serial Data'!BE40+'Serial Data'!BF40)","v":{"$error":"#DIV/0!"}},{"$f":"IF('Serial Data'!BD40+'Serial Data'!BE40+'Serial Data'!BF40<>0,(BJ40+(BK40*0.5)),NA())","v":{"$error":"#N/A"}},{"$f":"IF('Serial Data'!BD40+'Serial Data'!BE40+'Serial Data'!BF40<>0,(BK40*0.866*Templates!K2),NA())","v":{"$error":"#N/A"}}]
[{"$f":"'Single Data'!N42/('Single Data'!L42+'Single Data'!M42+'Single Data'!N42)","v":{"$error":"#DIV/0!"}},{"$f":"'Single Data'!L42/('Single Data'!L42+'Single Data'!M42+'Single Data'!N42)","v":{"$error":"#DIV/0!"}},{"$f":"'Single Data'!M42/('Single Data'!L42+'Single Data'!M42+'Single Data'!N42)","v":{"$error":"#DIV/0!"}},{"$f":"IF('Single Data'!L42+'Single Data'!M42+'Single Data'!N42<>0,(B41+(C41*0.5)),NA())","v":{"$error":"#N/A"}},{"$f":"IF('Single Data'!L42+'Single Data'!M42+'Single Data'!N42<>0,(C41*0.866*Templates!K2),NA())","v":{"$error":"#N/A"}},null,{"$f":"'Serial Data'!M41/('Serial Data'!K41+'Serial Data'!L41+'Serial Data'!M41)","v":{"$error":"#DIV/0!"}},{"$f":"'Serial Data'!K41/('Serial Data'!K41+'Serial Data'!L41+'Serial Data'!M41)","v":{"$error":"#DIV/0!"}},{"$f":"'Serial Data'!L41/('Serial Data'!K41+'Serial Data'!L41+'Serial Data'!M41)","v":{"$error":"#DIV/0!"}},{"$f":"IF('Serial Data'!K41+'Serial Data'!L41+'Serial Data'!M41<>0,(H41+(I41*0.5)),NA())","v":{"$error":"#N/A"}},{"$f":"IF('Serial Data'!K41+'Serial Data'!L41+'Serial Data'!M41<>0,(I41*0.866*Templates!K2),NA())","v":{"$error":"#N/A"}},null,{"$f":"'Serial Data'!R41/('Serial Data'!P41+'Serial Data'!Q41+'Serial Data'!R41)","v":{"$error":"#DIV/0!"}},{"$f":"'Serial Data'!P41/('Serial Data'!P41+'Serial Data'!Q41+'Serial Data'!R41)","v":{"$error":"#DIV/0!"}},{"$f":"'Serial Data'!Q41/('Serial Data'!P41+'Serial Data'!Q41+'Serial Data'!R41)","v":{"$error":"#DIV/0!"}},{"$f":"IF('Serial Data'!P41+'Serial Data'!Q41+'Serial Data'!R41<>0,(N41+(O41*0.5)),NA())","v":{"$error":"#N/A"}},{"$f":"IF('Serial Data'!P41+'Serial Data'!Q41+'Serial Data'!R41<>0,(O41*0.866*Templates!K2),NA())","v":{"$error":"#N/A"}},null,{"$f":"'Serial Data'!W41/('Serial Data'!U41+'Serial Data'!V41+'Serial Data'!W41)","v":{"$error":"#DIV/0!"}},{"$f":"'Serial Data'!U41/('Serial Data'!U41+'Serial Data'!V41+'Serial Data'!W41)","v":{"$error":"#DIV/0!"}},{"$f":"'Serial Data'!V41/('Serial Data'!U41+'Serial Data'!V41+'Serial Data'!W41)","v":{"$error":"#DIV/0!"}},{"$f":"IF('Serial Data'!V41+'Serial Data'!W41+'Serial Data'!U41<>0,(T41+(U41*0.5)),NA())","v":{"$error":"#N/A"}},{"$f":"IF('Serial Data'!V41+'Serial Data'!W41+'Serial Data'!U41<>0,(U41*0.866*Templates!K2),NA())","v":{"$error":"#N/A"}},null,{"$f":"'Serial Data'!AB41/('Serial Data'!AA41+'Serial Data'!AB41+'Serial Data'!Z41)","v":{"$error":"#DIV/0!"}},{"$f":"'Serial Data'!Z41/('Serial Data'!AA41+'Serial Data'!AB41+'Serial Data'!Z41)","v":{"$error":"#DIV/0!"}},{"$f":"'Serial Data'!AA41/('Serial Data'!AA41+'Serial Data'!AB41+'Serial Data'!Z41)","v":{"$error":"#DIV/0!"}},{"$f":"IF('Serial Data'!AB41+'Serial Data'!AA41+'Serial Data'!Z41<>0,(Z41+(AA41*0.5)),NA())","v":{"$error":"#N/A"}},{"$f":"IF('Serial Data'!AB41+'Serial Data'!AA41+'Serial Data'!Z41<>0,(AA41*0.866*Templates!K2),NA())","v":{"$error":"#N/A"}},null,{"$f":"'Serial Data'!AG41/('Serial Data'!AG41+'Serial Data'!AE41+'Serial Data'!AF41)","v":{"$error":"#DIV/0!"}},{"$f":"'Serial Data'!AE41/('Serial Data'!AG41+'Serial Data'!AE41+'Serial Data'!AF41)","v":{"$error":"#DIV/0!"}},{"$f":"'Serial Data'!AF41/('Serial Data'!AG41+'Serial Data'!AE41+'Serial Data'!AF41)","v":{"$error":"#DIV/0!"}},{"$f":"IF('Serial Data'!AE41+'Serial Data'!AF41+'Serial Data'!AG41<>0,(AF41+(AG41*0.5)),NA())","v":{"$error":"#N/A"}},{"$f":"IF('Serial Data'!AE41+'Serial Data'!AF41+'Serial Data'!AG41<>0,(AG41*0.866*Templates!K2),NA())","v":{"$error":"#N/A"}},null,{"$f":"'Serial Data'!AL41/('Serial Data'!AJ41+'Serial Data'!AK41+'Serial Data'!AL41)","v":{"$error":"#DIV/0!"}},{"$f":"'Serial Data'!AJ41/('Serial Data'!AJ41+'Serial Data'!AK41+'Serial Data'!AL41)","v":{"$error":"#DIV/0!"}},{"$f":"'Serial Data'!AK41/('Serial Data'!AJ41+'Serial Data'!AK41+'Serial Data'!AL41)","v":{"$error":"#DIV/0!"}},{"$f":"IF('Serial Data'!AJ41+'Serial Data'!AK41+'Serial Data'!AL41<>0,(AL41+(AM41*0.5)),NA())","v":{"$error":"#N/A"}},{"$f":"IF('Serial Data'!AJ41+'Serial Data'!AK41+'Serial Data'!AL41<>0,(AM41*0.866*Templates!K2),NA())","v":{"$error":"#N/A"}},null,{"$f":"'Serial Data'!AQ41/('Serial Data'!AO41+'Serial Data'!AP41+'Serial Data'!AQ41)","v":{"$error":"#DIV/0!"}},{"$f":"'Serial Data'!AO41/('Serial Data'!AO41+'Serial Data'!AP41+'Serial Data'!AQ41)","v":{"$error":"#DIV/0!"}},{"$f":"'Serial Data'!AP41/('Serial Data'!AO41+'Serial Data'!AP41+'Serial Data'!AQ41)","v":{"$error":"#DIV/0!"}},{"$f":"IF('Serial Data'!AO41+'Serial Data'!AP41+'Serial Data'!AQ41<>0,(AR41+(AS41*0.5)),NA())","v":{"$error":"#N/A"}},{"$f":"IF('Serial Data'!AO41+'Serial Data'!AP41+'Serial Data'!AQ41<>0,(AS41*0.866*Templates!K2),NA())","v":{"$error":"#N/A"}},null,{"$f":"'Serial Data'!AV41/('Serial Data'!AT41+'Serial Data'!AU41+'Serial Data'!AV41)","v":{"$error":"#DIV/0!"}},{"$f":"'Serial Data'!AT41/('Serial Data'!AT41+'Serial Data'!AU41+'Serial Data'!AV41)","v":{"$error":"#DIV/0!"}},{"$f":"'Serial Data'!AU41/('Serial Data'!AT41+'Serial Data'!AU41+'Serial Data'!AV41)","v":{"$error":"#DIV/0!"}},{"$f":"IF('Serial Data'!AT41+'Serial Data'!AU41+'Serial Data'!AV41<>0,(AX41+(AY41*0.5)),NA())","v":{"$error":"#N/A"}},{"$f":"IF('Serial Data'!AT41+'Serial Data'!AU41+'Serial Data'!AV41<>0,(AY41*0.866*Templates!K2),NA())","v":{"$error":"#N/A"}},null,{"$f":"'Serial Data'!BA41/('Serial Data'!AY41+'Serial Data'!AZ41+'Serial Data'!BA41)","v":{"$error":"#DIV/0!"}},{"$f":"'Serial Data'!AY41/('Serial Data'!AY41+'Serial Data'!AZ41+'Serial Data'!BA41)","v":{"$error":"#DIV/0!"}},{"$f":"'Serial Data'!AZ41/('Serial Data'!AY41+'Serial Data'!AZ41+'Serial Data'!BA41)","v":{"$error":"#DIV/0!"}},{"$f":"IF('Serial Data'!AY41+'Serial Data'!AZ41+'Serial Data'!BA41<>0,(BD41+(BE41*0.5)),NA())","v":{"$error":"#N/A"}},{"$f":"IF('Serial Data'!AY41+'Serial Data'!AZ41+'Serial Data'!BA41<>0,(BE41*0.866*Templates!K2),NA())","v":{"$error":"#N/A"}},null,{"$f":"'Serial Data'!BF41/('Serial Data'!BD41+'Serial Data'!BE41+'Serial Data'!BF41)","v":{"$error":"#DIV/0!"}},{"$f":"'Serial Data'!BD41/('Serial Data'!BD41+'Serial Data'!BE41+'Serial Data'!BF41)","v":{"$error":"#DIV/0!"}},{"$f":"'Serial Data'!BE41/('Serial Data'!BD41+'Serial Data'!BE41+'Serial Data'!BF41)","v":{"$error":"#DIV/0!"}},{"$f":"IF('Serial Data'!BD41+'Serial Data'!BE41+'Serial Data'!BF41<>0,(BJ41+(BK41*0.5)),NA())","v":{"$error":"#N/A"}},{"$f":"IF('Serial Data'!BD41+'Serial Data'!BE41+'Serial Data'!BF41<>0,(BK41*0.866*Templates!K2),NA())","v":{"$error":"#N/A"}}]
[{"$f":"'Single Data'!N43/('Single Data'!L43+'Single Data'!M43+'Single Data'!N43)","v":{"$error":"#DIV/0!"}},{"$f":"'Single Data'!L43/('Single Data'!L43+'Single Data'!M43+'Single Data'!N43)","v":{"$error":"#DIV/0!"}},{"$f":"'Single Data'!M43/('Single Data'!L43+'Single Data'!M43+'Single Data'!N43)","v":{"$error":"#DIV/0!"}},{"$f":"IF('Single Data'!L43+'Single Data'!M43+'Single Data'!N43<>0,(B42+(C42*0.5)),NA())","v":{"$error":"#N/A"}},{"$f":"IF('Single Data'!L43+'Single Data'!M43+'Single Data'!N43<>0,(C42*0.866*Templates!K2),NA())","v":{"$error":"#N/A"}},null,{"$f":"'Serial Data'!M42/('Serial Data'!K42+'Serial Data'!L42+'Serial Data'!M42)","v":{"$error":"#DIV/0!"}},{"$f":"'Serial Data'!K42/('Serial Data'!K42+'Serial Data'!L42+'Serial Data'!M42)","v":{"$error":"#DIV/0!"}},{"$f":"'Serial Data'!L42/('Serial Data'!K42+'Serial Data'!L42+'Serial Data'!M42)","v":{"$error":"#DIV/0!"}},{"$f":"IF('Serial Data'!K42+'Serial Data'!L42+'Serial Data'!M42<>0,(H42+(I42*0.5)),NA())","v":{"$error":"#N/A"}},{"$f":"IF('Serial Data'!K42+'Serial Data'!L42+'Serial Data'!M42<>0,(I42*0.866*Templates!K2),NA())","v":{"$error":"#N/A"}},null,{"$f":"'Serial Data'!R42/('Serial Data'!P42+'Serial Data'!Q42+'Serial Data'!R42)","v":{"$error":"#DIV/0!"}},{"$f":"'Serial Data'!P42/('Serial Data'!P42+'Serial Data'!Q42+'Serial Data'!R42)","v":{"$error":"#DIV/0!"}},{"$f":"'Serial Data'!Q42/('Serial Data'!P42+'Serial Data'!Q42+'Serial Data'!R42)","v":{"$error":"#DIV/0!"}},{"$f":"IF('Serial Data'!P42+'Serial Data'!Q42+'Serial Data'!R42<>0,(N42+(O42*0.5)),NA())","v":{"$error":"#N/A"}},{"$f":"IF('Serial Data'!P42+'Serial Data'!Q42+'Serial Data'!R42<>0,(O42*0.866*Templates!K2),NA())","v":{"$error":"#N/A"}},null,{"$f":"'Serial Data'!W42/('Serial Data'!U42+'Serial Data'!V42+'Serial Data'!W42)","v":{"$error":"#DIV/0!"}},{"$f":"'Serial Data'!U42/('Serial Data'!U42+'Serial Data'!V42+'Serial Data'!W42)","v":{"$error":"#DIV/0!"}},{"$f":"'Serial Data'!V42/('Serial Data'!U42+'Serial Data'!V42+'Serial Data'!W42)","v":{"$error":"#DIV/0!"}},{"$f":"IF('Serial Data'!V42+'Serial Data'!W42+'Serial Data'!U42<>0,(T42+(U42*0.5)),NA())","v":{"$error":"#N/A"}},{"$f":"IF('Serial Data'!V42+'Serial Data'!W42+'Serial Data'!U42<>0,(U42*0.866*Templates!K2),NA())","v":{"$error":"#N/A"}},null,{"$f":"'Serial Data'!AB42/('Serial Data'!AA42+'Serial Data'!AB42+'Serial Data'!Z42)","v":{"$error":"#DIV/0!"}},{"$f":"'Serial Data'!Z42/('Serial Data'!AA42+'Serial Data'!AB42+'Serial Data'!Z42)","v":{"$error":"#DIV/0!"}},{"$f":"'Serial Data'!AA42/('Serial Data'!AA42+'Serial Data'!AB42+'Serial Data'!Z42)","v":{"$error":"#DIV/0!"}},{"$f":"IF('Serial Data'!AB42+'Serial Data'!AA42+'Serial Data'!Z42<>0,(Z42+(AA42*0.5)),NA())","v":{"$error":"#N/A"}},{"$f":"IF('Serial Data'!AB42+'Serial Data'!AA42+'Serial Data'!Z42<>0,(AA42*0.866*Templates!K2),NA())","v":{"$error":"#N/A"}},null,{"$f":"'Serial Data'!AG42/('Serial Data'!AG42+'Serial Data'!AE42+'Serial Data'!AF42)","v":{"$error":"#DIV/0!"}},{"$f":"'Serial Data'!AE42/('Serial Data'!AG42+'Serial Data'!AE42+'Serial Data'!AF42)","v":{"$error":"#DIV/0!"}},{"$f":"'Serial Data'!AF42/('Serial Data'!AG42+'Serial Data'!AE42+'Serial Data'!AF42)","v":{"$error":"#DIV/0!"}},{"$f":"IF('Serial Data'!AE42+'Serial Data'!AF42+'Serial Data'!AG42<>0,(AF42+(AG42*0.5)),NA())","v":{"$error":"#N/A"}},{"$f":"IF('Serial Data'!AE42+'Serial Data'!AF42+'Serial Data'!AG42<>0,(AG42*0.866*Templates!K2),NA())","v":{"$error":"#N/A"}},null,{"$f":"'Serial Data'!AL42/('Serial Data'!AJ42+'Serial Data'!AK42+'Serial Data'!AL42)","v":{"$error":"#DIV/0!"}},{"$f":"'Serial Data'!AJ42/('Serial Data'!AJ42+'Serial Data'!AK42+'Serial Data'!AL42)","v":{"$error":"#DIV/0!"}},{"$f":"'Serial Data'!AK42/('Serial Data'!AJ42+'Serial Data'!AK42+'Serial Data'!AL42)","v":{"$error":"#DIV/0!"}},{"$f":"IF('Serial Data'!AJ42+'Serial Data'!AK42+'Serial Data'!AL42<>0,(AL42+(AM42*0.5)),NA())","v":{"$error":"#N/A"}},{"$f":"IF('Serial Data'!AJ42+'Serial Data'!AK42+'Serial Data'!AL42<>0,(AM42*0.866*Templates!K2),NA())","v":{"$error":"#N/A"}},null,{"$f":"'Serial Data'!AQ42/('Serial Data'!AO42+'Serial Data'!AP42+'Serial Data'!AQ42)","v":{"$error":"#DIV/0!"}},{"$f":"'Serial Data'!AO42/('Serial Data'!AO42+'Serial Data'!AP42+'Serial Data'!AQ42)","v":{"$error":"#DIV/0!"}},{"$f":"'Serial Data'!AP42/('Serial Data'!AO42+'Serial Data'!AP42+'Serial Data'!AQ42)","v":{"$error":"#DIV/0!"}},{"$f":"IF('Serial Data'!AO42+'Serial Data'!AP42+'Serial Data'!AQ42<>0,(AR42+(AS42*0.5)),NA())","v":{"$error":"#N/A"}},{"$f":"IF('Serial Data'!AO42+'Serial Data'!AP42+'Serial Data'!AQ42<>0,(AS42*0.866*Templates!K2),NA())","v":{"$error":"#N/A"}},null,{"$f":"'Serial Data'!AV42/('Serial Data'!AT42+'Serial Data'!AU42+'Serial Data'!AV42)","v":{"$error":"#DIV/0!"}},{"$f":"'Serial Data'!AT42/('Serial Data'!AT42+'Serial Data'!AU42+'Serial Data'!AV42)","v":{"$error":"#DIV/0!"}},{"$f":"'Serial Data'!AU42/('Serial Data'!AT42+'Serial Data'!AU42+'Serial Data'!AV42)","v":{"$error":"#DIV/0!"}},{"$f":"IF('Serial Data'!AT42+'Serial Data'!AU42+'Serial Data'!AV42<>0,(AX42+(AY42*0.5)),NA())","v":{"$error":"#N/A"}},{"$f":"IF('Serial Data'!AT42+'Serial Data'!AU42+'Serial Data'!AV42<>0,(AY42*0.866*Templates!K2),NA())","v":{"$error":"#N/A"}},null,{"$f":"'Serial Data'!BA42/('Serial Data'!AY42+'Serial Data'!AZ42+'Serial Data'!BA42)","v":{"$error":"#DIV/0!"}},{"$f":"'Serial Data'!AY42/('Serial Data'!AY42+'Serial Data'!AZ42+'Serial Data'!BA42)","v":{"$error":"#DIV/0!"}},{"$f":"'Serial Data'!AZ42/('Serial Data'!AY42+'Serial Data'!AZ42+'Serial Data'!BA42)","v":{"$error":"#DIV/0!"}},{"$f":"IF('Serial Data'!AY42+'Serial Data'!AZ42+'Serial Data'!BA42<>0,(BD42+(BE42*0.5)),NA())","v":{"$error":"#N/A"}},{"$f":"IF('Serial Data'!AY42+'Serial Data'!AZ42+'Serial Data'!BA42<>0,(BE42*0.866*Templates!K2),NA())","v":{"$error":"#N/A"}},null,{"$f":"'Serial Data'!BF42/('Serial Data'!BD42+'Serial Data'!BE42+'Serial Data'!BF42)","v":{"$error":"#DIV/0!"}},{"$f":"'Serial Data'!BD42/('Serial Data'!BD42+'Serial Data'!BE42+'Serial Data'!BF42)","v":{"$error":"#DIV/0!"}},{"$f":"'Serial Data'!BE42/('Serial Data'!BD42+'Serial Data'!BE42+'Serial Data'!BF42)","v":{"$error":"#DIV/0!"}},{"$f":"IF('Serial Data'!BD42+'Serial Data'!BE42+'Serial Data'!BF42<>0,(BJ42+(BK42*0.5)),NA())","v":{"$error":"#N/A"}},{"$f":"IF('Serial Data'!BD42+'Serial Data'!BE42+'Serial Data'!BF42<>0,(BK42*0.866*Templates!K2),NA())","v":{"$error":"#N/A"}}]
[{"$f":"'Single Data'!N44/('Single Data'!L44+'Single Data'!M44+'Single Data'!N44)","v":{"$error":"#DIV/0!"}},{"$f":"'Single Data'!L44/('Single Data'!L44+'Single Data'!M44+'Single Data'!N44)","v":{"$error":"#DIV/0!"}},{"$f":"'Single Data'!M44/('Single Data'!L44+'Single Data'!M44+'Single Data'!N44)","v":{"$error":"#DIV/0!"}},{"$f":"IF('Single Data'!L44+'Single Data'!M44+'Single Data'!N44<>0,(B43+(C43*0.5)),NA())","v":{"$error":"#N/A"}},{"$f":"IF('Single Data'!L44+'Single Data'!M44+'Single Data'!N44<>0,(C43*0.866*Templates!K2),NA())","v":{"$error":"#N/A"}},null,{"$f":"'Serial Data'!M43/('Serial Data'!K43+'Serial Data'!L43+'Serial Data'!M43)","v":{"$error":"#DIV/0!"}},{"$f":"'Serial Data'!K43/('Serial Data'!K43+'Serial Data'!L43+'Serial Data'!M43)","v":{"$error":"#DIV/0!"}},{"$f":"'Serial Data'!L43/('Serial Data'!K43+'Serial Data'!L43+'Serial Data'!M43)","v":{"$error":"#DIV/0!"}},{"$f":"IF('Serial Data'!K43+'Serial Data'!L43+'Serial Data'!M43<>0,(H43+(I43*0.5)),NA())","v":{"$error":"#N/A"}},{"$f":"IF('Serial Data'!K43+'Serial Data'!L43+'Serial Data'!M43<>0,(I43*0.866*Templates!K2),NA())","v":{"$error":"#N/A"}},null,{"$f":"'Serial Data'!R43/('Serial Data'!P43+'Serial Data'!Q43+'Serial Data'!R43)","v":{"$error":"#DIV/0!"}},{"$f":"'Serial Data'!P43/('Serial Data'!P43+'Serial Data'!Q43+'Serial Data'!R43)","v":{"$error":"#DIV/0!"}},{"$f":"'Serial Data'!Q43/('Serial Data'!P43+'Serial Data'!Q43+'Serial Data'!R43)","v":{"$error":"#DIV/0!"}},{"$f":"IF('Serial Data'!P43+'Serial Data'!Q43+'Serial Data'!R43<>0,(N43+(O43*0.5)),NA())","v":{"$error":"#N/A"}},{"$f":"IF('Serial Data'!P43+'Serial Data'!Q43+'Serial Data'!R43<>0,(O43*0.866*Templates!K2),NA())","v":{"$error":"#N/A"}},null,{"$f":"'Serial Data'!W43/('Serial Data'!U43+'Serial Data'!V43+'Serial Data'!W43)","v":{"$error":"#DIV/0!"}},{"$f":"'Serial Data'!U43/('Serial Data'!U43+'Serial Data'!V43+'Serial Data'!W43)","v":{"$error":"#DIV/0!"}},{"$f":"'Serial Data'!V43/('Serial Data'!U43+'Serial Data'!V43+'Serial Data'!W43)","v":{"$error":"#DIV/0!"}},{"$f":"IF('Serial Data'!V43+'Serial Data'!W43+'Serial Data'!U43<>0,(T43+(U43*0.5)),NA())","v":{"$error":"#N/A"}},{"$f":"IF('Serial Data'!V43+'Serial Data'!W43+'Serial Data'!U43<>0,(U43*0.866*Templates!K2),NA())","v":{"$error":"#N/A"}},null,{"$f":"'Serial Data'!AB43/('Serial Data'!AA43+'Serial Data'!AB43+'Serial Data'!Z43)","v":{"$error":"#DIV/0!"}},{"$f":"'Serial Data'!Z43/('Serial Data'!AA43+'Serial Data'!AB43+'Serial Data'!Z43)","v":{"$error":"#DIV/0!"}},{"$f":"'Serial Data'!AA43/('Serial Data'!AA43+'Serial Data'!AB43+'Serial Data'!Z43)","v":{"$error":"#DIV/0!"}},{"$f":"IF('Serial Data'!AB43+'Serial Data'!AA43+'Serial Data'!Z43<>0,(Z43+(AA43*0.5)),NA())","v":{"$error":"#N/A"}},{"$f":"IF('Serial Data'!AB43+'Serial Data'!AA43+'Serial Data'!Z43<>0,(AA43*0.866*Templates!K2),NA())","v":{"$error":"#N/A"}},null,{"$f":"'Serial Data'!AG43/('Serial Data'!AG43+'Serial Data'!AE43+'Serial Data'!AF43)","v":{"$error":"#DIV/0!"}},{"$f":"'Serial Data'!AE43/('Serial Data'!AG43+'Serial Data'!AE43+'Serial Data'!AF43)","v":{"$error":"#DIV/0!"}},{"$f":"'Serial Data'!AF43/('Serial Data'!AG43+'Serial Data'!AE43+'Serial Data'!AF43)","v":{"$error":"#DIV/0!"}},{"$f":"IF('Serial Data'!AE43+'Serial Data'!AF43+'Serial Data'!AG43<>0,(AF43+(AG43*0.5)),NA())","v":{"$error":"#N/A"}},{"$f":"IF('Serial Data'!AE43+'Serial Data'!AF43+'Serial Data'!AG43<>0,(AG43*0.866*Templates!K2),NA())","v":{"$error":"#N/A"}},null,{"$f":"'Serial Data'!AL43/('Serial Data'!AJ43+'Serial Data'!AK43+'Serial Data'!AL43)","v":{"$error":"#DIV/0!"}},{"$f":"'Serial Data'!AJ43/('Serial Data'!AJ43+'Serial Data'!AK43+'Serial Data'!AL43)","v":{"$error":"#DIV/0!"}},{"$f":"'Serial Data'!AK43/('Serial Data'!AJ43+'Serial Data'!AK43+'Serial Data'!AL43)","v":{"$error":"#DIV/0!"}},{"$f":"IF('Serial Data'!AJ43+'Serial Data'!AK43+'Serial Data'!AL43<>0,(AL43+(AM43*0.5)),NA())","v":{"$error":"#N/A"}},{"$f":"IF('Serial Data'!AJ43+'Serial Data'!AK43+'Serial Data'!AL43<>0,(AM43*0.866*Templates!K2),NA())","v":{"$error":"#N/A"}},null,{"$f":"'Serial Data'!AQ43/('Serial Data'!AO43+'Serial Data'!AP43+'Serial Data'!AQ43)","v":{"$error":"#DIV/0!"}},{"$f":"'Serial Data'!AO43/('Serial Data'!AO43+'Serial Data'!AP43+'Serial Data'!AQ43)","v":{"$error":"#DIV/0!"}},{"$f":"'Serial Data'!AP43/('Serial Data'!AO43+'Serial Data'!AP43+'Serial Data'!AQ43)","v":{"$error":"#DIV/0!"}},{"$f":"IF('Serial Data'!AO43+'Serial Data'!AP43+'Serial Data'!AQ43<>0,(AR43+(AS43*0.5)),NA())","v":{"$error":"#N/A"}},{"$f":"IF('Serial Data'!AO43+'Serial Data'!AP43+'Serial Data'!AQ43<>0,(AS43*0.866*Templates!K2),NA())","v":{"$error":"#N/A"}},null,{"$f":"'Serial Data'!AV43/('Serial Data'!AT43+'Serial Data'!AU43+'Serial Data'!AV43)","v":{"$error":"#DIV/0!"}},{"$f":"'Serial Data'!AT43/('Serial Data'!AT43+'Serial Data'!AU43+'Serial Data'!AV43)","v":{"$error":"#DIV/0!"}},{"$f":"'Serial Data'!AU43/('Serial Data'!AT43+'Serial Data'!AU43+'Serial Data'!AV43)","v":{"$error":"#DIV/0!"}},{"$f":"IF('Serial Data'!AT43+'Serial Data'!AU43+'Serial Data'!AV43<>0,(AX43+(AY43*0.5)),NA())","v":{"$error":"#N/A"}},{"$f":"IF('Serial Data'!AT43+'Serial Data'!AU43+'Serial Data'!AV43<>0,(AY43*0.866*Templates!K2),NA())","v":{"$error":"#N/A"}},null,{"$f":"'Serial Data'!BA43/('Serial Data'!AY43+'Serial Data'!AZ43+'Serial Data'!BA43)","v":{"$error":"#DIV/0!"}},{"$f":"'Serial Data'!AY43/('Serial Data'!AY43+'Serial Data'!AZ43+'Serial Data'!BA43)","v":{"$error":"#DIV/0!"}},{"$f":"'Serial Data'!AZ43/('Serial Data'!AY43+'Serial Data'!AZ43+'Serial Data'!BA43)","v":{"$error":"#DIV/0!"}},{"$f":"IF('Serial Data'!AY43+'Serial Data'!AZ43+'Serial Data'!BA43<>0,(BD43+(BE43*0.5)),NA())","v":{"$error":"#N/A"}},{"$f":"IF('Serial Data'!AY43+'Serial Data'!AZ43+'Serial Data'!BA43<>0,(BE43*0.866*Templates!K2),NA())","v":{"$error":"#N/A"}},null,{"$f":"'Serial Data'!BF43/('Serial Data'!BD43+'Serial Data'!BE43+'Serial Data'!BF43)","v":{"$error":"#DIV/0!"}},{"$f":"'Serial Data'!BD43/('Serial Data'!BD43+'Serial Data'!BE43+'Serial Data'!BF43)","v":{"$error":"#DIV/0!"}},{"$f":"'Serial Data'!BE43/('Serial Data'!BD43+'Serial Data'!BE43+'Serial Data'!BF43)","v":{"$error":"#DIV/0!"}},{"$f":"IF('Serial Data'!BD43+'Serial Data'!BE43+'Serial Data'!BF43<>0,(BJ43+(BK43*0.5)),NA())","v":{"$error":"#N/A"}},{"$f":"IF('Serial Data'!BD43+'Serial Data'!BE43+'Serial Data'!BF43<>0,(BK43*0.866*Templates!K2),NA())","v":{"$error":"#N/A"}}]
[{"$f":"'Single Data'!N45/('Single Data'!L45+'Single Data'!M45+'Single Data'!N45)","v":{"$error":"#DIV/0!"}},{"$f":"'Single Data'!L45/('Single Data'!L45+'Single Data'!M45+'Single Data'!N45)","v":{"$error":"#DIV/0!"}},{"$f":"'Single Data'!M45/('Single Data'!L45+'Single Data'!M45+'Single Data'!N45)","v":{"$error":"#DIV/0!"}},{"$f":"IF('Single Data'!L45+'Single Data'!M45+'Single Data'!N45<>0,(B44+(C44*0.5)),NA())","v":{"$error":"#N/A"}},{"$f":"IF('Single Data'!L45+'Single Data'!M45+'Single Data'!N45<>0,(C44*0.866*Templates!K2),NA())","v":{"$error":"#N/A"}},null,{"$f":"'Serial Data'!M44/('Serial Data'!K44+'Serial Data'!L44+'Serial Data'!M44)","v":{"$error":"#DIV/0!"}},{"$f":"'Serial Data'!K44/('Serial Data'!K44+'Serial Data'!L44+'Serial Data'!M44)","v":{"$error":"#DIV/0!"}},{"$f":"'Serial Data'!L44/('Serial Data'!K44+'Serial Data'!L44+'Serial Data'!M44)","v":{"$error":"#DIV/0!"}},{"$f":"IF('Serial Data'!K44+'Serial Data'!L44+'Serial Data'!M44<>0,(H44+(I44*0.5)),NA())","v":{"$error":"#N/A"}},{"$f":"IF('Serial Data'!K44+'Serial Data'!L44+'Serial Data'!M44<>0,(I44*0.866*Templates!K2),NA())","v":{"$error":"#N/A"}},null,{"$f":"'Serial Data'!R44/('Serial Data'!P44+'Serial Data'!Q44+'Serial Data'!R44)","v":{"$error":"#DIV/0!"}},{"$f":"'Serial Data'!P44/('Serial Data'!P44+'Serial Data'!Q44+'Serial Data'!R44)","v":{"$error":"#DIV/0!"}},{"$f":"'Serial Data'!Q44/('Serial Data'!P44+'Serial Data'!Q44+'Serial Data'!R44)","v":{"$error":"#DIV/0!"}},{"$f":"IF('Serial Data'!P44+'Serial Data'!Q44+'Serial Data'!R44<>0,(N44+(O44*0.5)),NA())","v":{"$error":"#N/A"}},{"$f":"IF('Serial Data'!P44+'Serial Data'!Q44+'Serial Data'!R44<>0,(O44*0.866*Templates!K2),NA())","v":{"$error":"#N/A"}},null,{"$f":"'Serial Data'!W44/('Serial Data'!U44+'Serial Data'!V44+'Serial Data'!W44)","v":{"$error":"#DIV/0!"}},{"$f":"'Serial Data'!U44/('Serial Data'!U44+'Serial Data'!V44+'Serial Data'!W44)","v":{"$error":"#DIV/0!"}},{"$f":"'Serial Data'!V44/('Serial Data'!U44+'Serial Data'!V44+'Serial Data'!W44)","v":{"$error":"#DIV/0!"}},{"$f":"IF('Serial Data'!V44+'Serial Data'!W44+'Serial Data'!U44<>0,(T44+(U44*0.5)),NA())","v":{"$error":"#N/A"}},{"$f":"IF('Serial Data'!V44+'Serial Data'!W44+'Serial Data'!U44<>0,(U44*0.866*Templates!K2),NA())","v":{"$error":"#N/A"}},null,{"$f":"'Serial Data'!AB44/('Serial Data'!AA44+'Serial Data'!AB44+'Serial Data'!Z44)","v":{"$error":"#DIV/0!"}},{"$f":"'Serial Data'!Z44/('Serial Data'!AA44+'Serial Data'!AB44+'Serial Data'!Z44)","v":{"$error":"#DIV/0!"}},{"$f":"'Serial Data'!AA44/('Serial Data'!AA44+'Serial Data'!AB44+'Serial Data'!Z44)","v":{"$error":"#DIV/0!"}},{"$f":"IF('Serial Data'!AB44+'Serial Data'!AA44+'Serial Data'!Z44<>0,(Z44+(AA44*0.5)),NA())","v":{"$error":"#N/A"}},{"$f":"IF('Serial Data'!AB44+'Serial Data'!AA44+'Serial Data'!Z44<>0,(AA44*0.866*Templates!K2),NA())","v":{"$error":"#N/A"}},null,{"$f":"'Serial Data'!AG44/('Serial Data'!AG44+'Serial Data'!AE44+'Serial Data'!AF44)","v":{"$error":"#DIV/0!"}},{"$f":"'Serial Data'!AE44/('Serial Data'!AG44+'Serial Data'!AE44+'Serial Data'!AF44)","v":{"$error":"#DIV/0!"}},{"$f":"'Serial Data'!AF44/('Serial Data'!AG44+'Serial Data'!AE44+'Serial Data'!AF44)","v":{"$error":"#DIV/0!"}},{"$f":"IF('Serial Data'!AE44+'Serial Data'!AF44+'Serial Data'!AG44<>0,(AF44+(AG44*0.5)),NA())","v":{"$error":"#N/A"}},{"$f":"IF('Serial Data'!AE44+'Serial Data'!AF44+'Serial Data'!AG44<>0,(AG44*0.866*Templates!K2),NA())","v":{"$error":"#N/A"}},null,{"$f":"'Serial Data'!AL44/('Serial Data'!AJ44+'Serial Data'!AK44+'Serial Data'!AL44)","v":{"$error":"#DIV/0!"}},{"$f":"'Serial Data'!AJ44/('Serial Data'!AJ44+'Serial Data'!AK44+'Serial Data'!AL44)","v":{"$error":"#DIV/0!"}},{"$f":"'Serial Data'!AK44/('Serial Data'!AJ44+'Serial Data'!AK44+'Serial Data'!AL44)","v":{"$error":"#DIV/0!"}},{"$f":"IF('Serial Data'!AJ44+'Serial Data'!AK44+'Serial Data'!AL44<>0,(AL44+(AM44*0.5)),NA())","v":{"$error":"#N/A"}},{"$f":"IF('Serial Data'!AJ44+'Serial Data'!AK44+'Serial Data'!AL44<>0,(AM44*0.866*Templates!K2),NA())","v":{"$error":"#N/A"}},null,{"$f":"'Serial Data'!AQ44/('Serial Data'!AO44+'Serial Data'!AP44+'Serial Data'!AQ44)","v":{"$error":"#DIV/0!"}},{"$f":"'Serial Data'!AO44/('Serial Data'!AO44+'Serial Data'!AP44+'Serial Data'!AQ44)","v":{"$error":"#DIV/0!"}},{"$f":"'Serial Data'!AP44/('Serial Data'!AO44+'Serial Data'!AP44+'Serial Data'!AQ44)","v":{"$error":"#DIV/0!"}},{"$f":"IF('Serial Data'!AO44+'Serial Data'!AP44+'Serial Data'!AQ44<>0,(AR44+(AS44*0.5)),NA())","v":{"$error":"#N/A"}},{"$f":"IF('Serial Data'!AO44+'Serial Data'!AP44+'Serial Data'!AQ44<>0,(AS44*0.866*Templates!K2),NA())","v":{"$error":"#N/A"}},null,{"$f":"'Serial Data'!AV44/('Serial Data'!AT44+'Serial Data'!AU44+'Serial Data'!AV44)","v":{"$error":"#DIV/0!"}},{"$f":"'Serial Data'!AT44/('Serial Data'!AT44+'Serial Data'!AU44+'Serial Data'!AV44)","v":{"$error":"#DIV/0!"}},{"$f":"'Serial Data'!AU44/('Serial Data'!AT44+'Serial Data'!AU44+'Serial Data'!AV44)","v":{"$error":"#DIV/0!"}},{"$f":"IF('Serial Data'!AT44+'Serial Data'!AU44+'Serial Data'!AV44<>0,(AX44+(AY44*0.5)),NA())","v":{"$error":"#N/A"}},{"$f":"IF('Serial Data'!AT44+'Serial Data'!AU44+'Serial Data'!AV44<>0,(AY44*0.866*Templates!K2),NA())","v":{"$error":"#N/A"}},null,{"$f":"'Serial Data'!BA44/('Serial Data'!AY44+'Serial Data'!AZ44+'Serial Data'!BA44)","v":{"$error":"#DIV/0!"}},{"$f":"'Serial Data'!AY44/('Serial Data'!AY44+'Serial Data'!AZ44+'Serial Data'!BA44)","v":{"$error":"#DIV/0!"}},{"$f":"'Serial Data'!AZ44/('Serial Data'!AY44+'Serial Data'!AZ44+'Serial Data'!BA44)","v":{"$error":"#DIV/0!"}},{"$f":"IF('Serial Data'!AY44+'Serial Data'!AZ44+'Serial Data'!BA44<>0,(BD44+(BE44*0.5)),NA())","v":{"$error":"#N/A"}},{"$f":"IF('Serial Data'!AY44+'Serial Data'!AZ44+'Serial Data'!BA44<>0,(BE44*0.866*Templates!K2),NA())","v":{"$error":"#N/A"}},null,{"$f":"'Serial Data'!BF44/('Serial Data'!BD44+'Serial Data'!BE44+'Serial Data'!BF44)","v":{"$error":"#DIV/0!"}},{"$f":"'Serial Data'!BD44/('Serial Data'!BD44+'Serial Data'!BE44+'Serial Data'!BF44)","v":{"$error":"#DIV/0!"}},{"$f":"'Serial Data'!BE44/('Serial Data'!BD44+'Serial Data'!BE44+'Serial Data'!BF44)","v":{"$error":"#DIV/0!"}},{"$f":"IF('Serial Data'!BD44+'Serial Data'!BE44+'Serial Data'!BF44<>0,(BJ44+(BK44*0.5)),NA())","v":{"$error":"#N/A"}},{"$f":"IF('Serial Data'!BD44+'Serial Data'!BE44+'Serial Data'!BF44<>0,(BK44*0.866*Templates!K2),NA())","v":{"$error":"#N/A"}}]
[{"$f":"'Single Data'!N46/('Single Data'!L46+'Single Data'!M46+'Single Data'!N46)","v":{"$error":"#DIV/0!"}},{"$f":"'Single Data'!L46/('Single Data'!L46+'Single Data'!M46+'Single Data'!N46)","v":{"$error":"#DIV/0!"}},{"$f":"'Single Data'!M46/('Single Data'!L46+'Single Data'!M46+'Single Data'!N46)","v":{"$error":"#DIV/0!"}},{"$f":"IF('Single Data'!L46+'Single Data'!M46+'Single Data'!N46<>0,(B45+(C45*0.5)),NA())","v":{"$error":"#N/A"}},{"$f":"IF('Single Data'!L46+'Single Data'!M46+'Single Data'!N46<>0,(C45*0.866*Templates!K2),NA())","v":{"$error":"#N/A"}},null,{"$f":"'Serial Data'!M45/('Serial Data'!K45+'Serial Data'!L45+'Serial Data'!M45)","v":{"$error":"#DIV/0!"}},{"$f":"'Serial Data'!K45/('Serial Data'!K45+'Serial Data'!L45+'Serial Data'!M45)","v":{"$error":"#DIV/0!"}},{"$f":"'Serial Data'!L45/('Serial Data'!K45+'Serial Data'!L45+'Serial Data'!M45)","v":{"$error":"#DIV/0!"}},{"$f":"IF('Serial Data'!K45+'Serial Data'!L45+'Serial Data'!M45<>0,(H45+(I45*0.5)),NA())","v":{"$error":"#N/A"}},{"$f":"IF('Serial Data'!K45+'Serial Data'!L45+'Serial Data'!M45<>0,(I45*0.866*Templates!K2),NA())","v":{"$error":"#N/A"}},null,{"$f":"'Serial Data'!R45/('Serial Data'!P45+'Serial Data'!Q45+'Serial Data'!R45)","v":{"$error":"#DIV/0!"}},{"$f":"'Serial Data'!P45/('Serial Data'!P45+'Serial Data'!Q45+'Serial Data'!R45)","v":{"$error":"#DIV/0!"}},{"$f":"'Serial Data'!Q45/('Serial Data'!P45+'Serial Data'!Q45+'Serial Data'!R45)","v":{"$error":"#DIV/0!"}},{"$f":"IF('Serial Data'!P45+'Serial Data'!Q45+'Serial Data'!R45<>0,(N45+(O45*0.5)),NA())","v":{"$error":"#N/A"}},{"$f":"IF('Serial Data'!P45+'Serial Data'!Q45+'Serial Data'!R45<>0,(O45*0.866*Templates!K2),NA())","v":{"$error":"#N/A"}},null,{"$f":"'Serial Data'!W45/('Serial Data'!U45+'Serial Data'!V45+'Serial Data'!W45)","v":{"$error":"#DIV/0!"}},{"$f":"'Serial Data'!U45/('Serial Data'!U45+'Serial Data'!V45+'Serial Data'!W45)","v":{"$error":"#DIV/0!"}},{"$f":"'Serial Data'!V45/('Serial Data'!U45+'Serial Data'!V45+'Serial Data'!W45)","v":{"$error":"#DIV/0!"}},{"$f":"IF('Serial Data'!V45+'Serial Data'!W45+'Serial Data'!U45<>0,(T45+(U45*0.5)),NA())","v":{"$error":"#N/A"}},{"$f":"IF('Serial Data'!V45+'Serial Data'!W45+'Serial Data'!U45<>0,(U45*0.866*Templates!K2),NA())","v":{"$error":"#N/A"}},null,{"$f":"'Serial Data'!AB45/('Serial Data'!AA45+'Serial Data'!AB45+'Serial Data'!Z45)","v":{"$error":"#DIV/0!"}},{"$f":"'Serial Data'!Z45/('Serial Data'!AA45+'Serial Data'!AB45+'Serial Data'!Z45)","v":{"$error":"#DIV/0!"}},{"$f":"'Serial Data'!AA45/('Serial Data'!AA45+'Serial Data'!AB45+'Serial Data'!Z45)","v":{"$error":"#DIV/0!"}},{"$f":"IF('Serial Data'!AB45+'Serial Data'!AA45+'Serial Data'!Z45<>0,(Z45+(AA45*0.5)),NA())","v":{"$error":"#N/A"}},{"$f":"IF('Serial Data'!AB45+'Serial Data'!AA45+'Serial Data'!Z45<>0,(AA45*0.866*Templates!K2),NA())","v":{"$error":"#N/A"}},null,{"$f":"'Serial Data'!AG45/('Serial Data'!AG45+'Serial Data'!AE45+'Serial Data'!AF45)","v":{"$error":"#DIV/0!"}},{"$f":"'Serial Data'!AE45/('Serial Data'!AG45+'Serial Data'!AE45+'Serial Data'!AF45)","v":{"$error":"#DIV/0!"}},{"$f":"'Serial Data'!AF45/('Serial Data'!AG45+'Serial Data'!AE45+'Serial Data'!AF45)","v":{"$error":"#DIV/0!"}},{"$f":"IF('Serial Data'!AE45+'Serial Data'!AF45+'Serial Data'!AG45<>0,(AF45+(AG45*0.5)),NA())","v":{"$error":"#N/A"}},{"$f":"IF('Serial Data'!AE45+'Serial Data'!AF45+'Serial Data'!AG45<>0,(AG45*0.866*Templates!K2),NA())","v":{"$error":"#N/A"}},null,{"$f":"'Serial Data'!AL45/('Serial Data'!AJ45+'Serial Data'!AK45+'Serial Data'!AL45)","v":{"$error":"#DIV/0!"}},{"$f":"'Serial Data'!AJ45/('Serial Data'!AJ45+'Serial Data'!AK45+'Serial Data'!AL45)","v":{"$error":"#DIV/0!"}},{"$f":"'Serial Data'!AK45/('Serial Data'!AJ45+'Serial Data'!AK45+'Serial Data'!AL45)","v":{"$error":"#DIV/0!"}},{"$f":"IF('Serial Data'!AJ45+'Serial Data'!AK45+'Serial Data'!AL45<>0,(AL45+(AM45*0.5)),NA())","v":{"$error":"#N/A"}},{"$f":"IF('Serial Data'!AJ45+'Serial Data'!AK45+'Serial Data'!AL45<>0,(AM45*0.866*Templates!K2),NA())","v":{"$error":"#N/A"}},null,{"$f":"'Serial Data'!AQ45/('Serial Data'!AO45+'Serial Data'!AP45+'Serial Data'!AQ45)","v":{"$error":"#DIV/0!"}},{"$f":"'Serial Data'!AO45/('Serial Data'!AO45+'Serial Data'!AP45+'Serial Data'!AQ45)","v":{"$error":"#DIV/0!"}},{"$f":"'Serial Data'!AP45/('Serial Data'!AO45+'Serial Data'!AP45+'Serial Data'!AQ45)","v":{"$error":"#DIV/0!"}},{"$f":"IF('Serial Data'!AO45+'Serial Data'!AP45+'Serial Data'!AQ45<>0,(AR45+(AS45*0.5)),NA())","v":{"$error":"#N/A"}},{"$f":"IF('Serial Data'!AO45+'Serial Data'!AP45+'Serial Data'!AQ45<>0,(AS45*0.866*Templates!K2),NA())","v":{"$error":"#N/A"}},null,{"$f":"'Serial Data'!AV45/('Serial Data'!AT45+'Serial Data'!AU45+'Serial Data'!AV45)","v":{"$error":"#DIV/0!"}},{"$f":"'Serial Data'!AT45/('Serial Data'!AT45+'Serial Data'!AU45+'Serial Data'!AV45)","v":{"$error":"#DIV/0!"}},{"$f":"'Serial Data'!AU45/('Serial Data'!AT45+'Serial Data'!AU45+'Serial Data'!AV45)","v":{"$error":"#DIV/0!"}},{"$f":"IF('Serial Data'!AT45+'Serial Data'!AU45+'Serial Data'!AV45<>0,(AX45+(AY45*0.5)),NA())","v":{"$error":"#N/A"}},{"$f":"IF('Serial Data'!AT45+'Serial Data'!AU45+'Serial Data'!AV45<>0,(AY45*0.866*Templates!K2),NA())","v":{"$error":"#N/A"}},null,{"$f":"'Serial Data'!BA45/('Serial Data'!AY45+'Serial Data'!AZ45+'Serial Data'!BA45)","v":{"$error":"#DIV/0!"}},{"$f":"'Serial Data'!AY45/('Serial Data'!AY45+'Serial Data'!AZ45+'Serial Data'!BA45)","v":{"$error":"#DIV/0!"}},{"$f":"'Serial Data'!AZ45/('Serial Data'!AY45+'Serial Data'!AZ45+'Serial Data'!BA45)","v":{"$error":"#DIV/0!"}},{"$f":"IF('Serial Data'!AY45+'Serial Data'!AZ45+'Serial Data'!BA45<>0,(BD45+(BE45*0.5)),NA())","v":{"$error":"#N/A"}},{"$f":"IF('Serial Data'!AY45+'Serial Data'!AZ45+'Serial Data'!BA45<>0,(BE45*0.866*Templates!K2),NA())","v":{"$error":"#N/A"}},null,{"$f":"'Serial Data'!BF45/('Serial Data'!BD45+'Serial Data'!BE45+'Serial Data'!BF45)","v":{"$error":"#DIV/0!"}},{"$f":"'Serial Data'!BD45/('Serial Data'!BD45+'Serial Data'!BE45+'Serial Data'!BF45)","v":{"$error":"#DIV/0!"}},{"$f":"'Serial Data'!BE45/('Serial Data'!BD45+'Serial Data'!BE45+'Serial Data'!BF45)","v":{"$error":"#DIV/0!"}},{"$f":"IF('Serial Data'!BD45+'Serial Data'!BE45+'Serial Data'!BF45<>0,(BJ45+(BK45*0.5)),NA())","v":{"$error":"#N/A"}},{"$f":"IF('Serial Data'!BD45+'Serial Data'!BE45+'Serial Data'!BF45<>0,(BK45*0.866*Templates!K2),NA())","v":{"$error":"#N/A"}}]
[{"$f":"'Single Data'!N47/('Single Data'!L47+'Single Data'!M47+'Single Data'!N47)","v":{"$error":"#DIV/0!"}},{"$f":"'Single Data'!L47/('Single Data'!L47+'Single Data'!M47+'Single Data'!N47)","v":{"$error":"#DIV/0!"}},{"$f":"'Single Data'!M47/('Single Data'!L47+'Single Data'!M47+'Single Data'!N47)","v":{"$error":"#DIV/0!"}},{"$f":"IF('Single Data'!L47+'Single Data'!M47+'Single Data'!N47<>0,(B46+(C46*0.5)),NA())","v":{"$error":"#N/A"}},{"$f":"IF('Single Data'!L47+'Single Data'!M47+'Single Data'!N47<>0,(C46*0.866*Templates!K2),NA())","v":{"$error":"#N/A"}},null,{"$f":"'Serial Data'!M46/('Serial Data'!K46+'Serial Data'!L46+'Serial Data'!M46)","v":{"$error":"#DIV/0!"}},{"$f":"'Serial Data'!K46/('Serial Data'!K46+'Serial Data'!L46+'Serial Data'!M46)","v":{"$error":"#DIV/0!"}},{"$f":"'Serial Data'!L46/('Serial Data'!K46+'Serial Data'!L46+'Serial Data'!M46)","v":{"$error":"#DIV/0!"}},{"$f":"IF('Serial Data'!K46+'Serial Data'!L46+'Serial Data'!M46<>0,(H46+(I46*0.5)),NA())","v":{"$error":"#N/A"}},{"$f":"IF('Serial Data'!K46+'Serial Data'!L46+'Serial Data'!M46<>0,(I46*0.866*Templates!K2),NA())","v":{"$error":"#N/A"}},null,{"$f":"'Serial Data'!R46/('Serial Data'!P46+'Serial Data'!Q46+'Serial Data'!R46)","v":{"$error":"#DIV/0!"}},{"$f":"'Serial Data'!P46/('Serial Data'!P46+'Serial Data'!Q46+'Serial Data'!R46)","v":{"$error":"#DIV/0!"}},{"$f":"'Serial Data'!Q46/('Serial Data'!P46+'Serial Data'!Q46+'Serial Data'!R46)","v":{"$error":"#DIV/0!"}},{"$f":"IF('Serial Data'!P46+'Serial Data'!Q46+'Serial Data'!R46<>0,(N46+(O46*0.5)),NA())","v":{"$error":"#N/A"}},{"$f":"IF('Serial Data'!P46+'Serial Data'!Q46+'Serial Data'!R46<>0,(O46*0.866*Templates!K2),NA())","v":{"$error":"#N/A"}},null,{"$f":"'Serial Data'!W46/('Serial Data'!U46+'Serial Data'!V46+'Serial Data'!W46)","v":{"$error":"#DIV/0!"}},{"$f":"'Serial Data'!U46/('Serial Data'!U46+'Serial Data'!V46+'Serial Data'!W46)","v":{"$error":"#DIV/0!"}},{"$f":"'Serial Data'!V46/('Serial Data'!U46+'Serial Data'!V46+'Serial Data'!W46)","v":{"$error":"#DIV/0!"}},{"$f":"IF('Serial Data'!V46+'Serial Data'!W46+'Serial Data'!U46<>0,(T46+(U46*0.5)),NA())","v":{"$error":"#N/A"}},{"$f":"IF('Serial Data'!V46+'Serial Data'!W46+'Serial Data'!U46<>0,(U46*0.866*Templates!K2),NA())","v":{"$error":"#N/A"}},null,{"$f":"'Serial Data'!AB46/('Serial Data'!AA46+'Serial Data'!AB46+'Serial Data'!Z46)","v":{"$error":"#DIV/0!"}},{"$f":"'Serial Data'!Z46/('Serial Data'!AA46+'Serial Data'!AB46+'Serial Data'!Z46)","v":{"$error":"#DIV/0!"}},{"$f":"'Serial Data'!AA46/('Serial Data'!AA46+'Serial Data'!AB46+'Serial Data'!Z46)","v":{"$error":"#DIV/0!"}},{"$f":"IF('Serial Data'!AB46+'Serial Data'!AA46+'Serial Data'!Z46<>0,(Z46+(AA46*0.5)),NA())","v":{"$error":"#N/A"}},{"$f":"IF('Serial Data'!AB46+'Serial Data'!AA46+'Serial Data'!Z46<>0,(AA46*0.866*Templates!K2),NA())","v":{"$error":"#N/A"}},null,{"$f":"'Serial Data'!AG46/('Serial Data'!AG46+'Serial Data'!AE46+'Serial Data'!AF46)","v":{"$error":"#DIV/0!"}},{"$f":"'Serial Data'!AE46/('Serial Data'!AG46+'Serial Data'!AE46+'Serial Data'!AF46)","v":{"$error":"#DIV/0!"}},{"$f":"'Serial Data'!AF46/('Serial Data'!AG46+'Serial Data'!AE46+'Serial Data'!AF46)","v":{"$error":"#DIV/0!"}},{"$f":"IF('Serial Data'!AE46+'Serial Data'!AF46+'Serial Data'!AG46<>0,(AF46+(AG46*0.5)),NA())","v":{"$error":"#N/A"}},{"$f":"IF('Serial Data'!AE46+'Serial Data'!AF46+'Serial Data'!AG46<>0,(AG46*0.866*Templates!K2),NA())","v":{"$error":"#N/A"}},null,{"$f":"'Serial Data'!AL46/('Serial Data'!AJ46+'Serial Data'!AK46+'Serial Data'!AL46)","v":{"$error":"#DIV/0!"}},{"$f":"'Serial Data'!AJ46/('Serial Data'!AJ46+'Serial Data'!AK46+'Serial Data'!AL46)","v":{"$error":"#DIV/0!"}},{"$f":"'Serial Data'!AK46/('Serial Data'!AJ46+'Serial Data'!AK46+'Serial Data'!AL46)","v":{"$error":"#DIV/0!"}},{"$f":"IF('Serial Data'!AJ46+'Serial Data'!AK46+'Serial Data'!AL46<>0,(AL46+(AM46*0.5)),NA())","v":{"$error":"#N/A"}},{"$f":"IF('Serial Data'!AJ46+'Serial Data'!AK46+'Serial Data'!AL46<>0,(AM46*0.866*Templates!K2),NA())","v":{"$error":"#N/A"}},null,{"$f":"'Serial Data'!AQ46/('Serial Data'!AO46+'Serial Data'!AP46+'Serial Data'!AQ46)","v":{"$error":"#DIV/0!"}},{"$f":"'Serial Data'!AO46/('Serial Data'!AO46+'Serial Data'!AP46+'Serial Data'!AQ46)","v":{"$error":"#DIV/0!"}},{"$f":"'Serial Data'!AP46/('Serial Data'!AO46+'Serial Data'!AP46+'Serial Data'!AQ46)","v":{"$error":"#DIV/0!"}},{"$f":"IF('Serial Data'!AO46+'Serial Data'!AP46+'Serial Data'!AQ46<>0,(AR46+(AS46*0.5)),NA())","v":{"$error":"#N/A"}},{"$f":"IF('Serial Data'!AO46+'Serial Data'!AP46+'Serial Data'!AQ46<>0,(AS46*0.866*Templates!K2),NA())","v":{"$error":"#N/A"}},null,{"$f":"'Serial Data'!AV46/('Serial Data'!AT46+'Serial Data'!AU46+'Serial Data'!AV46)","v":{"$error":"#DIV/0!"}},{"$f":"'Serial Data'!AT46/('Serial Data'!AT46+'Serial Data'!AU46+'Serial Data'!AV46)","v":{"$error":"#DIV/0!"}},{"$f":"'Serial Data'!AU46/('Serial Data'!AT46+'Serial Data'!AU46+'Serial Data'!AV46)","v":{"$error":"#DIV/0!"}},{"$f":"IF('Serial Data'!AT46+'Serial Data'!AU46+'Serial Data'!AV46<>0,(AX46+(AY46*0.5)),NA())","v":{"$error":"#N/A"}},{"$f":"IF('Serial Data'!AT46+'Serial Data'!AU46+'Serial Data'!AV46<>0,(AY46*0.866*Templates!K2),NA())","v":{"$error":"#N/A"}},null,{"$f":"'Serial Data'!BA46/('Serial Data'!AY46+'Serial Data'!AZ46+'Serial Data'!BA46)","v":{"$error":"#DIV/0!"}},{"$f":"'Serial Data'!AY46/('Serial Data'!AY46+'Serial Data'!AZ46+'Serial Data'!BA46)","v":{"$error":"#DIV/0!"}},{"$f":"'Serial Data'!AZ46/('Serial Data'!AY46+'Serial Data'!AZ46+'Serial Data'!BA46)","v":{"$error":"#DIV/0!"}},{"$f":"IF('Serial Data'!AY46+'Serial Data'!AZ46+'Serial Data'!BA46<>0,(BD46+(BE46*0.5)),NA())","v":{"$error":"#N/A"}},{"$f":"IF('Serial Data'!AY46+'Serial Data'!AZ46+'Serial Data'!BA46<>0,(BE46*0.866*Templates!K2),NA())","v":{"$error":"#N/A"}},null,{"$f":"'Serial Data'!BF46/('Serial Data'!BD46+'Serial Data'!BE46+'Serial Data'!BF46)","v":{"$error":"#DIV/0!"}},{"$f":"'Serial Data'!BD46/('Serial Data'!BD46+'Serial Data'!BE46+'Serial Data'!BF46)","v":{"$error":"#DIV/0!"}},{"$f":"'Serial Data'!BE46/('Serial Data'!BD46+'Serial Data'!BE46+'Serial Data'!BF46)","v":{"$error":"#DIV/0!"}},{"$f":"IF('Serial Data'!BD46+'Serial Data'!BE46+'Serial Data'!BF46<>0,(BJ46+(BK46*0.5)),NA())","v":{"$error":"#N/A"}},{"$f":"IF('Serial Data'!BD46+'Serial Data'!BE46+'Serial Data'!BF46<>0,(BK46*0.866*Templates!K2),NA())","v":{"$error":"#N/A"}}]
[{"$f":"'Single Data'!N48/('Single Data'!L48+'Single Data'!M48+'Single Data'!N48)","v":{"$error":"#DIV/0!"}},{"$f":"'Single Data'!L48/('Single Data'!L48+'Single Data'!M48+'Single Data'!N48)","v":{"$error":"#DIV/0!"}},{"$f":"'Single Data'!M48/('Single Data'!L48+'Single Data'!M48+'Single Data'!N48)","v":{"$error":"#DIV/0!"}},{"$f":"IF('Single Data'!L48+'Single Data'!M48+'Single Data'!N48<>0,(B47+(C47*0.5)),NA())","v":{"$error":"#N/A"}},{"$f":"IF('Single Data'!L48+'Single Data'!M48+'Single Data'!N48<>0,(C47*0.866*Templates!K2),NA())","v":{"$error":"#N/A"}},null,{"$f":"'Serial Data'!M47/('Serial Data'!K47+'Serial Data'!L47+'Serial Data'!M47)","v":{"$error":"#DIV/0!"}},{"$f":"'Serial Data'!K47/('Serial Data'!K47+'Serial Data'!L47+'Serial Data'!M47)","v":{"$error":"#DIV/0!"}},{"$f":"'Serial Data'!L47/('Serial Data'!K47+'Serial Data'!L47+'Serial Data'!M47)","v":{"$error":"#DIV/0!"}},{"$f":"IF('Serial Data'!K47+'Serial Data'!L47+'Serial Data'!M47<>0,(H47+(I47*0.5)),NA())","v":{"$error":"#N/A"}},{"$f":"IF('Serial Data'!K47+'Serial Data'!L47+'Serial Data'!M47<>0,(I47*0.866*Templates!K2),NA())","v":{"$error":"#N/A"}},null,{"$f":"'Serial Data'!R47/('Serial Data'!P47+'Serial Data'!Q47+'Serial Data'!R47)","v":{"$error":"#DIV/0!"}},{"$f":"'Serial Data'!P47/('Serial Data'!P47+'Serial Data'!Q47+'Serial Data'!R47)","v":{"$error":"#DIV/0!"}},{"$f":"'Serial Data'!Q47/('Serial Data'!P47+'Serial Data'!Q47+'Serial Data'!R47)","v":{"$error":"#DIV/0!"}},{"$f":"IF('Serial Data'!P47+'Serial Data'!Q47+'Serial Data'!R47<>0,(N47+(O47*0.5)),NA())","v":{"$error":"#N/A"}},{"$f":"IF('Serial Data'!P47+'Serial Data'!Q47+'Serial Data'!R47<>0,(O47*0.866*Templates!K2),NA())","v":{"$error":"#N/A"}},null,{"$f":"'Serial Data'!W47/('Serial Data'!U47+'Serial Data'!V47+'Serial Data'!W47)","v":{"$error":"#DIV/0!"}},{"$f":"'Serial Data'!U47/('Serial Data'!U47+'Serial Data'!V47+'Serial Data'!W47)","v":{"$error":"#DIV/0!"}},{"$f":"'Serial Data'!V47/('Serial Data'!U47+'Serial Data'!V47+'Serial Data'!W47)","v":{"$error":"#DIV/0!"}},{"$f":"IF('Serial Data'!V47+'Serial Data'!W47+'Serial Data'!U47<>0,(T47+(U47*0.5)),NA())","v":{"$error":"#N/A"}},{"$f":"IF('Serial Data'!V47+'Serial Data'!W47+'Serial Data'!U47<>0,(U47*0.866*Templates!K2),NA())","v":{"$error":"#N/A"}},null,{"$f":"'Serial Data'!AB47/('Serial Data'!AA47+'Serial Data'!AB47+'Serial Data'!Z47)","v":{"$error":"#DIV/0!"}},{"$f":"'Serial Data'!Z47/('Serial Data'!AA47+'Serial Data'!AB47+'Serial Data'!Z47)","v":{"$error":"#DIV/0!"}},{"$f":"'Serial Data'!AA47/('Serial Data'!AA47+'Serial Data'!AB47+'Serial Data'!Z47)","v":{"$error":"#DIV/0!"}},{"$f":"IF('Serial Data'!AB47+'Serial Data'!AA47+'Serial Data'!Z47<>0,(Z47+(AA47*0.5)),NA())","v":{"$error":"#N/A"}},{"$f":"IF('Serial Data'!AB47+'Serial Data'!AA47+'Serial Data'!Z47<>0,(AA47*0.866*Templates!K2),NA())","v":{"$error":"#N/A"}},null,{"$f":"'Serial Data'!AG47/('Serial Data'!AG47+'Serial Data'!AE47+'Serial Data'!AF47)","v":{"$error":"#DIV/0!"}},{"$f":"'Serial Data'!AE47/('Serial Data'!AG47+'Serial Data'!AE47+'Serial Data'!AF47)","v":{"$error":"#DIV/0!"}},{"$f":"'Serial Data'!AF47/('Serial Data'!AG47+'Serial Data'!AE47+'Serial Data'!AF47)","v":{"$error":"#DIV/0!"}},{"$f":"IF('Serial Data'!AE47+'Serial Data'!AF47+'Serial Data'!AG47<>0,(AF47+(AG47*0.5)),NA())","v":{"$error":"#N/A"}},{"$f":"IF('Serial Data'!AE47+'Serial Data'!AF47+'Serial Data'!AG47<>0,(AG47*0.866*Templates!K2),NA())","v":{"$error":"#N/A"}},null,{"$f":"'Serial Data'!AL47/('Serial Data'!AJ47+'Serial Data'!AK47+'Serial Data'!AL47)","v":{"$error":"#DIV/0!"}},{"$f":"'Serial Data'!AJ47/('Serial Data'!AJ47+'Serial Data'!AK47+'Serial Data'!AL47)","v":{"$error":"#DIV/0!"}},{"$f":"'Serial Data'!AK47/('Serial Data'!AJ47+'Serial Data'!AK47+'Serial Data'!AL47)","v":{"$error":"#DIV/0!"}},{"$f":"IF('Serial Data'!AJ47+'Serial Data'!AK47+'Serial Data'!AL47<>0,(AL47+(AM47*0.5)),NA())","v":{"$error":"#N/A"}},{"$f":"IF('Serial Data'!AJ47+'Serial Data'!AK47+'Serial Data'!AL47<>0,(AM47*0.866*Templates!K2),NA())","v":{"$error":"#N/A"}},null,{"$f":"'Serial Data'!AQ47/('Serial Data'!AO47+'Serial Data'!AP47+'Serial Data'!AQ47)","v":{"$error":"#DIV/0!"}},{"$f":"'Serial Data'!AO47/('Serial Data'!AO47+'Serial Data'!AP47+'Serial Data'!AQ47)","v":{"$error":"#DIV/0!"}},{"$f":"'Serial Data'!AP47/('Serial Data'!AO47+'Serial Data'!AP47+'Serial Data'!AQ47)","v":{"$error":"#DIV/0!"}},{"$f":"IF('Serial Data'!AO47+'Serial Data'!AP47+'Serial Data'!AQ47<>0,(AR47+(AS47*0.5)),NA())","v":{"$error":"#N/A"}},{"$f":"IF('Serial Data'!AO47+'Serial Data'!AP47+'Serial Data'!AQ47<>0,(AS47*0.866*Templates!K2),NA())","v":{"$error":"#N/A"}},null,{"$f":"'Serial Data'!AV47/('Serial Data'!AT47+'Serial Data'!AU47+'Serial Data'!AV47)","v":{"$error":"#DIV/0!"}},{"$f":"'Serial Data'!AT47/('Serial Data'!AT47+'Serial Data'!AU47+'Serial Data'!AV47)","v":{"$error":"#DIV/0!"}},{"$f":"'Serial Data'!AU47/('Serial Data'!AT47+'Serial Data'!AU47+'Serial Data'!AV47)","v":{"$error":"#DIV/0!"}},{"$f":"IF('Serial Data'!AT47+'Serial Data'!AU47+'Serial Data'!AV47<>0,(AX47+(AY47*0.5)),NA())","v":{"$error":"#N/A"}},{"$f":"IF('Serial Data'!AT47+'Serial Data'!AU47+'Serial Data'!AV47<>0,(AY47*0.866*Templates!K2),NA())","v":{"$error":"#N/A"}},null,{"$f":"'Serial Data'!BA47/('Serial Data'!AY47+'Serial Data'!AZ47+'Serial Data'!BA47)","v":{"$error":"#DIV/0!"}},{"$f":"'Serial Data'!AY47/('Serial Data'!AY47+'Serial Data'!AZ47+'Serial Data'!BA47)","v":{"$error":"#DIV/0!"}},{"$f":"'Serial Data'!AZ47/('Serial Data'!AY47+'Serial Data'!AZ47+'Serial Data'!BA47)","v":{"$error":"#DIV/0!"}},{"$f":"IF('Serial Data'!AY47+'Serial Data'!AZ47+'Serial Data'!BA47<>0,(BD47+(BE47*0.5)),NA())","v":{"$error":"#N/A"}},{"$f":"IF('Serial Data'!AY47+'Serial Data'!AZ47+'Serial Data'!BA47<>0,(BE47*0.866*Templates!K2),NA())","v":{"$error":"#N/A"}},null,{"$f":"'Serial Data'!BF47/('Serial Data'!BD47+'Serial Data'!BE47+'Serial Data'!BF47)","v":{"$error":"#DIV/0!"}},{"$f":"'Serial Data'!BD47/('Serial Data'!BD47+'Serial Data'!BE47+'Serial Data'!BF47)","v":{"$error":"#DIV/0!"}},{"$f":"'Serial Data'!BE47/('Serial Data'!BD47+'Serial Data'!BE47+'Serial Data'!BF47)","v":{"$error":"#DIV/0!"}},{"$f":"IF('Serial Data'!BD47+'Serial Data'!BE47+'Serial Data'!BF47<>0,(BJ47+(BK47*0.5)),NA())","v":{"$error":"#N/A"}},{"$f":"IF('Serial Data'!BD47+'Serial Data'!BE47+'Serial Data'!BF47<>0,(BK47*0.866*Templates!K2),NA())","v":{"$error":"#N/A"}}]
[{"$f":"'Single Data'!N49/('Single Data'!L49+'Single Data'!M49+'Single Data'!N49)","v":{"$error":"#DIV/0!"}},{"$f":"'Single Data'!L49/('Single Data'!L49+'Single Data'!M49+'Single Data'!N49)","v":{"$error":"#DIV/0!"}},{"$f":"'Single Data'!M49/('Single Data'!L49+'Single Data'!M49+'Single Data'!N49)","v":{"$error":"#DIV/0!"}},{"$f":"IF('Single Data'!L49+'Single Data'!M49+'Single Data'!N49<>0,(B48+(C48*0.5)),NA())","v":{"$error":"#N/A"}},{"$f":"IF('Single Data'!L49+'Single Data'!M49+'Single Data'!N49<>0,(C48*0.866*Templates!K2),NA())","v":{"$error":"#N/A"}},null,{"$f":"'Serial Data'!M48/('Serial Data'!K48+'Serial Data'!L48+'Serial Data'!M48)","v":{"$error":"#DIV/0!"}},{"$f":"'Serial Data'!K48/('Serial Data'!K48+'Serial Data'!L48+'Serial Data'!M48)","v":{"$error":"#DIV/0!"}},{"$f":"'Serial Data'!L48/('Serial Data'!K48+'Serial Data'!L48+'Serial Data'!M48)","v":{"$error":"#DIV/0!"}},{"$f":"IF('Serial Data'!K48+'Serial Data'!L48+'Serial Data'!M48<>0,(H48+(I48*0.5)),NA())","v":{"$error":"#N/A"}},{"$f":"IF('Serial Data'!K48+'Serial Data'!L48+'Serial Data'!M48<>0,(I48*0.866*Templates!K2),NA())","v":{"$error":"#N/A"}},null,{"$f":"'Serial Data'!R48/('Serial Data'!P48+'Serial Data'!Q48+'Serial Data'!R48)","v":{"$error":"#DIV/0!"}},{"$f":"'Serial Data'!P48/('Serial Data'!P48+'Serial Data'!Q48+'Serial Data'!R48)","v":{"$error":"#DIV/0!"}},{"$f":"'Serial Data'!Q48/('Serial Data'!P48+'Serial Data'!Q48+'Serial Data'!R48)","v":{"$error":"#DIV/0!"}},{"$f":"IF('Serial Data'!P48+'Serial Data'!Q48+'Serial Data'!R48<>0,(N48+(O48*0.5)),NA())","v":{"$error":"#N/A"}},{"$f":"IF('Serial Data'!P48+'Serial Data'!Q48+'Serial Data'!R48<>0,(O48*0.866*Templates!K2),NA())","v":{"$error":"#N/A"}},null,{"$f":"'Serial Data'!W48/('Serial Data'!U48+'Serial Data'!V48+'Serial Data'!W48)","v":{"$error":"#DIV/0!"}},{"$f":"'Serial Data'!U48/('Serial Data'!U48+'Serial Data'!V48+'Serial Data'!W48)","v":{"$error":"#DIV/0!"}},{"$f":"'Serial Data'!V48/('Serial Data'!U48+'Serial Data'!V48+'Serial Data'!W48)","v":{"$error":"#DIV/0!"}},{"$f":"IF('Serial Data'!V48+'Serial Data'!W48+'Serial Data'!U48<>0,(T48+(U48*0.5)),NA())","v":{"$error":"#N/A"}},{"$f":"IF('Serial Data'!V48+'Serial Data'!W48+'Serial Data'!U48<>0,(U48*0.866*Templates!K2),NA())","v":{"$error":"#N/A"}},null,{"$f":"'Serial Data'!AB48/('Serial Data'!AA48+'Serial Data'!AB48+'Serial Data'!Z48)","v":{"$error":"#DIV/0!"}},{"$f":"'Serial Data'!Z48/('Serial Data'!AA48+'Serial Data'!AB48+'Serial Data'!Z48)","v":{"$error":"#DIV/0!"}},{"$f":"'Serial Data'!AA48/('Serial Data'!AA48+'Serial Data'!AB48+'Serial Data'!Z48)","v":{"$error":"#DIV/0!"}},{"$f":"IF('Serial Data'!AB48+'Serial Data'!AA48+'Serial Data'!Z48<>0,(Z48+(AA48*0.5)),NA())","v":{"$error":"#N/A"}},{"$f":"IF('Serial Data'!AB48+'Serial Data'!AA48+'Serial Data'!Z48<>0,(AA48*0.866*Templates!K2),NA())","v":{"$error":"#N/A"}},null,{"$f":"'Serial Data'!AG48/('Serial Data'!AG48+'Serial Data'!AE48+'Serial Data'!AF48)","v":{"$error":"#DIV/0!"}},{"$f":"'Serial Data'!AE48/('Serial Data'!AG48+'Serial Data'!AE48+'Serial Data'!AF48)","v":{"$error":"#DIV/0!"}},{"$f":"'Serial Data'!AF48/('Serial Data'!AG48+'Serial Data'!AE48+'Serial Data'!AF48)","v":{"$error":"#DIV/0!"}},{"$f":"IF('Serial Data'!AE48+'Serial Data'!AF48+'Serial Data'!AG48<>0,(AF48+(AG48*0.5)),NA())","v":{"$error":"#N/A"}},{"$f":"IF('Serial Data'!AE48+'Serial Data'!AF48+'Serial Data'!AG48<>0,(AG48*0.866*Templates!K2),NA())","v":{"$error":"#N/A"}},null,{"$f":"'Serial Data'!AL48/('Serial Data'!AJ48+'Serial Data'!AK48+'Serial Data'!AL48)","v":{"$error":"#DIV/0!"}},{"$f":"'Serial Data'!AJ48/('Serial Data'!AJ48+'Serial Data'!AK48+'Serial Data'!AL48)","v":{"$error":"#DIV/0!"}},{"$f":"'Serial Data'!AK48/('Serial Data'!AJ48+'Serial Data'!AK48+'Serial Data'!AL48)","v":{"$error":"#DIV/0!"}},{"$f":"IF('Serial Data'!AJ48+'Serial Data'!AK48+'Serial Data'!AL48<>0,(AL48+(AM48*0.5)),NA())","v":{"$error":"#N/A"}},{"$f":"IF('Serial Data'!AJ48+'Serial Data'!AK48+'Serial Data'!AL48<>0,(AM48*0.866*Templates!K2),NA())","v":{"$error":"#N/A"}},null,{"$f":"'Serial Data'!AQ48/('Serial Data'!AO48+'Serial Data'!AP48+'Serial Data'!AQ48)","v":{"$error":"#DIV/0!"}},{"$f":"'Serial Data'!AO48/('Serial Data'!AO48+'Serial Data'!AP48+'Serial Data'!AQ48)","v":{"$error":"#DIV/0!"}},{"$f":"'Serial Data'!AP48/('Serial Data'!AO48+'Serial Data'!AP48+'Serial Data'!AQ48)","v":{"$error":"#DIV/0!"}},{"$f":"IF('Serial Data'!AO48+'Serial Data'!AP48+'Serial Data'!AQ48<>0,(AR48+(AS48*0.5)),NA())","v":{"$error":"#N/A"}},{"$f":"IF('Serial Data'!AO48+'Serial Data'!AP48+'Serial Data'!AQ48<>0,(AS48*0.866*Templates!K2),NA())","v":{"$error":"#N/A"}},null,{"$f":"'Serial Data'!AV48/('Serial Data'!AT48+'Serial Data'!AU48+'Serial Data'!AV48)","v":{"$error":"#DIV/0!"}},{"$f":"'Serial Data'!AT48/('Serial Data'!AT48+'Serial Data'!AU48+'Serial Data'!AV48)","v":{"$error":"#DIV/0!"}},{"$f":"'Serial Data'!AU48/('Serial Data'!AT48+'Serial Data'!AU48+'Serial Data'!AV48)","v":{"$error":"#DIV/0!"}},{"$f":"IF('Serial Data'!AT48+'Serial Data'!AU48+'Serial Data'!AV48<>0,(AX48+(AY48*0.5)),NA())","v":{"$error":"#N/A"}},{"$f":"IF('Serial Data'!AT48+'Serial Data'!AU48+'Serial Data'!AV48<>0,(AY48*0.866*Templates!K2),NA())","v":{"$error":"#N/A"}},null,{"$f":"'Serial Data'!BA48/('Serial Data'!AY48+'Serial Data'!AZ48+'Serial Data'!BA48)","v":{"$error":"#DIV/0!"}},{"$f":"'Serial Data'!AY48/('Serial Data'!AY48+'Serial Data'!AZ48+'Serial Data'!BA48)","v":{"$error":"#DIV/0!"}},{"$f":"'Serial Data'!AZ48/('Serial Data'!AY48+'Serial Data'!AZ48+'Serial Data'!BA48)","v":{"$error":"#DIV/0!"}},{"$f":"IF('Serial Data'!AY48+'Serial Data'!AZ48+'Serial Data'!BA48<>0,(BD48+(BE48*0.5)),NA())","v":{"$error":"#N/A"}},{"$f":"IF('Serial Data'!AY48+'Serial Data'!AZ48+'Serial Data'!BA48<>0,(BE48*0.866*Templates!K2),NA())","v":{"$error":"#N/A"}},null,{"$f":"'Serial Data'!BF48/('Serial Data'!BD48+'Serial Data'!BE48+'Serial Data'!BF48)","v":{"$error":"#DIV/0!"}},{"$f":"'Serial Data'!BD48/('Serial Data'!BD48+'Serial Data'!BE48+'Serial Data'!BF48)","v":{"$error":"#DIV/0!"}},{"$f":"'Serial Data'!BE48/('Serial Data'!BD48+'Serial Data'!BE48+'Serial Data'!BF48)","v":{"$error":"#DIV/0!"}},{"$f":"IF('Serial Data'!BD48+'Serial Data'!BE48+'Serial Data'!BF48<>0,(BJ48+(BK48*0.5)),NA())","v":{"$error":"#N/A"}},{"$f":"IF('Serial Data'!BD48+'Serial Data'!BE48+'Serial Data'!BF48<>0,(BK48*0.866*Templates!K2),NA())","v":{"$error":"#N/A"}}]
[{"$f":"'Single Data'!N50/('Single Data'!L50+'Single Data'!M50+'Single Data'!N50)","v":{"$error":"#DIV/0!"}},{"$f":"'Single Data'!L50/('Single Data'!L50+'Single Data'!M50+'Single Data'!N50)","v":{"$error":"#DIV/0!"}},{"$f":"'Single Data'!M50/('Single Data'!L50+'Single Data'!M50+'Single Data'!N50)","v":{"$error":"#DIV/0!"}},{"$f":"IF('Single Data'!L50+'Single Data'!M50+'Single Data'!N50<>0,(B49+(C49*0.5)),NA())","v":{"$error":"#N/A"}},{"$f":"IF('Single Data'!L50+'Single Data'!M50+'Single Data'!N50<>0,(C49*0.866*Templates!K2),NA())","v":{"$error":"#N/A"}},null,{"$f":"'Serial Data'!M49/('Serial Data'!K49+'Serial Data'!L49+'Serial Data'!M49)","v":{"$error":"#DIV/0!"}},{"$f":"'Serial Data'!K49/('Serial Data'!K49+'Serial Data'!L49+'Serial Data'!M49)","v":{"$error":"#DIV/0!"}},{"$f":"'Serial Data'!L49/('Serial Data'!K49+'Serial Data'!L49+'Serial Data'!M49)","v":{"$error":"#DIV/0!"}},{"$f":"IF('Serial Data'!K49+'Serial Data'!L49+'Serial Data'!M49<>0,(H49+(I49*0.5)),NA())","v":{"$error":"#N/A"}},{"$f":"IF('Serial Data'!K49+'Serial Data'!L49+'Serial Data'!M49<>0,(I49*0.866*Templates!K2),NA())","v":{"$error":"#N/A"}},null,{"$f":"'Serial Data'!R49/('Serial Data'!P49+'Serial Data'!Q49+'Serial Data'!R49)","v":{"$error":"#DIV/0!"}},{"$f":"'Serial Data'!P49/('Serial Data'!P49+'Serial Data'!Q49+'Serial Data'!R49)","v":{"$error":"#DIV/0!"}},{"$f":"'Serial Data'!Q49/('Serial Data'!P49+'Serial Data'!Q49+'Serial Data'!R49)","v":{"$error":"#DIV/0!"}},{"$f":"IF('Serial Data'!P49+'Serial Data'!Q49+'Serial Data'!R49<>0,(N49+(O49*0.5)),NA())","v":{"$error":"#N/A"}},{"$f":"IF('Serial Data'!P49+'Serial Data'!Q49+'Serial Data'!R49<>0,(O49*0.866*Templates!K2),NA())","v":{"$error":"#N/A"}},null,{"$f":"'Serial Data'!W49/('Serial Data'!U49+'Serial Data'!V49+'Serial Data'!W49)","v":{"$error":"#DIV/0!"}},{"$f":"'Serial Data'!U49/('Serial Data'!U49+'Serial Data'!V49+'Serial Data'!W49)","v":{"$error":"#DIV/0!"}},{"$f":"'Serial Data'!V49/('Serial Data'!U49+'Serial Data'!V49+'Serial Data'!W49)","v":{"$error":"#DIV/0!"}},{"$f":"IF('Serial Data'!V49+'Serial Data'!W49+'Serial Data'!U49<>0,(T49+(U49*0.5)),NA())","v":{"$error":"#N/A"}},{"$f":"IF('Serial Data'!V49+'Serial Data'!W49+'Serial Data'!U49<>0,(U49*0.866*Templates!K2),NA())","v":{"$error":"#N/A"}},null,{"$f":"'Serial Data'!AB49/('Serial Data'!AA49+'Serial Data'!AB49+'Serial Data'!Z49)","v":{"$error":"#DIV/0!"}},{"$f":"'Serial Data'!Z49/('Serial Data'!AA49+'Serial Data'!AB49+'Serial Data'!Z49)","v":{"$error":"#DIV/0!"}},{"$f":"'Serial Data'!AA49/('Serial Data'!AA49+'Serial Data'!AB49+'Serial Data'!Z49)","v":{"$error":"#DIV/0!"}},{"$f":"IF('Serial Data'!AB49+'Serial Data'!AA49+'Serial Data'!Z49<>0,(Z49+(AA49*0.5)),NA())","v":{"$error":"#N/A"}},{"$f":"IF('Serial Data'!AB49+'Serial Data'!AA49+'Serial Data'!Z49<>0,(AA49*0.866*Templates!K2),NA())","v":{"$error":"#N/A"}},null,{"$f":"'Serial Data'!AG49/('Serial Data'!AG49+'Serial Data'!AE49+'Serial Data'!AF49)","v":{"$error":"#DIV/0!"}},{"$f":"'Serial Data'!AE49/('Serial Data'!AG49+'Serial Data'!AE49+'Serial Data'!AF49)","v":{"$error":"#DIV/0!"}},{"$f":"'Serial Data'!AF49/('Serial Data'!AG49+'Serial Data'!AE49+'Serial Data'!AF49)","v":{"$error":"#DIV/0!"}},{"$f":"IF('Serial Data'!AE49+'Serial Data'!AF49+'Serial Data'!AG49<>0,(AF49+(AG49*0.5)),NA())","v":{"$error":"#N/A"}},{"$f":"IF('Serial Data'!AE49+'Serial Data'!AF49+'Serial Data'!AG49<>0,(AG49*0.866*Templates!K2),NA())","v":{"$error":"#N/A"}},null,{"$f":"'Serial Data'!AL49/('Serial Data'!AJ49+'Serial Data'!AK49+'Serial Data'!AL49)","v":{"$error":"#DIV/0!"}},{"$f":"'Serial Data'!AJ49/('Serial Data'!AJ49+'Serial Data'!AK49+'Serial Data'!AL49)","v":{"$error":"#DIV/0!"}},{"$f":"'Serial Data'!AK49/('Serial Data'!AJ49+'Serial Data'!AK49+'Serial Data'!AL49)","v":{"$error":"#DIV/0!"}},{"$f":"IF('Serial Data'!AJ49+'Serial Data'!AK49+'Serial Data'!AL49<>0,(AL49+(AM49*0.5)),NA())","v":{"$error":"#N/A"}},{"$f":"IF('Serial Data'!AJ49+'Serial Data'!AK49+'Serial Data'!AL49<>0,(AM49*0.866*Templates!K2),NA())","v":{"$error":"#N/A"}},null,{"$f":"'Serial Data'!AQ49/('Serial Data'!AO49+'Serial Data'!AP49+'Serial Data'!AQ49)","v":{"$error":"#DIV/0!"}},{"$f":"'Serial Data'!AO49/('Serial Data'!AO49+'Serial Data'!AP49+'Serial Data'!AQ49)","v":{"$error":"#DIV/0!"}},{"$f":"'Serial Data'!AP49/('Serial Data'!AO49+'Serial Data'!AP49+'Serial Data'!AQ49)","v":{"$error":"#DIV/0!"}},{"$f":"IF('Serial Data'!AO49+'Serial Data'!AP49+'Serial Data'!AQ49<>0,(AR49+(AS49*0.5)),NA())","v":{"$error":"#N/A"}},{"$f":"IF('Serial Data'!AO49+'Serial Data'!AP49+'Serial Data'!AQ49<>0,(AS49*0.866*Templates!K2),NA())","v":{"$error":"#N/A"}},null,{"$f":"'Serial Data'!AV49/('Serial Data'!AT49+'Serial Data'!AU49+'Serial Data'!AV49)","v":{"$error":"#DIV/0!"}},{"$f":"'Serial Data'!AT49/('Serial Data'!AT49+'Serial Data'!AU49+'Serial Data'!AV49)","v":{"$error":"#DIV/0!"}},{"$f":"'Serial Data'!AU49/('Serial Data'!AT49+'Serial Data'!AU49+'Serial Data'!AV49)","v":{"$error":"#DIV/0!"}},{"$f":"IF('Serial Data'!AT49+'Serial Data'!AU49+'Serial Data'!AV49<>0,(AX49+(AY49*0.5)),NA())","v":{"$error":"#N/A"}},{"$f":"IF('Serial Data'!AT49+'Serial Data'!AU49+'Serial Data'!AV49<>0,(AY49*0.866*Templates!K2),NA())","v":{"$error":"#N/A"}},null,{"$f":"'Serial Data'!BA49/('Serial Data'!AY49+'Serial Data'!AZ49+'Serial Data'!BA49)","v":{"$error":"#DIV/0!"}},{"$f":"'Serial Data'!AY49/('Serial Data'!AY49+'Serial Data'!AZ49+'Serial Data'!BA49)","v":{"$error":"#DIV/0!"}},{"$f":"'Serial Data'!AZ49/('Serial Data'!AY49+'Serial Data'!AZ49+'Serial Data'!BA49)","v":{"$error":"#DIV/0!"}},{"$f":"IF('Serial Data'!AY49+'Serial Data'!AZ49+'Serial Data'!BA49<>0,(BD49+(BE49*0.5)),NA())","v":{"$error":"#N/A"}},{"$f":"IF('Serial Data'!AY49+'Serial Data'!AZ49+'Serial Data'!BA49<>0,(BE49*0.866*Templates!K2),NA())","v":{"$error":"#N/A"}},null,{"$f":"'Serial Data'!BF49/('Serial Data'!BD49+'Serial Data'!BE49+'Serial Data'!BF49)","v":{"$error":"#DIV/0!"}},{"$f":"'Serial Data'!BD49/('Serial Data'!BD49+'Serial Data'!BE49+'Serial Data'!BF49)","v":{"$error":"#DIV/0!"}},{"$f":"'Serial Data'!BE49/('Serial Data'!BD49+'Serial Data'!BE49+'Serial Data'!BF49)","v":{"$error":"#DIV/0!"}},{"$f":"IF('Serial Data'!BD49+'Serial Data'!BE49+'Serial Data'!BF49<>0,(BJ49+(BK49*0.5)),NA())","v":{"$error":"#N/A"}},{"$f":"IF('Serial Data'!BD49+'Serial Data'!BE49+'Serial Data'!BF49<>0,(BK49*0.866*Templates!K2),NA())","v":{"$error":"#N/A"}}]
[{"$f":"'Single Data'!N51/('Single Data'!L51+'Single Data'!M51+'Single Data'!N51)","v":{"$error":"#DIV/0!"}},{"$f":"'Single Data'!L51/('Single Data'!L51+'Single Data'!M51+'Single Data'!N51)","v":{"$error":"#DIV/0!"}},{"$f":"'Single Data'!M51/('Single Data'!L51+'Single Data'!M51+'Single Data'!N51)","v":{"$error":"#DIV/0!"}},{"$f":"IF('Single Data'!L51+'Single Data'!M51+'Single Data'!N51<>0,(B50+(C50*0.5)),NA())","v":{"$error":"#N/A"}},{"$f":"IF('Single Data'!L51+'Single Data'!M51+'Single Data'!N51<>0,(C50*0.866*Templates!K2),NA())","v":{"$error":"#N/A"}},null,{"$f":"'Serial Data'!M50/('Serial Data'!K50+'Serial Data'!L50+'Serial Data'!M50)","v":{"$error":"#DIV/0!"}},{"$f":"'Serial Data'!K50/('Serial Data'!K50+'Serial Data'!L50+'Serial Data'!M50)","v":{"$error":"#DIV/0!"}},{"$f":"'Serial Data'!L50/('Serial Data'!K50+'Serial Data'!L50+'Serial Data'!M50)","v":{"$error":"#DIV/0!"}},{"$f":"IF('Serial Data'!K50+'Serial Data'!L50+'Serial Data'!M50<>0,(H50+(I50*0.5)),NA())","v":{"$error":"#N/A"}},{"$f":"IF('Serial Data'!K50+'Serial Data'!L50+'Serial Data'!M50<>0,(I50*0.866*Templates!K2),NA())","v":{"$error":"#N/A"}},null,{"$f":"'Serial Data'!R50/('Serial Data'!P50+'Serial Data'!Q50+'Serial Data'!R50)","v":{"$error":"#DIV/0!"}},{"$f":"'Serial Data'!P50/('Serial Data'!P50+'Serial Data'!Q50+'Serial Data'!R50)","v":{"$error":"#DIV/0!"}},{"$f":"'Serial Data'!Q50/('Serial Data'!P50+'Serial Data'!Q50+'Serial Data'!R50)","v":{"$error":"#DIV/0!"}},{"$f":"IF('Serial Data'!P50+'Serial Data'!Q50+'Serial Data'!R50<>0,(N50+(O50*0.5)),NA())","v":{"$error":"#N/A"}},{"$f":"IF('Serial Data'!P50+'Serial Data'!Q50+'Serial Data'!R50<>0,(O50*0.866*Templates!K2),NA())","v":{"$error":"#N/A"}},null,{"$f":"'Serial Data'!W50/('Serial Data'!U50+'Serial Data'!V50+'Serial Data'!W50)","v":{"$error":"#DIV/0!"}},{"$f":"'Serial Data'!U50/('Serial Data'!U50+'Serial Data'!V50+'Serial Data'!W50)","v":{"$error":"#DIV/0!"}},{"$f":"'Serial Data'!V50/('Serial Data'!U50+'Serial Data'!V50+'Serial Data'!W50)","v":{"$error":"#DIV/0!"}},{"$f":"IF('Serial Data'!V50+'Serial Data'!W50+'Serial Data'!U50<>0,(T50+(U50*0.5)),NA())","v":{"$error":"#N/A"}},{"$f":"IF('Serial Data'!V50+'Serial Data'!W50+'Serial Data'!U50<>0,(U50*0.866*Templates!K2),NA())","v":{"$error":"#N/A"}},null,{"$f":"'Serial Data'!AB50/('Serial Data'!AA50+'Serial Data'!AB50+'Serial Data'!Z50)","v":{"$error":"#DIV/0!"}},{"$f":"'Serial Data'!Z50/('Serial Data'!AA50+'Serial Data'!AB50+'Serial Data'!Z50)","v":{"$error":"#DIV/0!"}},{"$f":"'Serial Data'!AA50/('Serial Data'!AA50+'Serial Data'!AB50+'Serial Data'!Z50)","v":{"$error":"#DIV/0!"}},{"$f":"IF('Serial Data'!AB50+'Serial Data'!AA50+'Serial Data'!Z50<>0,(Z50+(AA50*0.5)),NA())","v":{"$error":"#N/A"}},{"$f":"IF('Serial Data'!AB50+'Serial Data'!AA50+'Serial Data'!Z50<>0,(AA50*0.866*Templates!K2),NA())","v":{"$error":"#N/A"}},null,{"$f":"'Serial Data'!AG50/('Serial Data'!AG50+'Serial Data'!AE50+'Serial Data'!AF50)","v":{"$error":"#DIV/0!"}},{"$f":"'Serial Data'!AE50/('Serial Data'!AG50+'Serial Data'!AE50+'Serial Data'!AF50)","v":{"$error":"#DIV/0!"}},{"$f":"'Serial Data'!AF50/('Serial Data'!AG50+'Serial Data'!AE50+'Serial Data'!AF50)","v":{"$error":"#DIV/0!"}},{"$f":"IF('Serial Data'!AE50+'Serial Data'!AF50+'Serial Data'!AG50<>0,(AF50+(AG50*0.5)),NA())","v":{"$error":"#N/A"}},{"$f":"IF('Serial Data'!AE50+'Serial Data'!AF50+'Serial Data'!AG50<>0,(AG50*0.866*Templates!K2),NA())","v":{"$error":"#N/A"}},null,{"$f":"'Serial Data'!AL50/('Serial Data'!AJ50+'Serial Data'!AK50+'Serial Data'!AL50)","v":{"$error":"#DIV/0!"}},{"$f":"'Serial Data'!AJ50/('Serial Data'!AJ50+'Serial Data'!AK50+'Serial Data'!AL50)","v":{"$error":"#DIV/0!"}},{"$f":"'Serial Data'!AK50/('Serial Data'!AJ50+'Serial Data'!AK50+'Serial Data'!AL50)","v":{"$error":"#DIV/0!"}},{"$f":"IF('Serial Data'!AJ50+'Serial Data'!AK50+'Serial Data'!AL50<>0,(AL50+(AM50*0.5)),NA())","v":{"$error":"#N/A"}},{"$f":"IF('Serial Data'!AJ50+'Serial Data'!AK50+'Serial Data'!AL50<>0,(AM50*0.866*Templates!K2),NA())","v":{"$error":"#N/A"}},null,{"$f":"'Serial Data'!AQ50/('Serial Data'!AO50+'Serial Data'!AP50+'Serial Data'!AQ50)","v":{"$error":"#DIV/0!"}},{"$f":"'Serial Data'!AO50/('Serial Data'!AO50+'Serial Data'!AP50+'Serial Data'!AQ50)","v":{"$error":"#DIV/0!"}},{"$f":"'Serial Data'!AP50/('Serial Data'!AO50+'Serial Data'!AP50+'Serial Data'!AQ50)","v":{"$error":"#DIV/0!"}},{"$f":"IF('Serial Data'!AO50+'Serial Data'!AP50+'Serial Data'!AQ50<>0,(AR50+(AS50*0.5)),NA())","v":{"$error":"#N/A"}},{"$f":"IF('Serial Data'!AO50+'Serial Data'!AP50+'Serial Data'!AQ50<>0,(AS50*0.866*Templates!K2),NA())","v":{"$error":"#N/A"}},null,{"$f":"'Serial Data'!AV50/('Serial Data'!AT50+'Serial Data'!AU50+'Serial Data'!AV50)","v":{"$error":"#DIV/0!"}},{"$f":"'Serial Data'!AT50/('Serial Data'!AT50+'Serial Data'!AU50+'Serial Data'!AV50)","v":{"$error":"#DIV/0!"}},{"$f":"'Serial Data'!AU50/('Serial Data'!AT50+'Serial Data'!AU50+'Serial Data'!AV50)","v":{"$error":"#DIV/0!"}},{"$f":"IF('Serial Data'!AT50+'Serial Data'!AU50+'Serial Data'!AV50<>0,(AX50+(AY50*0.5)),NA())","v":{"$error":"#N/A"}},{"$f":"IF('Serial Data'!AT50+'Serial Data'!AU50+'Serial Data'!AV50<>0,(AY50*0.866*Templates!K2),NA())","v":{"$error":"#N/A"}},null,{"$f":"'Serial Data'!BA50/('Serial Data'!AY50+'Serial Data'!AZ50+'Serial Data'!BA50)","v":{"$error":"#DIV/0!"}},{"$f":"'Serial Data'!AY50/('Serial Data'!AY50+'Serial Data'!AZ50+'Serial Data'!BA50)","v":{"$error":"#DIV/0!"}},{"$f":"'Serial Data'!AZ50/('Serial Data'!AY50+'Serial Data'!AZ50+'Serial Data'!BA50)","v":{"$error":"#DIV/0!"}},{"$f":"IF('Serial Data'!AY50+'Serial Data'!AZ50+'Serial Data'!BA50<>0,(BD50+(BE50*0.5)),NA())","v":{"$error":"#N/A"}},{"$f":"IF('Serial Data'!AY50+'Serial Data'!AZ50+'Serial Data'!BA50<>0,(BE50*0.866*Templates!K2),NA())","v":{"$error":"#N/A"}},null,{"$f":"'Serial Data'!BF50/('Serial Data'!BD50+'Serial Data'!BE50+'Serial Data'!BF50)","v":{"$error":"#DIV/0!"}},{"$f":"'Serial Data'!BD50/('Serial Data'!BD50+'Serial Data'!BE50+'Serial Data'!BF50)","v":{"$error":"#DIV/0!"}},{"$f":"'Serial Data'!BE50/('Serial Data'!BD50+'Serial Data'!BE50+'Serial Data'!BF50)","v":{"$error":"#DIV/0!"}},{"$f":"IF('Serial Data'!BD50+'Serial Data'!BE50+'Serial Data'!BF50<>0,(BJ50+(BK50*0.5)),NA())","v":{"$error":"#N/A"}},{"$f":"IF('Serial Data'!BD50+'Serial Data'!BE50+'Serial Data'!BF50<>0,(BK50*0.866*Templates!K2),NA())","v":{"$error":"#N/A"}}]
[{"$f":"'Single Data'!N52/('Single Data'!L52+'Single Data'!M52+'Single Data'!N52)","v":{"$error":"#DIV/0!"}},{"$f":"'Single Data'!L52/('Single Data'!L52+'Single Data'!M52+'Single Data'!N52)","v":{"$error":"#DIV/0!"}},{"$f":"'Single Data'!M52/('Single Data'!L52+'Single Data'!M52+'Single Data'!N52)","v":{"$error":"#DIV/0!"}},{"$f":"IF('Single Data'!L52+'Single Data'!M52+'Single Data'!N52<>0,(B51+(C51*0.5)),NA())","v":{"$error":"#N/A"}},{"$f":"IF('Single Data'!L52+'Single Data'!M52+'Single Data'!N52<>0,(C51*0.866*Templates!K2),NA())","v":{"$error":"#N/A"}},null,{"$f":"'Serial Data'!M51/('Serial Data'!K51+'Serial Data'!L51+'Serial Data'!M51)","v":{"$error":"#DIV/0!"}},{"$f":"'Serial Data'!K51/('Serial Data'!K51+'Serial Data'!L51+'Serial Data'!M51)","v":{"$error":"#DIV/0!"}},{"$f":"'Serial Data'!L51/('Serial Data'!K51+'Serial Data'!L51+'Serial Data'!M51)","v":{"$error":"#DIV/0!"}},{"$f":"IF('Serial Data'!K51+'Serial Data'!L51+'Serial Data'!M51<>0,(H51+(I51*0.5)),NA())","v":{"$error":"#N/A"}},{"$f":"IF('Serial Data'!K51+'Serial Data'!L51+'Serial Data'!M51<>0,(I51*0.866*Templates!K2),NA())","v":{"$error":"#N/A"}},null,{"$f":"'Serial Data'!R51/('Serial Data'!P51+'Serial Data'!Q51+'Serial Data'!R51)","v":{"$error":"#DIV/0!"}},{"$f":"'Serial Data'!P51/('Serial Data'!P51+'Serial Data'!Q51+'Serial Data'!R51)","v":{"$error":"#DIV/0!"}},{"$f":"'Serial Data'!Q51/('Serial Data'!P51+'Serial Data'!Q51+'Serial Data'!R51)","v":{"$error":"#DIV/0!"}},{"$f":"IF('Serial Data'!P51+'Serial Data'!Q51+'Serial Data'!R51<>0,(N51+(O51*0.5)),NA())","v":{"$error":"#N/A"}},{"$f":"IF('Serial Data'!P51+'Serial Data'!Q51+'Serial Data'!R51<>0,(O51*0.866*Templates!K2),NA())","v":{"$error":"#N/A"}},null,{"$f":"'Serial Data'!W51/('Serial Data'!U51+'Serial Data'!V51+'Serial Data'!W51)","v":{"$error":"#DIV/0!"}},{"$f":"'Serial Data'!U51/('Serial Data'!U51+'Serial Data'!V51+'Serial Data'!W51)","v":{"$error":"#DIV/0!"}},{"$f":"'Serial Data'!V51/('Serial Data'!U51+'Serial Data'!V51+'Serial Data'!W51)","v":{"$error":"#DIV/0!"}},{"$f":"IF('Serial Data'!V51+'Serial Data'!W51+'Serial Data'!U51<>0,(T51+(U51*0.5)),NA())","v":{"$error":"#N/A"}},{"$f":"IF('Serial Data'!V51+'Serial Data'!W51+'Serial Data'!U51<>0,(U51*0.866*Templates!K2),NA())","v":{"$error":"#N/A"}},null,{"$f":"'Serial Data'!AB51/('Serial Data'!AA51+'Serial Data'!AB51+'Serial Data'!Z51)","v":{"$error":"#DIV/0!"}},{"$f":"'Serial Data'!Z51/('Serial Data'!AA51+'Serial Data'!AB51+'Serial Data'!Z51)","v":{"$error":"#DIV/0!"}},{"$f":"'Serial Data'!AA51/('Serial Data'!AA51+'Serial Data'!AB51+'Serial Data'!Z51)","v":{"$error":"#DIV/0!"}},{"$f":"IF('Serial Data'!AB51+'Serial Data'!AA51+'Serial Data'!Z51<>0,(Z51+(AA51*0.5)),NA())","v":{"$error":"#N/A"}},{"$f":"IF('Serial Data'!AB51+'Serial Data'!AA51+'Serial Data'!Z51<>0,(AA51*0.866*Templates!K2),NA())","v":{"$error":"#N/A"}},null,{"$f":"'Serial Data'!AG51/('Serial Data'!AG51+'Serial Data'!AE51+'Serial Data'!AF51)","v":{"$error":"#DIV/0!"}},{"$f":"'Serial Data'!AE51/('Serial Data'!AG51+'Serial Data'!AE51+'Serial Data'!AF51)","v":{"$error":"#DIV/0!"}},{"$f":"'Serial Data'!AF51/('Serial Data'!AG51+'Serial Data'!AE51+'Serial Data'!AF51)","v":{"$error":"#DIV/0!"}},{"$f":"IF('Serial Data'!AE51+'Serial Data'!AF51+'Serial Data'!AG51<>0,(AF51+(AG51*0.5)),NA())","v":{"$error":"#N/A"}},{"$f":"IF('Serial Data'!AE51+'Serial Data'!AF51+'Serial Data'!AG51<>0,(AG51*0.866*Templates!K2),NA())","v":{"$error":"#N/A"}},null,{"$f":"'Serial Data'!AL51/('Serial Data'!AJ51+'Serial Data'!AK51+'Serial Data'!AL51)","v":{"$error":"#DIV/0!"}},{"$f":"'Serial Data'!AJ51/('Serial Data'!AJ51+'Serial Data'!AK51+'Serial Data'!AL51)","v":{"$error":"#DIV/0!"}},{"$f":"'Serial Data'!AK51/('Serial Data'!AJ51+'Serial Data'!AK51+'Serial Data'!AL51)","v":{"$error":"#DIV/0!"}},{"$f":"IF('Serial Data'!AJ51+'Serial Data'!AK51+'Serial Data'!AL51<>0,(AL51+(AM51*0.5)),NA())","v":{"$error":"#N/A"}},{"$f":"IF('Serial Data'!AJ51+'Serial Data'!AK51+'Serial Data'!AL51<>0,(AM51*0.866*Templates!K2),NA())","v":{"$error":"#N/A"}},null,{"$f":"'Serial Data'!AQ51/('Serial Data'!AO51+'Serial Data'!AP51+'Serial Data'!AQ51)","v":{"$error":"#DIV/0!"}},{"$f":"'Serial Data'!AO51/('Serial Data'!AO51+'Serial Data'!AP51+'Serial Data'!AQ51)","v":{"$error":"#DIV/0!"}},{"$f":"'Serial Data'!AP51/('Serial Data'!AO51+'Serial Data'!AP51+'Serial Data'!AQ51)","v":{"$error":"#DIV/0!"}},{"$f":"IF('Serial Data'!AO51+'Serial Data'!AP51+'Serial Data'!AQ51<>0,(AR51+(AS51*0.5)),NA())","v":{"$error":"#N/A"}},{"$f":"IF('Serial Data'!AO51+'Serial Data'!AP51+'Serial Data'!AQ51<>0,(AS51*0.866*Templates!K2),NA())","v":{"$error":"#N/A"}},null,{"$f":"'Serial Data'!AV51/('Serial Data'!AT51+'Serial Data'!AU51+'Serial Data'!AV51)","v":{"$error":"#DIV/0!"}},{"$f":"'Serial Data'!AT51/('Serial Data'!AT51+'Serial Data'!AU51+'Serial Data'!AV51)","v":{"$error":"#DIV/0!"}},{"$f":"'Serial Data'!AU51/('Serial Data'!AT51+'Serial Data'!AU51+'Serial Data'!AV51)","v":{"$error":"#DIV/0!"}},{"$f":"IF('Serial Data'!AT51+'Serial Data'!AU51+'Serial Data'!AV51<>0,(AX51+(AY51*0.5)),NA())","v":{"$error":"#N/A"}},{"$f":"IF('Serial Data'!AT51+'Serial Data'!AU51+'Serial Data'!AV51<>0,(AY51*0.866*Templates!K2),NA())","v":{"$error":"#N/A"}},null,{"$f":"'Serial Data'!BA51/('Serial Data'!AY51+'Serial Data'!AZ51+'Serial Data'!BA51)","v":{"$error":"#DIV/0!"}},{"$f":"'Serial Data'!AY51/('Serial Data'!AY51+'Serial Data'!AZ51+'Serial Data'!BA51)","v":{"$error":"#DIV/0!"}},{"$f":"'Serial Data'!AZ51/('Serial Data'!AY51+'Serial Data'!AZ51+'Serial Data'!BA51)","v":{"$error":"#DIV/0!"}},{"$f":"IF('Serial Data'!AY51+'Serial Data'!AZ51+'Serial Data'!BA51<>0,(BD51+(BE51*0.5)),NA())","v":{"$error":"#N/A"}},{"$f":"IF('Serial Data'!AY51+'Serial Data'!AZ51+'Serial Data'!BA51<>0,(BE51*0.866*Templates!K2),NA())","v":{"$error":"#N/A"}},null,{"$f":"'Serial Data'!BF51/('Serial Data'!BD51+'Serial Data'!BE51+'Serial Data'!BF51)","v":{"$error":"#DIV/0!"}},{"$f":"'Serial Data'!BD51/('Serial Data'!BD51+'Serial Data'!BE51+'Serial Data'!BF51)","v":{"$error":"#DIV/0!"}},{"$f":"'Serial Data'!BE51/('Serial Data'!BD51+'Serial Data'!BE51+'Serial Data'!BF51)","v":{"$error":"#DIV/0!"}},{"$f":"IF('Serial Data'!BD51+'Serial Data'!BE51+'Serial Data'!BF51<>0,(BJ51+(BK51*0.5)),NA())","v":{"$error":"#N/A"}},{"$f":"IF('Serial Data'!BD51+'Serial Data'!BE51+'Serial Data'!BF51<>0,(BK51*0.866*Templates!K2),NA())","v":{"$error":"#N/A"}}]
[{"$f":"'Single Data'!N53/('Single Data'!L53+'Single Data'!M53+'Single Data'!N53)","v":{"$error":"#DIV/0!"}},{"$f":"'Single Data'!L53/('Single Data'!L53+'Single Data'!M53+'Single Data'!N53)","v":{"$error":"#DIV/0!"}},{"$f":"'Single Data'!M53/('Single Data'!L53+'Single Data'!M53+'Single Data'!N53)","v":{"$error":"#DIV/0!"}},{"$f":"IF('Single Data'!L53+'Single Data'!M53+'Single Data'!N53<>0,(B52+(C52*0.5)),NA())","v":{"$error":"#N/A"}},{"$f":"IF('Single Data'!L53+'Single Data'!M53+'Single Data'!N53<>0,(C52*0.866*Templates!K2),NA())","v":{"$error":"#N/A"}},null,{"$f":"'Serial Data'!M52/('Serial Data'!K52+'Serial Data'!L52+'Serial Data'!M52)","v":{"$error":"#DIV/0!"}},{"$f":"'Serial Data'!K52/('Serial Data'!K52+'Serial Data'!L52+'Serial Data'!M52)","v":{"$error":"#DIV/0!"}},{"$f":"'Serial Data'!L52/('Serial Data'!K52+'Serial Data'!L52+'Serial Data'!M52)","v":{"$error":"#DIV/0!"}},{"$f":"IF('Serial Data'!K52+'Serial Data'!L52+'Serial Data'!M52<>0,(H52+(I52*0.5)),NA())","v":{"$error":"#N/A"}},{"$f":"IF('Serial Data'!K52+'Serial Data'!L52+'Serial Data'!M52<>0,(I52*0.866*Templates!K2),NA())","v":{"$error":"#N/A"}},null,{"$f":"'Serial Data'!R52/('Serial Data'!P52+'Serial Data'!Q52+'Serial Data'!R52)","v":{"$error":"#DIV/0!"}},{"$f":"'Serial Data'!P52/('Serial Data'!P52+'Serial Data'!Q52+'Serial Data'!R52)","v":{"$error":"#DIV/0!"}},{"$f":"'Serial Data'!Q52/('Serial Data'!P52+'Serial Data'!Q52+'Serial Data'!R52)","v":{"$error":"#DIV/0!"}},{"$f":"IF('Serial Data'!P52+'Serial Data'!Q52+'Serial Data'!R52<>0,(N52+(O52*0.5)),NA())","v":{"$error":"#N/A"}},{"$f":"IF('Serial Data'!P52+'Serial Data'!Q52+'Serial Data'!R52<>0,(O52*0.866*Templates!K2),NA())","v":{"$error":"#N/A"}},null,{"$f":"'Serial Data'!W52/('Serial Data'!U52+'Serial Data'!V52+'Serial Data'!W52)","v":{"$error":"#DIV/0!"}},{"$f":"'Serial Data'!U52/('Serial Data'!U52+'Serial Data'!V52+'Serial Data'!W52)","v":{"$error":"#DIV/0!"}},{"$f":"'Serial Data'!V52/('Serial Data'!U52+'Serial Data'!V52+'Serial Data'!W52)","v":{"$error":"#DIV/0!"}},{"$f":"IF('Serial Data'!V52+'Serial Data'!W52+'Serial Data'!U52<>0,(T52+(U52*0.5)),NA())","v":{"$error":"#N/A"}},{"$f":"IF('Serial Data'!V52+'Serial Data'!W52+'Serial Data'!U52<>0,(U52*0.866*Templates!K2),NA())","v":{"$error":"#N/A"}},null,{"$f":"'Serial Data'!AB52/('Serial Data'!AA52+'Serial Data'!AB52+'Serial Data'!Z52)","v":{"$error":"#DIV/0!"}},{"$f":"'Serial Data'!Z52/('Serial Data'!AA52+'Serial Data'!AB52+'Serial Data'!Z52)","v":{"$error":"#DIV/0!"}},{"$f":"'Serial Data'!AA52/('Serial Data'!AA52+'Serial Data'!AB52+'Serial Data'!Z52)","v":{"$error":"#DIV/0!"}},{"$f":"IF('Serial Data'!AB52+'Serial Data'!AA52+'Serial Data'!Z52<>0,(Z52+(AA52*0.5)),NA())","v":{"$error":"#N/A"}},{"$f":"IF('Serial Data'!AB52+'Serial Data'!AA52+'Serial Data'!Z52<>0,(AA52*0.866*Templates!K2),NA())","v":{"$error":"#N/A"}},null,{"$f":"'Serial Data'!AG52/('Serial Data'!AG52+'Serial Data'!AE52+'Serial Data'!AF52)","v":{"$error":"#DIV/0!"}},{"$f":"'Serial Data'!AE52/('Serial Data'!AG52+'Serial Data'!AE52+'Serial Data'!AF52)","v":{"$error":"#DIV/0!"}},{"$f":"'Serial Data'!AF52/('Serial Data'!AG52+'Serial Data'!AE52+'Serial Data'!AF52)","v":{"$error":"#DIV/0!"}},{"$f":"IF('Serial Data'!AE52+'Serial Data'!AF52+'Serial Data'!AG52<>0,(AF52+(AG52*0.5)),NA())","v":{"$error":"#N/A"}},{"$f":"IF('Serial Data'!AE52+'Serial Data'!AF52+'Serial Data'!AG52<>0,(AG52*0.866*Templates!K2),NA())","v":{"$error":"#N/A"}},null,{"$f":"'Serial Data'!AL52/('Serial Data'!AJ52+'Serial Data'!AK52+'Serial Data'!AL52)","v":{"$error":"#DIV/0!"}},{"$f":"'Serial Data'!AJ52/('Serial Data'!AJ52+'Serial Data'!AK52+'Serial Data'!AL52)","v":{"$error":"#DIV/0!"}},{"$f":"'Serial Data'!AK52/('Serial Data'!AJ52+'Serial Data'!AK52+'Serial Data'!AL52)","v":{"$error":"#DIV/0!"}},{"$f":"IF('Serial Data'!AJ52+'Serial Data'!AK52+'Serial Data'!AL52<>0,(AL52+(AM52*0.5)),NA())","v":{"$error":"#N/A"}},{"$f":"IF('Serial Data'!AJ52+'Serial Data'!AK52+'Serial Data'!AL52<>0,(AM52*0.866*Templates!K2),NA())","v":{"$error":"#N/A"}},null,{"$f":"'Serial Data'!AQ52/('Serial Data'!AO52+'Serial Data'!AP52+'Serial Data'!AQ52)","v":{"$error":"#DIV/0!"}},{"$f":"'Serial Data'!AO52/('Serial Data'!AO52+'Serial Data'!AP52+'Serial Data'!AQ52)","v":{"$error":"#DIV/0!"}},{"$f":"'Serial Data'!AP52/('Serial Data'!AO52+'Serial Data'!AP52+'Serial Data'!AQ52)","v":{"$error":"#DIV/0!"}},{"$f":"IF('Serial Data'!AO52+'Serial Data'!AP52+'Serial Data'!AQ52<>0,(AR52+(AS52*0.5)),NA())","v":{"$error":"#N/A"}},{"$f":"IF('Serial Data'!AO52+'Serial Data'!AP52+'Serial Data'!AQ52<>0,(AS52*0.866*Templates!K2),NA())","v":{"$error":"#N/A"}},null,{"$f":"'Serial Data'!AV52/('Serial Data'!AT52+'Serial Data'!AU52+'Serial Data'!AV52)","v":{"$error":"#DIV/0!"}},{"$f":"'Serial Data'!AT52/('Serial Data'!AT52+'Serial Data'!AU52+'Serial Data'!AV52)","v":{"$error":"#DIV/0!"}},{"$f":"'Serial Data'!AU52/('Serial Data'!AT52+'Serial Data'!AU52+'Serial Data'!AV52)","v":{"$error":"#DIV/0!"}},{"$f":"IF('Serial Data'!AT52+'Serial Data'!AU52+'Serial Data'!AV52<>0,(AX52+(AY52*0.5)),NA())","v":{"$error":"#N/A"}},{"$f":"IF('Serial Data'!AT52+'Serial Data'!AU52+'Serial Data'!AV52<>0,(AY52*0.866*Templates!K2),NA())","v":{"$error":"#N/A"}},null,{"$f":"'Serial Data'!BA52/('Serial Data'!AY52+'Serial Data'!AZ52+'Serial Data'!BA52)","v":{"$error":"#DIV/0!"}},{"$f":"'Serial Data'!AY52/('Serial Data'!AY52+'Serial Data'!AZ52+'Serial Data'!BA52)","v":{"$error":"#DIV/0!"}},{"$f":"'Serial Data'!AZ52/('Serial Data'!AY52+'Serial Data'!AZ52+'Serial Data'!BA52)","v":{"$error":"#DIV/0!"}},{"$f":"IF('Serial Data'!AY52+'Serial Data'!AZ52+'Serial Data'!BA52<>0,(BD52+(BE52*0.5)),NA())","v":{"$error":"#N/A"}},{"$f":"IF('Serial Data'!AY52+'Serial Data'!AZ52+'Serial Data'!BA52<>0,(BE52*0.866*Templates!K2),NA())","v":{"$error":"#N/A"}},null,{"$f":"'Serial Data'!BF52/('Serial Data'!BD52+'Serial Data'!BE52+'Serial Data'!BF52)","v":{"$error":"#DIV/0!"}},{"$f":"'Serial Data'!BD52/('Serial Data'!BD52+'Serial Data'!BE52+'Serial Data'!BF52)","v":{"$error":"#DIV/0!"}},{"$f":"'Serial Data'!BE52/('Serial Data'!BD52+'Serial Data'!BE52+'Serial Data'!BF52)","v":{"$error":"#DIV/0!"}},{"$f":"IF('Serial Data'!BD52+'Serial Data'!BE52+'Serial Data'!BF52<>0,(BJ52+(BK52*0.5)),NA())","v":{"$error":"#N/A"}},{"$f":"IF('Serial Data'!BD52+'Serial Data'!BE52+'Serial Data'!BF52<>0,(BK52*0.866*Templates!K2),NA())","v":{"$error":"#N/A"}}]
[{"$f":"'Single Data'!N54/('Single Data'!L54+'Single Data'!M54+'Single Data'!N54)","v":{"$error":"#DIV/0!"}},{"$f":"'Single Data'!L54/('Single Data'!L54+'Single Data'!M54+'Single Data'!N54)","v":{"$error":"#DIV/0!"}},{"$f":"'Single Data'!M54/('Single Data'!L54+'Single Data'!M54+'Single Data'!N54)","v":{"$error":"#DIV/0!"}},{"$f":"IF('Single Data'!L54+'Single Data'!M54+'Single Data'!N54<>0,(B53+(C53*0.5)),NA())","v":{"$error":"#N/A"}},{"$f":"IF('Single Data'!L54+'Single Data'!M54+'Single Data'!N54<>0,(C53*0.866*Templates!K2),NA())","v":{"$error":"#N/A"}},null,{"$f":"'Serial Data'!M53/('Serial Data'!K53+'Serial Data'!L53+'Serial Data'!M53)","v":{"$error":"#DIV/0!"}},{"$f":"'Serial Data'!K53/('Serial Data'!K53+'Serial Data'!L53+'Serial Data'!M53)","v":{"$error":"#DIV/0!"}},{"$f":"'Serial Data'!L53/('Serial Data'!K53+'Serial Data'!L53+'Serial Data'!M53)","v":{"$error":"#DIV/0!"}},{"$f":"IF('Serial Data'!K53+'Serial Data'!L53+'Serial Data'!M53<>0,(H53+(I53*0.5)),NA())","v":{"$error":"#N/A"}},{"$f":"IF('Serial Data'!K53+'Serial Data'!L53+'Serial Data'!M53<>0,(I53*0.866*Templates!K2),NA())","v":{"$error":"#N/A"}},null,{"$f":"'Serial Data'!R53/('Serial Data'!P53+'Serial Data'!Q53+'Serial Data'!R53)","v":{"$error":"#DIV/0!"}},{"$f":"'Serial Data'!P53/('Serial Data'!P53+'Serial Data'!Q53+'Serial Data'!R53)","v":{"$error":"#DIV/0!"}},{"$f":"'Serial Data'!Q53/('Serial Data'!P53+'Serial Data'!Q53+'Serial Data'!R53)","v":{"$error":"#DIV/0!"}},{"$f":"IF('Serial Data'!P53+'Serial Data'!Q53+'Serial Data'!R53<>0,(N53+(O53*0.5)),NA())","v":{"$error":"#N/A"}},{"$f":"IF('Serial Data'!P53+'Serial Data'!Q53+'Serial Data'!R53<>0,(O53*0.866*Templates!K2),NA())","v":{"$error":"#N/A"}},null,{"$f":"'Serial Data'!W53/('Serial Data'!U53+'Serial Data'!V53+'Serial Data'!W53)","v":{"$error":"#DIV/0!"}},{"$f":"'Serial Data'!U53/('Serial Data'!U53+'Serial Data'!V53+'Serial Data'!W53)","v":{"$error":"#DIV/0!"}},{"$f":"'Serial Data'!V53/('Serial Data'!U53+'Serial Data'!V53+'Serial Data'!W53)","v":{"$error":"#DIV/0!"}},{"$f":"IF('Serial Data'!V53+'Serial Data'!W53+'Serial Data'!U53<>0,(T53+(U53*0.5)),NA())","v":{"$error":"#N/A"}},{"$f":"IF('Serial Data'!V53+'Serial Data'!W53+'Serial Data'!U53<>0,(U53*0.866*Templates!K2),NA())","v":{"$error":"#N/A"}},null,{"$f":"'Serial Data'!AB53/('Serial Data'!AA53+'Serial Data'!AB53+'Serial Data'!Z53)","v":{"$error":"#DIV/0!"}},{"$f":"'Serial Data'!Z53/('Serial Data'!AA53+'Serial Data'!AB53+'Serial Data'!Z53)","v":{"$error":"#DIV/0!"}},{"$f":"'Serial Data'!AA53/('Serial Data'!AA53+'Serial Data'!AB53+'Serial Data'!Z53)","v":{"$error":"#DIV/0!"}},{"$f":"IF('Serial Data'!AB53+'Serial Data'!AA53+'Serial Data'!Z53<>0,(Z53+(AA53*0.5)),NA())","v":{"$error":"#N/A"}},{"$f":"IF('Serial Data'!AB53+'Serial Data'!AA53+'Serial Data'!Z53<>0,(AA53*0.866*Templates!K2),NA())","v":{"$error":"#N/A"}},null,{"$f":"'Serial Data'!AG53/('Serial Data'!AG53+'Serial Data'!AE53+'Serial Data'!AF53)","v":{"$error":"#DIV/0!"}},{"$f":"'Serial Data'!AE53/('Serial Data'!AG53+'Serial Data'!AE53+'Serial Data'!AF53)","v":{"$error":"#DIV/0!"}},{"$f":"'Serial Data'!AF53/('Serial Data'!AG53+'Serial Data'!AE53+'Serial Data'!AF53)","v":{"$error":"#DIV/0!"}},{"$f":"IF('Serial Data'!AE53+'Serial Data'!AF53+'Serial Data'!AG53<>0,(AF53+(AG53*0.5)),NA())","v":{"$error":"#N/A"}},{"$f":"IF('Serial Data'!AE53+'Serial Data'!AF53+'Serial Data'!AG53<>0,(AG53*0.866*Templates!K2),NA())","v":{"$error":"#N/A"}},null,{"$f":"'Serial Data'!AL53/('Serial Data'!AJ53+'Serial Data'!AK53+'Serial Data'!AL53)","v":{"$error":"#DIV/0!"}},{"$f":"'Serial Data'!AJ53/('Serial Data'!AJ53+'Serial Data'!AK53+'Serial Data'!AL53)","v":{"$error":"#DIV/0!"}},{"$f":"'Serial Data'!AK53/('Serial Data'!AJ53+'Serial Data'!AK53+'Serial Data'!AL53)","v":{"$error":"#DIV/0!"}},{"$f":"IF('Serial Data'!AJ53+'Serial Data'!AK53+'Serial Data'!AL53<>0,(AL53+(AM53*0.5)),NA())","v":{"$error":"#N/A"}},{"$f":"IF('Serial Data'!AJ53+'Serial Data'!AK53+'Serial Data'!AL53<>0,(AM53*0.866*Templates!K2),NA())","v":{"$error":"#N/A"}},null,{"$f":"'Serial Data'!AQ53/('Serial Data'!AO53+'Serial Data'!AP53+'Serial Data'!AQ53)","v":{"$error":"#DIV/0!"}},{"$f":"'Serial Data'!AO53/('Serial Data'!AO53+'Serial Data'!AP53+'Serial Data'!AQ53)","v":{"$error":"#DIV/0!"}},{"$f":"'Serial Data'!AP53/('Serial Data'!AO53+'Serial Data'!AP53+'Serial Data'!AQ53)","v":{"$error":"#DIV/0!"}},{"$f":"IF('Serial Data'!AO53+'Serial Data'!AP53+'Serial Data'!AQ53<>0,(AR53+(AS53*0.5)),NA())","v":{"$error":"#N/A"}},{"$f":"IF('Serial Data'!AO53+'Serial Data'!AP53+'Serial Data'!AQ53<>0,(AS53*0.866*Templates!K2),NA())","v":{"$error":"#N/A"}},null,{"$f":"'Serial Data'!AV53/('Serial Data'!AT53+'Serial Data'!AU53+'Serial Data'!AV53)","v":{"$error":"#DIV/0!"}},{"$f":"'Serial Data'!AT53/('Serial Data'!AT53+'Serial Data'!AU53+'Serial Data'!AV53)","v":{"$error":"#DIV/0!"}},{"$f":"'Serial Data'!AU53/('Serial Data'!AT53+'Serial Data'!AU53+'Serial Data'!AV53)","v":{"$error":"#DIV/0!"}},{"$f":"IF('Serial Data'!AT53+'Serial Data'!AU53+'Serial Data'!AV53<>0,(AX53+(AY53*0.5)),NA())","v":{"$error":"#N/A"}},{"$f":"IF('Serial Data'!AT53+'Serial Data'!AU53+'Serial Data'!AV53<>0,(AY53*0.866*Templates!K2),NA())","v":{"$error":"#N/A"}},null,{"$f":"'Serial Data'!BA53/('Serial Data'!AY53+'Serial Data'!AZ53+'Serial Data'!BA53)","v":{"$error":"#DIV/0!"}},{"$f":"'Serial Data'!AY53/('Serial Data'!AY53+'Serial Data'!AZ53+'Serial Data'!BA53)","v":{"$error":"#DIV/0!"}},{"$f":"'Serial Data'!AZ53/('Serial Data'!AY53+'Serial Data'!AZ53+'Serial Data'!BA53)","v":{"$error":"#DIV/0!"}},{"$f":"IF('Serial Data'!AY53+'Serial Data'!AZ53+'Serial Data'!BA53<>0,(BD53+(BE53*0.5)),NA())","v":{"$error":"#N/A"}},{"$f":"IF('Serial Data'!AY53+'Serial Data'!AZ53+'Serial Data'!BA53<>0,(BE53*0.866*Templates!K2),NA())","v":{"$error":"#N/A"}},null,{"$f":"'Serial Data'!BF53/('Serial Data'!BD53+'Serial Data'!BE53+'Serial Data'!BF53)","v":{"$error":"#DIV/0!"}},{"$f":"'Serial Data'!BD53/('Serial Data'!BD53+'Serial Data'!BE53+'Serial Data'!BF53)","v":{"$error":"#DIV/0!"}},{"$f":"'Serial Data'!BE53/('Serial Data'!BD53+'Serial Data'!BE53+'Serial Data'!BF53)","v":{"$error":"#DIV/0!"}},{"$f":"IF('Serial Data'!BD53+'Serial Data'!BE53+'Serial Data'!BF53<>0,(BJ53+(BK53*0.5)),NA())","v":{"$error":"#N/A"}},{"$f":"IF('Serial Data'!BD53+'Serial Data'!BE53+'Serial Data'!BF53<>0,(BK53*0.866*Templates!K2),NA())","v":{"$error":"#N/A"}}]
[{"$f":"'Single Data'!N55/('Single Data'!L55+'Single Data'!M55+'Single Data'!N55)","v":{"$error":"#DIV/0!"}},{"$f":"'Single Data'!L55/('Single Data'!L55+'Single Data'!M55+'Single Data'!N55)","v":{"$error":"#DIV/0!"}},{"$f":"'Single Data'!M55/('Single Data'!L55+'Single Data'!M55+'Single Data'!N55)","v":{"$error":"#DIV/0!"}},{"$f":"IF('Single Data'!L55+'Single Data'!M55+'Single Data'!N55<>0,(B54+(C54*0.5)),NA())","v":{"$error":"#N/A"}},{"$f":"IF('Single Data'!L55+'Single Data'!M55+'Single Data'!N55<>0,(C54*0.866*Templates!K2),NA())","v":{"$error":"#N/A"}},null,{"$f":"'Serial Data'!M54/('Serial Data'!K54+'Serial Data'!L54+'Serial Data'!M54)","v":{"$error":"#DIV/0!"}},{"$f":"'Serial Data'!K54/('Serial Data'!K54+'Serial Data'!L54+'Serial Data'!M54)","v":{"$error":"#DIV/0!"}},{"$f":"'Serial Data'!L54/('Serial Data'!K54+'Serial Data'!L54+'Serial Data'!M54)","v":{"$error":"#DIV/0!"}},{"$f":"IF('Serial Data'!K54+'Serial Data'!L54+'Serial Data'!M54<>0,(H54+(I54*0.5)),NA())","v":{"$error":"#N/A"}},{"$f":"IF('Serial Data'!K54+'Serial Data'!L54+'Serial Data'!M54<>0,(I54*0.866*Templates!K2),NA())","v":{"$error":"#N/A"}},null,{"$f":"'Serial Data'!R54/('Serial Data'!P54+'Serial Data'!Q54+'Serial Data'!R54)","v":{"$error":"#DIV/0!"}},{"$f":"'Serial Data'!P54/('Serial Data'!P54+'Serial Data'!Q54+'Serial Data'!R54)","v":{"$error":"#DIV/0!"}},{"$f":"'Serial Data'!Q54/('Serial Data'!P54+'Serial Data'!Q54+'Serial Data'!R54)","v":{"$error":"#DIV/0!"}},{"$f":"IF('Serial Data'!P54+'Serial Data'!Q54+'Serial Data'!R54<>0,(N54+(O54*0.5)),NA())","v":{"$error":"#N/A"}},{"$f":"IF('Serial Data'!P54+'Serial Data'!Q54+'Serial Data'!R54<>0,(O54*0.866*Templates!K2),NA())","v":{"$error":"#N/A"}},null,{"$f":"'Serial Data'!W54/('Serial Data'!U54+'Serial Data'!V54+'Serial Data'!W54)","v":{"$error":"#DIV/0!"}},{"$f":"'Serial Data'!U54/('Serial Data'!U54+'Serial Data'!V54+'Serial Data'!W54)","v":{"$error":"#DIV/0!"}},{"$f":"'Serial Data'!V54/('Serial Data'!U54+'Serial Data'!V54+'Serial Data'!W54)","v":{"$error":"#DIV/0!"}},{"$f":"IF('Serial Data'!V54+'Serial Data'!W54+'Serial Data'!U54<>0,(T54+(U54*0.5)),NA())","v":{"$error":"#N/A"}},{"$f":"IF('Serial Data'!V54+'Serial Data'!W54+'Serial Data'!U54<>0,(U54*0.866*Templates!K2),NA())","v":{"$error":"#N/A"}},null,{"$f":"'Serial Data'!AB54/('Serial Data'!AA54+'Serial Data'!AB54+'Serial Data'!Z54)","v":{"$error":"#DIV/0!"}},{"$f":"'Serial Data'!Z54/('Serial Data'!AA54+'Serial Data'!AB54+'Serial Data'!Z54)","v":{"$error":"#DIV/0!"}},{"$f":"'Serial Data'!AA54/('Serial Data'!AA54+'Serial Data'!AB54+'Serial Data'!Z54)","v":{"$error":"#DIV/0!"}},{"$f":"IF('Serial Data'!AB54+'Serial Data'!AA54+'Serial Data'!Z54<>0,(Z54+(AA54*0.5)),NA())","v":{"$error":"#N/A"}},{"$f":"IF('Serial Data'!AB54+'Serial Data'!AA54+'Serial Data'!Z54<>0,(AA54*0.866*Templates!K2),NA())","v":{"$error":"#N/A"}},null,{"$f":"'Serial Data'!AG54/('Serial Data'!AG54+'Serial Data'!AE54+'Serial Data'!AF54)","v":{"$error":"#DIV/0!"}},{"$f":"'Serial Data'!AE54/('Serial Data'!AG54+'Serial Data'!AE54+'Serial Data'!AF54)","v":{"$error":"#DIV/0!"}},{"$f":"'Serial Data'!AF54/('Serial Data'!AG54+'Serial Data'!AE54+'Serial Data'!AF54)","v":{"$error":"#DIV/0!"}},{"$f":"IF('Serial Data'!AE54+'Serial Data'!AF54+'Serial Data'!AG54<>0,(AF54+(AG54*0.5)),NA())","v":{"$error":"#N/A"}},{"$f":"IF('Serial Data'!AE54+'Serial Data'!AF54+'Serial Data'!AG54<>0,(AG54*0.866*Templates!K2),NA())","v":{"$error":"#N/A"}},null,{"$f":"'Serial Data'!AL54/('Serial Data'!AJ54+'Serial Data'!AK54+'Serial Data'!AL54)","v":{"$error":"#DIV/0!"}},{"$f":"'Serial Data'!AJ54/('Serial Data'!AJ54+'Serial Data'!AK54+'Serial Data'!AL54)","v":{"$error":"#DIV/0!"}},{"$f":"'Serial Data'!AK54/('Serial Data'!AJ54+'Serial Data'!AK54+'Serial Data'!AL54)","v":{"$error":"#DIV/0!"}},{"$f":"IF('Serial Data'!AJ54+'Serial Data'!AK54+'Serial Data'!AL54<>0,(AL54+(AM54*0.5)),NA())","v":{"$error":"#N/A"}},{"$f":"IF('Serial Data'!AJ54+'Serial Data'!AK54+'Serial Data'!AL54<>0,(AM54*0.866*Templates!K2),NA())","v":{"$error":"#N/A"}},null,{"$f":"'Serial Data'!AQ54/('Serial Data'!AO54+'Serial Data'!AP54+'Serial Data'!AQ54)","v":{"$error":"#DIV/0!"}},{"$f":"'Serial Data'!AO54/('Serial Data'!AO54+'Serial Data'!AP54+'Serial Data'!AQ54)","v":{"$error":"#DIV/0!"}},{"$f":"'Serial Data'!AP54/('Serial Data'!AO54+'Serial Data'!AP54+'Serial Data'!AQ54)","v":{"$error":"#DIV/0!"}},{"$f":"IF('Serial Data'!AO54+'Serial Data'!AP54+'Serial Data'!AQ54<>0,(AR54+(AS54*0.5)),NA())","v":{"$error":"#N/A"}},{"$f":"IF('Serial Data'!AO54+'Serial Data'!AP54+'Serial Data'!AQ54<>0,(AS54*0.866*Templates!K2),NA())","v":{"$error":"#N/A"}},null,{"$f":"'Serial Data'!AV54/('Serial Data'!AT54+'Serial Data'!AU54+'Serial Data'!AV54)","v":{"$error":"#DIV/0!"}},{"$f":"'Serial Data'!AT54/('Serial Data'!AT54+'Serial Data'!AU54+'Serial Data'!AV54)","v":{"$error":"#DIV/0!"}},{"$f":"'Serial Data'!AU54/('Serial Data'!AT54+'Serial Data'!AU54+'Serial Data'!AV54)","v":{"$error":"#DIV/0!"}},{"$f":"IF('Serial Data'!AT54+'Serial Data'!AU54+'Serial Data'!AV54<>0,(AX54+(AY54*0.5)),NA())","v":{"$error":"#N/A"}},{"$f":"IF('Serial Data'!AT54+'Serial Data'!AU54+'Serial Data'!AV54<>0,(AY54*0.866*Templates!K2),NA())","v":{"$error":"#N/A"}},null,{"$f":"'Serial Data'!BA54/('Serial Data'!AY54+'Serial Data'!AZ54+'Serial Data'!BA54)","v":{"$error":"#DIV/0!"}},{"$f":"'Serial Data'!AY54/('Serial Data'!AY54+'Serial Data'!AZ54+'Serial Data'!BA54)","v":{"$error":"#DIV/0!"}},{"$f":"'Serial Data'!AZ54/('Serial Data'!AY54+'Serial Data'!AZ54+'Serial Data'!BA54)","v":{"$error":"#DIV/0!"}},{"$f":"IF('Serial Data'!AY54+'Serial Data'!AZ54+'Serial Data'!BA54<>0,(BD54+(BE54*0.5)),NA())","v":{"$error":"#N/A"}},{"$f":"IF('Serial Data'!AY54+'Serial Data'!AZ54+'Serial Data'!BA54<>0,(BE54*0.866*Templates!K2),NA())","v":{"$error":"#N/A"}},null,{"$f":"'Serial Data'!BF54/('Serial Data'!BD54+'Serial Data'!BE54+'Serial Data'!BF54)","v":{"$error":"#DIV/0!"}},{"$f":"'Serial Data'!BD54/('Serial Data'!BD54+'Serial Data'!BE54+'Serial Data'!BF54)","v":{"$error":"#DIV/0!"}},{"$f":"'Serial Data'!BE54/('Serial Data'!BD54+'Serial Data'!BE54+'Serial Data'!BF54)","v":{"$error":"#DIV/0!"}},{"$f":"IF('Serial Data'!BD54+'Serial Data'!BE54+'Serial Data'!BF54<>0,(BJ54+(BK54*0.5)),NA())","v":{"$error":"#N/A"}},{"$f":"IF('Serial Data'!BD54+'Serial Data'!BE54+'Serial Data'!BF54<>0,(BK54*0.866*Templates!K2),NA())","v":{"$error":"#N/A"}}]
[{"$f":"'Single Data'!N56/('Single Data'!L56+'Single Data'!M56+'Single Data'!N56)","v":{"$error":"#DIV/0!"}},{"$f":"'Single Data'!L56/('Single Data'!L56+'Single Data'!M56+'Single Data'!N56)","v":{"$error":"#DIV/0!"}},{"$f":"'Single Data'!M56/('Single Data'!L56+'Single Data'!M56+'Single Data'!N56)","v":{"$error":"#DIV/0!"}},{"$f":"IF('Single Data'!L56+'Single Data'!M56+'Single Data'!N56<>0,(B55+(C55*0.5)),NA())","v":{"$error":"#N/A"}},{"$f":"IF('Single Data'!L56+'Single Data'!M56+'Single Data'!N56<>0,(C55*0.866*Templates!K2),NA())","v":{"$error":"#N/A"}},null,{"$f":"'Serial Data'!M55/('Serial Data'!K55+'Serial Data'!L55+'Serial Data'!M55)","v":{"$error":"#DIV/0!"}},{"$f":"'Serial Data'!K55/('Serial Data'!K55+'Serial Data'!L55+'Serial Data'!M55)","v":{"$error":"#DIV/0!"}},{"$f":"'Serial Data'!L55/('Serial Data'!K55+'Serial Data'!L55+'Serial Data'!M55)","v":{"$error":"#DIV/0!"}},{"$f":"IF('Serial Data'!K55+'Serial Data'!L55+'Serial Data'!M55<>0,(H55+(I55*0.5)),NA())","v":{"$error":"#N/A"}},{"$f":"IF('Serial Data'!K55+'Serial Data'!L55+'Serial Data'!M55<>0,(I55*0.866*Templates!K2),NA())","v":{"$error":"#N/A"}},null,{"$f":"'Serial Data'!R55/('Serial Data'!P55+'Serial Data'!Q55+'Serial Data'!R55)","v":{"$error":"#DIV/0!"}},{"$f":"'Serial Data'!P55/('Serial Data'!P55+'Serial Data'!Q55+'Serial Data'!R55)","v":{"$error":"#DIV/0!"}},{"$f":"'Serial Data'!Q55/('Serial Data'!P55+'Serial Data'!Q55+'Serial Data'!R55)","v":{"$error":"#DIV/0!"}},{"$f":"IF('Serial Data'!P55+'Serial Data'!Q55+'Serial Data'!R55<>0,(N55+(O55*0.5)),NA())","v":{"$error":"#N/A"}},{"$f":"IF('Serial Data'!P55+'Serial Data'!Q55+'Serial Data'!R55<>0,(O55*0.866*Templates!K2),NA())","v":{"$error":"#N/A"}},null,{"$f":"'Serial Data'!W55/('Serial Data'!U55+'Serial Data'!V55+'Serial Data'!W55)","v":{"$error":"#DIV/0!"}},{"$f":"'Serial Data'!U55/('Serial Data'!U55+'Serial Data'!V55+'Serial Data'!W55)","v":{"$error":"#DIV/0!"}},{"$f":"'Serial Data'!V55/('Serial Data'!U55+'Serial Data'!V55+'Serial Data'!W55)","v":{"$error":"#DIV/0!"}},{"$f":"IF('Serial Data'!V55+'Serial Data'!W55+'Serial Data'!U55<>0,(T55+(U55*0.5)),NA())","v":{"$error":"#N/A"}},{"$f":"IF('Serial Data'!V55+'Serial Data'!W55+'Serial Data'!U55<>0,(U55*0.866*Templates!K2),NA())","v":{"$error":"#N/A"}},null,{"$f":"'Serial Data'!AB55/('Serial Data'!AA55+'Serial Data'!AB55+'Serial Data'!Z55)","v":{"$error":"#DIV/0!"}},{"$f":"'Serial Data'!Z55/('Serial Data'!AA55+'Serial Data'!AB55+'Serial Data'!Z55)","v":{"$error":"#DIV/0!"}},{"$f":"'Serial Data'!AA55/('Serial Data'!AA55+'Serial Data'!AB55+'Serial Data'!Z55)","v":{"$error":"#DIV/0!"}},{"$f":"IF('Serial Data'!AB55+'Serial Data'!AA55+'Serial Data'!Z55<>0,(Z55+(AA55*0.5)),NA())","v":{"$error":"#N/A"}},{"$f":"IF('Serial Data'!AB55+'Serial Data'!AA55+'Serial Data'!Z55<>0,(AA55*0.866*Templates!K2),NA())","v":{"$error":"#N/A"}},null,{"$f":"'Serial Data'!AG55/('Serial Data'!AG55+'Serial Data'!AE55+'Serial Data'!AF55)","v":{"$error":"#DIV/0!"}},{"$f":"'Serial Data'!AE55/('Serial Data'!AG55+'Serial Data'!AE55+'Serial Data'!AF55)","v":{"$error":"#DIV/0!"}},{"$f":"'Serial Data'!AF55/('Serial Data'!AG55+'Serial Data'!AE55+'Serial Data'!AF55)","v":{"$error":"#DIV/0!"}},{"$f":"IF('Serial Data'!AE55+'Serial Data'!AF55+'Serial Data'!AG55<>0,(AF55+(AG55*0.5)),NA())","v":{"$error":"#N/A"}},{"$f":"IF('Serial Data'!AE55+'Serial Data'!AF55+'Serial Data'!AG55<>0,(AG55*0.866*Templates!K2),NA())","v":{"$error":"#N/A"}},null,{"$f":"'Serial Data'!AL55/('Serial Data'!AJ55+'Serial Data'!AK55+'Serial Data'!AL55)","v":{"$error":"#DIV/0!"}},{"$f":"'Serial Data'!AJ55/('Serial Data'!AJ55+'Serial Data'!AK55+'Serial Data'!AL55)","v":{"$error":"#DIV/0!"}},{"$f":"'Serial Data'!AK55/('Serial Data'!AJ55+'Serial Data'!AK55+'Serial Data'!AL55)","v":{"$error":"#DIV/0!"}},{"$f":"IF('Serial Data'!AJ55+'Serial Data'!AK55+'Serial Data'!AL55<>0,(AL55+(AM55*0.5)),NA())","v":{"$error":"#N/A"}},{"$f":"IF('Serial Data'!AJ55+'Serial Data'!AK55+'Serial Data'!AL55<>0,(AM55*0.866*Templates!K2),NA())","v":{"$error":"#N/A"}},null,{"$f":"'Serial Data'!AQ55/('Serial Data'!AO55+'Serial Data'!AP55+'Serial Data'!AQ55)","v":{"$error":"#DIV/0!"}},{"$f":"'Serial Data'!AO55/('Serial Data'!AO55+'Serial Data'!AP55+'Serial Data'!AQ55)","v":{"$error":"#DIV/0!"}},{"$f":"'Serial Data'!AP55/('Serial Data'!AO55+'Serial Data'!AP55+'Serial Data'!AQ55)","v":{"$error":"#DIV/0!"}},{"$f":"IF('Serial Data'!AO55+'Serial Data'!AP55+'Serial Data'!AQ55<>0,(AR55+(AS55*0.5)),NA())","v":{"$error":"#N/A"}},{"$f":"IF('Serial Data'!AO55+'Serial Data'!AP55+'Serial Data'!AQ55<>0,(AS55*0.866*Templates!K2),NA())","v":{"$error":"#N/A"}},null,{"$f":"'Serial Data'!AV55/('Serial Data'!AT55+'Serial Data'!AU55+'Serial Data'!AV55)","v":{"$error":"#DIV/0!"}},{"$f":"'Serial Data'!AT55/('Serial Data'!AT55+'Serial Data'!AU55+'Serial Data'!AV55)","v":{"$error":"#DIV/0!"}},{"$f":"'Serial Data'!AU55/('Serial Data'!AT55+'Serial Data'!AU55+'Serial Data'!AV55)","v":{"$error":"#DIV/0!"}},{"$f":"IF('Serial Data'!AT55+'Serial Data'!AU55+'Serial Data'!AV55<>0,(AX55+(AY55*0.5)),NA())","v":{"$error":"#N/A"}},{"$f":"IF('Serial Data'!AT55+'Serial Data'!AU55+'Serial Data'!AV55<>0,(AY55*0.866*Templates!K2),NA())","v":{"$error":"#N/A"}},null,{"$f":"'Serial Data'!BA55/('Serial Data'!AY55+'Serial Data'!AZ55+'Serial Data'!BA55)","v":{"$error":"#DIV/0!"}},{"$f":"'Serial Data'!AY55/('Serial Data'!AY55+'Serial Data'!AZ55+'Serial Data'!BA55)","v":{"$error":"#DIV/0!"}},{"$f":"'Serial Data'!AZ55/('Serial Data'!AY55+'Serial Data'!AZ55+'Serial Data'!BA55)","v":{"$error":"#DIV/0!"}},{"$f":"IF('Serial Data'!AY55+'Serial Data'!AZ55+'Serial Data'!BA55<>0,(BD55+(BE55*0.5)),NA())","v":{"$error":"#N/A"}},{"$f":"IF('Serial Data'!AY55+'Serial Data'!AZ55+'Serial Data'!BA55<>0,(BE55*0.866*Templates!K2),NA())","v":{"$error":"#N/A"}},null,{"$f":"'Serial Data'!BF55/('Serial Data'!BD55+'Serial Data'!BE55+'Serial Data'!BF55)","v":{"$error":"#DIV/0!"}},{"$f":"'Serial Data'!BD55/('Serial Data'!BD55+'Serial Data'!BE55+'Serial Data'!BF55)","v":{"$error":"#DIV/0!"}},{"$f":"'Serial Data'!BE55/('Serial Data'!BD55+'Serial Data'!BE55+'Serial Data'!BF55)","v":{"$error":"#DIV/0!"}},{"$f":"IF('Serial Data'!BD55+'Serial Data'!BE55+'Serial Data'!BF55<>0,(BJ55+(BK55*0.5)),NA())","v":{"$error":"#N/A"}},{"$f":"IF('Serial Data'!BD55+'Serial Data'!BE55+'Serial Data'!BF55<>0,(BK55*0.866*Templates!K2),NA())","v":{"$error":"#N/A"}}]
[{"$f":"'Single Data'!N57/('Single Data'!L57+'Single Data'!M57+'Single Data'!N57)","v":{"$error":"#DIV/0!"}},{"$f":"'Single Data'!L57/('Single Data'!L57+'Single Data'!M57+'Single Data'!N57)","v":{"$error":"#DIV/0!"}},{"$f":"'Single Data'!M57/('Single Data'!L57+'Single Data'!M57+'Single Data'!N57)","v":{"$error":"#DIV/0!"}},{"$f":"IF('Single Data'!L57+'Single Data'!M57+'Single Data'!N57<>0,(B56+(C56*0.5)),NA())","v":{"$error":"#N/A"}},{"$f":"IF('Single Data'!L57+'Single Data'!M57+'Single Data'!N57<>0,(C56*0.866*Templates!K2),NA())","v":{"$error":"#N/A"}},null,{"$f":"'Serial Data'!M56/('Serial Data'!K56+'Serial Data'!L56+'Serial Data'!M56)","v":{"$error":"#DIV/0!"}},{"$f":"'Serial Data'!K56/('Serial Data'!K56+'Serial Data'!L56+'Serial Data'!M56)","v":{"$error":"#DIV/0!"}},{"$f":"'Serial Data'!L56/('Serial Data'!K56+'Serial Data'!L56+'Serial Data'!M56)","v":{"$error":"#DIV/0!"}},{"$f":"IF('Serial Data'!K56+'Serial Data'!L56+'Serial Data'!M56<>0,(H56+(I56*0.5)),NA())","v":{"$error":"#N/A"}},{"$f":"IF('Serial Data'!K56+'Serial Data'!L56+'Serial Data'!M56<>0,(I56*0.866*Templates!K2),NA())","v":{"$error":"#N/A"}},null,{"$f":"'Serial Data'!R56/('Serial Data'!P56+'Serial Data'!Q56+'Serial Data'!R56)","v":{"$error":"#DIV/0!"}},{"$f":"'Serial Data'!P56/('Serial Data'!P56+'Serial Data'!Q56+'Serial Data'!R56)","v":{"$error":"#DIV/0!"}},{"$f":"'Serial Data'!Q56/('Serial Data'!P56+'Serial Data'!Q56+'Serial Data'!R56)","v":{"$error":"#DIV/0!"}},{"$f":"IF('Serial Data'!P56+'Serial Data'!Q56+'Serial Data'!R56<>0,(N56+(O56*0.5)),NA())","v":{"$error":"#N/A"}},{"$f":"IF('Serial Data'!P56+'Serial Data'!Q56+'Serial Data'!R56<>0,(O56*0.866*Templates!K2),NA())","v":{"$error":"#N/A"}},null,{"$f":"'Serial Data'!W56/('Serial Data'!U56+'Serial Data'!V56+'Serial Data'!W56)","v":{"$error":"#DIV/0!"}},{"$f":"'Serial Data'!U56/('Serial Data'!U56+'Serial Data'!V56+'Serial Data'!W56)","v":{"$error":"#DIV/0!"}},{"$f":"'Serial Data'!V56/('Serial Data'!U56+'Serial Data'!V56+'Serial Data'!W56)","v":{"$error":"#DIV/0!"}},{"$f":"IF('Serial Data'!V56+'Serial Data'!W56+'Serial Data'!U56<>0,(T56+(U56*0.5)),NA())","v":{"$error":"#N/A"}},{"$f":"IF('Serial Data'!V56+'Serial Data'!W56+'Serial Data'!U56<>0,(U56*0.866*Templates!K2),NA())","v":{"$error":"#N/A"}},null,{"$f":"'Serial Data'!AB56/('Serial Data'!AA56+'Serial Data'!AB56+'Serial Data'!Z56)","v":{"$error":"#DIV/0!"}},{"$f":"'Serial Data'!Z56/('Serial Data'!AA56+'Serial Data'!AB56+'Serial Data'!Z56)","v":{"$error":"#DIV/0!"}},{"$f":"'Serial Data'!AA56/('Serial Data'!AA56+'Serial Data'!AB56+'Serial Data'!Z56)","v":{"$error":"#DIV/0!"}},{"$f":"IF('Serial Data'!AB56+'Serial Data'!AA56+'Serial Data'!Z56<>0,(Z56+(AA56*0.5)),NA())","v":{"$error":"#N/A"}},{"$f":"IF('Serial Data'!AB56+'Serial Data'!AA56+'Serial Data'!Z56<>0,(AA56*0.866*Templates!K2),NA())","v":{"$error":"#N/A"}},null,{"$f":"'Serial Data'!AG56/('Serial Data'!AG56+'Serial Data'!AE56+'Serial Data'!AF56)","v":{"$error":"#DIV/0!"}},{"$f":"'Serial Data'!AE56/('Serial Data'!AG56+'Serial Data'!AE56+'Serial Data'!AF56)","v":{"$error":"#DIV/0!"}},{"$f":"'Serial Data'!AF56/('Serial Data'!AG56+'Serial Data'!AE56+'Serial Data'!AF56)","v":{"$error":"#DIV/0!"}},{"$f":"IF('Serial Data'!AE56+'Serial Data'!AF56+'Serial Data'!AG56<>0,(AF56+(AG56*0.5)),NA())","v":{"$error":"#N/A"}},{"$f":"IF('Serial Data'!AE56+'Serial Data'!AF56+'Serial Data'!AG56<>0,(AG56*0.866*Templates!K2),NA())","v":{"$error":"#N/A"}},null,{"$f":"'Serial Data'!AL56/('Serial Data'!AJ56+'Serial Data'!AK56+'Serial Data'!AL56)","v":{"$error":"#DIV/0!"}},{"$f":"'Serial Data'!AJ56/('Serial Data'!AJ56+'Serial Data'!AK56+'Serial Data'!AL56)","v":{"$error":"#DIV/0!"}},{"$f":"'Serial Data'!AK56/('Serial Data'!AJ56+'Serial Data'!AK56+'Serial Data'!AL56)","v":{"$error":"#DIV/0!"}},{"$f":"IF('Serial Data'!AJ56+'Serial Data'!AK56+'Serial Data'!AL56<>0,(AL56+(AM56*0.5)),NA())","v":{"$error":"#N/A"}},{"$f":"IF('Serial Data'!AJ56+'Serial Data'!AK56+'Serial Data'!AL56<>0,(AM56*0.866*Templates!K2),NA())","v":{"$error":"#N/A"}},null,{"$f":"'Serial Data'!AQ56/('Serial Data'!AO56+'Serial Data'!AP56+'Serial Data'!AQ56)","v":{"$error":"#DIV/0!"}},{"$f":"'Serial Data'!AO56/('Serial Data'!AO56+'Serial Data'!AP56+'Serial Data'!AQ56)","v":{"$error":"#DIV/0!"}},{"$f":"'Serial Data'!AP56/('Serial Data'!AO56+'Serial Data'!AP56+'Serial Data'!AQ56)","v":{"$error":"#DIV/0!"}},{"$f":"IF('Serial Data'!AO56+'Serial Data'!AP56+'Serial Data'!AQ56<>0,(AR56+(AS56*0.5)),NA())","v":{"$error":"#N/A"}},{"$f":"IF('Serial Data'!AO56+'Serial Data'!AP56+'Serial Data'!AQ56<>0,(AS56*0.866*Templates!K2),NA())","v":{"$error":"#N/A"}},null,{"$f":"'Serial Data'!AV56/('Serial Data'!AT56+'Serial Data'!AU56+'Serial Data'!AV56)","v":{"$error":"#DIV/0!"}},{"$f":"'Serial Data'!AT56/('Serial Data'!AT56+'Serial Data'!AU56+'Serial Data'!AV56)","v":{"$error":"#DIV/0!"}},{"$f":"'Serial Data'!AU56/('Serial Data'!AT56+'Serial Data'!AU56+'Serial Data'!AV56)","v":{"$error":"#DIV/0!"}},{"$f":"IF('Serial Data'!AT56+'Serial Data'!AU56+'Serial Data'!AV56<>0,(AX56+(AY56*0.5)),NA())","v":{"$error":"#N/A"}},{"$f":"IF('Serial Data'!AT56+'Serial Data'!AU56+'Serial Data'!AV56<>0,(AY56*0.866*Templates!K2),NA())","v":{"$error":"#N/A"}},null,{"$f":"'Serial Data'!BA56/('Serial Data'!AY56+'Serial Data'!AZ56+'Serial Data'!BA56)","v":{"$error":"#DIV/0!"}},{"$f":"'Serial Data'!AY56/('Serial Data'!AY56+'Serial Data'!AZ56+'Serial Data'!BA56)","v":{"$error":"#DIV/0!"}},{"$f":"'Serial Data'!AZ56/('Serial Data'!AY56+'Serial Data'!AZ56+'Serial Data'!BA56)","v":{"$error":"#DIV/0!"}},{"$f":"IF('Serial Data'!AY56+'Serial Data'!AZ56+'Serial Data'!BA56<>0,(BD56+(BE56*0.5)),NA())","v":{"$error":"#N/A"}},{"$f":"IF('Serial Data'!AY56+'Serial Data'!AZ56+'Serial Data'!BA56<>0,(BE56*0.866*Templates!K2),NA())","v":{"$error":"#N/A"}},null,{"$f":"'Serial Data'!BF56/('Serial Data'!BD56+'Serial Data'!BE56+'Serial Data'!BF56)","v":{"$error":"#DIV/0!"}},{"$f":"'Serial Data'!BD56/('Serial Data'!BD56+'Serial Data'!BE56+'Serial Data'!BF56)","v":{"$error":"#DIV/0!"}},{"$f":"'Serial Data'!BE56/('Serial Data'!BD56+'Serial Data'!BE56+'Serial Data'!BF56)","v":{"$error":"#DIV/0!"}},{"$f":"IF('Serial Data'!BD56+'Serial Data'!BE56+'Serial Data'!BF56<>0,(BJ56+(BK56*0.5)),NA())","v":{"$error":"#N/A"}},{"$f":"IF('Serial Data'!BD56+'Serial Data'!BE56+'Serial Data'!BF56<>0,(BK56*0.866*Templates!K2),NA())","v":{"$error":"#N/A"}}]
[{"$f":"'Single Data'!N58/('Single Data'!L58+'Single Data'!M58+'Single Data'!N58)","v":{"$error":"#DIV/0!"}},{"$f":"'Single Data'!L58/('Single Data'!L58+'Single Data'!M58+'Single Data'!N58)","v":{"$error":"#DIV/0!"}},{"$f":"'Single Data'!M58/('Single Data'!L58+'Single Data'!M58+'Single Data'!N58)","v":{"$error":"#DIV/0!"}},{"$f":"IF('Single Data'!L58+'Single Data'!M58+'Single Data'!N58<>0,(B57+(C57*0.5)),NA())","v":{"$error":"#N/A"}},{"$f":"IF('Single Data'!L58+'Single Data'!M58+'Single Data'!N58<>0,(C57*0.866*Templates!K2),NA())","v":{"$error":"#N/A"}},null,{"$f":"'Serial Data'!M57/('Serial Data'!K57+'Serial Data'!L57+'Serial Data'!M57)","v":{"$error":"#DIV/0!"}},{"$f":"'Serial Data'!K57/('Serial Data'!K57+'Serial Data'!L57+'Serial Data'!M57)","v":{"$error":"#DIV/0!"}},{"$f":"'Serial Data'!L57/('Serial Data'!K57+'Serial Data'!L57+'Serial Data'!M57)","v":{"$error":"#DIV/0!"}},{"$f":"IF('Serial Data'!K57+'Serial Data'!L57+'Serial Data'!M57<>0,(H57+(I57*0.5)),NA())","v":{"$error":"#N/A"}},{"$f":"IF('Serial Data'!K57+'Serial Data'!L57+'Serial Data'!M57<>0,(I57*0.866*Templates!K2),NA())","v":{"$error":"#N/A"}},null,{"$f":"'Serial Data'!R57/('Serial Data'!P57+'Serial Data'!Q57+'Serial Data'!R57)","v":{"$error":"#DIV/0!"}},{"$f":"'Serial Data'!P57/('Serial Data'!P57+'Serial Data'!Q57+'Serial Data'!R57)","v":{"$error":"#DIV/0!"}},{"$f":"'Serial Data'!Q57/('Serial Data'!P57+'Serial Data'!Q57+'Serial Data'!R57)","v":{"$error":"#DIV/0!"}},{"$f":"IF('Serial Data'!P57+'Serial Data'!Q57+'Serial Data'!R57<>0,(N57+(O57*0.5)),NA())","v":{"$error":"#N/A"}},{"$f":"IF('Serial Data'!P57+'Serial Data'!Q57+'Serial Data'!R57<>0,(O57*0.866*Templates!K2),NA())","v":{"$error":"#N/A"}},null,{"$f":"'Serial Data'!W57/('Serial Data'!U57+'Serial Data'!V57+'Serial Data'!W57)","v":{"$error":"#DIV/0!"}},{"$f":"'Serial Data'!U57/('Serial Data'!U57+'Serial Data'!V57+'Serial Data'!W57)","v":{"$error":"#DIV/0!"}},{"$f":"'Serial Data'!V57/('Serial Data'!U57+'Serial Data'!V57+'Serial Data'!W57)","v":{"$error":"#DIV/0!"}},{"$f":"IF('Serial Data'!V57+'Serial Data'!W57+'Serial Data'!U57<>0,(T57+(U57*0.5)),NA())","v":{"$error":"#N/A"}},{"$f":"IF('Serial Data'!V57+'Serial Data'!W57+'Serial Data'!U57<>0,(U57*0.866*Templates!K2),NA())","v":{"$error":"#N/A"}},null,{"$f":"'Serial Data'!AB57/('Serial Data'!AA57+'Serial Data'!AB57+'Serial Data'!Z57)","v":{"$error":"#DIV/0!"}},{"$f":"'Serial Data'!Z57/('Serial Data'!AA57+'Serial Data'!AB57+'Serial Data'!Z57)","v":{"$error":"#DIV/0!"}},{"$f":"'Serial Data'!AA57/('Serial Data'!AA57+'Serial Data'!AB57+'Serial Data'!Z57)","v":{"$error":"#DIV/0!"}},{"$f":"IF('Serial Data'!AB57+'Serial Data'!AA57+'Serial Data'!Z57<>0,(Z57+(AA57*0.5)),NA())","v":{"$error":"#N/A"}},{"$f":"IF('Serial Data'!AB57+'Serial Data'!AA57+'Serial Data'!Z57<>0,(AA57*0.866*Templates!K2),NA())","v":{"$error":"#N/A"}},null,{"$f":"'Serial Data'!AG57/('Serial Data'!AG57+'Serial Data'!AE57+'Serial Data'!AF57)","v":{"$error":"#DIV/0!"}},{"$f":"'Serial Data'!AE57/('Serial Data'!AG57+'Serial Data'!AE57+'Serial Data'!AF57)","v":{"$error":"#DIV/0!"}},{"$f":"'Serial Data'!AF57/('Serial Data'!AG57+'Serial Data'!AE57+'Serial Data'!AF57)","v":{"$error":"#DIV/0!"}},{"$f":"IF('Serial Data'!AE57+'Serial Data'!AF57+'Serial Data'!AG57<>0,(AF57+(AG57*0.5)),NA())","v":{"$error":"#N/A"}},{"$f":"IF('Serial Data'!AE57+'Serial Data'!AF57+'Serial Data'!AG57<>0,(AG57*0.866*Templates!K2),NA())","v":{"$error":"#N/A"}},null,{"$f":"'Serial Data'!AL57/('Serial Data'!AJ57+'Serial Data'!AK57+'Serial Data'!AL57)","v":{"$error":"#DIV/0!"}},{"$f":"'Serial Data'!AJ57/('Serial Data'!AJ57+'Serial Data'!AK57+'Serial Data'!AL57)","v":{"$error":"#DIV/0!"}},{"$f":"'Serial Data'!AK57/('Serial Data'!AJ57+'Serial Data'!AK57+'Serial Data'!AL57)","v":{"$error":"#DIV/0!"}},{"$f":"IF('Serial Data'!AJ57+'Serial Data'!AK57+'Serial Data'!AL57<>0,(AL57+(AM57*0.5)),NA())","v":{"$error":"#N/A"}},{"$f":"IF('Serial Data'!AJ57+'Serial Data'!AK57+'Serial Data'!AL57<>0,(AM57*0.866*Templates!K2),NA())","v":{"$error":"#N/A"}},null,{"$f":"'Serial Data'!AQ57/('Serial Data'!AO57+'Serial Data'!AP57+'Serial Data'!AQ57)","v":{"$error":"#DIV/0!"}},{"$f":"'Serial Data'!AO57/('Serial Data'!AO57+'Serial Data'!AP57+'Serial Data'!AQ57)","v":{"$error":"#DIV/0!"}},{"$f":"'Serial Data'!AP57/('Serial Data'!AO57+'Serial Data'!AP57+'Serial Data'!AQ57)","v":{"$error":"#DIV/0!"}},{"$f":"IF('Serial Data'!AO57+'Serial Data'!AP57+'Serial Data'!AQ57<>0,(AR57+(AS57*0.5)),NA())","v":{"$error":"#N/A"}},{"$f":"IF('Serial Data'!AO57+'Serial Data'!AP57+'Serial Data'!AQ57<>0,(AS57*0.866*Templates!K2),NA())","v":{"$error":"#N/A"}},null,{"$f":"'Serial Data'!AV57/('Serial Data'!AT57+'Serial Data'!AU57+'Serial Data'!AV57)","v":{"$error":"#DIV/0!"}},{"$f":"'Serial Data'!AT57/('Serial Data'!AT57+'Serial Data'!AU57+'Serial Data'!AV57)","v":{"$error":"#DIV/0!"}},{"$f":"'Serial Data'!AU57/('Serial Data'!AT57+'Serial Data'!AU57+'Serial Data'!AV57)","v":{"$error":"#DIV/0!"}},{"$f":"IF('Serial Data'!AT57+'Serial Data'!AU57+'Serial Data'!AV57<>0,(AX57+(AY57*0.5)),NA())","v":{"$error":"#N/A"}},{"$f":"IF('Serial Data'!AT57+'Serial Data'!AU57+'Serial Data'!AV57<>0,(AY57*0.866*Templates!K2),NA())","v":{"$error":"#N/A"}},null,{"$f":"'Serial Data'!BA57/('Serial Data'!AY57+'Serial Data'!AZ57+'Serial Data'!BA57)","v":{"$error":"#DIV/0!"}},{"$f":"'Serial Data'!AY57/('Serial Data'!AY57+'Serial Data'!AZ57+'Serial Data'!BA57)","v":{"$error":"#DIV/0!"}},{"$f":"'Serial Data'!AZ57/('Serial Data'!AY57+'Serial Data'!AZ57+'Serial Data'!BA57)","v":{"$error":"#DIV/0!"}},{"$f":"IF('Serial Data'!AY57+'Serial Data'!AZ57+'Serial Data'!BA57<>0,(BD57+(BE57*0.5)),NA())","v":{"$error":"#N/A"}},{"$f":"IF('Serial Data'!AY57+'Serial Data'!AZ57+'Serial Data'!BA57<>0,(BE57*0.866*Templates!K2),NA())","v":{"$error":"#N/A"}},null,{"$f":"'Serial Data'!BF57/('Serial Data'!BD57+'Serial Data'!BE57+'Serial Data'!BF57)","v":{"$error":"#DIV/0!"}},{"$f":"'Serial Data'!BD57/('Serial Data'!BD57+'Serial Data'!BE57+'Serial Data'!BF57)","v":{"$error":"#DIV/0!"}},{"$f":"'Serial Data'!BE57/('Serial Data'!BD57+'Serial Data'!BE57+'Serial Data'!BF57)","v":{"$error":"#DIV/0!"}},{"$f":"IF('Serial Data'!BD57+'Serial Data'!BE57+'Serial Data'!BF57<>0,(BJ57+(BK57*0.5)),NA())","v":{"$error":"#N/A"}},{"$f":"IF('Serial Data'!BD57+'Serial Data'!BE57+'Serial Data'!BF57<>0,(BK57*0.866*Templates!K2),NA())","v":{"$error":"#N/A"}}]
[{"$f":"'Single Data'!N59/('Single Data'!L59+'Single Data'!M59+'Single Data'!N59)","v":{"$error":"#DIV/0!"}},{"$f":"'Single Data'!L59/('Single Data'!L59+'Single Data'!M59+'Single Data'!N59)","v":{"$error":"#DIV/0!"}},{"$f":"'Single Data'!M59/('Single Data'!L59+'Single Data'!M59+'Single Data'!N59)","v":{"$error":"#DIV/0!"}},{"$f":"IF('Single Data'!L59+'Single Data'!M59+'Single Data'!N59<>0,(B58+(C58*0.5)),NA())","v":{"$error":"#N/A"}},{"$f":"IF('Single Data'!L59+'Single Data'!M59+'Single Data'!N59<>0,(C58*0.866*Templates!K2),NA())","v":{"$error":"#N/A"}},null,{"$f":"'Serial Data'!M58/('Serial Data'!K58+'Serial Data'!L58+'Serial Data'!M58)","v":{"$error":"#DIV/0!"}},{"$f":"'Serial Data'!K58/('Serial Data'!K58+'Serial Data'!L58+'Serial Data'!M58)","v":{"$error":"#DIV/0!"}},{"$f":"'Serial Data'!L58/('Serial Data'!K58+'Serial Data'!L58+'Serial Data'!M58)","v":{"$error":"#DIV/0!"}},{"$f":"IF('Serial Data'!K58+'Serial Data'!L58+'Serial Data'!M58<>0,(H58+(I58*0.5)),NA())","v":{"$error":"#N/A"}},{"$f":"IF('Serial Data'!K58+'Serial Data'!L58+'Serial Data'!M58<>0,(I58*0.866*Templates!K2),NA())","v":{"$error":"#N/A"}},null,{"$f":"'Serial Data'!R58/('Serial Data'!P58+'Serial Data'!Q58+'Serial Data'!R58)","v":{"$error":"#DIV/0!"}},{"$f":"'Serial Data'!P58/('Serial Data'!P58+'Serial Data'!Q58+'Serial Data'!R58)","v":{"$error":"#DIV/0!"}},{"$f":"'Serial Data'!Q58/('Serial Data'!P58+'Serial Data'!Q58+'Serial Data'!R58)","v":{"$error":"#DIV/0!"}},{"$f":"IF('Serial Data'!P58+'Serial Data'!Q58+'Serial Data'!R58<>0,(N58+(O58*0.5)),NA())","v":{"$error":"#N/A"}},{"$f":"IF('Serial Data'!P58+'Serial Data'!Q58+'Serial Data'!R58<>0,(O58*0.866*Templates!K2),NA())","v":{"$error":"#N/A"}},null,{"$f":"'Serial Data'!W58/('Serial Data'!U58+'Serial Data'!V58+'Serial Data'!W58)","v":{"$error":"#DIV/0!"}},{"$f":"'Serial Data'!U58/('Serial Data'!U58+'Serial Data'!V58+'Serial Data'!W58)","v":{"$error":"#DIV/0!"}},{"$f":"'Serial Data'!V58/('Serial Data'!U58+'Serial Data'!V58+'Serial Data'!W58)","v":{"$error":"#DIV/0!"}},{"$f":"IF('Serial Data'!V58+'Serial Data'!W58+'Serial Data'!U58<>0,(T58+(U58*0.5)),NA())","v":{"$error":"#N/A"}},{"$f":"IF('Serial Data'!V58+'Serial Data'!W58+'Serial Data'!U58<>0,(U58*0.866*Templates!K2),NA())","v":{"$error":"#N/A"}},null,{"$f":"'Serial Data'!AB58/('Serial Data'!AA58+'Serial Data'!AB58+'Serial Data'!Z58)","v":{"$error":"#DIV/0!"}},{"$f":"'Serial Data'!Z58/('Serial Data'!AA58+'Serial Data'!AB58+'Serial Data'!Z58)","v":{"$error":"#DIV/0!"}},{"$f":"'Serial Data'!AA58/('Serial Data'!AA58+'Serial Data'!AB58+'Serial Data'!Z58)","v":{"$error":"#DIV/0!"}},{"$f":"IF('Serial Data'!AB58+'Serial Data'!AA58+'Serial Data'!Z58<>0,(Z58+(AA58*0.5)),NA())","v":{"$error":"#N/A"}},{"$f":"IF('Serial Data'!AB58+'Serial Data'!AA58+'Serial Data'!Z58<>0,(AA58*0.866*Templates!K2),NA())","v":{"$error":"#N/A"}},null,{"$f":"'Serial Data'!AG58/('Serial Data'!AG58+'Serial Data'!AE58+'Serial Data'!AF58)","v":{"$error":"#DIV/0!"}},{"$f":"'Serial Data'!AE58/('Serial Data'!AG58+'Serial Data'!AE58+'Serial Data'!AF58)","v":{"$error":"#DIV/0!"}},{"$f":"'Serial Data'!AF58/('Serial Data'!AG58+'Serial Data'!AE58+'Serial Data'!AF58)","v":{"$error":"#DIV/0!"}},{"$f":"IF('Serial Data'!AE58+'Serial Data'!AF58+'Serial Data'!AG58<>0,(AF58+(AG58*0.5)),NA())","v":{"$error":"#N/A"}},{"$f":"IF('Serial Data'!AE58+'Serial Data'!AF58+'Serial Data'!AG58<>0,(AG58*0.866*Templates!K2),NA())","v":{"$error":"#N/A"}},null,{"$f":"'Serial Data'!AL58/('Serial Data'!AJ58+'Serial Data'!AK58+'Serial Data'!AL58)","v":{"$error":"#DIV/0!"}},{"$f":"'Serial Data'!AJ58/('Serial Data'!AJ58+'Serial Data'!AK58+'Serial Data'!AL58)","v":{"$error":"#DIV/0!"}},{"$f":"'Serial Data'!AK58/('Serial Data'!AJ58+'Serial Data'!AK58+'Serial Data'!AL58)","v":{"$error":"#DIV/0!"}},{"$f":"IF('Serial Data'!AJ58+'Serial Data'!AK58+'Serial Data'!AL58<>0,(AL58+(AM58*0.5)),NA())","v":{"$error":"#N/A"}},{"$f":"IF('Serial Data'!AJ58+'Serial Data'!AK58+'Serial Data'!AL58<>0,(AM58*0.866*Templates!K2),NA())","v":{"$error":"#N/A"}},null,{"$f":"'Serial Data'!AQ58/('Serial Data'!AO58+'Serial Data'!AP58+'Serial Data'!AQ58)","v":{"$error":"#DIV/0!"}},{"$f":"'Serial Data'!AO58/('Serial Data'!AO58+'Serial Data'!AP58+'Serial Data'!AQ58)","v":{"$error":"#DIV/0!"}},{"$f":"'Serial Data'!AP58/('Serial Data'!AO58+'Serial Data'!AP58+'Serial Data'!AQ58)","v":{"$error":"#DIV/0!"}},{"$f":"IF('Serial Data'!AO58+'Serial Data'!AP58+'Serial Data'!AQ58<>0,(AR58+(AS58*0.5)),NA())","v":{"$error":"#N/A"}},{"$f":"IF('Serial Data'!AO58+'Serial Data'!AP58+'Serial Data'!AQ58<>0,(AS58*0.866*Templates!K2),NA())","v":{"$error":"#N/A"}},null,{"$f":"'Serial Data'!AV58/('Serial Data'!AT58+'Serial Data'!AU58+'Serial Data'!AV58)","v":{"$error":"#DIV/0!"}},{"$f":"'Serial Data'!AT58/('Serial Data'!AT58+'Serial Data'!AU58+'Serial Data'!AV58)","v":{"$error":"#DIV/0!"}},{"$f":"'Serial Data'!AU58/('Serial Data'!AT58+'Serial Data'!AU58+'Serial Data'!AV58)","v":{"$error":"#DIV/0!"}},{"$f":"IF('Serial Data'!AT58+'Serial Data'!AU58+'Serial Data'!AV58<>0,(AX58+(AY58*0.5)),NA())","v":{"$error":"#N/A"}},{"$f":"IF('Serial Data'!AT58+'Serial Data'!AU58+'Serial Data'!AV58<>0,(AY58*0.866*Templates!K2),NA())","v":{"$error":"#N/A"}},null,{"$f":"'Serial Data'!BA58/('Serial Data'!AY58+'Serial Data'!AZ58+'Serial Data'!BA58)","v":{"$error":"#DIV/0!"}},{"$f":"'Serial Data'!AY58/('Serial Data'!AY58+'Serial Data'!AZ58+'Serial Data'!BA58)","v":{"$error":"#DIV/0!"}},{"$f":"'Serial Data'!AZ58/('Serial Data'!AY58+'Serial Data'!AZ58+'Serial Data'!BA58)","v":{"$error":"#DIV/0!"}},{"$f":"IF('Serial Data'!AY58+'Serial Data'!AZ58+'Serial Data'!BA58<>0,(BD58+(BE58*0.5)),NA())","v":{"$error":"#N/A"}},{"$f":"IF('Serial Data'!AY58+'Serial Data'!AZ58+'Serial Data'!BA58<>0,(BE58*0.866*Templates!K2),NA())","v":{"$error":"#N/A"}},null,{"$f":"'Serial Data'!BF58/('Serial Data'!BD58+'Serial Data'!BE58+'Serial Data'!BF58)","v":{"$error":"#DIV/0!"}},{"$f":"'Serial Data'!BD58/('Serial Data'!BD58+'Serial Data'!BE58+'Serial Data'!BF58)","v":{"$error":"#DIV/0!"}},{"$f":"'Serial Data'!BE58/('Serial Data'!BD58+'Serial Data'!BE58+'Serial Data'!BF58)","v":{"$error":"#DIV/0!"}},{"$f":"IF('Serial Data'!BD58+'Serial Data'!BE58+'Serial Data'!BF58<>0,(BJ58+(BK58*0.5)),NA())","v":{"$error":"#N/A"}},{"$f":"IF('Serial Data'!BD58+'Serial Data'!BE58+'Serial Data'!BF58<>0,(BK58*0.866*Templates!K2),NA())","v":{"$error":"#N/A"}}]
[{"$f":"'Single Data'!N60/('Single Data'!L60+'Single Data'!M60+'Single Data'!N60)","v":{"$error":"#DIV/0!"}},{"$f":"'Single Data'!L60/('Single Data'!L60+'Single Data'!M60+'Single Data'!N60)","v":{"$error":"#DIV/0!"}},{"$f":"'Single Data'!M60/('Single Data'!L60+'Single Data'!M60+'Single Data'!N60)","v":{"$error":"#DIV/0!"}},{"$f":"IF('Single Data'!L60+'Single Data'!M60+'Single Data'!N60<>0,(B59+(C59*0.5)),NA())","v":{"$error":"#N/A"}},{"$f":"IF('Single Data'!L60+'Single Data'!M60+'Single Data'!N60<>0,(C59*0.866*Templates!K2),NA())","v":{"$error":"#N/A"}},null,{"$f":"'Serial Data'!M59/('Serial Data'!K59+'Serial Data'!L59+'Serial Data'!M59)","v":{"$error":"#DIV/0!"}},{"$f":"'Serial Data'!K59/('Serial Data'!K59+'Serial Data'!L59+'Serial Data'!M59)","v":{"$error":"#DIV/0!"}},{"$f":"'Serial Data'!L59/('Serial Data'!K59+'Serial Data'!L59+'Serial Data'!M59)","v":{"$error":"#DIV/0!"}},{"$f":"IF('Serial Data'!K59+'Serial Data'!L59+'Serial Data'!M59<>0,(H59+(I59*0.5)),NA())","v":{"$error":"#N/A"}},{"$f":"IF('Serial Data'!K59+'Serial Data'!L59+'Serial Data'!M59<>0,(I59*0.866*Templates!K2),NA())","v":{"$error":"#N/A"}},null,{"$f":"'Serial Data'!R59/('Serial Data'!P59+'Serial Data'!Q59+'Serial Data'!R59)","v":{"$error":"#DIV/0!"}},{"$f":"'Serial Data'!P59/('Serial Data'!P59+'Serial Data'!Q59+'Serial Data'!R59)","v":{"$error":"#DIV/0!"}},{"$f":"'Serial Data'!Q59/('Serial Data'!P59+'Serial Data'!Q59+'Serial Data'!R59)","v":{"$error":"#DIV/0!"}},{"$f":"IF('Serial Data'!P59+'Serial Data'!Q59+'Serial Data'!R59<>0,(N59+(O59*0.5)),NA())","v":{"$error":"#N/A"}},{"$f":"IF('Serial Data'!P59+'Serial Data'!Q59+'Serial Data'!R59<>0,(O59*0.866*Templates!K2),NA())","v":{"$error":"#N/A"}},null,{"$f":"'Serial Data'!W59/('Serial Data'!U59+'Serial Data'!V59+'Serial Data'!W59)","v":{"$error":"#DIV/0!"}},{"$f":"'Serial Data'!U59/('Serial Data'!U59+'Serial Data'!V59+'Serial Data'!W59)","v":{"$error":"#DIV/0!"}},{"$f":"'Serial Data'!V59/('Serial Data'!U59+'Serial Data'!V59+'Serial Data'!W59)","v":{"$error":"#DIV/0!"}},{"$f":"IF('Serial Data'!V59+'Serial Data'!W59+'Serial Data'!U59<>0,(T59+(U59*0.5)),NA())","v":{"$error":"#N/A"}},{"$f":"IF('Serial Data'!V59+'Serial Data'!W59+'Serial Data'!U59<>0,(U59*0.866*Templates!K2),NA())","v":{"$error":"#N/A"}},null,{"$f":"'Serial Data'!AB59/('Serial Data'!AA59+'Serial Data'!AB59+'Serial Data'!Z59)","v":{"$error":"#DIV/0!"}},{"$f":"'Serial Data'!Z59/('Serial Data'!AA59+'Serial Data'!AB59+'Serial Data'!Z59)","v":{"$error":"#DIV/0!"}},{"$f":"'Serial Data'!AA59/('Serial Data'!AA59+'Serial Data'!AB59+'Serial Data'!Z59)","v":{"$error":"#DIV/0!"}},{"$f":"IF('Serial Data'!AB59+'Serial Data'!AA59+'Serial Data'!Z59<>0,(Z59+(AA59*0.5)),NA())","v":{"$error":"#N/A"}},{"$f":"IF('Serial Data'!AB59+'Serial Data'!AA59+'Serial Data'!Z59<>0,(AA59*0.866*Templates!K2),NA())","v":{"$error":"#N/A"}},null,{"$f":"'Serial Data'!AG59/('Serial Data'!AG59+'Serial Data'!AE59+'Serial Data'!AF59)","v":{"$error":"#DIV/0!"}},{"$f":"'Serial Data'!AE59/('Serial Data'!AG59+'Serial Data'!AE59+'Serial Data'!AF59)","v":{"$error":"#DIV/0!"}},{"$f":"'Serial Data'!AF59/('Serial Data'!AG59+'Serial Data'!AE59+'Serial Data'!AF59)","v":{"$error":"#DIV/0!"}},{"$f":"IF('Serial Data'!AE59+'Serial Data'!AF59+'Serial Data'!AG59<>0,(AF59+(AG59*0.5)),NA())","v":{"$error":"#N/A"}},{"$f":"IF('Serial Data'!AE59+'Serial Data'!AF59+'Serial Data'!AG59<>0,(AG59*0.866*Templates!K2),NA())","v":{"$error":"#N/A"}},null,{"$f":"'Serial Data'!AL59/('Serial Data'!AJ59+'Serial Data'!AK59+'Serial Data'!AL59)","v":{"$error":"#DIV/0!"}},{"$f":"'Serial Data'!AJ59/('Serial Data'!AJ59+'Serial Data'!AK59+'Serial Data'!AL59)","v":{"$error":"#DIV/0!"}},{"$f":"'Serial Data'!AK59/('Serial Data'!AJ59+'Serial Data'!AK59+'Serial Data'!AL59)","v":{"$error":"#DIV/0!"}},{"$f":"IF('Serial Data'!AJ59+'Serial Data'!AK59+'Serial Data'!AL59<>0,(AL59+(AM59*0.5)),NA())","v":{"$error":"#N/A"}},{"$f":"IF('Serial Data'!AJ59+'Serial Data'!AK59+'Serial Data'!AL59<>0,(AM59*0.866*Templates!K2),NA())","v":{"$error":"#N/A"}},null,{"$f":"'Serial Data'!AQ59/('Serial Data'!AO59+'Serial Data'!AP59+'Serial Data'!AQ59)","v":{"$error":"#DIV/0!"}},{"$f":"'Serial Data'!AO59/('Serial Data'!AO59+'Serial Data'!AP59+'Serial Data'!AQ59)","v":{"$error":"#DIV/0!"}},{"$f":"'Serial Data'!AP59/('Serial Data'!AO59+'Serial Data'!AP59+'Serial Data'!AQ59)","v":{"$error":"#DIV/0!"}},{"$f":"IF('Serial Data'!AO59+'Serial Data'!AP59+'Serial Data'!AQ59<>0,(AR59+(AS59*0.5)),NA())","v":{"$error":"#N/A"}},{"$f":"IF('Serial Data'!AO59+'Serial Data'!AP59+'Serial Data'!AQ59<>0,(AS59*0.866*Templates!K2),NA())","v":{"$error":"#N/A"}},null,{"$f":"'Serial Data'!AV59/('Serial Data'!AT59+'Serial Data'!AU59+'Serial Data'!AV59)","v":{"$error":"#DIV/0!"}},{"$f":"'Serial Data'!AT59/('Serial Data'!AT59+'Serial Data'!AU59+'Serial Data'!AV59)","v":{"$error":"#DIV/0!"}},{"$f":"'Serial Data'!AU59/('Serial Data'!AT59+'Serial Data'!AU59+'Serial Data'!AV59)","v":{"$error":"#DIV/0!"}},{"$f":"IF('Serial Data'!AT59+'Serial Data'!AU59+'Serial Data'!AV59<>0,(AX59+(AY59*0.5)),NA())","v":{"$error":"#N/A"}},{"$f":"IF('Serial Data'!AT59+'Serial Data'!AU59+'Serial Data'!AV59<>0,(AY59*0.866*Templates!K2),NA())","v":{"$error":"#N/A"}},null,{"$f":"'Serial Data'!BA59/('Serial Data'!AY59+'Serial Data'!AZ59+'Serial Data'!BA59)","v":{"$error":"#DIV/0!"}},{"$f":"'Serial Data'!AY59/('Serial Data'!AY59+'Serial Data'!AZ59+'Serial Data'!BA59)","v":{"$error":"#DIV/0!"}},{"$f":"'Serial Data'!AZ59/('Serial Data'!AY59+'Serial Data'!AZ59+'Serial Data'!BA59)","v":{"$error":"#DIV/0!"}},{"$f":"IF('Serial Data'!AY59+'Serial Data'!AZ59+'Serial Data'!BA59<>0,(BD59+(BE59*0.5)),NA())","v":{"$error":"#N/A"}},{"$f":"IF('Serial Data'!AY59+'Serial Data'!AZ59+'Serial Data'!BA59<>0,(BE59*0.866*Templates!K2),NA())","v":{"$error":"#N/A"}},null,{"$f":"'Serial Data'!BF59/('Serial Data'!BD59+'Serial Data'!BE59+'Serial Data'!BF59)","v":{"$error":"#DIV/0!"}},{"$f":"'Serial Data'!BD59/('Serial Data'!BD59+'Serial Data'!BE59+'Serial Data'!BF59)","v":{"$error":"#DIV/0!"}},{"$f":"'Serial Data'!BE59/('Serial Data'!BD59+'Serial Data'!BE59+'Serial Data'!BF59)","v":{"$error":"#DIV/0!"}},{"$f":"IF('Serial Data'!BD59+'Serial Data'!BE59+'Serial Data'!BF59<>0,(BJ59+(BK59*0.5)),NA())","v":{"$error":"#N/A"}},{"$f":"IF('Serial Data'!BD59+'Serial Data'!BE59+'Serial Data'!BF59<>0,(BK59*0.866*Templates!K2),NA())","v":{"$error":"#N/A"}}]
[{"$f":"'Single Data'!N61/('Single Data'!L61+'Single Data'!M61+'Single Data'!N61)","v":{"$error":"#DIV/0!"}},{"$f":"'Single Data'!L61/('Single Data'!L61+'Single Data'!M61+'Single Data'!N61)","v":{"$error":"#DIV/0!"}},{"$f":"'Single Data'!M61/('Single Data'!L61+'Single Data'!M61+'Single Data'!N61)","v":{"$error":"#DIV/0!"}},{"$f":"IF('Single Data'!L61+'Single Data'!M61+'Single Data'!N61<>0,(B60+(C60*0.5)),NA())","v":{"$error":"#N/A"}},{"$f":"IF('Single Data'!L61+'Single Data'!M61+'Single Data'!N61<>0,(C60*0.866*Templates!K2),NA())","v":{"$error":"#N/A"}},null,{"$f":"'Serial Data'!M60/('Serial Data'!K60+'Serial Data'!L60+'Serial Data'!M60)","v":{"$error":"#DIV/0!"}},{"$f":"'Serial Data'!K60/('Serial Data'!K60+'Serial Data'!L60+'Serial Data'!M60)","v":{"$error":"#DIV/0!"}},{"$f":"'Serial Data'!L60/('Serial Data'!K60+'Serial Data'!L60+'Serial Data'!M60)","v":{"$error":"#DIV/0!"}},{"$f":"IF('Serial Data'!K60+'Serial Data'!L60+'Serial Data'!M60<>0,(H60+(I60*0.5)),NA())","v":{"$error":"#N/A"}},{"$f":"IF('Serial Data'!K60+'Serial Data'!L60+'Serial Data'!M60<>0,(I60*0.866*Templates!K2),NA())","v":{"$error":"#N/A"}},null,{"$f":"'Serial Data'!R60/('Serial Data'!P60+'Serial Data'!Q60+'Serial Data'!R60)","v":{"$error":"#DIV/0!"}},{"$f":"'Serial Data'!P60/('Serial Data'!P60+'Serial Data'!Q60+'Serial Data'!R60)","v":{"$error":"#DIV/0!"}},{"$f":"'Serial Data'!Q60/('Serial Data'!P60+'Serial Data'!Q60+'Serial Data'!R60)","v":{"$error":"#DIV/0!"}},{"$f":"IF('Serial Data'!P60+'Serial Data'!Q60+'Serial Data'!R60<>0,(N60+(O60*0.5)),NA())","v":{"$error":"#N/A"}},{"$f":"IF('Serial Data'!P60+'Serial Data'!Q60+'Serial Data'!R60<>0,(O60*0.866*Templates!K2),NA())","v":{"$error":"#N/A"}},null,{"$f":"'Serial Data'!W60/('Serial Data'!U60+'Serial Data'!V60+'Serial Data'!W60)","v":{"$error":"#DIV/0!"}},{"$f":"'Serial Data'!U60/('Serial Data'!U60+'Serial Data'!V60+'Serial Data'!W60)","v":{"$error":"#DIV/0!"}},{"$f":"'Serial Data'!V60/('Serial Data'!U60+'Serial Data'!V60+'Serial Data'!W60)","v":{"$error":"#DIV/0!"}},{"$f":"IF('Serial Data'!V60+'Serial Data'!W60+'Serial Data'!U60<>0,(T60+(U60*0.5)),NA())","v":{"$error":"#N/A"}},{"$f":"IF('Serial Data'!V60+'Serial Data'!W60+'Serial Data'!U60<>0,(U60*0.866*Templates!K2),NA())","v":{"$error":"#N/A"}},null,{"$f":"'Serial Data'!AB60/('Serial Data'!AA60+'Serial Data'!AB60+'Serial Data'!Z60)","v":{"$error":"#DIV/0!"}},{"$f":"'Serial Data'!Z60/('Serial Data'!AA60+'Serial Data'!AB60+'Serial Data'!Z60)","v":{"$error":"#DIV/0!"}},{"$f":"'Serial Data'!AA60/('Serial Data'!AA60+'Serial Data'!AB60+'Serial Data'!Z60)","v":{"$error":"#DIV/0!"}},{"$f":"IF('Serial Data'!AB60+'Serial Data'!AA60+'Serial Data'!Z60<>0,(Z60+(AA60*0.5)),NA())","v":{"$error":"#N/A"}},{"$f":"IF('Serial Data'!AB60+'Serial Data'!AA60+'Serial Data'!Z60<>0,(AA60*0.866*Templates!K2),NA())","v":{"$error":"#N/A"}},null,{"$f":"'Serial Data'!AG60/('Serial Data'!AG60+'Serial Data'!AE60+'Serial Data'!AF60)","v":{"$error":"#DIV/0!"}},{"$f":"'Serial Data'!AE60/('Serial Data'!AG60+'Serial Data'!AE60+'Serial Data'!AF60)","v":{"$error":"#DIV/0!"}},{"$f":"'Serial Data'!AF60/('Serial Data'!AG60+'Serial Data'!AE60+'Serial Data'!AF60)","v":{"$error":"#DIV/0!"}},{"$f":"IF('Serial Data'!AE60+'Serial Data'!AF60+'Serial Data'!AG60<>0,(AF60+(AG60*0.5)),NA())","v":{"$error":"#N/A"}},{"$f":"IF('Serial Data'!AE60+'Serial Data'!AF60+'Serial Data'!AG60<>0,(AG60*0.866*Templates!K2),NA())","v":{"$error":"#N/A"}},null,{"$f":"'Serial Data'!AL60/('Serial Data'!AJ60+'Serial Data'!AK60+'Serial Data'!AL60)","v":{"$error":"#DIV/0!"}},{"$f":"'Serial Data'!AJ60/('Serial Data'!AJ60+'Serial Data'!AK60+'Serial Data'!AL60)","v":{"$error":"#DIV/0!"}},{"$f":"'Serial Data'!AK60/('Serial Data'!AJ60+'Serial Data'!AK60+'Serial Data'!AL60)","v":{"$error":"#DIV/0!"}},{"$f":"IF('Serial Data'!AJ60+'Serial Data'!AK60+'Serial Data'!AL60<>0,(AL60+(AM60*0.5)),NA())","v":{"$error":"#N/A"}},{"$f":"IF('Serial Data'!AJ60+'Serial Data'!AK60+'Serial Data'!AL60<>0,(AM60*0.866*Templates!K2),NA())","v":{"$error":"#N/A"}},null,{"$f":"'Serial Data'!AQ60/('Serial Data'!AO60+'Serial Data'!AP60+'Serial Data'!AQ60)","v":{"$error":"#DIV/0!"}},{"$f":"'Serial Data'!AO60/('Serial Data'!AO60+'Serial Data'!AP60+'Serial Data'!AQ60)","v":{"$error":"#DIV/0!"}},{"$f":"'Serial Data'!AP60/('Serial Data'!AO60+'Serial Data'!AP60+'Serial Data'!AQ60)","v":{"$error":"#DIV/0!"}},{"$f":"IF('Serial Data'!AO60+'Serial Data'!AP60+'Serial Data'!AQ60<>0,(AR60+(AS60*0.5)),NA())","v":{"$error":"#N/A"}},{"$f":"IF('Serial Data'!AO60+'Serial Data'!AP60+'Serial Data'!AQ60<>0,(AS60*0.866*Templates!K2),NA())","v":{"$error":"#N/A"}},null,{"$f":"'Serial Data'!AV60/('Serial Data'!AT60+'Serial Data'!AU60+'Serial Data'!AV60)","v":{"$error":"#DIV/0!"}},{"$f":"'Serial Data'!AT60/('Serial Data'!AT60+'Serial Data'!AU60+'Serial Data'!AV60)","v":{"$error":"#DIV/0!"}},{"$f":"'Serial Data'!AU60/('Serial Data'!AT60+'Serial Data'!AU60+'Serial Data'!AV60)","v":{"$error":"#DIV/0!"}},{"$f":"IF('Serial Data'!AT60+'Serial Data'!AU60+'Serial Data'!AV60<>0,(AX60+(AY60*0.5)),NA())","v":{"$error":"#N/A"}},{"$f":"IF('Serial Data'!AT60+'Serial Data'!AU60+'Serial Data'!AV60<>0,(AY60*0.866*Templates!K2),NA())","v":{"$error":"#N/A"}},null,{"$f":"'Serial Data'!BA60/('Serial Data'!AY60+'Serial Data'!AZ60+'Serial Data'!BA60)","v":{"$error":"#DIV/0!"}},{"$f":"'Serial Data'!AY60/('Serial Data'!AY60+'Serial Data'!AZ60+'Serial Data'!BA60)","v":{"$error":"#DIV/0!"}},{"$f":"'Serial Data'!AZ60/('Serial Data'!AY60+'Serial Data'!AZ60+'Serial Data'!BA60)","v":{"$error":"#DIV/0!"}},{"$f":"IF('Serial Data'!AY60+'Serial Data'!AZ60+'Serial Data'!BA60<>0,(BD60+(BE60*0.5)),NA())","v":{"$error":"#N/A"}},{"$f":"IF('Serial Data'!AY60+'Serial Data'!AZ60+'Serial Data'!BA60<>0,(BE60*0.866*Templates!K2),NA())","v":{"$error":"#N/A"}},null,{"$f":"'Serial Data'!BF60/('Serial Data'!BD60+'Serial Data'!BE60+'Serial Data'!BF60)","v":{"$error":"#DIV/0!"}},{"$f":"'Serial Data'!BD60/('Serial Data'!BD60+'Serial Data'!BE60+'Serial Data'!BF60)","v":{"$error":"#DIV/0!"}},{"$f":"'Serial Data'!BE60/('Serial Data'!BD60+'Serial Data'!BE60+'Serial Data'!BF60)","v":{"$error":"#DIV/0!"}},{"$f":"IF('Serial Data'!BD60+'Serial Data'!BE60+'Serial Data'!BF60<>0,(BJ60+(BK60*0.5)),NA())","v":{"$error":"#N/A"}},{"$f":"IF('Serial Data'!BD60+'Serial Data'!BE60+'Serial Data'!BF60<>0,(BK60*0.866*Templates!K2),NA())","v":{"$error":"#N/A"}}]
[{"$f":"'Single Data'!N62/('Single Data'!L62+'Single Data'!M62+'Single Data'!N62)","v":{"$error":"#DIV/0!"}},{"$f":"'Single Data'!L62/('Single Data'!L62+'Single Data'!M62+'Single Data'!N62)","v":{"$error":"#DIV/0!"}},{"$f":"'Single Data'!M62/('Single Data'!L62+'Single Data'!M62+'Single Data'!N62)","v":{"$error":"#DIV/0!"}},{"$f":"IF('Single Data'!L62+'Single Data'!M62+'Single Data'!N62<>0,(B61+(C61*0.5)),NA())","v":{"$error":"#N/A"}},{"$f":"IF('Single Data'!L62+'Single Data'!M62+'Single Data'!N62<>0,(C61*0.866*Templates!K2),NA())","v":{"$error":"#N/A"}},null,{"$f":"'Serial Data'!M61/('Serial Data'!K61+'Serial Data'!L61+'Serial Data'!M61)","v":{"$error":"#DIV/0!"}},{"$f":"'Serial Data'!K61/('Serial Data'!K61+'Serial Data'!L61+'Serial Data'!M61)","v":{"$error":"#DIV/0!"}},{"$f":"'Serial Data'!L61/('Serial Data'!K61+'Serial Data'!L61+'Serial Data'!M61)","v":{"$error":"#DIV/0!"}},{"$f":"IF('Serial Data'!K61+'Serial Data'!L61+'Serial Data'!M61<>0,(H61+(I61*0.5)),NA())","v":{"$error":"#N/A"}},{"$f":"IF('Serial Data'!K61+'Serial Data'!L61+'Serial Data'!M61<>0,(I61*0.866*Templates!K2),NA())","v":{"$error":"#N/A"}},null,{"$f":"'Serial Data'!R61/('Serial Data'!P61+'Serial Data'!Q61+'Serial Data'!R61)","v":{"$error":"#DIV/0!"}},{"$f":"'Serial Data'!P61/('Serial Data'!P61+'Serial Data'!Q61+'Serial Data'!R61)","v":{"$error":"#DIV/0!"}},{"$f":"'Serial Data'!Q61/('Serial Data'!P61+'Serial Data'!Q61+'Serial Data'!R61)","v":{"$error":"#DIV/0!"}},{"$f":"IF('Serial Data'!P61+'Serial Data'!Q61+'Serial Data'!R61<>0,(N61+(O61*0.5)),NA())","v":{"$error":"#N/A"}},{"$f":"IF('Serial Data'!P61+'Serial Data'!Q61+'Serial Data'!R61<>0,(O61*0.866*Templates!K2),NA())","v":{"$error":"#N/A"}},null,{"$f":"'Serial Data'!W61/('Serial Data'!U61+'Serial Data'!V61+'Serial Data'!W61)","v":{"$error":"#DIV/0!"}},{"$f":"'Serial Data'!U61/('Serial Data'!U61+'Serial Data'!V61+'Serial Data'!W61)","v":{"$error":"#DIV/0!"}},{"$f":"'Serial Data'!V61/('Serial Data'!U61+'Serial Data'!V61+'Serial Data'!W61)","v":{"$error":"#DIV/0!"}},{"$f":"IF('Serial Data'!V61+'Serial Data'!W61+'Serial Data'!U61<>0,(T61+(U61*0.5)),NA())","v":{"$error":"#N/A"}},{"$f":"IF('Serial Data'!V61+'Serial Data'!W61+'Serial Data'!U61<>0,(U61*0.866*Templates!K2),NA())","v":{"$error":"#N/A"}},null,{"$f":"'Serial Data'!AB61/('Serial Data'!AA61+'Serial Data'!AB61+'Serial Data'!Z61)","v":{"$error":"#DIV/0!"}},{"$f":"'Serial Data'!Z61/('Serial Data'!AA61+'Serial Data'!AB61+'Serial Data'!Z61)","v":{"$error":"#DIV/0!"}},{"$f":"'Serial Data'!AA61/('Serial Data'!AA61+'Serial Data'!AB61+'Serial Data'!Z61)","v":{"$error":"#DIV/0!"}},{"$f":"IF('Serial Data'!AB61+'Serial Data'!AA61+'Serial Data'!Z61<>0,(Z61+(AA61*0.5)),NA())","v":{"$error":"#N/A"}},{"$f":"IF('Serial Data'!AB61+'Serial Data'!AA61+'Serial Data'!Z61<>0,(AA61*0.866*Templates!K2),NA())","v":{"$error":"#N/A"}},null,{"$f":"'Serial Data'!AG61/('Serial Data'!AG61+'Serial Data'!AE61+'Serial Data'!AF61)","v":{"$error":"#DIV/0!"}},{"$f":"'Serial Data'!AE61/('Serial Data'!AG61+'Serial Data'!AE61+'Serial Data'!AF61)","v":{"$error":"#DIV/0!"}},{"$f":"'Serial Data'!AF61/('Serial Data'!AG61+'Serial Data'!AE61+'Serial Data'!AF61)","v":{"$error":"#DIV/0!"}},{"$f":"IF('Serial Data'!AE61+'Serial Data'!AF61+'Serial Data'!AG61<>0,(AF61+(AG61*0.5)),NA())","v":{"$error":"#N/A"}},{"$f":"IF('Serial Data'!AE61+'Serial Data'!AF61+'Serial Data'!AG61<>0,(AG61*0.866*Templates!K2),NA())","v":{"$error":"#N/A"}},null,{"$f":"'Serial Data'!AL61/('Serial Data'!AJ61+'Serial Data'!AK61+'Serial Data'!AL61)","v":{"$error":"#DIV/0!"}},{"$f":"'Serial Data'!AJ61/('Serial Data'!AJ61+'Serial Data'!AK61+'Serial Data'!AL61)","v":{"$error":"#DIV/0!"}},{"$f":"'Serial Data'!AK61/('Serial Data'!AJ61+'Serial Data'!AK61+'Serial Data'!AL61)","v":{"$error":"#DIV/0!"}},{"$f":"IF('Serial Data'!AJ61+'Serial Data'!AK61+'Serial Data'!AL61<>0,(AL61+(AM61*0.5)),NA())","v":{"$error":"#N/A"}},{"$f":"IF('Serial Data'!AJ61+'Serial Data'!AK61+'Serial Data'!AL61<>0,(AM61*0.866*Templates!K2),NA())","v":{"$error":"#N/A"}},null,{"$f":"'Serial Data'!AQ61/('Serial Data'!AO61+'Serial Data'!AP61+'Serial Data'!AQ61)","v":{"$error":"#DIV/0!"}},{"$f":"'Serial Data'!AO61/('Serial Data'!AO61+'Serial Data'!AP61+'Serial Data'!AQ61)","v":{"$error":"#DIV/0!"}},{"$f":"'Serial Data'!AP61/('Serial Data'!AO61+'Serial Data'!AP61+'Serial Data'!AQ61)","v":{"$error":"#DIV/0!"}},{"$f":"IF('Serial Data'!AO61+'Serial Data'!AP61+'Serial Data'!AQ61<>0,(AR61+(AS61*0.5)),NA())","v":{"$error":"#N/A"}},{"$f":"IF('Serial Data'!AO61+'Serial Data'!AP61+'Serial Data'!AQ61<>0,(AS61*0.866*Templates!K2),NA())","v":{"$error":"#N/A"}},null,{"$f":"'Serial Data'!AV61/('Serial Data'!AT61+'Serial Data'!AU61+'Serial Data'!AV61)","v":{"$error":"#DIV/0!"}},{"$f":"'Serial Data'!AT61/('Serial Data'!AT61+'Serial Data'!AU61+'Serial Data'!AV61)","v":{"$error":"#DIV/0!"}},{"$f":"'Serial Data'!AU61/('Serial Data'!AT61+'Serial Data'!AU61+'Serial Data'!AV61)","v":{"$error":"#DIV/0!"}},{"$f":"IF('Serial Data'!AT61+'Serial Data'!AU61+'Serial Data'!AV61<>0,(AX61+(AY61*0.5)),NA())","v":{"$error":"#N/A"}},{"$f":"IF('Serial Data'!AT61+'Serial Data'!AU61+'Serial Data'!AV61<>0,(AY61*0.866*Templates!K2),NA())","v":{"$error":"#N/A"}},null,{"$f":"'Serial Data'!BA61/('Serial Data'!AY61+'Serial Data'!AZ61+'Serial Data'!BA61)","v":{"$error":"#DIV/0!"}},{"$f":"'Serial Data'!AY61/('Serial Data'!AY61+'Serial Data'!AZ61+'Serial Data'!BA61)","v":{"$error":"#DIV/0!"}},{"$f":"'Serial Data'!AZ61/('Serial Data'!AY61+'Serial Data'!AZ61+'Serial Data'!BA61)","v":{"$error":"#DIV/0!"}},{"$f":"IF('Serial Data'!AY61+'Serial Data'!AZ61+'Serial Data'!BA61<>0,(BD61+(BE61*0.5)),NA())","v":{"$error":"#N/A"}},{"$f":"IF('Serial Data'!AY61+'Serial Data'!AZ61+'Serial Data'!BA61<>0,(BE61*0.866*Templates!K2),NA())","v":{"$error":"#N/A"}},null,{"$f":"'Serial Data'!BF61/('Serial Data'!BD61+'Serial Data'!BE61+'Serial Data'!BF61)","v":{"$error":"#DIV/0!"}},{"$f":"'Serial Data'!BD61/('Serial Data'!BD61+'Serial Data'!BE61+'Serial Data'!BF61)","v":{"$error":"#DIV/0!"}},{"$f":"'Serial Data'!BE61/('Serial Data'!BD61+'Serial Data'!BE61+'Serial Data'!BF61)","v":{"$error":"#DIV/0!"}},{"$f":"IF('Serial Data'!BD61+'Serial Data'!BE61+'Serial Data'!BF61<>0,(BJ61+(BK61*0.5)),NA())","v":{"$error":"#N/A"}},{"$f":"IF('Serial Data'!BD61+'Serial Data'!BE61+'Serial Data'!BF61<>0,(BK61*0.866*Templates!K2),NA())","v":{"$error":"#N/A"}}]
[{"$f":"'Single Data'!N63/('Single Data'!L63+'Single Data'!M63+'Single Data'!N63)","v":{"$error":"#DIV/0!"}},{"$f":"'Single Data'!L63/('Single Data'!L63+'Single Data'!M63+'Single Data'!N63)","v":{"$error":"#DIV/0!"}},{"$f":"'Single Data'!M63/('Single Data'!L63+'Single Data'!M63+'Single Data'!N63)","v":{"$error":"#DIV/0!"}},{"$f":"IF('Single Data'!L63+'Single Data'!M63+'Single Data'!N63<>0,(B62+(C62*0.5)),NA())","v":{"$error":"#N/A"}},{"$f":"IF('Single Data'!L63+'Single Data'!M63+'Single Data'!N63<>0,(C62*0.866*Templates!K2),NA())","v":{"$error":"#N/A"}},null,{"$f":"'Serial Data'!M62/('Serial Data'!K62+'Serial Data'!L62+'Serial Data'!M62)","v":{"$error":"#DIV/0!"}},{"$f":"'Serial Data'!K62/('Serial Data'!K62+'Serial Data'!L62+'Serial Data'!M62)","v":{"$error":"#DIV/0!"}},{"$f":"'Serial Data'!L62/('Serial Data'!K62+'Serial Data'!L62+'Serial Data'!M62)","v":{"$error":"#DIV/0!"}},{"$f":"IF('Serial Data'!K62+'Serial Data'!L62+'Serial Data'!M62<>0,(H62+(I62*0.5)),NA())","v":{"$error":"#N/A"}},{"$f":"IF('Serial Data'!K62+'Serial Data'!L62+'Serial Data'!M62<>0,(I62*0.866*Templates!K2),NA())","v":{"$error":"#N/A"}},null,{"$f":"'Serial Data'!R62/('Serial Data'!P62+'Serial Data'!Q62+'Serial Data'!R62)","v":{"$error":"#DIV/0!"}},{"$f":"'Serial Data'!P62/('Serial Data'!P62+'Serial Data'!Q62+'Serial Data'!R62)","v":{"$error":"#DIV/0!"}},{"$f":"'Serial Data'!Q62/('Serial Data'!P62+'Serial Data'!Q62+'Serial Data'!R62)","v":{"$error":"#DIV/0!"}},{"$f":"IF('Serial Data'!P62+'Serial Data'!Q62+'Serial Data'!R62<>0,(N62+(O62*0.5)),NA())","v":{"$error":"#N/A"}},{"$f":"IF('Serial Data'!P62+'Serial Data'!Q62+'Serial Data'!R62<>0,(O62*0.866*Templates!K2),NA())","v":{"$error":"#N/A"}},null,{"$f":"'Serial Data'!W62/('Serial Data'!U62+'Serial Data'!V62+'Serial Data'!W62)","v":{"$error":"#DIV/0!"}},{"$f":"'Serial Data'!U62/('Serial Data'!U62+'Serial Data'!V62+'Serial Data'!W62)","v":{"$error":"#DIV/0!"}},{"$f":"'Serial Data'!V62/('Serial Data'!U62+'Serial Data'!V62+'Serial Data'!W62)","v":{"$error":"#DIV/0!"}},{"$f":"IF('Serial Data'!V62+'Serial Data'!W62+'Serial Data'!U62<>0,(T62+(U62*0.5)),NA())","v":{"$error":"#N/A"}},{"$f":"IF('Serial Data'!V62+'Serial Data'!W62+'Serial Data'!U62<>0,(U62*0.866*Templates!K2),NA())","v":{"$error":"#N/A"}},null,{"$f":"'Serial Data'!AB62/('Serial Data'!AA62+'Serial Data'!AB62+'Serial Data'!Z62)","v":{"$error":"#DIV/0!"}},{"$f":"'Serial Data'!Z62/('Serial Data'!AA62+'Serial Data'!AB62+'Serial Data'!Z62)","v":{"$error":"#DIV/0!"}},{"$f":"'Serial Data'!AA62/('Serial Data'!AA62+'Serial Data'!AB62+'Serial Data'!Z62)","v":{"$error":"#DIV/0!"}},{"$f":"IF('Serial Data'!AB62+'Serial Data'!AA62+'Serial Data'!Z62<>0,(Z62+(AA62*0.5)),NA())","v":{"$error":"#N/A"}},{"$f":"IF('Serial Data'!AB62+'Serial Data'!AA62+'Serial Data'!Z62<>0,(AA62*0.866*Templates!K2),NA())","v":{"$error":"#N/A"}},null,{"$f":"'Serial Data'!AG62/('Serial Data'!AG62+'Serial Data'!AE62+'Serial Data'!AF62)","v":{"$error":"#DIV/0!"}},{"$f":"'Serial Data'!AE62/('Serial Data'!AG62+'Serial Data'!AE62+'Serial Data'!AF62)","v":{"$error":"#DIV/0!"}},{"$f":"'Serial Data'!AF62/('Serial Data'!AG62+'Serial Data'!AE62+'Serial Data'!AF62)","v":{"$error":"#DIV/0!"}},{"$f":"IF('Serial Data'!AE62+'Serial Data'!AF62+'Serial Data'!AG62<>0,(AF62+(AG62*0.5)),NA())","v":{"$error":"#N/A"}},{"$f":"IF('Serial Data'!AE62+'Serial Data'!AF62+'Serial Data'!AG62<>0,(AG62*0.866*Templates!K2),NA())","v":{"$error":"#N/A"}},null,{"$f":"'Serial Data'!AL62/('Serial Data'!AJ62+'Serial Data'!AK62+'Serial Data'!AL62)","v":{"$error":"#DIV/0!"}},{"$f":"'Serial Data'!AJ62/('Serial Data'!AJ62+'Serial Data'!AK62+'Serial Data'!AL62)","v":{"$error":"#DIV/0!"}},{"$f":"'Serial Data'!AK62/('Serial Data'!AJ62+'Serial Data'!AK62+'Serial Data'!AL62)","v":{"$error":"#DIV/0!"}},{"$f":"IF('Serial Data'!AJ62+'Serial Data'!AK62+'Serial Data'!AL62<>0,(AL62+(AM62*0.5)),NA())","v":{"$error":"#N/A"}},{"$f":"IF('Serial Data'!AJ62+'Serial Data'!AK62+'Serial Data'!AL62<>0,(AM62*0.866*Templates!K2),NA())","v":{"$error":"#N/A"}},null,{"$f":"'Serial Data'!AQ62/('Serial Data'!AO62+'Serial Data'!AP62+'Serial Data'!AQ62)","v":{"$error":"#DIV/0!"}},{"$f":"'Serial Data'!AO62/('Serial Data'!AO62+'Serial Data'!AP62+'Serial Data'!AQ62)","v":{"$error":"#DIV/0!"}},{"$f":"'Serial Data'!AP62/('Serial Data'!AO62+'Serial Data'!AP62+'Serial Data'!AQ62)","v":{"$error":"#DIV/0!"}},{"$f":"IF('Serial Data'!AO62+'Serial Data'!AP62+'Serial Data'!AQ62<>0,(AR62+(AS62*0.5)),NA())","v":{"$error":"#N/A"}},{"$f":"IF('Serial Data'!AO62+'Serial Data'!AP62+'Serial Data'!AQ62<>0,(AS62*0.866*Templates!K2),NA())","v":{"$error":"#N/A"}},null,{"$f":"'Serial Data'!AV62/('Serial Data'!AT62+'Serial Data'!AU62+'Serial Data'!AV62)","v":{"$error":"#DIV/0!"}},{"$f":"'Serial Data'!AT62/('Serial Data'!AT62+'Serial Data'!AU62+'Serial Data'!AV62)","v":{"$error":"#DIV/0!"}},{"$f":"'Serial Data'!AU62/('Serial Data'!AT62+'Serial Data'!AU62+'Serial Data'!AV62)","v":{"$error":"#DIV/0!"}},{"$f":"IF('Serial Data'!AT62+'Serial Data'!AU62+'Serial Data'!AV62<>0,(AX62+(AY62*0.5)),NA())","v":{"$error":"#N/A"}},{"$f":"IF('Serial Data'!AT62+'Serial Data'!AU62+'Serial Data'!AV62<>0,(AY62*0.866*Templates!K2),NA())","v":{"$error":"#N/A"}},null,{"$f":"'Serial Data'!BA62/('Serial Data'!AY62+'Serial Data'!AZ62+'Serial Data'!BA62)","v":{"$error":"#DIV/0!"}},{"$f":"'Serial Data'!AY62/('Serial Data'!AY62+'Serial Data'!AZ62+'Serial Data'!BA62)","v":{"$error":"#DIV/0!"}},{"$f":"'Serial Data'!AZ62/('Serial Data'!AY62+'Serial Data'!AZ62+'Serial Data'!BA62)","v":{"$error":"#DIV/0!"}},{"$f":"IF('Serial Data'!AY62+'Serial Data'!AZ62+'Serial Data'!BA62<>0,(BD62+(BE62*0.5)),NA())","v":{"$error":"#N/A"}},{"$f":"IF('Serial Data'!AY62+'Serial Data'!AZ62+'Serial Data'!BA62<>0,(BE62*0.866*Templates!K2),NA())","v":{"$error":"#N/A"}},null,{"$f":"'Serial Data'!BF62/('Serial Data'!BD62+'Serial Data'!BE62+'Serial Data'!BF62)","v":{"$error":"#DIV/0!"}},{"$f":"'Serial Data'!BD62/('Serial Data'!BD62+'Serial Data'!BE62+'Serial Data'!BF62)","v":{"$error":"#DIV/0!"}},{"$f":"'Serial Data'!BE62/('Serial Data'!BD62+'Serial Data'!BE62+'Serial Data'!BF62)","v":{"$error":"#DIV/0!"}},{"$f":"IF('Serial Data'!BD62+'Serial Data'!BE62+'Serial Data'!BF62<>0,(BJ62+(BK62*0.5)),NA())","v":{"$error":"#N/A"}},{"$f":"IF('Serial Data'!BD62+'Serial Data'!BE62+'Serial Data'!BF62<>0,(BK62*0.866*Templates!K2),NA())","v":{"$error":"#N/A"}}]
[{"$f":"'Single Data'!N64/('Single Data'!L64+'Single Data'!M64+'Single Data'!N64)","v":{"$error":"#DIV/0!"}},{"$f":"'Single Data'!L64/('Single Data'!L64+'Single Data'!M64+'Single Data'!N64)","v":{"$error":"#DIV/0!"}},{"$f":"'Single Data'!M64/('Single Data'!L64+'Single Data'!M64+'Single Data'!N64)","v":{"$error":"#DIV/0!"}},{"$f":"IF('Single Data'!L64+'Single Data'!M64+'Single Data'!N64<>0,(B63+(C63*0.5)),NA())","v":{"$error":"#N/A"}},{"$f":"IF('Single Data'!L64+'Single Data'!M64+'Single Data'!N64<>0,(C63*0.866*Templates!K2),NA())","v":{"$error":"#N/A"}},null,{"$f":"'Serial Data'!M63/('Serial Data'!K63+'Serial Data'!L63+'Serial Data'!M63)","v":{"$error":"#DIV/0!"}},{"$f":"'Serial Data'!K63/('Serial Data'!K63+'Serial Data'!L63+'Serial Data'!M63)","v":{"$error":"#DIV/0!"}},{"$f":"'Serial Data'!L63/('Serial Data'!K63+'Serial Data'!L63+'Serial Data'!M63)","v":{"$error":"#DIV/0!"}},{"$f":"IF('Serial Data'!K63+'Serial Data'!L63+'Serial Data'!M63<>0,(H63+(I63*0.5)),NA())","v":{"$error":"#N/A"}},{"$f":"IF('Serial Data'!K63+'Serial Data'!L63+'Serial Data'!M63<>0,(I63*0.866*Templates!K2),NA())","v":{"$error":"#N/A"}},null,{"$f":"'Serial Data'!R63/('Serial Data'!P63+'Serial Data'!Q63+'Serial Data'!R63)","v":{"$error":"#DIV/0!"}},{"$f":"'Serial Data'!P63/('Serial Data'!P63+'Serial Data'!Q63+'Serial Data'!R63)","v":{"$error":"#DIV/0!"}},{"$f":"'Serial Data'!Q63/('Serial Data'!P63+'Serial Data'!Q63+'Serial Data'!R63)","v":{"$error":"#DIV/0!"}},{"$f":"IF('Serial Data'!P63+'Serial Data'!Q63+'Serial Data'!R63<>0,(N63+(O63*0.5)),NA())","v":{"$error":"#N/A"}},{"$f":"IF('Serial Data'!P63+'Serial Data'!Q63+'Serial Data'!R63<>0,(O63*0.866*Templates!K2),NA())","v":{"$error":"#N/A"}},null,{"$f":"'Serial Data'!W63/('Serial Data'!U63+'Serial Data'!V63+'Serial Data'!W63)","v":{"$error":"#DIV/0!"}},{"$f":"'Serial Data'!U63/('Serial Data'!U63+'Serial Data'!V63+'Serial Data'!W63)","v":{"$error":"#DIV/0!"}},{"$f":"'Serial Data'!V63/('Serial Data'!U63+'Serial Data'!V63+'Serial Data'!W63)","v":{"$error":"#DIV/0!"}},{"$f":"IF('Serial Data'!V63+'Serial Data'!W63+'Serial Data'!U63<>0,(T63+(U63*0.5)),NA())","v":{"$error":"#N/A"}},{"$f":"IF('Serial Data'!V63+'Serial Data'!W63+'Serial Data'!U63<>0,(U63*0.866*Templates!K2),NA())","v":{"$error":"#N/A"}},null,{"$f":"'Serial Data'!AB63/('Serial Data'!AA63+'Serial Data'!AB63+'Serial Data'!Z63)","v":{"$error":"#DIV/0!"}},{"$f":"'Serial Data'!Z63/('Serial Data'!AA63+'Serial Data'!AB63+'Serial Data'!Z63)","v":{"$error":"#DIV/0!"}},{"$f":"'Serial Data'!AA63/('Serial Data'!AA63+'Serial Data'!AB63+'Serial Data'!Z63)","v":{"$error":"#DIV/0!"}},{"$f":"IF('Serial Data'!AB63+'Serial Data'!AA63+'Serial Data'!Z63<>0,(Z63+(AA63*0.5)),NA())","v":{"$error":"#N/A"}},{"$f":"IF('Serial Data'!AB63+'Serial Data'!AA63+'Serial Data'!Z63<>0,(AA63*0.866*Templates!K2),NA())","v":{"$error":"#N/A"}},null,{"$f":"'Serial Data'!AG63/('Serial Data'!AG63+'Serial Data'!AE63+'Serial Data'!AF63)","v":{"$error":"#DIV/0!"}},{"$f":"'Serial Data'!AE63/('Serial Data'!AG63+'Serial Data'!AE63+'Serial Data'!AF63)","v":{"$error":"#DIV/0!"}},{"$f":"'Serial Data'!AF63/('Serial Data'!AG63+'Serial Data'!AE63+'Serial Data'!AF63)","v":{"$error":"#DIV/0!"}},{"$f":"IF('Serial Data'!AE63+'Serial Data'!AF63+'Serial Data'!AG63<>0,(AF63+(AG63*0.5)),NA())","v":{"$error":"#N/A"}},{"$f":"IF('Serial Data'!AE63+'Serial Data'!AF63+'Serial Data'!AG63<>0,(AG63*0.866*Templates!K2),NA())","v":{"$error":"#N/A"}},null,{"$f":"'Serial Data'!AL63/('Serial Data'!AJ63+'Serial Data'!AK63+'Serial Data'!AL63)","v":{"$error":"#DIV/0!"}},{"$f":"'Serial Data'!AJ63/('Serial Data'!AJ63+'Serial Data'!AK63+'Serial Data'!AL63)","v":{"$error":"#DIV/0!"}},{"$f":"'Serial Data'!AK63/('Serial Data'!AJ63+'Serial Data'!AK63+'Serial Data'!AL63)","v":{"$error":"#DIV/0!"}},{"$f":"IF('Serial Data'!AJ63+'Serial Data'!AK63+'Serial Data'!AL63<>0,(AL63+(AM63*0.5)),NA())","v":{"$error":"#N/A"}},{"$f":"IF('Serial Data'!AJ63+'Serial Data'!AK63+'Serial Data'!AL63<>0,(AM63*0.866*Templates!K2),NA())","v":{"$error":"#N/A"}},null,{"$f":"'Serial Data'!AQ63/('Serial Data'!AO63+'Serial Data'!AP63+'Serial Data'!AQ63)","v":{"$error":"#DIV/0!"}},{"$f":"'Serial Data'!AO63/('Serial Data'!AO63+'Serial Data'!AP63+'Serial Data'!AQ63)","v":{"$error":"#DIV/0!"}},{"$f":"'Serial Data'!AP63/('Serial Data'!AO63+'Serial Data'!AP63+'Serial Data'!AQ63)","v":{"$error":"#DIV/0!"}},{"$f":"IF('Serial Data'!AO63+'Serial Data'!AP63+'Serial Data'!AQ63<>0,(AR63+(AS63*0.5)),NA())","v":{"$error":"#N/A"}},{"$f":"IF('Serial Data'!AO63+'Serial Data'!AP63+'Serial Data'!AQ63<>0,(AS63*0.866*Templates!K2),NA())","v":{"$error":"#N/A"}},null,{"$f":"'Serial Data'!AV63/('Serial Data'!AT63+'Serial Data'!AU63+'Serial Data'!AV63)","v":{"$error":"#DIV/0!"}},{"$f":"'Serial Data'!AT63/('Serial Data'!AT63+'Serial Data'!AU63+'Serial Data'!AV63)","v":{"$error":"#DIV/0!"}},{"$f":"'Serial Data'!AU63/('Serial Data'!AT63+'Serial Data'!AU63+'Serial Data'!AV63)","v":{"$error":"#DIV/0!"}},{"$f":"IF('Serial Data'!AT63+'Serial Data'!AU63+'Serial Data'!AV63<>0,(AX63+(AY63*0.5)),NA())","v":{"$error":"#N/A"}},{"$f":"IF('Serial Data'!AT63+'Serial Data'!AU63+'Serial Data'!AV63<>0,(AY63*0.866*Templates!K2),NA())","v":{"$error":"#N/A"}},null,{"$f":"'Serial Data'!BA63/('Serial Data'!AY63+'Serial Data'!AZ63+'Serial Data'!BA63)","v":{"$error":"#DIV/0!"}},{"$f":"'Serial Data'!AY63/('Serial Data'!AY63+'Serial Data'!AZ63+'Serial Data'!BA63)","v":{"$error":"#DIV/0!"}},{"$f":"'Serial Data'!AZ63/('Serial Data'!AY63+'Serial Data'!AZ63+'Serial Data'!BA63)","v":{"$error":"#DIV/0!"}},{"$f":"IF('Serial Data'!AY63+'Serial Data'!AZ63+'Serial Data'!BA63<>0,(BD63+(BE63*0.5)),NA())","v":{"$error":"#N/A"}},{"$f":"IF('Serial Data'!AY63+'Serial Data'!AZ63+'Serial Data'!BA63<>0,(BE63*0.866*Templates!K2),NA())","v":{"$error":"#N/A"}},null,{"$f":"'Serial Data'!BF63/('Serial Data'!BD63+'Serial Data'!BE63+'Serial Data'!BF63)","v":{"$error":"#DIV/0!"}},{"$f":"'Serial Data'!BD63/('Serial Data'!BD63+'Serial Data'!BE63+'Serial Data'!BF63)","v":{"$error":"#DIV/0!"}},{"$f":"'Serial Data'!BE63/('Serial Data'!BD63+'Serial Data'!BE63+'Serial Data'!BF63)","v":{"$error":"#DIV/0!"}},{"$f":"IF('Serial Data'!BD63+'Serial Data'!BE63+'Serial Data'!BF63<>0,(BJ63+(BK63*0.5)),NA())","v":{"$error":"#N/A"}},{"$f":"IF('Serial Data'!BD63+'Serial Data'!BE63+'Serial Data'!BF63<>0,(BK63*0.866*Templates!K2),NA())","v":{"$error":"#N/A"}}]
[{"$f":"'Single Data'!N65/('Single Data'!L65+'Single Data'!M65+'Single Data'!N65)","v":{"$error":"#DIV/0!"}},{"$f":"'Single Data'!L65/('Single Data'!L65+'Single Data'!M65+'Single Data'!N65)","v":{"$error":"#DIV/0!"}},{"$f":"'Single Data'!M65/('Single Data'!L65+'Single Data'!M65+'Single Data'!N65)","v":{"$error":"#DIV/0!"}},{"$f":"IF('Single Data'!L65+'Single Data'!M65+'Single Data'!N65<>0,(B64+(C64*0.5)),NA())","v":{"$error":"#N/A"}},{"$f":"IF('Single Data'!L65+'Single Data'!M65+'Single Data'!N65<>0,(C64*0.866*Templates!K2),NA())","v":{"$error":"#N/A"}},null,{"$f":"'Serial Data'!M64/('Serial Data'!K64+'Serial Data'!L64+'Serial Data'!M64)","v":{"$error":"#DIV/0!"}},{"$f":"'Serial Data'!K64/('Serial Data'!K64+'Serial Data'!L64+'Serial Data'!M64)","v":{"$error":"#DIV/0!"}},{"$f":"'Serial Data'!L64/('Serial Data'!K64+'Serial Data'!L64+'Serial Data'!M64)","v":{"$error":"#DIV/0!"}},{"$f":"IF('Serial Data'!K64+'Serial Data'!L64+'Serial Data'!M64<>0,(H64+(I64*0.5)),NA())","v":{"$error":"#N/A"}},{"$f":"IF('Serial Data'!K64+'Serial Data'!L64+'Serial Data'!M64<>0,(I64*0.866*Templates!K2),NA())","v":{"$error":"#N/A"}},null,{"$f":"'Serial Data'!R64/('Serial Data'!P64+'Serial Data'!Q64+'Serial Data'!R64)","v":{"$error":"#DIV/0!"}},{"$f":"'Serial Data'!P64/('Serial Data'!P64+'Serial Data'!Q64+'Serial Data'!R64)","v":{"$error":"#DIV/0!"}},{"$f":"'Serial Data'!Q64/('Serial Data'!P64+'Serial Data'!Q64+'Serial Data'!R64)","v":{"$error":"#DIV/0!"}},{"$f":"IF('Serial Data'!P64+'Serial Data'!Q64+'Serial Data'!R64<>0,(N64+(O64*0.5)),NA())","v":{"$error":"#N/A"}},{"$f":"IF('Serial Data'!P64+'Serial Data'!Q64+'Serial Data'!R64<>0,(O64*0.866*Templates!K2),NA())","v":{"$error":"#N/A"}},null,{"$f":"'Serial Data'!W64/('Serial Data'!U64+'Serial Data'!V64+'Serial Data'!W64)","v":{"$error":"#DIV/0!"}},{"$f":"'Serial Data'!U64/('Serial Data'!U64+'Serial Data'!V64+'Serial Data'!W64)","v":{"$error":"#DIV/0!"}},{"$f":"'Serial Data'!V64/('Serial Data'!U64+'Serial Data'!V64+'Serial Data'!W64)","v":{"$error":"#DIV/0!"}},{"$f":"IF('Serial Data'!V64+'Serial Data'!W64+'Serial Data'!U64<>0,(T64+(U64*0.5)),NA())","v":{"$error":"#N/A"}},{"$f":"IF('Serial Data'!V64+'Serial Data'!W64+'Serial Data'!U64<>0,(U64*0.866*Templates!K2),NA())","v":{"$error":"#N/A"}},null,{"$f":"'Serial Data'!AB64/('Serial Data'!AA64+'Serial Data'!AB64+'Serial Data'!Z64)","v":{"$error":"#DIV/0!"}},{"$f":"'Serial Data'!Z64/('Serial Data'!AA64+'Serial Data'!AB64+'Serial Data'!Z64)","v":{"$error":"#DIV/0!"}},{"$f":"'Serial Data'!AA64/('Serial Data'!AA64+'Serial Data'!AB64+'Serial Data'!Z64)","v":{"$error":"#DIV/0!"}},{"$f":"IF('Serial Data'!AB64+'Serial Data'!AA64+'Serial Data'!Z64<>0,(Z64+(AA64*0.5)),NA())","v":{"$error":"#N/A"}},{"$f":"IF('Serial Data'!AB64+'Serial Data'!AA64+'Serial Data'!Z64<>0,(AA64*0.866*Templates!K2),NA())","v":{"$error":"#N/A"}},null,{"$f":"'Serial Data'!AG64/('Serial Data'!AG64+'Serial Data'!AE64+'Serial Data'!AF64)","v":{"$error":"#DIV/0!"}},{"$f":"'Serial Data'!AE64/('Serial Data'!AG64+'Serial Data'!AE64+'Serial Data'!AF64)","v":{"$error":"#DIV/0!"}},{"$f":"'Serial Data'!AF64/('Serial Data'!AG64+'Serial Data'!AE64+'Serial Data'!AF64)","v":{"$error":"#DIV/0!"}},{"$f":"IF('Serial Data'!AE64+'Serial Data'!AF64+'Serial Data'!AG64<>0,(AF64+(AG64*0.5)),NA())","v":{"$error":"#N/A"}},{"$f":"IF('Serial Data'!AE64+'Serial Data'!AF64+'Serial Data'!AG64<>0,(AG64*0.866*Templates!K2),NA())","v":{"$error":"#N/A"}},null,{"$f":"'Serial Data'!AL64/('Serial Data'!AJ64+'Serial Data'!AK64+'Serial Data'!AL64)","v":{"$error":"#DIV/0!"}},{"$f":"'Serial Data'!AJ64/('Serial Data'!AJ64+'Serial Data'!AK64+'Serial Data'!AL64)","v":{"$error":"#DIV/0!"}},{"$f":"'Serial Data'!AK64/('Serial Data'!AJ64+'Serial Data'!AK64+'Serial Data'!AL64)","v":{"$error":"#DIV/0!"}},{"$f":"IF('Serial Data'!AJ64+'Serial Data'!AK64+'Serial Data'!AL64<>0,(AL64+(AM64*0.5)),NA())","v":{"$error":"#N/A"}},{"$f":"IF('Serial Data'!AJ64+'Serial Data'!AK64+'Serial Data'!AL64<>0,(AM64*0.866*Templates!K2),NA())","v":{"$error":"#N/A"}},null,{"$f":"'Serial Data'!AQ64/('Serial Data'!AO64+'Serial Data'!AP64+'Serial Data'!AQ64)","v":{"$error":"#DIV/0!"}},{"$f":"'Serial Data'!AO64/('Serial Data'!AO64+'Serial Data'!AP64+'Serial Data'!AQ64)","v":{"$error":"#DIV/0!"}},{"$f":"'Serial Data'!AP64/('Serial Data'!AO64+'Serial Data'!AP64+'Serial Data'!AQ64)","v":{"$error":"#DIV/0!"}},{"$f":"IF('Serial Data'!AO64+'Serial Data'!AP64+'Serial Data'!AQ64<>0,(AR64+(AS64*0.5)),NA())","v":{"$error":"#N/A"}},{"$f":"IF('Serial Data'!AO64+'Serial Data'!AP64+'Serial Data'!AQ64<>0,(AS64*0.866*Templates!K2),NA())","v":{"$error":"#N/A"}},null,{"$f":"'Serial Data'!AV64/('Serial Data'!AT64+'Serial Data'!AU64+'Serial Data'!AV64)","v":{"$error":"#DIV/0!"}},{"$f":"'Serial Data'!AT64/('Serial Data'!AT64+'Serial Data'!AU64+'Serial Data'!AV64)","v":{"$error":"#DIV/0!"}},{"$f":"'Serial Data'!AU64/('Serial Data'!AT64+'Serial Data'!AU64+'Serial Data'!AV64)","v":{"$error":"#DIV/0!"}},{"$f":"IF('Serial Data'!AT64+'Serial Data'!AU64+'Serial Data'!AV64<>0,(AX64+(AY64*0.5)),NA())","v":{"$error":"#N/A"}},{"$f":"IF('Serial Data'!AT64+'Serial Data'!AU64+'Serial Data'!AV64<>0,(AY64*0.866*Templates!K2),NA())","v":{"$error":"#N/A"}},null,{"$f":"'Serial Data'!BA64/('Serial Data'!AY64+'Serial Data'!AZ64+'Serial Data'!BA64)","v":{"$error":"#DIV/0!"}},{"$f":"'Serial Data'!AY64/('Serial Data'!AY64+'Serial Data'!AZ64+'Serial Data'!BA64)","v":{"$error":"#DIV/0!"}},{"$f":"'Serial Data'!AZ64/('Serial Data'!AY64+'Serial Data'!AZ64+'Serial Data'!BA64)","v":{"$error":"#DIV/0!"}},{"$f":"IF('Serial Data'!AY64+'Serial Data'!AZ64+'Serial Data'!BA64<>0,(BD64+(BE64*0.5)),NA())","v":{"$error":"#N/A"}},{"$f":"IF('Serial Data'!AY64+'Serial Data'!AZ64+'Serial Data'!BA64<>0,(BE64*0.866*Templates!K2),NA())","v":{"$error":"#N/A"}},null,{"$f":"'Serial Data'!BF64/('Serial Data'!BD64+'Serial Data'!BE64+'Serial Data'!BF64)","v":{"$error":"#DIV/0!"}},{"$f":"'Serial Data'!BD64/('Serial Data'!BD64+'Serial Data'!BE64+'Serial Data'!BF64)","v":{"$error":"#DIV/0!"}},{"$f":"'Serial Data'!BE64/('Serial Data'!BD64+'Serial Data'!BE64+'Serial Data'!BF64)","v":{"$error":"#DIV/0!"}},{"$f":"IF('Serial Data'!BD64+'Serial Data'!BE64+'Serial Data'!BF64<>0,(BJ64+(BK64*0.5)),NA())","v":{"$error":"#N/A"}},{"$f":"IF('Serial Data'!BD64+'Serial Data'!BE64+'Serial Data'!BF64<>0,(BK64*0.866*Templates!K2),NA())","v":{"$error":"#N/A"}}]
[{"$f":"'Single Data'!N66/('Single Data'!L66+'Single Data'!M66+'Single Data'!N66)","v":{"$error":"#DIV/0!"}},{"$f":"'Single Data'!L66/('Single Data'!L66+'Single Data'!M66+'Single Data'!N66)","v":{"$error":"#DIV/0!"}},{"$f":"'Single Data'!M66/('Single Data'!L66+'Single Data'!M66+'Single Data'!N66)","v":{"$error":"#DIV/0!"}},{"$f":"IF('Single Data'!L66+'Single Data'!M66+'Single Data'!N66<>0,(B65+(C65*0.5)),NA())","v":{"$error":"#N/A"}},{"$f":"IF('Single Data'!L66+'Single Data'!M66+'Single Data'!N66<>0,(C65*0.866*Templates!K2),NA())","v":{"$error":"#N/A"}},null,{"$f":"'Serial Data'!M65/('Serial Data'!K65+'Serial Data'!L65+'Serial Data'!M65)","v":{"$error":"#DIV/0!"}},{"$f":"'Serial Data'!K65/('Serial Data'!K65+'Serial Data'!L65+'Serial Data'!M65)","v":{"$error":"#DIV/0!"}},{"$f":"'Serial Data'!L65/('Serial Data'!K65+'Serial Data'!L65+'Serial Data'!M65)","v":{"$error":"#DIV/0!"}},{"$f":"IF('Serial Data'!K65+'Serial Data'!L65+'Serial Data'!M65<>0,(H65+(I65*0.5)),NA())","v":{"$error":"#N/A"}},{"$f":"IF('Serial Data'!K65+'Serial Data'!L65+'Serial Data'!M65<>0,(I65*0.866*Templates!K2),NA())","v":{"$error":"#N/A"}},null,{"$f":"'Serial Data'!R65/('Serial Data'!P65+'Serial Data'!Q65+'Serial Data'!R65)","v":{"$error":"#DIV/0!"}},{"$f":"'Serial Data'!P65/('Serial Data'!P65+'Serial Data'!Q65+'Serial Data'!R65)","v":{"$error":"#DIV/0!"}},{"$f":"'Serial Data'!Q65/('Serial Data'!P65+'Serial Data'!Q65+'Serial Data'!R65)","v":{"$error":"#DIV/0!"}},{"$f":"IF('Serial Data'!P65+'Serial Data'!Q65+'Serial Data'!R65<>0,(N65+(O65*0.5)),NA())","v":{"$error":"#N/A"}},{"$f":"IF('Serial Data'!P65+'Serial Data'!Q65+'Serial Data'!R65<>0,(O65*0.866*Templates!K2),NA())","v":{"$error":"#N/A"}},null,{"$f":"'Serial Data'!W65/('Serial Data'!U65+'Serial Data'!V65+'Serial Data'!W65)","v":{"$error":"#DIV/0!"}},{"$f":"'Serial Data'!U65/('Serial Data'!U65+'Serial Data'!V65+'Serial Data'!W65)","v":{"$error":"#DIV/0!"}},{"$f":"'Serial Data'!V65/('Serial Data'!U65+'Serial Data'!V65+'Serial Data'!W65)","v":{"$error":"#DIV/0!"}},{"$f":"IF('Serial Data'!V65+'Serial Data'!W65+'Serial Data'!U65<>0,(T65+(U65*0.5)),NA())","v":{"$error":"#N/A"}},{"$f":"IF('Serial Data'!V65+'Serial Data'!W65+'Serial Data'!U65<>0,(U65*0.866*Templates!K2),NA())","v":{"$error":"#N/A"}},null,{"$f":"'Serial Data'!AB65/('Serial Data'!AA65+'Serial Data'!AB65+'Serial Data'!Z65)","v":{"$error":"#DIV/0!"}},{"$f":"'Serial Data'!Z65/('Serial Data'!AA65+'Serial Data'!AB65+'Serial Data'!Z65)","v":{"$error":"#DIV/0!"}},{"$f":"'Serial Data'!AA65/('Serial Data'!AA65+'Serial Data'!AB65+'Serial Data'!Z65)","v":{"$error":"#DIV/0!"}},{"$f":"IF('Serial Data'!AB65+'Serial Data'!AA65+'Serial Data'!Z65<>0,(Z65+(AA65*0.5)),NA())","v":{"$error":"#N/A"}},{"$f":"IF('Serial Data'!AB65+'Serial Data'!AA65+'Serial Data'!Z65<>0,(AA65*0.866*Templates!K2),NA())","v":{"$error":"#N/A"}},null,{"$f":"'Serial Data'!AG65/('Serial Data'!AG65+'Serial Data'!AE65+'Serial Data'!AF65)","v":{"$error":"#DIV/0!"}},{"$f":"'Serial Data'!AE65/('Serial Data'!AG65+'Serial Data'!AE65+'Serial Data'!AF65)","v":{"$error":"#DIV/0!"}},{"$f":"'Serial Data'!AF65/('Serial Data'!AG65+'Serial Data'!AE65+'Serial Data'!AF65)","v":{"$error":"#DIV/0!"}},{"$f":"IF('Serial Data'!AE65+'Serial Data'!AF65+'Serial Data'!AG65<>0,(AF65+(AG65*0.5)),NA())","v":{"$error":"#N/A"}},{"$f":"IF('Serial Data'!AE65+'Serial Data'!AF65+'Serial Data'!AG65<>0,(AG65*0.866*Templates!K2),NA())","v":{"$error":"#N/A"}},null,{"$f":"'Serial Data'!AL65/('Serial Data'!AJ65+'Serial Data'!AK65+'Serial Data'!AL65)","v":{"$error":"#DIV/0!"}},{"$f":"'Serial Data'!AJ65/('Serial Data'!AJ65+'Serial Data'!AK65+'Serial Data'!AL65)","v":{"$error":"#DIV/0!"}},{"$f":"'Serial Data'!AK65/('Serial Data'!AJ65+'Serial Data'!AK65+'Serial Data'!AL65)","v":{"$error":"#DIV/0!"}},{"$f":"IF('Serial Data'!AJ65+'Serial Data'!AK65+'Serial Data'!AL65<>0,(AL65+(AM65*0.5)),NA())","v":{"$error":"#N/A"}},{"$f":"IF('Serial Data'!AJ65+'Serial Data'!AK65+'Serial Data'!AL65<>0,(AM65*0.866*Templates!K2),NA())","v":{"$error":"#N/A"}},null,{"$f":"'Serial Data'!AQ65/('Serial Data'!AO65+'Serial Data'!AP65+'Serial Data'!AQ65)","v":{"$error":"#DIV/0!"}},{"$f":"'Serial Data'!AO65/('Serial Data'!AO65+'Serial Data'!AP65+'Serial Data'!AQ65)","v":{"$error":"#DIV/0!"}},{"$f":"'Serial Data'!AP65/('Serial Data'!AO65+'Serial Data'!AP65+'Serial Data'!AQ65)","v":{"$error":"#DIV/0!"}},{"$f":"IF('Serial Data'!AO65+'Serial Data'!AP65+'Serial Data'!AQ65<>0,(AR65+(AS65*0.5)),NA())","v":{"$error":"#N/A"}},{"$f":"IF('Serial Data'!AO65+'Serial Data'!AP65+'Serial Data'!AQ65<>0,(AS65*0.866*Templates!K2),NA())","v":{"$error":"#N/A"}},null,{"$f":"'Serial Data'!AV65/('Serial Data'!AT65+'Serial Data'!AU65+'Serial Data'!AV65)","v":{"$error":"#DIV/0!"}},{"$f":"'Serial Data'!AT65/('Serial Data'!AT65+'Serial Data'!AU65+'Serial Data'!AV65)","v":{"$error":"#DIV/0!"}},{"$f":"'Serial Data'!AU65/('Serial Data'!AT65+'Serial Data'!AU65+'Serial Data'!AV65)","v":{"$error":"#DIV/0!"}},{"$f":"IF('Serial Data'!AT65+'Serial Data'!AU65+'Serial Data'!AV65<>0,(AX65+(AY65*0.5)),NA())","v":{"$error":"#N/A"}},{"$f":"IF('Serial Data'!AT65+'Serial Data'!AU65+'Serial Data'!AV65<>0,(AY65*0.866*Templates!K2),NA())","v":{"$error":"#N/A"}},null,{"$f":"'Serial Data'!BA65/('Serial Data'!AY65+'Serial Data'!AZ65+'Serial Data'!BA65)","v":{"$error":"#DIV/0!"}},{"$f":"'Serial Data'!AY65/('Serial Data'!AY65+'Serial Data'!AZ65+'Serial Data'!BA65)","v":{"$error":"#DIV/0!"}},{"$f":"'Serial Data'!AZ65/('Serial Data'!AY65+'Serial Data'!AZ65+'Serial Data'!BA65)","v":{"$error":"#DIV/0!"}},{"$f":"IF('Serial Data'!AY65+'Serial Data'!AZ65+'Serial Data'!BA65<>0,(BD65+(BE65*0.5)),NA())","v":{"$error":"#N/A"}},{"$f":"IF('Serial Data'!AY65+'Serial Data'!AZ65+'Serial Data'!BA65<>0,(BE65*0.866*Templates!K2),NA())","v":{"$error":"#N/A"}},null,{"$f":"'Serial Data'!BF65/('Serial Data'!BD65+'Serial Data'!BE65+'Serial Data'!BF65)","v":{"$error":"#DIV/0!"}},{"$f":"'Serial Data'!BD65/('Serial Data'!BD65+'Serial Data'!BE65+'Serial Data'!BF65)","v":{"$error":"#DIV/0!"}},{"$f":"'Serial Data'!BE65/('Serial Data'!BD65+'Serial Data'!BE65+'Serial Data'!BF65)","v":{"$error":"#DIV/0!"}},{"$f":"IF('Serial Data'!BD65+'Serial Data'!BE65+'Serial Data'!BF65<>0,(BJ65+(BK65*0.5)),NA())","v":{"$error":"#N/A"}},{"$f":"IF('Serial Data'!BD65+'Serial Data'!BE65+'Serial Data'!BF65<>0,(BK65*0.866*Templates!K2),NA())","v":{"$error":"#N/A"}}]
[{"$f":"'Single Data'!N67/('Single Data'!L67+'Single Data'!M67+'Single Data'!N67)","v":{"$error":"#DIV/0!"}},{"$f":"'Single Data'!L67/('Single Data'!L67+'Single Data'!M67+'Single Data'!N67)","v":{"$error":"#DIV/0!"}},{"$f":"'Single Data'!M67/('Single Data'!L67+'Single Data'!M67+'Single Data'!N67)","v":{"$error":"#DIV/0!"}},{"$f":"IF('Single Data'!L67+'Single Data'!M67+'Single Data'!N67<>0,(B66+(C66*0.5)),NA())","v":{"$error":"#N/A"}},{"$f":"IF('Single Data'!L67+'Single Data'!M67+'Single Data'!N67<>0,(C66*0.866*Templates!K2),NA())","v":{"$error":"#N/A"}},null,{"$f":"'Serial Data'!M66/('Serial Data'!K66+'Serial Data'!L66+'Serial Data'!M66)","v":{"$error":"#DIV/0!"}},{"$f":"'Serial Data'!K66/('Serial Data'!K66+'Serial Data'!L66+'Serial Data'!M66)","v":{"$error":"#DIV/0!"}},{"$f":"'Serial Data'!L66/('Serial Data'!K66+'Serial Data'!L66+'Serial Data'!M66)","v":{"$error":"#DIV/0!"}},{"$f":"IF('Serial Data'!K66+'Serial Data'!L66+'Serial Data'!M66<>0,(H66+(I66*0.5)),NA())","v":{"$error":"#N/A"}},{"$f":"IF('Serial Data'!K66+'Serial Data'!L66+'Serial Data'!M66<>0,(I66*0.866*Templates!K2),NA())","v":{"$error":"#N/A"}},null,{"$f":"'Serial Data'!R66/('Serial Data'!P66+'Serial Data'!Q66+'Serial Data'!R66)","v":{"$error":"#DIV/0!"}},{"$f":"'Serial Data'!P66/('Serial Data'!P66+'Serial Data'!Q66+'Serial Data'!R66)","v":{"$error":"#DIV/0!"}},{"$f":"'Serial Data'!Q66/('Serial Data'!P66+'Serial Data'!Q66+'Serial Data'!R66)","v":{"$error":"#DIV/0!"}},{"$f":"IF('Serial Data'!P66+'Serial Data'!Q66+'Serial Data'!R66<>0,(N66+(O66*0.5)),NA())","v":{"$error":"#N/A"}},{"$f":"IF('Serial Data'!P66+'Serial Data'!Q66+'Serial Data'!R66<>0,(O66*0.866*Templates!K2),NA())","v":{"$error":"#N/A"}},null,{"$f":"'Serial Data'!W66/('Serial Data'!U66+'Serial Data'!V66+'Serial Data'!W66)","v":{"$error":"#DIV/0!"}},{"$f":"'Serial Data'!U66/('Serial Data'!U66+'Serial Data'!V66+'Serial Data'!W66)","v":{"$error":"#DIV/0!"}},{"$f":"'Serial Data'!V66/('Serial Data'!U66+'Serial Data'!V66+'Serial Data'!W66)","v":{"$error":"#DIV/0!"}},{"$f":"IF('Serial Data'!V66+'Serial Data'!W66+'Serial Data'!U66<>0,(T66+(U66*0.5)),NA())","v":{"$error":"#N/A"}},{"$f":"IF('Serial Data'!V66+'Serial Data'!W66+'Serial Data'!U66<>0,(U66*0.866*Templates!K2),NA())","v":{"$error":"#N/A"}},null,{"$f":"'Serial Data'!AB66/('Serial Data'!AA66+'Serial Data'!AB66+'Serial Data'!Z66)","v":{"$error":"#DIV/0!"}},{"$f":"'Serial Data'!Z66/('Serial Data'!AA66+'Serial Data'!AB66+'Serial Data'!Z66)","v":{"$error":"#DIV/0!"}},{"$f":"'Serial Data'!AA66/('Serial Data'!AA66+'Serial Data'!AB66+'Serial Data'!Z66)","v":{"$error":"#DIV/0!"}},{"$f":"IF('Serial Data'!AB66+'Serial Data'!AA66+'Serial Data'!Z66<>0,(Z66+(AA66*0.5)),NA())","v":{"$error":"#N/A"}},{"$f":"IF('Serial Data'!AB66+'Serial Data'!AA66+'Serial Data'!Z66<>0,(AA66*0.866*Templates!K2),NA())","v":{"$error":"#N/A"}},null,{"$f":"'Serial Data'!AG66/('Serial Data'!AG66+'Serial Data'!AE66+'Serial Data'!AF66)","v":{"$error":"#DIV/0!"}},{"$f":"'Serial Data'!AE66/('Serial Data'!AG66+'Serial Data'!AE66+'Serial Data'!AF66)","v":{"$error":"#DIV/0!"}},{"$f":"'Serial Data'!AF66/('Serial Data'!AG66+'Serial Data'!AE66+'Serial Data'!AF66)","v":{"$error":"#DIV/0!"}},{"$f":"IF('Serial Data'!AE66+'Serial Data'!AF66+'Serial Data'!AG66<>0,(AF66+(AG66*0.5)),NA())","v":{"$error":"#N/A"}},{"$f":"IF('Serial Data'!AE66+'Serial Data'!AF66+'Serial Data'!AG66<>0,(AG66*0.866*Templates!K2),NA())","v":{"$error":"#N/A"}},null,{"$f":"'Serial Data'!AL66/('Serial Data'!AJ66+'Serial Data'!AK66+'Serial Data'!AL66)","v":{"$error":"#DIV/0!"}},{"$f":"'Serial Data'!AJ66/('Serial Data'!AJ66+'Serial Data'!AK66+'Serial Data'!AL66)","v":{"$error":"#DIV/0!"}},{"$f":"'Serial Data'!AK66/('Serial Data'!AJ66+'Serial Data'!AK66+'Serial Data'!AL66)","v":{"$error":"#DIV/0!"}},{"$f":"IF('Serial Data'!AJ66+'Serial Data'!AK66+'Serial Data'!AL66<>0,(AL66+(AM66*0.5)),NA())","v":{"$error":"#N/A"}},{"$f":"IF('Serial Data'!AJ66+'Serial Data'!AK66+'Serial Data'!AL66<>0,(AM66*0.866*Templates!K2),NA())","v":{"$error":"#N/A"}},null,{"$f":"'Serial Data'!AQ66/('Serial Data'!AO66+'Serial Data'!AP66+'Serial Data'!AQ66)","v":{"$error":"#DIV/0!"}},{"$f":"'Serial Data'!AO66/('Serial Data'!AO66+'Serial Data'!AP66+'Serial Data'!AQ66)","v":{"$error":"#DIV/0!"}},{"$f":"'Serial Data'!AP66/('Serial Data'!AO66+'Serial Data'!AP66+'Serial Data'!AQ66)","v":{"$error":"#DIV/0!"}},{"$f":"IF('Serial Data'!AO66+'Serial Data'!AP66+'Serial Data'!AQ66<>0,(AR66+(AS66*0.5)),NA())","v":{"$error":"#N/A"}},{"$f":"IF('Serial Data'!AO66+'Serial Data'!AP66+'Serial Data'!AQ66<>0,(AS66*0.866*Templates!K2),NA())","v":{"$error":"#N/A"}},null,{"$f":"'Serial Data'!AV66/('Serial Data'!AT66+'Serial Data'!AU66+'Serial Data'!AV66)","v":{"$error":"#DIV/0!"}},{"$f":"'Serial Data'!AT66/('Serial Data'!AT66+'Serial Data'!AU66+'Serial Data'!AV66)","v":{"$error":"#DIV/0!"}},{"$f":"'Serial Data'!AU66/('Serial Data'!AT66+'Serial Data'!AU66+'Serial Data'!AV66)","v":{"$error":"#DIV/0!"}},{"$f":"IF('Serial Data'!AT66+'Serial Data'!AU66+'Serial Data'!AV66<>0,(AX66+(AY66*0.5)),NA())","v":{"$error":"#N/A"}},{"$f":"IF('Serial Data'!AT66+'Serial Data'!AU66+'Serial Data'!AV66<>0,(AY66*0.866*Templates!K2),NA())","v":{"$error":"#N/A"}},null,{"$f":"'Serial Data'!BA66/('Serial Data'!AY66+'Serial Data'!AZ66+'Serial Data'!BA66)","v":{"$error":"#DIV/0!"}},{"$f":"'Serial Data'!AY66/('Serial Data'!AY66+'Serial Data'!AZ66+'Serial Data'!BA66)","v":{"$error":"#DIV/0!"}},{"$f":"'Serial Data'!AZ66/('Serial Data'!AY66+'Serial Data'!AZ66+'Serial Data'!BA66)","v":{"$error":"#DIV/0!"}},{"$f":"IF('Serial Data'!AY66+'Serial Data'!AZ66+'Serial Data'!BA66<>0,(BD66+(BE66*0.5)),NA())","v":{"$error":"#N/A"}},{"$f":"IF('Serial Data'!AY66+'Serial Data'!AZ66+'Serial Data'!BA66<>0,(BE66*0.866*Templates!K2),NA())","v":{"$error":"#N/A"}},null,{"$f":"'Serial Data'!BF66/('Serial Data'!BD66+'Serial Data'!BE66+'Serial Data'!BF66)","v":{"$error":"#DIV/0!"}},{"$f":"'Serial Data'!BD66/('Serial Data'!BD66+'Serial Data'!BE66+'Serial Data'!BF66)","v":{"$error":"#DIV/0!"}},{"$f":"'Serial Data'!BE66/('Serial Data'!BD66+'Serial Data'!BE66+'Serial Data'!BF66)","v":{"$error":"#DIV/0!"}},{"$f":"IF('Serial Data'!BD66+'Serial Data'!BE66+'Serial Data'!BF66<>0,(BJ66+(BK66*0.5)),NA())","v":{"$error":"#N/A"}},{"$f":"IF('Serial Data'!BD66+'Serial Data'!BE66+'Serial Data'!BF66<>0,(BK66*0.866*Templates!K2),NA())","v":{"$error":"#N/A"}}]
[{"$f":"'Single Data'!N68/('Single Data'!L68+'Single Data'!M68+'Single Data'!N68)","v":{"$error":"#DIV/0!"}},{"$f":"'Single Data'!L68/('Single Data'!L68+'Single Data'!M68+'Single Data'!N68)","v":{"$error":"#DIV/0!"}},{"$f":"'Single Data'!M68/('Single Data'!L68+'Single Data'!M68+'Single Data'!N68)","v":{"$error":"#DIV/0!"}},{"$f":"IF('Single Data'!L68+'Single Data'!M68+'Single Data'!N68<>0,(B67+(C67*0.5)),NA())","v":{"$error":"#N/A"}},{"$f":"IF('Single Data'!L68+'Single Data'!M68+'Single Data'!N68<>0,(C67*0.866*Templates!K2),NA())","v":{"$error":"#N/A"}},null,{"$f":"'Serial Data'!M67/('Serial Data'!K67+'Serial Data'!L67+'Serial Data'!M67)","v":{"$error":"#DIV/0!"}},{"$f":"'Serial Data'!K67/('Serial Data'!K67+'Serial Data'!L67+'Serial Data'!M67)","v":{"$error":"#DIV/0!"}},{"$f":"'Serial Data'!L67/('Serial Data'!K67+'Serial Data'!L67+'Serial Data'!M67)","v":{"$error":"#DIV/0!"}},{"$f":"IF('Serial Data'!K67+'Serial Data'!L67+'Serial Data'!M67<>0,(H67+(I67*0.5)),NA())","v":{"$error":"#N/A"}},{"$f":"IF('Serial Data'!K67+'Serial Data'!L67+'Serial Data'!M67<>0,(I67*0.866*Templates!K2),NA())","v":{"$error":"#N/A"}},null,{"$f":"'Serial Data'!R67/('Serial Data'!P67+'Serial Data'!Q67+'Serial Data'!R67)","v":{"$error":"#DIV/0!"}},{"$f":"'Serial Data'!P67/('Serial Data'!P67+'Serial Data'!Q67+'Serial Data'!R67)","v":{"$error":"#DIV/0!"}},{"$f":"'Serial Data'!Q67/('Serial Data'!P67+'Serial Data'!Q67+'Serial Data'!R67)","v":{"$error":"#DIV/0!"}},{"$f":"IF('Serial Data'!P67+'Serial Data'!Q67+'Serial Data'!R67<>0,(N67+(O67*0.5)),NA())","v":{"$error":"#N/A"}},{"$f":"IF('Serial Data'!P67+'Serial Data'!Q67+'Serial Data'!R67<>0,(O67*0.866*Templates!K2),NA())","v":{"$error":"#N/A"}},null,{"$f":"'Serial Data'!W67/('Serial Data'!U67+'Serial Data'!V67+'Serial Data'!W67)","v":{"$error":"#DIV/0!"}},{"$f":"'Serial Data'!U67/('Serial Data'!U67+'Serial Data'!V67+'Serial Data'!W67)","v":{"$error":"#DIV/0!"}},{"$f":"'Serial Data'!V67/('Serial Data'!U67+'Serial Data'!V67+'Serial Data'!W67)","v":{"$error":"#DIV/0!"}},{"$f":"IF('Serial Data'!V67+'Serial Data'!W67+'Serial Data'!U67<>0,(T67+(U67*0.5)),NA())","v":{"$error":"#N/A"}},{"$f":"IF('Serial Data'!V67+'Serial Data'!W67+'Serial Data'!U67<>0,(U67*0.866*Templates!K2),NA())","v":{"$error":"#N/A"}},null,{"$f":"'Serial Data'!AB67/('Serial Data'!AA67+'Serial Data'!AB67+'Serial Data'!Z67)","v":{"$error":"#DIV/0!"}},{"$f":"'Serial Data'!Z67/('Serial Data'!AA67+'Serial Data'!AB67+'Serial Data'!Z67)","v":{"$error":"#DIV/0!"}},{"$f":"'Serial Data'!AA67/('Serial Data'!AA67+'Serial Data'!AB67+'Serial Data'!Z67)","v":{"$error":"#DIV/0!"}},{"$f":"IF('Serial Data'!AB67+'Serial Data'!AA67+'Serial Data'!Z67<>0,(Z67+(AA67*0.5)),NA())","v":{"$error":"#N/A"}},{"$f":"IF('Serial Data'!AB67+'Serial Data'!AA67+'Serial Data'!Z67<>0,(AA67*0.866*Templates!K2),NA())","v":{"$error":"#N/A"}},null,{"$f":"'Serial Data'!AG67/('Serial Data'!AG67+'Serial Data'!AE67+'Serial Data'!AF67)","v":{"$error":"#DIV/0!"}},{"$f":"'Serial Data'!AE67/('Serial Data'!AG67+'Serial Data'!AE67+'Serial Data'!AF67)","v":{"$error":"#DIV/0!"}},{"$f":"'Serial Data'!AF67/('Serial Data'!AG67+'Serial Data'!AE67+'Serial Data'!AF67)","v":{"$error":"#DIV/0!"}},{"$f":"IF('Serial Data'!AE67+'Serial Data'!AF67+'Serial Data'!AG67<>0,(AF67+(AG67*0.5)),NA())","v":{"$error":"#N/A"}},{"$f":"IF('Serial Data'!AE67+'Serial Data'!AF67+'Serial Data'!AG67<>0,(AG67*0.866*Templates!K2),NA())","v":{"$error":"#N/A"}},null,{"$f":"'Serial Data'!AL67/('Serial Data'!AJ67+'Serial Data'!AK67+'Serial Data'!AL67)","v":{"$error":"#DIV/0!"}},{"$f":"'Serial Data'!AJ67/('Serial Data'!AJ67+'Serial Data'!AK67+'Serial Data'!AL67)","v":{"$error":"#DIV/0!"}},{"$f":"'Serial Data'!AK67/('Serial Data'!AJ67+'Serial Data'!AK67+'Serial Data'!AL67)","v":{"$error":"#DIV/0!"}},{"$f":"IF('Serial Data'!AJ67+'Serial Data'!AK67+'Serial Data'!AL67<>0,(AL67+(AM67*0.5)),NA())","v":{"$error":"#N/A"}},{"$f":"IF('Serial Data'!AJ67+'Serial Data'!AK67+'Serial Data'!AL67<>0,(AM67*0.866*Templates!K2),NA())","v":{"$error":"#N/A"}},null,{"$f":"'Serial Data'!AQ67/('Serial Data'!AO67+'Serial Data'!AP67+'Serial Data'!AQ67)","v":{"$error":"#DIV/0!"}},{"$f":"'Serial Data'!AO67/('Serial Data'!AO67+'Serial Data'!AP67+'Serial Data'!AQ67)","v":{"$error":"#DIV/0!"}},{"$f":"'Serial Data'!AP67/('Serial Data'!AO67+'Serial Data'!AP67+'Serial Data'!AQ67)","v":{"$error":"#DIV/0!"}},{"$f":"IF('Serial Data'!AO67+'Serial Data'!AP67+'Serial Data'!AQ67<>0,(AR67+(AS67*0.5)),NA())","v":{"$error":"#N/A"}},{"$f":"IF('Serial Data'!AO67+'Serial Data'!AP67+'Serial Data'!AQ67<>0,(AS67*0.866*Templates!K2),NA())","v":{"$error":"#N/A"}},null,{"$f":"'Serial Data'!AV67/('Serial Data'!AT67+'Serial Data'!AU67+'Serial Data'!AV67)","v":{"$error":"#DIV/0!"}},{"$f":"'Serial Data'!AT67/('Serial Data'!AT67+'Serial Data'!AU67+'Serial Data'!AV67)","v":{"$error":"#DIV/0!"}},{"$f":"'Serial Data'!AU67/('Serial Data'!AT67+'Serial Data'!AU67+'Serial Data'!AV67)","v":{"$error":"#DIV/0!"}},{"$f":"IF('Serial Data'!AT67+'Serial Data'!AU67+'Serial Data'!AV67<>0,(AX67+(AY67*0.5)),NA())","v":{"$error":"#N/A"}},{"$f":"IF('Serial Data'!AT67+'Serial Data'!AU67+'Serial Data'!AV67<>0,(AY67*0.866*Templates!K2),NA())","v":{"$error":"#N/A"}},null,{"$f":"'Serial Data'!BA67/('Serial Data'!AY67+'Serial Data'!AZ67+'Serial Data'!BA67)","v":{"$error":"#DIV/0!"}},{"$f":"'Serial Data'!AY67/('Serial Data'!AY67+'Serial Data'!AZ67+'Serial Data'!BA67)","v":{"$error":"#DIV/0!"}},{"$f":"'Serial Data'!AZ67/('Serial Data'!AY67+'Serial Data'!AZ67+'Serial Data'!BA67)","v":{"$error":"#DIV/0!"}},{"$f":"IF('Serial Data'!AY67+'Serial Data'!AZ67+'Serial Data'!BA67<>0,(BD67+(BE67*0.5)),NA())","v":{"$error":"#N/A"}},{"$f":"IF('Serial Data'!AY67+'Serial Data'!AZ67+'Serial Data'!BA67<>0,(BE67*0.866*Templates!K2),NA())","v":{"$error":"#N/A"}},null,{"$f":"'Serial Data'!BF67/('Serial Data'!BD67+'Serial Data'!BE67+'Serial Data'!BF67)","v":{"$error":"#DIV/0!"}},{"$f":"'Serial Data'!BD67/('Serial Data'!BD67+'Serial Data'!BE67+'Serial Data'!BF67)","v":{"$error":"#DIV/0!"}},{"$f":"'Serial Data'!BE67/('Serial Data'!BD67+'Serial Data'!BE67+'Serial Data'!BF67)","v":{"$error":"#DIV/0!"}},{"$f":"IF('Serial Data'!BD67+'Serial Data'!BE67+'Serial Data'!BF67<>0,(BJ67+(BK67*0.5)),NA())","v":{"$error":"#N/A"}},{"$f":"IF('Serial Data'!BD67+'Serial Data'!BE67+'Serial Data'!BF67<>0,(BK67*0.866*Templates!K2),NA())","v":{"$error":"#N/A"}}]
[{"$f":"'Single Data'!N69/('Single Data'!L69+'Single Data'!M69+'Single Data'!N69)","v":{"$error":"#DIV/0!"}},{"$f":"'Single Data'!L69/('Single Data'!L69+'Single Data'!M69+'Single Data'!N69)","v":{"$error":"#DIV/0!"}},{"$f":"'Single Data'!M69/('Single Data'!L69+'Single Data'!M69+'Single Data'!N69)","v":{"$error":"#DIV/0!"}},{"$f":"IF('Single Data'!L69+'Single Data'!M69+'Single Data'!N69<>0,(B68+(C68*0.5)),NA())","v":{"$error":"#N/A"}},{"$f":"IF('Single Data'!L69+'Single Data'!M69+'Single Data'!N69<>0,(C68*0.866*Templates!K2),NA())","v":{"$error":"#N/A"}},null,{"$f":"'Serial Data'!M68/('Serial Data'!K68+'Serial Data'!L68+'Serial Data'!M68)","v":{"$error":"#DIV/0!"}},{"$f":"'Serial Data'!K68/('Serial Data'!K68+'Serial Data'!L68+'Serial Data'!M68)","v":{"$error":"#DIV/0!"}},{"$f":"'Serial Data'!L68/('Serial Data'!K68+'Serial Data'!L68+'Serial Data'!M68)","v":{"$error":"#DIV/0!"}},{"$f":"IF('Serial Data'!K68+'Serial Data'!L68+'Serial Data'!M68<>0,(H68+(I68*0.5)),NA())","v":{"$error":"#N/A"}},{"$f":"IF('Serial Data'!K68+'Serial Data'!L68+'Serial Data'!M68<>0,(I68*0.866*Templates!K2),NA())","v":{"$error":"#N/A"}},null,{"$f":"'Serial Data'!R68/('Serial Data'!P68+'Serial Data'!Q68+'Serial Data'!R68)","v":{"$error":"#DIV/0!"}},{"$f":"'Serial Data'!P68/('Serial Data'!P68+'Serial Data'!Q68+'Serial Data'!R68)","v":{"$error":"#DIV/0!"}},{"$f":"'Serial Data'!Q68/('Serial Data'!P68+'Serial Data'!Q68+'Serial Data'!R68)","v":{"$error":"#DIV/0!"}},{"$f":"IF('Serial Data'!P68+'Serial Data'!Q68+'Serial Data'!R68<>0,(N68+(O68*0.5)),NA())","v":{"$error":"#N/A"}},{"$f":"IF('Serial Data'!P68+'Serial Data'!Q68+'Serial Data'!R68<>0,(O68*0.866*Templates!K2),NA())","v":{"$error":"#N/A"}},null,{"$f":"'Serial Data'!W68/('Serial Data'!U68+'Serial Data'!V68+'Serial Data'!W68)","v":{"$error":"#DIV/0!"}},{"$f":"'Serial Data'!U68/('Serial Data'!U68+'Serial Data'!V68+'Serial Data'!W68)","v":{"$error":"#DIV/0!"}},{"$f":"'Serial Data'!V68/('Serial Data'!U68+'Serial Data'!V68+'Serial Data'!W68)","v":{"$error":"#DIV/0!"}},{"$f":"IF('Serial Data'!V68+'Serial Data'!W68+'Serial Data'!U68<>0,(T68+(U68*0.5)),NA())","v":{"$error":"#N/A"}},{"$f":"IF('Serial Data'!V68+'Serial Data'!W68+'Serial Data'!U68<>0,(U68*0.866*Templates!K2),NA())","v":{"$error":"#N/A"}},null,{"$f":"'Serial Data'!AB68/('Serial Data'!AA68+'Serial Data'!AB68+'Serial Data'!Z68)","v":{"$error":"#DIV/0!"}},{"$f":"'Serial Data'!Z68/('Serial Data'!AA68+'Serial Data'!AB68+'Serial Data'!Z68)","v":{"$error":"#DIV/0!"}},{"$f":"'Serial Data'!AA68/('Serial Data'!AA68+'Serial Data'!AB68+'Serial Data'!Z68)","v":{"$error":"#DIV/0!"}},{"$f":"IF('Serial Data'!AB68+'Serial Data'!AA68+'Serial Data'!Z68<>0,(Z68+(AA68*0.5)),NA())","v":{"$error":"#N/A"}},{"$f":"IF('Serial Data'!AB68+'Serial Data'!AA68+'Serial Data'!Z68<>0,(AA68*0.866*Templates!K2),NA())","v":{"$error":"#N/A"}},null,{"$f":"'Serial Data'!AG68/('Serial Data'!AG68+'Serial Data'!AE68+'Serial Data'!AF68)","v":{"$error":"#DIV/0!"}},{"$f":"'Serial Data'!AE68/('Serial Data'!AG68+'Serial Data'!AE68+'Serial Data'!AF68)","v":{"$error":"#DIV/0!"}},{"$f":"'Serial Data'!AF68/('Serial Data'!AG68+'Serial Data'!AE68+'Serial Data'!AF68)","v":{"$error":"#DIV/0!"}},{"$f":"IF('Serial Data'!AE68+'Serial Data'!AF68+'Serial Data'!AG68<>0,(AF68+(AG68*0.5)),NA())","v":{"$error":"#N/A"}},{"$f":"IF('Serial Data'!AE68+'Serial Data'!AF68+'Serial Data'!AG68<>0,(AG68*0.866*Templates!K2),NA())","v":{"$error":"#N/A"}},null,{"$f":"'Serial Data'!AL68/('Serial Data'!AJ68+'Serial Data'!AK68+'Serial Data'!AL68)","v":{"$error":"#DIV/0!"}},{"$f":"'Serial Data'!AJ68/('Serial Data'!AJ68+'Serial Data'!AK68+'Serial Data'!AL68)","v":{"$error":"#DIV/0!"}},{"$f":"'Serial Data'!AK68/('Serial Data'!AJ68+'Serial Data'!AK68+'Serial Data'!AL68)","v":{"$error":"#DIV/0!"}},{"$f":"IF('Serial Data'!AJ68+'Serial Data'!AK68+'Serial Data'!AL68<>0,(AL68+(AM68*0.5)),NA())","v":{"$error":"#N/A"}},{"$f":"IF('Serial Data'!AJ68+'Serial Data'!AK68+'Serial Data'!AL68<>0,(AM68*0.866*Templates!K2),NA())","v":{"$error":"#N/A"}},null,{"$f":"'Serial Data'!AQ68/('Serial Data'!AO68+'Serial Data'!AP68+'Serial Data'!AQ68)","v":{"$error":"#DIV/0!"}},{"$f":"'Serial Data'!AO68/('Serial Data'!AO68+'Serial Data'!AP68+'Serial Data'!AQ68)","v":{"$error":"#DIV/0!"}},{"$f":"'Serial Data'!AP68/('Serial Data'!AO68+'Serial Data'!AP68+'Serial Data'!AQ68)","v":{"$error":"#DIV/0!"}},{"$f":"IF('Serial Data'!AO68+'Serial Data'!AP68+'Serial Data'!AQ68<>0,(AR68+(AS68*0.5)),NA())","v":{"$error":"#N/A"}},{"$f":"IF('Serial Data'!AO68+'Serial Data'!AP68+'Serial Data'!AQ68<>0,(AS68*0.866*Templates!K2),NA())","v":{"$error":"#N/A"}},null,{"$f":"'Serial Data'!AV68/('Serial Data'!AT68+'Serial Data'!AU68+'Serial Data'!AV68)","v":{"$error":"#DIV/0!"}},{"$f":"'Serial Data'!AT68/('Serial Data'!AT68+'Serial Data'!AU68+'Serial Data'!AV68)","v":{"$error":"#DIV/0!"}},{"$f":"'Serial Data'!AU68/('Serial Data'!AT68+'Serial Data'!AU68+'Serial Data'!AV68)","v":{"$error":"#DIV/0!"}},{"$f":"IF('Serial Data'!AT68+'Serial Data'!AU68+'Serial Data'!AV68<>0,(AX68+(AY68*0.5)),NA())","v":{"$error":"#N/A"}},{"$f":"IF('Serial Data'!AT68+'Serial Data'!AU68+'Serial Data'!AV68<>0,(AY68*0.866*Templates!K2),NA())","v":{"$error":"#N/A"}},null,{"$f":"'Serial Data'!BA68/('Serial Data'!AY68+'Serial Data'!AZ68+'Serial Data'!BA68)","v":{"$error":"#DIV/0!"}},{"$f":"'Serial Data'!AY68/('Serial Data'!AY68+'Serial Data'!AZ68+'Serial Data'!BA68)","v":{"$error":"#DIV/0!"}},{"$f":"'Serial Data'!AZ68/('Serial Data'!AY68+'Serial Data'!AZ68+'Serial Data'!BA68)","v":{"$error":"#DIV/0!"}},{"$f":"IF('Serial Data'!AY68+'Serial Data'!AZ68+'Serial Data'!BA68<>0,(BD68+(BE68*0.5)),NA())","v":{"$error":"#N/A"}},{"$f":"IF('Serial Data'!AY68+'Serial Data'!AZ68+'Serial Data'!BA68<>0,(BE68*0.866*Templates!K2),NA())","v":{"$error":"#N/A"}},null,{"$f":"'Serial Data'!BF68/('Serial Data'!BD68+'Serial Data'!BE68+'Serial Data'!BF68)","v":{"$error":"#DIV/0!"}},{"$f":"'Serial Data'!BD68/('Serial Data'!BD68+'Serial Data'!BE68+'Serial Data'!BF68)","v":{"$error":"#DIV/0!"}},{"$f":"'Serial Data'!BE68/('Serial Data'!BD68+'Serial Data'!BE68+'Serial Data'!BF68)","v":{"$error":"#DIV/0!"}},{"$f":"IF('Serial Data'!BD68+'Serial Data'!BE68+'Serial Data'!BF68<>0,(BJ68+(BK68*0.5)),NA())","v":{"$error":"#N/A"}},{"$f":"IF('Serial Data'!BD68+'Serial Data'!BE68+'Serial Data'!BF68<>0,(BK68*0.866*Templates!K2),NA())","v":{"$error":"#N/A"}}]
[{"$f":"'Single Data'!N70/('Single Data'!L70+'Single Data'!M70+'Single Data'!N70)","v":{"$error":"#DIV/0!"}},{"$f":"'Single Data'!L70/('Single Data'!L70+'Single Data'!M70+'Single Data'!N70)","v":{"$error":"#DIV/0!"}},{"$f":"'Single Data'!M70/('Single Data'!L70+'Single Data'!M70+'Single Data'!N70)","v":{"$error":"#DIV/0!"}},{"$f":"IF('Single Data'!L70+'Single Data'!M70+'Single Data'!N70<>0,(B69+(C69*0.5)),NA())","v":{"$error":"#N/A"}},{"$f":"IF('Single Data'!L70+'Single Data'!M70+'Single Data'!N70<>0,(C69*0.866*Templates!K2),NA())","v":{"$error":"#N/A"}},null,{"$f":"'Serial Data'!M69/('Serial Data'!K69+'Serial Data'!L69+'Serial Data'!M69)","v":{"$error":"#DIV/0!"}},{"$f":"'Serial Data'!K69/('Serial Data'!K69+'Serial Data'!L69+'Serial Data'!M69)","v":{"$error":"#DIV/0!"}},{"$f":"'Serial Data'!L69/('Serial Data'!K69+'Serial Data'!L69+'Serial Data'!M69)","v":{"$error":"#DIV/0!"}},{"$f":"IF('Serial Data'!K69+'Serial Data'!L69+'Serial Data'!M69<>0,(H69+(I69*0.5)),NA())","v":{"$error":"#N/A"}},{"$f":"IF('Serial Data'!K69+'Serial Data'!L69+'Serial Data'!M69<>0,(I69*0.866*Templates!K2),NA())","v":{"$error":"#N/A"}},null,{"$f":"'Serial Data'!R69/('Serial Data'!P69+'Serial Data'!Q69+'Serial Data'!R69)","v":{"$error":"#DIV/0!"}},{"$f":"'Serial Data'!P69/('Serial Data'!P69+'Serial Data'!Q69+'Serial Data'!R69)","v":{"$error":"#DIV/0!"}},{"$f":"'Serial Data'!Q69/('Serial Data'!P69+'Serial Data'!Q69+'Serial Data'!R69)","v":{"$error":"#DIV/0!"}},{"$f":"IF('Serial Data'!P69+'Serial Data'!Q69+'Serial Data'!R69<>0,(N69+(O69*0.5)),NA())","v":{"$error":"#N/A"}},{"$f":"IF('Serial Data'!P69+'Serial Data'!Q69+'Serial Data'!R69<>0,(O69*0.866*Templates!K2),NA())","v":{"$error":"#N/A"}},null,{"$f":"'Serial Data'!W69/('Serial Data'!U69+'Serial Data'!V69+'Serial Data'!W69)","v":{"$error":"#DIV/0!"}},{"$f":"'Serial Data'!U69/('Serial Data'!U69+'Serial Data'!V69+'Serial Data'!W69)","v":{"$error":"#DIV/0!"}},{"$f":"'Serial Data'!V69/('Serial Data'!U69+'Serial Data'!V69+'Serial Data'!W69)","v":{"$error":"#DIV/0!"}},{"$f":"IF('Serial Data'!V69+'Serial Data'!W69+'Serial Data'!U69<>0,(T69+(U69*0.5)),NA())","v":{"$error":"#N/A"}},{"$f":"IF('Serial Data'!V69+'Serial Data'!W69+'Serial Data'!U69<>0,(U69*0.866*Templates!K2),NA())","v":{"$error":"#N/A"}},null,{"$f":"'Serial Data'!AB69/('Serial Data'!AA69+'Serial Data'!AB69+'Serial Data'!Z69)","v":{"$error":"#DIV/0!"}},{"$f":"'Serial Data'!Z69/('Serial Data'!AA69+'Serial Data'!AB69+'Serial Data'!Z69)","v":{"$error":"#DIV/0!"}},{"$f":"'Serial Data'!AA69/('Serial Data'!AA69+'Serial Data'!AB69+'Serial Data'!Z69)","v":{"$error":"#DIV/0!"}},{"$f":"IF('Serial Data'!AB69+'Serial Data'!AA69+'Serial Data'!Z69<>0,(Z69+(AA69*0.5)),NA())","v":{"$error":"#N/A"}},{"$f":"IF('Serial Data'!AB69+'Serial Data'!AA69+'Serial Data'!Z69<>0,(AA69*0.866*Templates!K2),NA())","v":{"$error":"#N/A"}},null,{"$f":"'Serial Data'!AG69/('Serial Data'!AG69+'Serial Data'!AE69+'Serial Data'!AF69)","v":{"$error":"#DIV/0!"}},{"$f":"'Serial Data'!AE69/('Serial Data'!AG69+'Serial Data'!AE69+'Serial Data'!AF69)","v":{"$error":"#DIV/0!"}},{"$f":"'Serial Data'!AF69/('Serial Data'!AG69+'Serial Data'!AE69+'Serial Data'!AF69)","v":{"$error":"#DIV/0!"}},{"$f":"IF('Serial Data'!AE69+'Serial Data'!AF69+'Serial Data'!AG69<>0,(AF69+(AG69*0.5)),NA())","v":{"$error":"#N/A"}},{"$f":"IF('Serial Data'!AE69+'Serial Data'!AF69+'Serial Data'!AG69<>0,(AG69*0.866*Templates!K2),NA())","v":{"$error":"#N/A"}},null,{"$f":"'Serial Data'!AL69/('Serial Data'!AJ69+'Serial Data'!AK69+'Serial Data'!AL69)","v":{"$error":"#DIV/0!"}},{"$f":"'Serial Data'!AJ69/('Serial Data'!AJ69+'Serial Data'!AK69+'Serial Data'!AL69)","v":{"$error":"#DIV/0!"}},{"$f":"'Serial Data'!AK69/('Serial Data'!AJ69+'Serial Data'!AK69+'Serial Data'!AL69)","v":{"$error":"#DIV/0!"}},{"$f":"IF('Serial Data'!AJ69+'Serial Data'!AK69+'Serial Data'!AL69<>0,(AL69+(AM69*0.5)),NA())","v":{"$error":"#N/A"}},{"$f":"IF('Serial Data'!AJ69+'Serial Data'!AK69+'Serial Data'!AL69<>0,(AM69*0.866*Templates!K2),NA())","v":{"$error":"#N/A"}},null,{"$f":"'Serial Data'!AQ69/('Serial Data'!AO69+'Serial Data'!AP69+'Serial Data'!AQ69)","v":{"$error":"#DIV/0!"}},{"$f":"'Serial Data'!AO69/('Serial Data'!AO69+'Serial Data'!AP69+'Serial Data'!AQ69)","v":{"$error":"#DIV/0!"}},{"$f":"'Serial Data'!AP69/('Serial Data'!AO69+'Serial Data'!AP69+'Serial Data'!AQ69)","v":{"$error":"#DIV/0!"}},{"$f":"IF('Serial Data'!AO69+'Serial Data'!AP69+'Serial Data'!AQ69<>0,(AR69+(AS69*0.5)),NA())","v":{"$error":"#N/A"}},{"$f":"IF('Serial Data'!AO69+'Serial Data'!AP69+'Serial Data'!AQ69<>0,(AS69*0.866*Templates!K2),NA())","v":{"$error":"#N/A"}},null,{"$f":"'Serial Data'!AV69/('Serial Data'!AT69+'Serial Data'!AU69+'Serial Data'!AV69)","v":{"$error":"#DIV/0!"}},{"$f":"'Serial Data'!AT69/('Serial Data'!AT69+'Serial Data'!AU69+'Serial Data'!AV69)","v":{"$error":"#DIV/0!"}},{"$f":"'Serial Data'!AU69/('Serial Data'!AT69+'Serial Data'!AU69+'Serial Data'!AV69)","v":{"$error":"#DIV/0!"}},{"$f":"IF('Serial Data'!AT69+'Serial Data'!AU69+'Serial Data'!AV69<>0,(AX69+(AY69*0.5)),NA())","v":{"$error":"#N/A"}},{"$f":"IF('Serial Data'!AT69+'Serial Data'!AU69+'Serial Data'!AV69<>0,(AY69*0.866*Templates!K2),NA())","v":{"$error":"#N/A"}},null,{"$f":"'Serial Data'!BA69/('Serial Data'!AY69+'Serial Data'!AZ69+'Serial Data'!BA69)","v":{"$error":"#DIV/0!"}},{"$f":"'Serial Data'!AY69/('Serial Data'!AY69+'Serial Data'!AZ69+'Serial Data'!BA69)","v":{"$error":"#DIV/0!"}},{"$f":"'Serial Data'!AZ69/('Serial Data'!AY69+'Serial Data'!AZ69+'Serial Data'!BA69)","v":{"$error":"#DIV/0!"}},{"$f":"IF('Serial Data'!AY69+'Serial Data'!AZ69+'Serial Data'!BA69<>0,(BD69+(BE69*0.5)),NA())","v":{"$error":"#N/A"}},{"$f":"IF('Serial Data'!AY69+'Serial Data'!AZ69+'Serial Data'!BA69<>0,(BE69*0.866*Templates!K2),NA())","v":{"$error":"#N/A"}},null,{"$f":"'Serial Data'!BF69/('Serial Data'!BD69+'Serial Data'!BE69+'Serial Data'!BF69)","v":{"$error":"#DIV/0!"}},{"$f":"'Serial Data'!BD69/('Serial Data'!BD69+'Serial Data'!BE69+'Serial Data'!BF69)","v":{"$error":"#DIV/0!"}},{"$f":"'Serial Data'!BE69/('Serial Data'!BD69+'Serial Data'!BE69+'Serial Data'!BF69)","v":{"$error":"#DIV/0!"}},{"$f":"IF('Serial Data'!BD69+'Serial Data'!BE69+'Serial Data'!BF69<>0,(BJ69+(BK69*0.5)),NA())","v":{"$error":"#N/A"}},{"$f":"IF('Serial Data'!BD69+'Serial Data'!BE69+'Serial Data'!BF69<>0,(BK69*0.866*Templates!K2),NA())","v":{"$error":"#N/A"}}]
[{"$f":"'Single Data'!N71/('Single Data'!L71+'Single Data'!M71+'Single Data'!N71)","v":{"$error":"#DIV/0!"}},{"$f":"'Single Data'!L71/('Single Data'!L71+'Single Data'!M71+'Single Data'!N71)","v":{"$error":"#DIV/0!"}},{"$f":"'Single Data'!M71/('Single Data'!L71+'Single Data'!M71+'Single Data'!N71)","v":{"$error":"#DIV/0!"}},{"$f":"IF('Single Data'!L71+'Single Data'!M71+'Single Data'!N71<>0,(B70+(C70*0.5)),NA())","v":{"$error":"#N/A"}},{"$f":"IF('Single Data'!L71+'Single Data'!M71+'Single Data'!N71<>0,(C70*0.866*Templates!K2),NA())","v":{"$error":"#N/A"}},null,{"$f":"'Serial Data'!M70/('Serial Data'!K70+'Serial Data'!L70+'Serial Data'!M70)","v":{"$error":"#DIV/0!"}},{"$f":"'Serial Data'!K70/('Serial Data'!K70+'Serial Data'!L70+'Serial Data'!M70)","v":{"$error":"#DIV/0!"}},{"$f":"'Serial Data'!L70/('Serial Data'!K70+'Serial Data'!L70+'Serial Data'!M70)","v":{"$error":"#DIV/0!"}},{"$f":"IF('Serial Data'!K70+'Serial Data'!L70+'Serial Data'!M70<>0,(H70+(I70*0.5)),NA())","v":{"$error":"#N/A"}},{"$f":"IF('Serial Data'!K70+'Serial Data'!L70+'Serial Data'!M70<>0,(I70*0.866*Templates!K2),NA())","v":{"$error":"#N/A"}},null,{"$f":"'Serial Data'!R70/('Serial Data'!P70+'Serial Data'!Q70+'Serial Data'!R70)","v":{"$error":"#DIV/0!"}},{"$f":"'Serial Data'!P70/('Serial Data'!P70+'Serial Data'!Q70+'Serial Data'!R70)","v":{"$error":"#DIV/0!"}},{"$f":"'Serial Data'!Q70/('Serial Data'!P70+'Serial Data'!Q70+'Serial Data'!R70)","v":{"$error":"#DIV/0!"}},{"$f":"IF('Serial Data'!P70+'Serial Data'!Q70+'Serial Data'!R70<>0,(N70+(O70*0.5)),NA())","v":{"$error":"#N/A"}},{"$f":"IF('Serial Data'!P70+'Serial Data'!Q70+'Serial Data'!R70<>0,(O70*0.866*Templates!K2),NA())","v":{"$error":"#N/A"}},null,{"$f":"'Serial Data'!W70/('Serial Data'!U70+'Serial Data'!V70+'Serial Data'!W70)","v":{"$error":"#DIV/0!"}},{"$f":"'Serial Data'!U70/('Serial Data'!U70+'Serial Data'!V70+'Serial Data'!W70)","v":{"$error":"#DIV/0!"}},{"$f":"'Serial Data'!V70/('Serial Data'!U70+'Serial Data'!V70+'Serial Data'!W70)","v":{"$error":"#DIV/0!"}},{"$f":"IF('Serial Data'!V70+'Serial Data'!W70+'Serial Data'!U70<>0,(T70+(U70*0.5)),NA())","v":{"$error":"#N/A"}},{"$f":"IF('Serial Data'!V70+'Serial Data'!W70+'Serial Data'!U70<>0,(U70*0.866*Templates!K2),NA())","v":{"$error":"#N/A"}},null,{"$f":"'Serial Data'!AB70/('Serial Data'!AA70+'Serial Data'!AB70+'Serial Data'!Z70)","v":{"$error":"#DIV/0!"}},{"$f":"'Serial Data'!Z70/('Serial Data'!AA70+'Serial Data'!AB70+'Serial Data'!Z70)","v":{"$error":"#DIV/0!"}},{"$f":"'Serial Data'!AA70/('Serial Data'!AA70+'Serial Data'!AB70+'Serial Data'!Z70)","v":{"$error":"#DIV/0!"}},{"$f":"IF('Serial Data'!AB70+'Serial Data'!AA70+'Serial Data'!Z70<>0,(Z70+(AA70*0.5)),NA())","v":{"$error":"#N/A"}},{"$f":"IF('Serial Data'!AB70+'Serial Data'!AA70+'Serial Data'!Z70<>0,(AA70*0.866*Templates!K2),NA())","v":{"$error":"#N/A"}},null,{"$f":"'Serial Data'!AG70/('Serial Data'!AG70+'Serial Data'!AE70+'Serial Data'!AF70)","v":{"$error":"#DIV/0!"}},{"$f":"'Serial Data'!AE70/('Serial Data'!AG70+'Serial Data'!AE70+'Serial Data'!AF70)","v":{"$error":"#DIV/0!"}},{"$f":"'Serial Data'!AF70/('Serial Data'!AG70+'Serial Data'!AE70+'Serial Data'!AF70)","v":{"$error":"#DIV/0!"}},{"$f":"IF('Serial Data'!AE70+'Serial Data'!AF70+'Serial Data'!AG70<>0,(AF70+(AG70*0.5)),NA())","v":{"$error":"#N/A"}},{"$f":"IF('Serial Data'!AE70+'Serial Data'!AF70+'Serial Data'!AG70<>0,(AG70*0.866*Templates!K2),NA())","v":{"$error":"#N/A"}},null,{"$f":"'Serial Data'!AL70/('Serial Data'!AJ70+'Serial Data'!AK70+'Serial Data'!AL70)","v":{"$error":"#DIV/0!"}},{"$f":"'Serial Data'!AJ70/('Serial Data'!AJ70+'Serial Data'!AK70+'Serial Data'!AL70)","v":{"$error":"#DIV/0!"}},{"$f":"'Serial Data'!AK70/('Serial Data'!AJ70+'Serial Data'!AK70+'Serial Data'!AL70)","v":{"$error":"#DIV/0!"}},{"$f":"IF('Serial Data'!AJ70+'Serial Data'!AK70+'Serial Data'!AL70<>0,(AL70+(AM70*0.5)),NA())","v":{"$error":"#N/A"}},{"$f":"IF('Serial Data'!AJ70+'Serial Data'!AK70+'Serial Data'!AL70<>0,(AM70*0.866*Templates!K2),NA())","v":{"$error":"#N/A"}},null,{"$f":"'Serial Data'!AQ70/('Serial Data'!AO70+'Serial Data'!AP70+'Serial Data'!AQ70)","v":{"$error":"#DIV/0!"}},{"$f":"'Serial Data'!AO70/('Serial Data'!AO70+'Serial Data'!AP70+'Serial Data'!AQ70)","v":{"$error":"#DIV/0!"}},{"$f":"'Serial Data'!AP70/('Serial Data'!AO70+'Serial Data'!AP70+'Serial Data'!AQ70)","v":{"$error":"#DIV/0!"}},{"$f":"IF('Serial Data'!AO70+'Serial Data'!AP70+'Serial Data'!AQ70<>0,(AR70+(AS70*0.5)),NA())","v":{"$error":"#N/A"}},{"$f":"IF('Serial Data'!AO70+'Serial Data'!AP70+'Serial Data'!AQ70<>0,(AS70*0.866*Templates!K2),NA())","v":{"$error":"#N/A"}},null,{"$f":"'Serial Data'!AV70/('Serial Data'!AT70+'Serial Data'!AU70+'Serial Data'!AV70)","v":{"$error":"#DIV/0!"}},{"$f":"'Serial Data'!AT70/('Serial Data'!AT70+'Serial Data'!AU70+'Serial Data'!AV70)","v":{"$error":"#DIV/0!"}},{"$f":"'Serial Data'!AU70/('Serial Data'!AT70+'Serial Data'!AU70+'Serial Data'!AV70)","v":{"$error":"#DIV/0!"}},{"$f":"IF('Serial Data'!AT70+'Serial Data'!AU70+'Serial Data'!AV70<>0,(AX70+(AY70*0.5)),NA())","v":{"$error":"#N/A"}},{"$f":"IF('Serial Data'!AT70+'Serial Data'!AU70+'Serial Data'!AV70<>0,(AY70*0.866*Templates!K2),NA())","v":{"$error":"#N/A"}},null,{"$f":"'Serial Data'!BA70/('Serial Data'!AY70+'Serial Data'!AZ70+'Serial Data'!BA70)","v":{"$error":"#DIV/0!"}},{"$f":"'Serial Data'!AY70/('Serial Data'!AY70+'Serial Data'!AZ70+'Serial Data'!BA70)","v":{"$error":"#DIV/0!"}},{"$f":"'Serial Data'!AZ70/('Serial Data'!AY70+'Serial Data'!AZ70+'Serial Data'!BA70)","v":{"$error":"#DIV/0!"}},{"$f":"IF('Serial Data'!AY70+'Serial Data'!AZ70+'Serial Data'!BA70<>0,(BD70+(BE70*0.5)),NA())","v":{"$error":"#N/A"}},{"$f":"IF('Serial Data'!AY70+'Serial Data'!AZ70+'Serial Data'!BA70<>0,(BE70*0.866*Templates!K2),NA())","v":{"$error":"#N/A"}},null,{"$f":"'Serial Data'!BF70/('Serial Data'!BD70+'Serial Data'!BE70+'Serial Data'!BF70)","v":{"$error":"#DIV/0!"}},{"$f":"'Serial Data'!BD70/('Serial Data'!BD70+'Serial Data'!BE70+'Serial Data'!BF70)","v":{"$error":"#DIV/0!"}},{"$f":"'Serial Data'!BE70/('Serial Data'!BD70+'Serial Data'!BE70+'Serial Data'!BF70)","v":{"$error":"#DIV/0!"}},{"$f":"IF('Serial Data'!BD70+'Serial Data'!BE70+'Serial Data'!BF70<>0,(BJ70+(BK70*0.5)),NA())","v":{"$error":"#N/A"}},{"$f":"IF('Serial Data'!BD70+'Serial Data'!BE70+'Serial Data'!BF70<>0,(BK70*0.866*Templates!K2),NA())","v":{"$error":"#N/A"}}]
[{"$f":"'Single Data'!N72/('Single Data'!L72+'Single Data'!M72+'Single Data'!N72)","v":{"$error":"#DIV/0!"}},{"$f":"'Single Data'!L72/('Single Data'!L72+'Single Data'!M72+'Single Data'!N72)","v":{"$error":"#DIV/0!"}},{"$f":"'Single Data'!M72/('Single Data'!L72+'Single Data'!M72+'Single Data'!N72)","v":{"$error":"#DIV/0!"}},{"$f":"IF('Single Data'!L72+'Single Data'!M72+'Single Data'!N72<>0,(B71+(C71*0.5)),NA())","v":{"$error":"#N/A"}},{"$f":"IF('Single Data'!L72+'Single Data'!M72+'Single Data'!N72<>0,(C71*0.866*Templates!K2),NA())","v":{"$error":"#N/A"}},null,{"$f":"'Serial Data'!M71/('Serial Data'!K71+'Serial Data'!L71+'Serial Data'!M71)","v":{"$error":"#DIV/0!"}},{"$f":"'Serial Data'!K71/('Serial Data'!K71+'Serial Data'!L71+'Serial Data'!M71)","v":{"$error":"#DIV/0!"}},{"$f":"'Serial Data'!L71/('Serial Data'!K71+'Serial Data'!L71+'Serial Data'!M71)","v":{"$error":"#DIV/0!"}},{"$f":"IF('Serial Data'!K71+'Serial Data'!L71+'Serial Data'!M71<>0,(H71+(I71*0.5)),NA())","v":{"$error":"#N/A"}},{"$f":"IF('Serial Data'!K71+'Serial Data'!L71+'Serial Data'!M71<>0,(I71*0.866*Templates!K2),NA())","v":{"$error":"#N/A"}},null,{"$f":"'Serial Data'!R71/('Serial Data'!P71+'Serial Data'!Q71+'Serial Data'!R71)","v":{"$error":"#DIV/0!"}},{"$f":"'Serial Data'!P71/('Serial Data'!P71+'Serial Data'!Q71+'Serial Data'!R71)","v":{"$error":"#DIV/0!"}},{"$f":"'Serial Data'!Q71/('Serial Data'!P71+'Serial Data'!Q71+'Serial Data'!R71)","v":{"$error":"#DIV/0!"}},{"$f":"IF('Serial Data'!P71+'Serial Data'!Q71+'Serial Data'!R71<>0,(N71+(O71*0.5)),NA())","v":{"$error":"#N/A"}},{"$f":"IF('Serial Data'!P71+'Serial Data'!Q71+'Serial Data'!R71<>0,(O71*0.866*Templates!K2),NA())","v":{"$error":"#N/A"}},null,{"$f":"'Serial Data'!W71/('Serial Data'!U71+'Serial Data'!V71+'Serial Data'!W71)","v":{"$error":"#DIV/0!"}},{"$f":"'Serial Data'!U71/('Serial Data'!U71+'Serial Data'!V71+'Serial Data'!W71)","v":{"$error":"#DIV/0!"}},{"$f":"'Serial Data'!V71/('Serial Data'!U71+'Serial Data'!V71+'Serial Data'!W71)","v":{"$error":"#DIV/0!"}},{"$f":"IF('Serial Data'!V71+'Serial Data'!W71+'Serial Data'!U71<>0,(T71+(U71*0.5)),NA())","v":{"$error":"#N/A"}},{"$f":"IF('Serial Data'!V71+'Serial Data'!W71+'Serial Data'!U71<>0,(U71*0.866*Templates!K2),NA())","v":{"$error":"#N/A"}},null,{"$f":"'Serial Data'!AB71/('Serial Data'!AA71+'Serial Data'!AB71+'Serial Data'!Z71)","v":{"$error":"#DIV/0!"}},{"$f":"'Serial Data'!Z71/('Serial Data'!AA71+'Serial Data'!AB71+'Serial Data'!Z71)","v":{"$error":"#DIV/0!"}},{"$f":"'Serial Data'!AA71/('Serial Data'!AA71+'Serial Data'!AB71+'Serial Data'!Z71)","v":{"$error":"#DIV/0!"}},{"$f":"IF('Serial Data'!AB71+'Serial Data'!AA71+'Serial Data'!Z71<>0,(Z71+(AA71*0.5)),NA())","v":{"$error":"#N/A"}},{"$f":"IF('Serial Data'!AB71+'Serial Data'!AA71+'Serial Data'!Z71<>0,(AA71*0.866*Templates!K2),NA())","v":{"$error":"#N/A"}},null,{"$f":"'Serial Data'!AG71/('Serial Data'!AG71+'Serial Data'!AE71+'Serial Data'!AF71)","v":{"$error":"#DIV/0!"}},{"$f":"'Serial Data'!AE71/('Serial Data'!AG71+'Serial Data'!AE71+'Serial Data'!AF71)","v":{"$error":"#DIV/0!"}},{"$f":"'Serial Data'!AF71/('Serial Data'!AG71+'Serial Data'!AE71+'Serial Data'!AF71)","v":{"$error":"#DIV/0!"}},{"$f":"IF('Serial Data'!AE71+'Serial Data'!AF71+'Serial Data'!AG71<>0,(AF71+(AG71*0.5)),NA())","v":{"$error":"#N/A"}},{"$f":"IF('Serial Data'!AE71+'Serial Data'!AF71+'Serial Data'!AG71<>0,(AG71*0.866*Templates!K2),NA())","v":{"$error":"#N/A"}},null,{"$f":"'Serial Data'!AL71/('Serial Data'!AJ71+'Serial Data'!AK71+'Serial Data'!AL71)","v":{"$error":"#DIV/0!"}},{"$f":"'Serial Data'!AJ71/('Serial Data'!AJ71+'Serial Data'!AK71+'Serial Data'!AL71)","v":{"$error":"#DIV/0!"}},{"$f":"'Serial Data'!AK71/('Serial Data'!AJ71+'Serial Data'!AK71+'Serial Data'!AL71)","v":{"$error":"#DIV/0!"}},{"$f":"IF('Serial Data'!AJ71+'Serial Data'!AK71+'Serial Data'!AL71<>0,(AL71+(AM71*0.5)),NA())","v":{"$error":"#N/A"}},{"$f":"IF('Serial Data'!AJ71+'Serial Data'!AK71+'Serial Data'!AL71<>0,(AM71*0.866*Templates!K2),NA())","v":{"$error":"#N/A"}},null,{"$f":"'Serial Data'!AQ71/('Serial Data'!AO71+'Serial Data'!AP71+'Serial Data'!AQ71)","v":{"$error":"#DIV/0!"}},{"$f":"'Serial Data'!AO71/('Serial Data'!AO71+'Serial Data'!AP71+'Serial Data'!AQ71)","v":{"$error":"#DIV/0!"}},{"$f":"'Serial Data'!AP71/('Serial Data'!AO71+'Serial Data'!AP71+'Serial Data'!AQ71)","v":{"$error":"#DIV/0!"}},{"$f":"IF('Serial Data'!AO71+'Serial Data'!AP71+'Serial Data'!AQ71<>0,(AR71+(AS71*0.5)),NA())","v":{"$error":"#N/A"}},{"$f":"IF('Serial Data'!AO71+'Serial Data'!AP71+'Serial Data'!AQ71<>0,(AS71*0.866*Templates!K2),NA())","v":{"$error":"#N/A"}},null,{"$f":"'Serial Data'!AV71/('Serial Data'!AT71+'Serial Data'!AU71+'Serial Data'!AV71)","v":{"$error":"#DIV/0!"}},{"$f":"'Serial Data'!AT71/('Serial Data'!AT71+'Serial Data'!AU71+'Serial Data'!AV71)","v":{"$error":"#DIV/0!"}},{"$f":"'Serial Data'!AU71/('Serial Data'!AT71+'Serial Data'!AU71+'Serial Data'!AV71)","v":{"$error":"#DIV/0!"}},{"$f":"IF('Serial Data'!AT71+'Serial Data'!AU71+'Serial Data'!AV71<>0,(AX71+(AY71*0.5)),NA())","v":{"$error":"#N/A"}},{"$f":"IF('Serial Data'!AT71+'Serial Data'!AU71+'Serial Data'!AV71<>0,(AY71*0.866*Templates!K2),NA())","v":{"$error":"#N/A"}},null,{"$f":"'Serial Data'!BA71/('Serial Data'!AY71+'Serial Data'!AZ71+'Serial Data'!BA71)","v":{"$error":"#DIV/0!"}},{"$f":"'Serial Data'!AY71/('Serial Data'!AY71+'Serial Data'!AZ71+'Serial Data'!BA71)","v":{"$error":"#DIV/0!"}},{"$f":"'Serial Data'!AZ71/('Serial Data'!AY71+'Serial Data'!AZ71+'Serial Data'!BA71)","v":{"$error":"#DIV/0!"}},{"$f":"IF('Serial Data'!AY71+'Serial Data'!AZ71+'Serial Data'!BA71<>0,(BD71+(BE71*0.5)),NA())","v":{"$error":"#N/A"}},{"$f":"IF('Serial Data'!AY71+'Serial Data'!AZ71+'Serial Data'!BA71<>0,(BE71*0.866*Templates!K2),NA())","v":{"$error":"#N/A"}},null,{"$f":"'Serial Data'!BF71/('Serial Data'!BD71+'Serial Data'!BE71+'Serial Data'!BF71)","v":{"$error":"#DIV/0!"}},{"$f":"'Serial Data'!BD71/('Serial Data'!BD71+'Serial Data'!BE71+'Serial Data'!BF71)","v":{"$error":"#DIV/0!"}},{"$f":"'Serial Data'!BE71/('Serial Data'!BD71+'Serial Data'!BE71+'Serial Data'!BF71)","v":{"$error":"#DIV/0!"}},{"$f":"IF('Serial Data'!BD71+'Serial Data'!BE71+'Serial Data'!BF71<>0,(BJ71+(BK71*0.5)),NA())","v":{"$error":"#N/A"}},{"$f":"IF('Serial Data'!BD71+'Serial Data'!BE71+'Serial Data'!BF71<>0,(BK71*0.866*Templates!K2),NA())","v":{"$error":"#N/A"}}]
[{"$f":"'Single Data'!N73/('Single Data'!L73+'Single Data'!M73+'Single Data'!N73)","v":{"$error":"#DIV/0!"}},{"$f":"'Single Data'!L73/('Single Data'!L73+'Single Data'!M73+'Single Data'!N73)","v":{"$error":"#DIV/0!"}},{"$f":"'Single Data'!M73/('Single Data'!L73+'Single Data'!M73+'Single Data'!N73)","v":{"$error":"#DIV/0!"}},{"$f":"IF('Single Data'!L73+'Single Data'!M73+'Single Data'!N73<>0,(B72+(C72*0.5)),NA())","v":{"$error":"#N/A"}},{"$f":"IF('Single Data'!L73+'Single Data'!M73+'Single Data'!N73<>0,(C72*0.866*Templates!K2),NA())","v":{"$error":"#N/A"}},null,{"$f":"'Serial Data'!M72/('Serial Data'!K72+'Serial Data'!L72+'Serial Data'!M72)","v":{"$error":"#DIV/0!"}},{"$f":"'Serial Data'!K72/('Serial Data'!K72+'Serial Data'!L72+'Serial Data'!M72)","v":{"$error":"#DIV/0!"}},{"$f":"'Serial Data'!L72/('Serial Data'!K72+'Serial Data'!L72+'Serial Data'!M72)","v":{"$error":"#DIV/0!"}},{"$f":"IF('Serial Data'!K72+'Serial Data'!L72+'Serial Data'!M72<>0,(H72+(I72*0.5)),NA())","v":{"$error":"#N/A"}},{"$f":"IF('Serial Data'!K72+'Serial Data'!L72+'Serial Data'!M72<>0,(I72*0.866*Templates!K2),NA())","v":{"$error":"#N/A"}},null,{"$f":"'Serial Data'!R72/('Serial Data'!P72+'Serial Data'!Q72+'Serial Data'!R72)","v":{"$error":"#DIV/0!"}},{"$f":"'Serial Data'!P72/('Serial Data'!P72+'Serial Data'!Q72+'Serial Data'!R72)","v":{"$error":"#DIV/0!"}},{"$f":"'Serial Data'!Q72/('Serial Data'!P72+'Serial Data'!Q72+'Serial Data'!R72)","v":{"$error":"#DIV/0!"}},{"$f":"IF('Serial Data'!P72+'Serial Data'!Q72+'Serial Data'!R72<>0,(N72+(O72*0.5)),NA())","v":{"$error":"#N/A"}},{"$f":"IF('Serial Data'!P72+'Serial Data'!Q72+'Serial Data'!R72<>0,(O72*0.866*Templates!K2),NA())","v":{"$error":"#N/A"}},null,{"$f":"'Serial Data'!W72/('Serial Data'!U72+'Serial Data'!V72+'Serial Data'!W72)","v":{"$error":"#DIV/0!"}},{"$f":"'Serial Data'!U72/('Serial Data'!U72+'Serial Data'!V72+'Serial Data'!W72)","v":{"$error":"#DIV/0!"}},{"$f":"'Serial Data'!V72/('Serial Data'!U72+'Serial Data'!V72+'Serial Data'!W72)","v":{"$error":"#DIV/0!"}},{"$f":"IF('Serial Data'!V72+'Serial Data'!W72+'Serial Data'!U72<>0,(T72+(U72*0.5)),NA())","v":{"$error":"#N/A"}},{"$f":"IF('Serial Data'!V72+'Serial Data'!W72+'Serial Data'!U72<>0,(U72*0.866*Templates!K2),NA())","v":{"$error":"#N/A"}},null,{"$f":"'Serial Data'!AB72/('Serial Data'!AA72+'Serial Data'!AB72+'Serial Data'!Z72)","v":{"$error":"#DIV/0!"}},{"$f":"'Serial Data'!Z72/('Serial Data'!AA72+'Serial Data'!AB72+'Serial Data'!Z72)","v":{"$error":"#DIV/0!"}},{"$f":"'Serial Data'!AA72/('Serial Data'!AA72+'Serial Data'!AB72+'Serial Data'!Z72)","v":{"$error":"#DIV/0!"}},{"$f":"IF('Serial Data'!AB72+'Serial Data'!AA72+'Serial Data'!Z72<>0,(Z72+(AA72*0.5)),NA())","v":{"$error":"#N/A"}},{"$f":"IF('Serial Data'!AB72+'Serial Data'!AA72+'Serial Data'!Z72<>0,(AA72*0.866*Templates!K2),NA())","v":{"$error":"#N/A"}},null,{"$f":"'Serial Data'!AG72/('Serial Data'!AG72+'Serial Data'!AE72+'Serial Data'!AF72)","v":{"$error":"#DIV/0!"}},{"$f":"'Serial Data'!AE72/('Serial Data'!AG72+'Serial Data'!AE72+'Serial Data'!AF72)","v":{"$error":"#DIV/0!"}},{"$f":"'Serial Data'!AF72/('Serial Data'!AG72+'Serial Data'!AE72+'Serial Data'!AF72)","v":{"$error":"#DIV/0!"}},{"$f":"IF('Serial Data'!AE72+'Serial Data'!AF72+'Serial Data'!AG72<>0,(AF72+(AG72*0.5)),NA())","v":{"$error":"#N/A"}},{"$f":"IF('Serial Data'!AE72+'Serial Data'!AF72+'Serial Data'!AG72<>0,(AG72*0.866*Templates!K2),NA())","v":{"$error":"#N/A"}},null,{"$f":"'Serial Data'!AL72/('Serial Data'!AJ72+'Serial Data'!AK72+'Serial Data'!AL72)","v":{"$error":"#DIV/0!"}},{"$f":"'Serial Data'!AJ72/('Serial Data'!AJ72+'Serial Data'!AK72+'Serial Data'!AL72)","v":{"$error":"#DIV/0!"}},{"$f":"'Serial Data'!AK72/('Serial Data'!AJ72+'Serial Data'!AK72+'Serial Data'!AL72)","v":{"$error":"#DIV/0!"}},{"$f":"IF('Serial Data'!AJ72+'Serial Data'!AK72+'Serial Data'!AL72<>0,(AL72+(AM72*0.5)),NA())","v":{"$error":"#N/A"}},{"$f":"IF('Serial Data'!AJ72+'Serial Data'!AK72+'Serial Data'!AL72<>0,(AM72*0.866*Templates!K2),NA())","v":{"$error":"#N/A"}},null,{"$f":"'Serial Data'!AQ72/('Serial Data'!AO72+'Serial Data'!AP72+'Serial Data'!AQ72)","v":{"$error":"#DIV/0!"}},{"$f":"'Serial Data'!AO72/('Serial Data'!AO72+'Serial Data'!AP72+'Serial Data'!AQ72)","v":{"$error":"#DIV/0!"}},{"$f":"'Serial Data'!AP72/('Serial Data'!AO72+'Serial Data'!AP72+'Serial Data'!AQ72)","v":{"$error":"#DIV/0!"}},{"$f":"IF('Serial Data'!AO72+'Serial Data'!AP72+'Serial Data'!AQ72<>0,(AR72+(AS72*0.5)),NA())","v":{"$error":"#N/A"}},{"$f":"IF('Serial Data'!AO72+'Serial Data'!AP72+'Serial Data'!AQ72<>0,(AS72*0.866*Templates!K2),NA())","v":{"$error":"#N/A"}},null,{"$f":"'Serial Data'!AV72/('Serial Data'!AT72+'Serial Data'!AU72+'Serial Data'!AV72)","v":{"$error":"#DIV/0!"}},{"$f":"'Serial Data'!AT72/('Serial Data'!AT72+'Serial Data'!AU72+'Serial Data'!AV72)","v":{"$error":"#DIV/0!"}},{"$f":"'Serial Data'!AU72/('Serial Data'!AT72+'Serial Data'!AU72+'Serial Data'!AV72)","v":{"$error":"#DIV/0!"}},{"$f":"IF('Serial Data'!AT72+'Serial Data'!AU72+'Serial Data'!AV72<>0,(AX72+(AY72*0.5)),NA())","v":{"$error":"#N/A"}},{"$f":"IF('Serial Data'!AT72+'Serial Data'!AU72+'Serial Data'!AV72<>0,(AY72*0.866*Templates!K2),NA())","v":{"$error":"#N/A"}},null,{"$f":"'Serial Data'!BA72/('Serial Data'!AY72+'Serial Data'!AZ72+'Serial Data'!BA72)","v":{"$error":"#DIV/0!"}},{"$f":"'Serial Data'!AY72/('Serial Data'!AY72+'Serial Data'!AZ72+'Serial Data'!BA72)","v":{"$error":"#DIV/0!"}},{"$f":"'Serial Data'!AZ72/('Serial Data'!AY72+'Serial Data'!AZ72+'Serial Data'!BA72)","v":{"$error":"#DIV/0!"}},{"$f":"IF('Serial Data'!AY72+'Serial Data'!AZ72+'Serial Data'!BA72<>0,(BD72+(BE72*0.5)),NA())","v":{"$error":"#N/A"}},{"$f":"IF('Serial Data'!AY72+'Serial Data'!AZ72+'Serial Data'!BA72<>0,(BE72*0.866*Templates!K2),NA())","v":{"$error":"#N/A"}},null,{"$f":"'Serial Data'!BF72/('Serial Data'!BD72+'Serial Data'!BE72+'Serial Data'!BF72)","v":{"$error":"#DIV/0!"}},{"$f":"'Serial Data'!BD72/('Serial Data'!BD72+'Serial Data'!BE72+'Serial Data'!BF72)","v":{"$error":"#DIV/0!"}},{"$f":"'Serial Data'!BE72/('Serial Data'!BD72+'Serial Data'!BE72+'Serial Data'!BF72)","v":{"$error":"#DIV/0!"}},{"$f":"IF('Serial Data'!BD72+'Serial Data'!BE72+'Serial Data'!BF72<>0,(BJ72+(BK72*0.5)),NA())","v":{"$error":"#N/A"}},{"$f":"IF('Serial Data'!BD72+'Serial Data'!BE72+'Serial Data'!BF72<>0,(BK72*0.866*Templates!K2),NA())","v":{"$error":"#N/A"}}]
[{"$f":"'Single Data'!N74/('Single Data'!L74+'Single Data'!M74+'Single Data'!N74)","v":{"$error":"#DIV/0!"}},{"$f":"'Single Data'!L74/('Single Data'!L74+'Single Data'!M74+'Single Data'!N74)","v":{"$error":"#DIV/0!"}},{"$f":"'Single Data'!M74/('Single Data'!L74+'Single Data'!M74+'Single Data'!N74)","v":{"$error":"#DIV/0!"}},{"$f":"IF('Single Data'!L74+'Single Data'!M74+'Single Data'!N74<>0,(B73+(C73*0.5)),NA())","v":{"$error":"#N/A"}},{"$f":"IF('Single Data'!L74+'Single Data'!M74+'Single Data'!N74<>0,(C73*0.866*Templates!K2),NA())","v":{"$error":"#N/A"}},null,{"$f":"'Serial Data'!M73/('Serial Data'!K73+'Serial Data'!L73+'Serial Data'!M73)","v":{"$error":"#DIV/0!"}},{"$f":"'Serial Data'!K73/('Serial Data'!K73+'Serial Data'!L73+'Serial Data'!M73)","v":{"$error":"#DIV/0!"}},{"$f":"'Serial Data'!L73/('Serial Data'!K73+'Serial Data'!L73+'Serial Data'!M73)","v":{"$error":"#DIV/0!"}},{"$f":"IF('Serial Data'!K73+'Serial Data'!L73+'Serial Data'!M73<>0,(H73+(I73*0.5)),NA())","v":{"$error":"#N/A"}},{"$f":"IF('Serial Data'!K73+'Serial Data'!L73+'Serial Data'!M73<>0,(I73*0.866*Templates!K2),NA())","v":{"$error":"#N/A"}},null,{"$f":"'Serial Data'!R73/('Serial Data'!P73+'Serial Data'!Q73+'Serial Data'!R73)","v":{"$error":"#DIV/0!"}},{"$f":"'Serial Data'!P73/('Serial Data'!P73+'Serial Data'!Q73+'Serial Data'!R73)","v":{"$error":"#DIV/0!"}},{"$f":"'Serial Data'!Q73/('Serial Data'!P73+'Serial Data'!Q73+'Serial Data'!R73)","v":{"$error":"#DIV/0!"}},{"$f":"IF('Serial Data'!P73+'Serial Data'!Q73+'Serial Data'!R73<>0,(N73+(O73*0.5)),NA())","v":{"$error":"#N/A"}},{"$f":"IF('Serial Data'!P73+'Serial Data'!Q73+'Serial Data'!R73<>0,(O73*0.866*Templates!K2),NA())","v":{"$error":"#N/A"}},null,{"$f":"'Serial Data'!W73/('Serial Data'!U73+'Serial Data'!V73+'Serial Data'!W73)","v":{"$error":"#DIV/0!"}},{"$f":"'Serial Data'!U73/('Serial Data'!U73+'Serial Data'!V73+'Serial Data'!W73)","v":{"$error":"#DIV/0!"}},{"$f":"'Serial Data'!V73/('Serial Data'!U73+'Serial Data'!V73+'Serial Data'!W73)","v":{"$error":"#DIV/0!"}},{"$f":"IF('Serial Data'!V73+'Serial Data'!W73+'Serial Data'!U73<>0,(T73+(U73*0.5)),NA())","v":{"$error":"#N/A"}},{"$f":"IF('Serial Data'!V73+'Serial Data'!W73+'Serial Data'!U73<>0,(U73*0.866*Templates!K2),NA())","v":{"$error":"#N/A"}},null,{"$f":"'Serial Data'!AB73/('Serial Data'!AA73+'Serial Data'!AB73+'Serial Data'!Z73)","v":{"$error":"#DIV/0!"}},{"$f":"'Serial Data'!Z73/('Serial Data'!AA73+'Serial Data'!AB73+'Serial Data'!Z73)","v":{"$error":"#DIV/0!"}},{"$f":"'Serial Data'!AA73/('Serial Data'!AA73+'Serial Data'!AB73+'Serial Data'!Z73)","v":{"$error":"#DIV/0!"}},{"$f":"IF('Serial Data'!AB73+'Serial Data'!AA73+'Serial Data'!Z73<>0,(Z73+(AA73*0.5)),NA())","v":{"$error":"#N/A"}},{"$f":"IF('Serial Data'!AB73+'Serial Data'!AA73+'Serial Data'!Z73<>0,(AA73*0.866*Templates!K2),NA())","v":{"$error":"#N/A"}},null,{"$f":"'Serial Data'!AG73/('Serial Data'!AG73+'Serial Data'!AE73+'Serial Data'!AF73)","v":{"$error":"#DIV/0!"}},{"$f":"'Serial Data'!AE73/('Serial Data'!AG73+'Serial Data'!AE73+'Serial Data'!AF73)","v":{"$error":"#DIV/0!"}},{"$f":"'Serial Data'!AF73/('Serial Data'!AG73+'Serial Data'!AE73+'Serial Data'!AF73)","v":{"$error":"#DIV/0!"}},{"$f":"IF('Serial Data'!AE73+'Serial Data'!AF73+'Serial Data'!AG73<>0,(AF73+(AG73*0.5)),NA())","v":{"$error":"#N/A"}},{"$f":"IF('Serial Data'!AE73+'Serial Data'!AF73+'Serial Data'!AG73<>0,(AG73*0.866*Templates!K2),NA())","v":{"$error":"#N/A"}},null,{"$f":"'Serial Data'!AL73/('Serial Data'!AJ73+'Serial Data'!AK73+'Serial Data'!AL73)","v":{"$error":"#DIV/0!"}},{"$f":"'Serial Data'!AJ73/('Serial Data'!AJ73+'Serial Data'!AK73+'Serial Data'!AL73)","v":{"$error":"#DIV/0!"}},{"$f":"'Serial Data'!AK73/('Serial Data'!AJ73+'Serial Data'!AK73+'Serial Data'!AL73)","v":{"$error":"#DIV/0!"}},{"$f":"IF('Serial Data'!AJ73+'Serial Data'!AK73+'Serial Data'!AL73<>0,(AL73+(AM73*0.5)),NA())","v":{"$error":"#N/A"}},{"$f":"IF('Serial Data'!AJ73+'Serial Data'!AK73+'Serial Data'!AL73<>0,(AM73*0.866*Templates!K2),NA())","v":{"$error":"#N/A"}},null,{"$f":"'Serial Data'!AQ73/('Serial Data'!AO73+'Serial Data'!AP73+'Serial Data'!AQ73)","v":{"$error":"#DIV/0!"}},{"$f":"'Serial Data'!AO73/('Serial Data'!AO73+'Serial Data'!AP73+'Serial Data'!AQ73)","v":{"$error":"#DIV/0!"}},{"$f":"'Serial Data'!AP73/('Serial Data'!AO73+'Serial Data'!AP73+'Serial Data'!AQ73)","v":{"$error":"#DIV/0!"}},{"$f":"IF('Serial Data'!AO73+'Serial Data'!AP73+'Serial Data'!AQ73<>0,(AR73+(AS73*0.5)),NA())","v":{"$error":"#N/A"}},{"$f":"IF('Serial Data'!AO73+'Serial Data'!AP73+'Serial Data'!AQ73<>0,(AS73*0.866*Templates!K2),NA())","v":{"$error":"#N/A"}},null,{"$f":"'Serial Data'!AV73/('Serial Data'!AT73+'Serial Data'!AU73+'Serial Data'!AV73)","v":{"$error":"#DIV/0!"}},{"$f":"'Serial Data'!AT73/('Serial Data'!AT73+'Serial Data'!AU73+'Serial Data'!AV73)","v":{"$error":"#DIV/0!"}},{"$f":"'Serial Data'!AU73/('Serial Data'!AT73+'Serial Data'!AU73+'Serial Data'!AV73)","v":{"$error":"#DIV/0!"}},{"$f":"IF('Serial Data'!AT73+'Serial Data'!AU73+'Serial Data'!AV73<>0,(AX73+(AY73*0.5)),NA())","v":{"$error":"#N/A"}},{"$f":"IF('Serial Data'!AT73+'Serial Data'!AU73+'Serial Data'!AV73<>0,(AY73*0.866*Templates!K2),NA())","v":{"$error":"#N/A"}},null,{"$f":"'Serial Data'!BA73/('Serial Data'!AY73+'Serial Data'!AZ73+'Serial Data'!BA73)","v":{"$error":"#DIV/0!"}},{"$f":"'Serial Data'!AY73/('Serial Data'!AY73+'Serial Data'!AZ73+'Serial Data'!BA73)","v":{"$error":"#DIV/0!"}},{"$f":"'Serial Data'!AZ73/('Serial Data'!AY73+'Serial Data'!AZ73+'Serial Data'!BA73)","v":{"$error":"#DIV/0!"}},{"$f":"IF('Serial Data'!AY73+'Serial Data'!AZ73+'Serial Data'!BA73<>0,(BD73+(BE73*0.5)),NA())","v":{"$error":"#N/A"}},{"$f":"IF('Serial Data'!AY73+'Serial Data'!AZ73+'Serial Data'!BA73<>0,(BE73*0.866*Templates!K2),NA())","v":{"$error":"#N/A"}},null,{"$f":"'Serial Data'!BF73/('Serial Data'!BD73+'Serial Data'!BE73+'Serial Data'!BF73)","v":{"$error":"#DIV/0!"}},{"$f":"'Serial Data'!BD73/('Serial Data'!BD73+'Serial Data'!BE73+'Serial Data'!BF73)","v":{"$error":"#DIV/0!"}},{"$f":"'Serial Data'!BE73/('Serial Data'!BD73+'Serial Data'!BE73+'Serial Data'!BF73)","v":{"$error":"#DIV/0!"}},{"$f":"IF('Serial Data'!BD73+'Serial Data'!BE73+'Serial Data'!BF73<>0,(BJ73+(BK73*0.5)),NA())","v":{"$error":"#N/A"}},{"$f":"IF('Serial Data'!BD73+'Serial Data'!BE73+'Serial Data'!BF73<>0,(BK73*0.866*Templates!K2),NA())","v":{"$error":"#N/A"}}]
[{"$f":"'Single Data'!N75/('Single Data'!L75+'Single Data'!M75+'Single Data'!N75)","v":{"$error":"#DIV/0!"}},{"$f":"'Single Data'!L75/('Single Data'!L75+'Single Data'!M75+'Single Data'!N75)","v":{"$error":"#DIV/0!"}},{"$f":"'Single Data'!M75/('Single Data'!L75+'Single Data'!M75+'Single Data'!N75)","v":{"$error":"#DIV/0!"}},{"$f":"IF('Single Data'!L75+'Single Data'!M75+'Single Data'!N75<>0,(B74+(C74*0.5)),NA())","v":{"$error":"#N/A"}},{"$f":"IF('Single Data'!L75+'Single Data'!M75+'Single Data'!N75<>0,(C74*0.866*Templates!K2),NA())","v":{"$error":"#N/A"}},null,{"$f":"'Serial Data'!M74/('Serial Data'!K74+'Serial Data'!L74+'Serial Data'!M74)","v":{"$error":"#DIV/0!"}},{"$f":"'Serial Data'!K74/('Serial Data'!K74+'Serial Data'!L74+'Serial Data'!M74)","v":{"$error":"#DIV/0!"}},{"$f":"'Serial Data'!L74/('Serial Data'!K74+'Serial Data'!L74+'Serial Data'!M74)","v":{"$error":"#DIV/0!"}},{"$f":"IF('Serial Data'!K74+'Serial Data'!L74+'Serial Data'!M74<>0,(H74+(I74*0.5)),NA())","v":{"$error":"#N/A"}},{"$f":"IF('Serial Data'!K74+'Serial Data'!L74+'Serial Data'!M74<>0,(I74*0.866*Templates!K2),NA())","v":{"$error":"#N/A"}},null,{"$f":"'Serial Data'!R74/('Serial Data'!P74+'Serial Data'!Q74+'Serial Data'!R74)","v":{"$error":"#DIV/0!"}},{"$f":"'Serial Data'!P74/('Serial Data'!P74+'Serial Data'!Q74+'Serial Data'!R74)","v":{"$error":"#DIV/0!"}},{"$f":"'Serial Data'!Q74/('Serial Data'!P74+'Serial Data'!Q74+'Serial Data'!R74)","v":{"$error":"#DIV/0!"}},{"$f":"IF('Serial Data'!P74+'Serial Data'!Q74+'Serial Data'!R74<>0,(N74+(O74*0.5)),NA())","v":{"$error":"#N/A"}},{"$f":"IF('Serial Data'!P74+'Serial Data'!Q74+'Serial Data'!R74<>0,(O74*0.866*Templates!K2),NA())","v":{"$error":"#N/A"}},null,{"$f":"'Serial Data'!W74/('Serial Data'!U74+'Serial Data'!V74+'Serial Data'!W74)","v":{"$error":"#DIV/0!"}},{"$f":"'Serial Data'!U74/('Serial Data'!U74+'Serial Data'!V74+'Serial Data'!W74)","v":{"$error":"#DIV/0!"}},{"$f":"'Serial Data'!V74/('Serial Data'!U74+'Serial Data'!V74+'Serial Data'!W74)","v":{"$error":"#DIV/0!"}},{"$f":"IF('Serial Data'!V74+'Serial Data'!W74+'Serial Data'!U74<>0,(T74+(U74*0.5)),NA())","v":{"$error":"#N/A"}},{"$f":"IF('Serial Data'!V74+'Serial Data'!W74+'Serial Data'!U74<>0,(U74*0.866*Templates!K2),NA())","v":{"$error":"#N/A"}},null,{"$f":"'Serial Data'!AB74/('Serial Data'!AA74+'Serial Data'!AB74+'Serial Data'!Z74)","v":{"$error":"#DIV/0!"}},{"$f":"'Serial Data'!Z74/('Serial Data'!AA74+'Serial Data'!AB74+'Serial Data'!Z74)","v":{"$error":"#DIV/0!"}},{"$f":"'Serial Data'!AA74/('Serial Data'!AA74+'Serial Data'!AB74+'Serial Data'!Z74)","v":{"$error":"#DIV/0!"}},{"$f":"IF('Serial Data'!AB74+'Serial Data'!AA74+'Serial Data'!Z74<>0,(Z74+(AA74*0.5)),NA())","v":{"$error":"#N/A"}},{"$f":"IF('Serial Data'!AB74+'Serial Data'!AA74+'Serial Data'!Z74<>0,(AA74*0.866*Templates!K2),NA())","v":{"$error":"#N/A"}},null,{"$f":"'Serial Data'!AG74/('Serial Data'!AG74+'Serial Data'!AE74+'Serial Data'!AF74)","v":{"$error":"#DIV/0!"}},{"$f":"'Serial Data'!AE74/('Serial Data'!AG74+'Serial Data'!AE74+'Serial Data'!AF74)","v":{"$error":"#DIV/0!"}},{"$f":"'Serial Data'!AF74/('Serial Data'!AG74+'Serial Data'!AE74+'Serial Data'!AF74)","v":{"$error":"#DIV/0!"}},{"$f":"IF('Serial Data'!AE74+'Serial Data'!AF74+'Serial Data'!AG74<>0,(AF74+(AG74*0.5)),NA())","v":{"$error":"#N/A"}},{"$f":"IF('Serial Data'!AE74+'Serial Data'!AF74+'Serial Data'!AG74<>0,(AG74*0.866*Templates!K2),NA())","v":{"$error":"#N/A"}},null,{"$f":"'Serial Data'!AL74/('Serial Data'!AJ74+'Serial Data'!AK74+'Serial Data'!AL74)","v":{"$error":"#DIV/0!"}},{"$f":"'Serial Data'!AJ74/('Serial Data'!AJ74+'Serial Data'!AK74+'Serial Data'!AL74)","v":{"$error":"#DIV/0!"}},{"$f":"'Serial Data'!AK74/('Serial Data'!AJ74+'Serial Data'!AK74+'Serial Data'!AL74)","v":{"$error":"#DIV/0!"}},{"$f":"IF('Serial Data'!AJ74+'Serial Data'!AK74+'Serial Data'!AL74<>0,(AL74+(AM74*0.5)),NA())","v":{"$error":"#N/A"}},{"$f":"IF('Serial Data'!AJ74+'Serial Data'!AK74+'Serial Data'!AL74<>0,(AM74*0.866*Templates!K2),NA())","v":{"$error":"#N/A"}},null,{"$f":"'Serial Data'!AQ74/('Serial Data'!AO74+'Serial Data'!AP74+'Serial Data'!AQ74)","v":{"$error":"#DIV/0!"}},{"$f":"'Serial Data'!AO74/('Serial Data'!AO74+'Serial Data'!AP74+'Serial Data'!AQ74)","v":{"$error":"#DIV/0!"}},{"$f":"'Serial Data'!AP74/('Serial Data'!AO74+'Serial Data'!AP74+'Serial Data'!AQ74)","v":{"$error":"#DIV/0!"}},{"$f":"IF('Serial Data'!AO74+'Serial Data'!AP74+'Serial Data'!AQ74<>0,(AR74+(AS74*0.5)),NA())","v":{"$error":"#N/A"}},{"$f":"IF('Serial Data'!AO74+'Serial Data'!AP74+'Serial Data'!AQ74<>0,(AS74*0.866*Templates!K2),NA())","v":{"$error":"#N/A"}},null,{"$f":"'Serial Data'!AV74/('Serial Data'!AT74+'Serial Data'!AU74+'Serial Data'!AV74)","v":{"$error":"#DIV/0!"}},{"$f":"'Serial Data'!AT74/('Serial Data'!AT74+'Serial Data'!AU74+'Serial Data'!AV74)","v":{"$error":"#DIV/0!"}},{"$f":"'Serial Data'!AU74/('Serial Data'!AT74+'Serial Data'!AU74+'Serial Data'!AV74)","v":{"$error":"#DIV/0!"}},{"$f":"IF('Serial Data'!AT74+'Serial Data'!AU74+'Serial Data'!AV74<>0,(AX74+(AY74*0.5)),NA())","v":{"$error":"#N/A"}},{"$f":"IF('Serial Data'!AT74+'Serial Data'!AU74+'Serial Data'!AV74<>0,(AY74*0.866*Templates!K2),NA())","v":{"$error":"#N/A"}},null,{"$f":"'Serial Data'!BA74/('Serial Data'!AY74+'Serial Data'!AZ74+'Serial Data'!BA74)","v":{"$error":"#DIV/0!"}},{"$f":"'Serial Data'!AY74/('Serial Data'!AY74+'Serial Data'!AZ74+'Serial Data'!BA74)","v":{"$error":"#DIV/0!"}},{"$f":"'Serial Data'!AZ74/('Serial Data'!AY74+'Serial Data'!AZ74+'Serial Data'!BA74)","v":{"$error":"#DIV/0!"}},{"$f":"IF('Serial Data'!AY74+'Serial Data'!AZ74+'Serial Data'!BA74<>0,(BD74+(BE74*0.5)),NA())","v":{"$error":"#N/A"}},{"$f":"IF('Serial Data'!AY74+'Serial Data'!AZ74+'Serial Data'!BA74<>0,(BE74*0.866*Templates!K2),NA())","v":{"$error":"#N/A"}},null,{"$f":"'Serial Data'!BF74/('Serial Data'!BD74+'Serial Data'!BE74+'Serial Data'!BF74)","v":{"$error":"#DIV/0!"}},{"$f":"'Serial Data'!BD74/('Serial Data'!BD74+'Serial Data'!BE74+'Serial Data'!BF74)","v":{"$error":"#DIV/0!"}},{"$f":"'Serial Data'!BE74/('Serial Data'!BD74+'Serial Data'!BE74+'Serial Data'!BF74)","v":{"$error":"#DIV/0!"}},{"$f":"IF('Serial Data'!BD74+'Serial Data'!BE74+'Serial Data'!BF74<>0,(BJ74+(BK74*0.5)),NA())","v":{"$error":"#N/A"}},{"$f":"IF('Serial Data'!BD74+'Serial Data'!BE74+'Serial Data'!BF74<>0,(BK74*0.866*Templates!K2),NA())","v":{"$error":"#N/A"}}]
[{"$f":"'Single Data'!N76/('Single Data'!L76+'Single Data'!M76+'Single Data'!N76)","v":{"$error":"#DIV/0!"}},{"$f":"'Single Data'!L76/('Single Data'!L76+'Single Data'!M76+'Single Data'!N76)","v":{"$error":"#DIV/0!"}},{"$f":"'Single Data'!M76/('Single Data'!L76+'Single Data'!M76+'Single Data'!N76)","v":{"$error":"#DIV/0!"}},{"$f":"IF('Single Data'!L76+'Single Data'!M76+'Single Data'!N76<>0,(B75+(C75*0.5)),NA())","v":{"$error":"#N/A"}},{"$f":"IF('Single Data'!L76+'Single Data'!M76+'Single Data'!N76<>0,(C75*0.866*Templates!K2),NA())","v":{"$error":"#N/A"}},null,{"$f":"'Serial Data'!M75/('Serial Data'!K75+'Serial Data'!L75+'Serial Data'!M75)","v":{"$error":"#DIV/0!"}},{"$f":"'Serial Data'!K75/('Serial Data'!K75+'Serial Data'!L75+'Serial Data'!M75)","v":{"$error":"#DIV/0!"}},{"$f":"'Serial Data'!L75/('Serial Data'!K75+'Serial Data'!L75+'Serial Data'!M75)","v":{"$error":"#DIV/0!"}},{"$f":"IF('Serial Data'!K75+'Serial Data'!L75+'Serial Data'!M75<>0,(H75+(I75*0.5)),NA())","v":{"$error":"#N/A"}},{"$f":"IF('Serial Data'!K75+'Serial Data'!L75+'Serial Data'!M75<>0,(I75*0.866*Templates!K2),NA())","v":{"$error":"#N/A"}},null,{"$f":"'Serial Data'!R75/('Serial Data'!P75+'Serial Data'!Q75+'Serial Data'!R75)","v":{"$error":"#DIV/0!"}},{"$f":"'Serial Data'!P75/('Serial Data'!P75+'Serial Data'!Q75+'Serial Data'!R75)","v":{"$error":"#DIV/0!"}},{"$f":"'Serial Data'!Q75/('Serial Data'!P75+'Serial Data'!Q75+'Serial Data'!R75)","v":{"$error":"#DIV/0!"}},{"$f":"IF('Serial Data'!P75+'Serial Data'!Q75+'Serial Data'!R75<>0,(N75+(O75*0.5)),NA())","v":{"$error":"#N/A"}},{"$f":"IF('Serial Data'!P75+'Serial Data'!Q75+'Serial Data'!R75<>0,(O75*0.866*Templates!K2),NA())","v":{"$error":"#N/A"}},null,{"$f":"'Serial Data'!W75/('Serial Data'!U75+'Serial Data'!V75+'Serial Data'!W75)","v":{"$error":"#DIV/0!"}},{"$f":"'Serial Data'!U75/('Serial Data'!U75+'Serial Data'!V75+'Serial Data'!W75)","v":{"$error":"#DIV/0!"}},{"$f":"'Serial Data'!V75/('Serial Data'!U75+'Serial Data'!V75+'Serial Data'!W75)","v":{"$error":"#DIV/0!"}},{"$f":"IF('Serial Data'!V75+'Serial Data'!W75+'Serial Data'!U75<>0,(T75+(U75*0.5)),NA())","v":{"$error":"#N/A"}},{"$f":"IF('Serial Data'!V75+'Serial Data'!W75+'Serial Data'!U75<>0,(U75*0.866*Templates!K2),NA())","v":{"$error":"#N/A"}},null,{"$f":"'Serial Data'!AB75/('Serial Data'!AA75+'Serial Data'!AB75+'Serial Data'!Z75)","v":{"$error":"#DIV/0!"}},{"$f":"'Serial Data'!Z75/('Serial Data'!AA75+'Serial Data'!AB75+'Serial Data'!Z75)","v":{"$error":"#DIV/0!"}},{"$f":"'Serial Data'!AA75/('Serial Data'!AA75+'Serial Data'!AB75+'Serial Data'!Z75)","v":{"$error":"#DIV/0!"}},{"$f":"IF('Serial Data'!AB75+'Serial Data'!AA75+'Serial Data'!Z75<>0,(Z75+(AA75*0.5)),NA())","v":{"$error":"#N/A"}},{"$f":"IF('Serial Data'!AB75+'Serial Data'!AA75+'Serial Data'!Z75<>0,(AA75*0.866*Templates!K2),NA())","v":{"$error":"#N/A"}},null,{"$f":"'Serial Data'!AG75/('Serial Data'!AG75+'Serial Data'!AE75+'Serial Data'!AF75)","v":{"$error":"#DIV/0!"}},{"$f":"'Serial Data'!AE75/('Serial Data'!AG75+'Serial Data'!AE75+'Serial Data'!AF75)","v":{"$error":"#DIV/0!"}},{"$f":"'Serial Data'!AF75/('Serial Data'!AG75+'Serial Data'!AE75+'Serial Data'!AF75)","v":{"$error":"#DIV/0!"}},{"$f":"IF('Serial Data'!AE75+'Serial Data'!AF75+'Serial Data'!AG75<>0,(AF75+(AG75*0.5)),NA())","v":{"$error":"#N/A"}},{"$f":"IF('Serial Data'!AE75+'Serial Data'!AF75+'Serial Data'!AG75<>0,(AG75*0.866*Templates!K2),NA())","v":{"$error":"#N/A"}},null,{"$f":"'Serial Data'!AL75/('Serial Data'!AJ75+'Serial Data'!AK75+'Serial Data'!AL75)","v":{"$error":"#DIV/0!"}},{"$f":"'Serial Data'!AJ75/('Serial Data'!AJ75+'Serial Data'!AK75+'Serial Data'!AL75)","v":{"$error":"#DIV/0!"}},{"$f":"'Serial Data'!AK75/('Serial Data'!AJ75+'Serial Data'!AK75+'Serial Data'!AL75)","v":{"$error":"#DIV/0!"}},{"$f":"IF('Serial Data'!AJ75+'Serial Data'!AK75+'Serial Data'!AL75<>0,(AL75+(AM75*0.5)),NA())","v":{"$error":"#N/A"}},{"$f":"IF('Serial Data'!AJ75+'Serial Data'!AK75+'Serial Data'!AL75<>0,(AM75*0.866*Templates!K2),NA())","v":{"$error":"#N/A"}},null,{"$f":"'Serial Data'!AQ75/('Serial Data'!AO75+'Serial Data'!AP75+'Serial Data'!AQ75)","v":{"$error":"#DIV/0!"}},{"$f":"'Serial Data'!AO75/('Serial Data'!AO75+'Serial Data'!AP75+'Serial Data'!AQ75)","v":{"$error":"#DIV/0!"}},{"$f":"'Serial Data'!AP75/('Serial Data'!AO75+'Serial Data'!AP75+'Serial Data'!AQ75)","v":{"$error":"#DIV/0!"}},{"$f":"IF('Serial Data'!AO75+'Serial Data'!AP75+'Serial Data'!AQ75<>0,(AR75+(AS75*0.5)),NA())","v":{"$error":"#N/A"}},{"$f":"IF('Serial Data'!AO75+'Serial Data'!AP75+'Serial Data'!AQ75<>0,(AS75*0.866*Templates!K2),NA())","v":{"$error":"#N/A"}},null,{"$f":"'Serial Data'!AV75/('Serial Data'!AT75+'Serial Data'!AU75+'Serial Data'!AV75)","v":{"$error":"#DIV/0!"}},{"$f":"'Serial Data'!AT75/('Serial Data'!AT75+'Serial Data'!AU75+'Serial Data'!AV75)","v":{"$error":"#DIV/0!"}},{"$f":"'Serial Data'!AU75/('Serial Data'!AT75+'Serial Data'!AU75+'Serial Data'!AV75)","v":{"$error":"#DIV/0!"}},{"$f":"IF('Serial Data'!AT75+'Serial Data'!AU75+'Serial Data'!AV75<>0,(AX75+(AY75*0.5)),NA())","v":{"$error":"#N/A"}},{"$f":"IF('Serial Data'!AT75+'Serial Data'!AU75+'Serial Data'!AV75<>0,(AY75*0.866*Templates!K2),NA())","v":{"$error":"#N/A"}},null,{"$f":"'Serial Data'!BA75/('Serial Data'!AY75+'Serial Data'!AZ75+'Serial Data'!BA75)","v":{"$error":"#DIV/0!"}},{"$f":"'Serial Data'!AY75/('Serial Data'!AY75+'Serial Data'!AZ75+'Serial Data'!BA75)","v":{"$error":"#DIV/0!"}},{"$f":"'Serial Data'!AZ75/('Serial Data'!AY75+'Serial Data'!AZ75+'Serial Data'!BA75)","v":{"$error":"#DIV/0!"}},{"$f":"IF('Serial Data'!AY75+'Serial Data'!AZ75+'Serial Data'!BA75<>0,(BD75+(BE75*0.5)),NA())","v":{"$error":"#N/A"}},{"$f":"IF('Serial Data'!AY75+'Serial Data'!AZ75+'Serial Data'!BA75<>0,(BE75*0.866*Templates!K2),NA())","v":{"$error":"#N/A"}},null,{"$f":"'Serial Data'!BF75/('Serial Data'!BD75+'Serial Data'!BE75+'Serial Data'!BF75)","v":{"$error":"#DIV/0!"}},{"$f":"'Serial Data'!BD75/('Serial Data'!BD75+'Serial Data'!BE75+'Serial Data'!BF75)","v":{"$error":"#DIV/0!"}},{"$f":"'Serial Data'!BE75/('Serial Data'!BD75+'Serial Data'!BE75+'Serial Data'!BF75)","v":{"$error":"#DIV/0!"}},{"$f":"IF('Serial Data'!BD75+'Serial Data'!BE75+'Serial Data'!BF75<>0,(BJ75+(BK75*0.5)),NA())","v":{"$error":"#N/A"}},{"$f":"IF('Serial Data'!BD75+'Serial Data'!BE75+'Serial Data'!BF75<>0,(BK75*0.866*Templates!K2),NA())","v":{"$error":"#N/A"}}]
[{"$f":"'Single Data'!N77/('Single Data'!L77+'Single Data'!M77+'Single Data'!N77)","v":{"$error":"#DIV/0!"}},{"$f":"'Single Data'!L77/('Single Data'!L77+'Single Data'!M77+'Single Data'!N77)","v":{"$error":"#DIV/0!"}},{"$f":"'Single Data'!M77/('Single Data'!L77+'Single Data'!M77+'Single Data'!N77)","v":{"$error":"#DIV/0!"}},{"$f":"IF('Single Data'!L77+'Single Data'!M77+'Single Data'!N77<>0,(B76+(C76*0.5)),NA())","v":{"$error":"#N/A"}},{"$f":"IF('Single Data'!L77+'Single Data'!M77+'Single Data'!N77<>0,(C76*0.866*Templates!K2),NA())","v":{"$error":"#N/A"}},null,{"$f":"'Serial Data'!M76/('Serial Data'!K76+'Serial Data'!L76+'Serial Data'!M76)","v":{"$error":"#DIV/0!"}},{"$f":"'Serial Data'!K76/('Serial Data'!K76+'Serial Data'!L76+'Serial Data'!M76)","v":{"$error":"#DIV/0!"}},{"$f":"'Serial Data'!L76/('Serial Data'!K76+'Serial Data'!L76+'Serial Data'!M76)","v":{"$error":"#DIV/0!"}},{"$f":"IF('Serial Data'!K76+'Serial Data'!L76+'Serial Data'!M76<>0,(H76+(I76*0.5)),NA())","v":{"$error":"#N/A"}},{"$f":"IF('Serial Data'!K76+'Serial Data'!L76+'Serial Data'!M76<>0,(I76*0.866*Templates!K2),NA())","v":{"$error":"#N/A"}},null,{"$f":"'Serial Data'!R76/('Serial Data'!P76+'Serial Data'!Q76+'Serial Data'!R76)","v":{"$error":"#DIV/0!"}},{"$f":"'Serial Data'!P76/('Serial Data'!P76+'Serial Data'!Q76+'Serial Data'!R76)","v":{"$error":"#DIV/0!"}},{"$f":"'Serial Data'!Q76/('Serial Data'!P76+'Serial Data'!Q76+'Serial Data'!R76)","v":{"$error":"#DIV/0!"}},{"$f":"IF('Serial Data'!P76+'Serial Data'!Q76+'Serial Data'!R76<>0,(N76+(O76*0.5)),NA())","v":{"$error":"#N/A"}},{"$f":"IF('Serial Data'!P76+'Serial Data'!Q76+'Serial Data'!R76<>0,(O76*0.866*Templates!K2),NA())","v":{"$error":"#N/A"}},null,{"$f":"'Serial Data'!W76/('Serial Data'!U76+'Serial Data'!V76+'Serial Data'!W76)","v":{"$error":"#DIV/0!"}},{"$f":"'Serial Data'!U76/('Serial Data'!U76+'Serial Data'!V76+'Serial Data'!W76)","v":{"$error":"#DIV/0!"}},{"$f":"'Serial Data'!V76/('Serial Data'!U76+'Serial Data'!V76+'Serial Data'!W76)","v":{"$error":"#DIV/0!"}},{"$f":"IF('Serial Data'!V76+'Serial Data'!W76+'Serial Data'!U76<>0,(T76+(U76*0.5)),NA())","v":{"$error":"#N/A"}},{"$f":"IF('Serial Data'!V76+'Serial Data'!W76+'Serial Data'!U76<>0,(U76*0.866*Templates!K2),NA())","v":{"$error":"#N/A"}},null,{"$f":"'Serial Data'!AB76/('Serial Data'!AA76+'Serial Data'!AB76+'Serial Data'!Z76)","v":{"$error":"#DIV/0!"}},{"$f":"'Serial Data'!Z76/('Serial Data'!AA76+'Serial Data'!AB76+'Serial Data'!Z76)","v":{"$error":"#DIV/0!"}},{"$f":"'Serial Data'!AA76/('Serial Data'!AA76+'Serial Data'!AB76+'Serial Data'!Z76)","v":{"$error":"#DIV/0!"}},{"$f":"IF('Serial Data'!AB76+'Serial Data'!AA76+'Serial Data'!Z76<>0,(Z76+(AA76*0.5)),NA())","v":{"$error":"#N/A"}},{"$f":"IF('Serial Data'!AB76+'Serial Data'!AA76+'Serial Data'!Z76<>0,(AA76*0.866*Templates!K2),NA())","v":{"$error":"#N/A"}},null,{"$f":"'Serial Data'!AG76/('Serial Data'!AG76+'Serial Data'!AE76+'Serial Data'!AF76)","v":{"$error":"#DIV/0!"}},{"$f":"'Serial Data'!AE76/('Serial Data'!AG76+'Serial Data'!AE76+'Serial Data'!AF76)","v":{"$error":"#DIV/0!"}},{"$f":"'Serial Data'!AF76/('Serial Data'!AG76+'Serial Data'!AE76+'Serial Data'!AF76)","v":{"$error":"#DIV/0!"}},{"$f":"IF('Serial Data'!AE76+'Serial Data'!AF76+'Serial Data'!AG76<>0,(AF76+(AG76*0.5)),NA())","v":{"$error":"#N/A"}},{"$f":"IF('Serial Data'!AE76+'Serial Data'!AF76+'Serial Data'!AG76<>0,(AG76*0.866*Templates!K2),NA())","v":{"$error":"#N/A"}},null,{"$f":"'Serial Data'!AL76/('Serial Data'!AJ76+'Serial Data'!AK76+'Serial Data'!AL76)","v":{"$error":"#DIV/0!"}},{"$f":"'Serial Data'!AJ76/('Serial Data'!AJ76+'Serial Data'!AK76+'Serial Data'!AL76)","v":{"$error":"#DIV/0!"}},{"$f":"'Serial Data'!AK76/('Serial Data'!AJ76+'Serial Data'!AK76+'Serial Data'!AL76)","v":{"$error":"#DIV/0!"}},{"$f":"IF('Serial Data'!AJ76+'Serial Data'!AK76+'Serial Data'!AL76<>0,(AL76+(AM76*0.5)),NA())","v":{"$error":"#N/A"}},{"$f":"IF('Serial Data'!AJ76+'Serial Data'!AK76+'Serial Data'!AL76<>0,(AM76*0.866*Templates!K2),NA())","v":{"$error":"#N/A"}},null,{"$f":"'Serial Data'!AQ76/('Serial Data'!AO76+'Serial Data'!AP76+'Serial Data'!AQ76)","v":{"$error":"#DIV/0!"}},{"$f":"'Serial Data'!AO76/('Serial Data'!AO76+'Serial Data'!AP76+'Serial Data'!AQ76)","v":{"$error":"#DIV/0!"}},{"$f":"'Serial Data'!AP76/('Serial Data'!AO76+'Serial Data'!AP76+'Serial Data'!AQ76)","v":{"$error":"#DIV/0!"}},{"$f":"IF('Serial Data'!AO76+'Serial Data'!AP76+'Serial Data'!AQ76<>0,(AR76+(AS76*0.5)),NA())","v":{"$error":"#N/A"}},{"$f":"IF('Serial Data'!AO76+'Serial Data'!AP76+'Serial Data'!AQ76<>0,(AS76*0.866*Templates!K2),NA())","v":{"$error":"#N/A"}},null,{"$f":"'Serial Data'!AV76/('Serial Data'!AT76+'Serial Data'!AU76+'Serial Data'!AV76)","v":{"$error":"#DIV/0!"}},{"$f":"'Serial Data'!AT76/('Serial Data'!AT76+'Serial Data'!AU76+'Serial Data'!AV76)","v":{"$error":"#DIV/0!"}},{"$f":"'Serial Data'!AU76/('Serial Data'!AT76+'Serial Data'!AU76+'Serial Data'!AV76)","v":{"$error":"#DIV/0!"}},{"$f":"IF('Serial Data'!AT76+'Serial Data'!AU76+'Serial Data'!AV76<>0,(AX76+(AY76*0.5)),NA())","v":{"$error":"#N/A"}},{"$f":"IF('Serial Data'!AT76+'Serial Data'!AU76+'Serial Data'!AV76<>0,(AY76*0.866*Templates!K2),NA())","v":{"$error":"#N/A"}},null,{"$f":"'Serial Data'!BA76/('Serial Data'!AY76+'Serial Data'!AZ76+'Serial Data'!BA76)","v":{"$error":"#DIV/0!"}},{"$f":"'Serial Data'!AY76/('Serial Data'!AY76+'Serial Data'!AZ76+'Serial Data'!BA76)","v":{"$error":"#DIV/0!"}},{"$f":"'Serial Data'!AZ76/('Serial Data'!AY76+'Serial Data'!AZ76+'Serial Data'!BA76)","v":{"$error":"#DIV/0!"}},{"$f":"IF('Serial Data'!AY76+'Serial Data'!AZ76+'Serial Data'!BA76<>0,(BD76+(BE76*0.5)),NA())","v":{"$error":"#N/A"}},{"$f":"IF('Serial Data'!AY76+'Serial Data'!AZ76+'Serial Data'!BA76<>0,(BE76*0.866*Templates!K2),NA())","v":{"$error":"#N/A"}},null,{"$f":"'Serial Data'!BF76/('Serial Data'!BD76+'Serial Data'!BE76+'Serial Data'!BF76)","v":{"$error":"#DIV/0!"}},{"$f":"'Serial Data'!BD76/('Serial Data'!BD76+'Serial Data'!BE76+'Serial Data'!BF76)","v":{"$error":"#DIV/0!"}},{"$f":"'Serial Data'!BE76/('Serial Data'!BD76+'Serial Data'!BE76+'Serial Data'!BF76)","v":{"$error":"#DIV/0!"}},{"$f":"IF('Serial Data'!BD76+'Serial Data'!BE76+'Serial Data'!BF76<>0,(BJ76+(BK76*0.5)),NA())","v":{"$error":"#N/A"}},{"$f":"IF('Serial Data'!BD76+'Serial Data'!BE76+'Serial Data'!BF76<>0,(BK76*0.866*Templates!K2),NA())","v":{"$error":"#N/A"}}]
[{"$f":"'Single Data'!N78/('Single Data'!L78+'Single Data'!M78+'Single Data'!N78)","v":{"$error":"#DIV/0!"}},{"$f":"'Single Data'!L78/('Single Data'!L78+'Single Data'!M78+'Single Data'!N78)","v":{"$error":"#DIV/0!"}},{"$f":"'Single Data'!M78/('Single Data'!L78+'Single Data'!M78+'Single Data'!N78)","v":{"$error":"#DIV/0!"}},{"$f":"IF('Single Data'!L78+'Single Data'!M78+'Single Data'!N78<>0,(B77+(C77*0.5)),NA())","v":{"$error":"#N/A"}},{"$f":"IF('Single Data'!L78+'Single Data'!M78+'Single Data'!N78<>0,(C77*0.866*Templates!K2),NA())","v":{"$error":"#N/A"}},null,{"$f":"'Serial Data'!M77/('Serial Data'!K77+'Serial Data'!L77+'Serial Data'!M77)","v":{"$error":"#DIV/0!"}},{"$f":"'Serial Data'!K77/('Serial Data'!K77+'Serial Data'!L77+'Serial Data'!M77)","v":{"$error":"#DIV/0!"}},{"$f":"'Serial Data'!L77/('Serial Data'!K77+'Serial Data'!L77+'Serial Data'!M77)","v":{"$error":"#DIV/0!"}},{"$f":"IF('Serial Data'!K77+'Serial Data'!L77+'Serial Data'!M77<>0,(H77+(I77*0.5)),NA())","v":{"$error":"#N/A"}},{"$f":"IF('Serial Data'!K77+'Serial Data'!L77+'Serial Data'!M77<>0,(I77*0.866*Templates!K2),NA())","v":{"$error":"#N/A"}},null,{"$f":"'Serial Data'!R77/('Serial Data'!P77+'Serial Data'!Q77+'Serial Data'!R77)","v":{"$error":"#DIV/0!"}},{"$f":"'Serial Data'!P77/('Serial Data'!P77+'Serial Data'!Q77+'Serial Data'!R77)","v":{"$error":"#DIV/0!"}},{"$f":"'Serial Data'!Q77/('Serial Data'!P77+'Serial Data'!Q77+'Serial Data'!R77)","v":{"$error":"#DIV/0!"}},{"$f":"IF('Serial Data'!P77+'Serial Data'!Q77+'Serial Data'!R77<>0,(N77+(O77*0.5)),NA())","v":{"$error":"#N/A"}},{"$f":"IF('Serial Data'!P77+'Serial Data'!Q77+'Serial Data'!R77<>0,(O77*0.866*Templates!K2),NA())","v":{"$error":"#N/A"}},null,{"$f":"'Serial Data'!W77/('Serial Data'!U77+'Serial Data'!V77+'Serial Data'!W77)","v":{"$error":"#DIV/0!"}},{"$f":"'Serial Data'!U77/('Serial Data'!U77+'Serial Data'!V77+'Serial Data'!W77)","v":{"$error":"#DIV/0!"}},{"$f":"'Serial Data'!V77/('Serial Data'!U77+'Serial Data'!V77+'Serial Data'!W77)","v":{"$error":"#DIV/0!"}},{"$f":"IF('Serial Data'!V77+'Serial Data'!W77+'Serial Data'!U77<>0,(T77+(U77*0.5)),NA())","v":{"$error":"#N/A"}},{"$f":"IF('Serial Data'!V77+'Serial Data'!W77+'Serial Data'!U77<>0,(U77*0.866*Templates!K2),NA())","v":{"$error":"#N/A"}},null,{"$f":"'Serial Data'!AB77/('Serial Data'!AA77+'Serial Data'!AB77+'Serial Data'!Z77)","v":{"$error":"#DIV/0!"}},{"$f":"'Serial Data'!Z77/('Serial Data'!AA77+'Serial Data'!AB77+'Serial Data'!Z77)","v":{"$error":"#DIV/0!"}},{"$f":"'Serial Data'!AA77/('Serial Data'!AA77+'Serial Data'!AB77+'Serial Data'!Z77)","v":{"$error":"#DIV/0!"}},{"$f":"IF('Serial Data'!AB77+'Serial Data'!AA77+'Serial Data'!Z77<>0,(Z77+(AA77*0.5)),NA())","v":{"$error":"#N/A"}},{"$f":"IF('Serial Data'!AB77+'Serial Data'!AA77+'Serial Data'!Z77<>0,(AA77*0.866*Templates!K2),NA())","v":{"$error":"#N/A"}},null,{"$f":"'Serial Data'!AG77/('Serial Data'!AG77+'Serial Data'!AE77+'Serial Data'!AF77)","v":{"$error":"#DIV/0!"}},{"$f":"'Serial Data'!AE77/('Serial Data'!AG77+'Serial Data'!AE77+'Serial Data'!AF77)","v":{"$error":"#DIV/0!"}},{"$f":"'Serial Data'!AF77/('Serial Data'!AG77+'Serial Data'!AE77+'Serial Data'!AF77)","v":{"$error":"#DIV/0!"}},{"$f":"IF('Serial Data'!AE77+'Serial Data'!AF77+'Serial Data'!AG77<>0,(AF77+(AG77*0.5)),NA())","v":{"$error":"#N/A"}},{"$f":"IF('Serial Data'!AE77+'Serial Data'!AF77+'Serial Data'!AG77<>0,(AG77*0.866*Templates!K2),NA())","v":{"$error":"#N/A"}},null,{"$f":"'Serial Data'!AL77/('Serial Data'!AJ77+'Serial Data'!AK77+'Serial Data'!AL77)","v":{"$error":"#DIV/0!"}},{"$f":"'Serial Data'!AJ77/('Serial Data'!AJ77+'Serial Data'!AK77+'Serial Data'!AL77)","v":{"$error":"#DIV/0!"}},{"$f":"'Serial Data'!AK77/('Serial Data'!AJ77+'Serial Data'!AK77+'Serial Data'!AL77)","v":{"$error":"#DIV/0!"}},{"$f":"IF('Serial Data'!AJ77+'Serial Data'!AK77+'Serial Data'!AL77<>0,(AL77+(AM77*0.5)),NA())","v":{"$error":"#N/A"}},{"$f":"IF('Serial Data'!AJ77+'Serial Data'!AK77+'Serial Data'!AL77<>0,(AM77*0.866*Templates!K2),NA())","v":{"$error":"#N/A"}},null,{"$f":"'Serial Data'!AQ77/('Serial Data'!AO77+'Serial Data'!AP77+'Serial Data'!AQ77)","v":{"$error":"#DIV/0!"}},{"$f":"'Serial Data'!AO77/('Serial Data'!AO77+'Serial Data'!AP77+'Serial Data'!AQ77)","v":{"$error":"#DIV/0!"}},{"$f":"'Serial Data'!AP77/('Serial Data'!AO77+'Serial Data'!AP77+'Serial Data'!AQ77)","v":{"$error":"#DIV/0!"}},{"$f":"IF('Serial Data'!AO77+'Serial Data'!AP77+'Serial Data'!AQ77<>0,(AR77+(AS77*0.5)),NA())","v":{"$error":"#N/A"}},{"$f":"IF('Serial Data'!AO77+'Serial Data'!AP77+'Serial Data'!AQ77<>0,(AS77*0.866*Templates!K2),NA())","v":{"$error":"#N/A"}},null,{"$f":"'Serial Data'!AV77/('Serial Data'!AT77+'Serial Data'!AU77+'Serial Data'!AV77)","v":{"$error":"#DIV/0!"}},{"$f":"'Serial Data'!AT77/('Serial Data'!AT77+'Serial Data'!AU77+'Serial Data'!AV77)","v":{"$error":"#DIV/0!"}},{"$f":"'Serial Data'!AU77/('Serial Data'!AT77+'Serial Data'!AU77+'Serial Data'!AV77)","v":{"$error":"#DIV/0!"}},{"$f":"IF('Serial Data'!AT77+'Serial Data'!AU77+'Serial Data'!AV77<>0,(AX77+(AY77*0.5)),NA())","v":{"$error":"#N/A"}},{"$f":"IF('Serial Data'!AT77+'Serial Data'!AU77+'Serial Data'!AV77<>0,(AY77*0.866*Templates!K2),NA())","v":{"$error":"#N/A"}},null,{"$f":"'Serial Data'!BA77/('Serial Data'!AY77+'Serial Data'!AZ77+'Serial Data'!BA77)","v":{"$error":"#DIV/0!"}},{"$f":"'Serial Data'!AY77/('Serial Data'!AY77+'Serial Data'!AZ77+'Serial Data'!BA77)","v":{"$error":"#DIV/0!"}},{"$f":"'Serial Data'!AZ77/('Serial Data'!AY77+'Serial Data'!AZ77+'Serial Data'!BA77)","v":{"$error":"#DIV/0!"}},{"$f":"IF('Serial Data'!AY77+'Serial Data'!AZ77+'Serial Data'!BA77<>0,(BD77+(BE77*0.5)),NA())","v":{"$error":"#N/A"}},{"$f":"IF('Serial Data'!AY77+'Serial Data'!AZ77+'Serial Data'!BA77<>0,(BE77*0.866*Templates!K2),NA())","v":{"$error":"#N/A"}},null,{"$f":"'Serial Data'!BF77/('Serial Data'!BD77+'Serial Data'!BE77+'Serial Data'!BF77)","v":{"$error":"#DIV/0!"}},{"$f":"'Serial Data'!BD77/('Serial Data'!BD77+'Serial Data'!BE77+'Serial Data'!BF77)","v":{"$error":"#DIV/0!"}},{"$f":"'Serial Data'!BE77/('Serial Data'!BD77+'Serial Data'!BE77+'Serial Data'!BF77)","v":{"$error":"#DIV/0!"}},{"$f":"IF('Serial Data'!BD77+'Serial Data'!BE77+'Serial Data'!BF77<>0,(BJ77+(BK77*0.5)),NA())","v":{"$error":"#N/A"}},{"$f":"IF('Serial Data'!BD77+'Serial Data'!BE77+'Serial Data'!BF77<>0,(BK77*0.866*Templates!K2),NA())","v":{"$error":"#N/A"}}]
[{"$f":"'Single Data'!N79/('Single Data'!L79+'Single Data'!M79+'Single Data'!N79)","v":{"$error":"#DIV/0!"}},{"$f":"'Single Data'!L79/('Single Data'!L79+'Single Data'!M79+'Single Data'!N79)","v":{"$error":"#DIV/0!"}},{"$f":"'Single Data'!M79/('Single Data'!L79+'Single Data'!M79+'Single Data'!N79)","v":{"$error":"#DIV/0!"}},{"$f":"IF('Single Data'!L79+'Single Data'!M79+'Single Data'!N79<>0,(B78+(C78*0.5)),NA())","v":{"$error":"#N/A"}},{"$f":"IF('Single Data'!L79+'Single Data'!M79+'Single Data'!N79<>0,(C78*0.866*Templates!K2),NA())","v":{"$error":"#N/A"}},null,{"$f":"'Serial Data'!M78/('Serial Data'!K78+'Serial Data'!L78+'Serial Data'!M78)","v":{"$error":"#DIV/0!"}},{"$f":"'Serial Data'!K78/('Serial Data'!K78+'Serial Data'!L78+'Serial Data'!M78)","v":{"$error":"#DIV/0!"}},{"$f":"'Serial Data'!L78/('Serial Data'!K78+'Serial Data'!L78+'Serial Data'!M78)","v":{"$error":"#DIV/0!"}},{"$f":"IF('Serial Data'!K78+'Serial Data'!L78+'Serial Data'!M78<>0,(H78+(I78*0.5)),NA())","v":{"$error":"#N/A"}},{"$f":"IF('Serial Data'!K78+'Serial Data'!L78+'Serial Data'!M78<>0,(I78*0.866*Templates!K2),NA())","v":{"$error":"#N/A"}},null,{"$f":"'Serial Data'!R78/('Serial Data'!P78+'Serial Data'!Q78+'Serial Data'!R78)","v":{"$error":"#DIV/0!"}},{"$f":"'Serial Data'!P78/('Serial Data'!P78+'Serial Data'!Q78+'Serial Data'!R78)","v":{"$error":"#DIV/0!"}},{"$f":"'Serial Data'!Q78/('Serial Data'!P78+'Serial Data'!Q78+'Serial Data'!R78)","v":{"$error":"#DIV/0!"}},{"$f":"IF('Serial Data'!P78+'Serial Data'!Q78+'Serial Data'!R78<>0,(N78+(O78*0.5)),NA())","v":{"$error":"#N/A"}},{"$f":"IF('Serial Data'!P78+'Serial Data'!Q78+'Serial Data'!R78<>0,(O78*0.866*Templates!K2),NA())","v":{"$error":"#N/A"}},null,{"$f":"'Serial Data'!W78/('Serial Data'!U78+'Serial Data'!V78+'Serial Data'!W78)","v":{"$error":"#DIV/0!"}},{"$f":"'Serial Data'!U78/('Serial Data'!U78+'Serial Data'!V78+'Serial Data'!W78)","v":{"$error":"#DIV/0!"}},{"$f":"'Serial Data'!V78/('Serial Data'!U78+'Serial Data'!V78+'Serial Data'!W78)","v":{"$error":"#DIV/0!"}},{"$f":"IF('Serial Data'!V78+'Serial Data'!W78+'Serial Data'!U78<>0,(T78+(U78*0.5)),NA())","v":{"$error":"#N/A"}},{"$f":"IF('Serial Data'!V78+'Serial Data'!W78+'Serial Data'!U78<>0,(U78*0.866*Templates!K2),NA())","v":{"$error":"#N/A"}},null,{"$f":"'Serial Data'!AB78/('Serial Data'!AA78+'Serial Data'!AB78+'Serial Data'!Z78)","v":{"$error":"#DIV/0!"}},{"$f":"'Serial Data'!Z78/('Serial Data'!AA78+'Serial Data'!AB78+'Serial Data'!Z78)","v":{"$error":"#DIV/0!"}},{"$f":"'Serial Data'!AA78/('Serial Data'!AA78+'Serial Data'!AB78+'Serial Data'!Z78)","v":{"$error":"#DIV/0!"}},{"$f":"IF('Serial Data'!AB78+'Serial Data'!AA78+'Serial Data'!Z78<>0,(Z78+(AA78*0.5)),NA())","v":{"$error":"#N/A"}},{"$f":"IF('Serial Data'!AB78+'Serial Data'!AA78+'Serial Data'!Z78<>0,(AA78*0.866*Templates!K2),NA())","v":{"$error":"#N/A"}},null,{"$f":"'Serial Data'!AG78/('Serial Data'!AG78+'Serial Data'!AE78+'Serial Data'!AF78)","v":{"$error":"#DIV/0!"}},{"$f":"'Serial Data'!AE78/('Serial Data'!AG78+'Serial Data'!AE78+'Serial Data'!AF78)","v":{"$error":"#DIV/0!"}},{"$f":"'Serial Data'!AF78/('Serial Data'!AG78+'Serial Data'!AE78+'Serial Data'!AF78)","v":{"$error":"#DIV/0!"}},{"$f":"IF('Serial Data'!AE78+'Serial Data'!AF78+'Serial Data'!AG78<>0,(AF78+(AG78*0.5)),NA())","v":{"$error":"#N/A"}},{"$f":"IF('Serial Data'!AE78+'Serial Data'!AF78+'Serial Data'!AG78<>0,(AG78*0.866*Templates!K2),NA())","v":{"$error":"#N/A"}},null,{"$f":"'Serial Data'!AL78/('Serial Data'!AJ78+'Serial Data'!AK78+'Serial Data'!AL78)","v":{"$error":"#DIV/0!"}},{"$f":"'Serial Data'!AJ78/('Serial Data'!AJ78+'Serial Data'!AK78+'Serial Data'!AL78)","v":{"$error":"#DIV/0!"}},{"$f":"'Serial Data'!AK78/('Serial Data'!AJ78+'Serial Data'!AK78+'Serial Data'!AL78)","v":{"$error":"#DIV/0!"}},{"$f":"IF('Serial Data'!AJ78+'Serial Data'!AK78+'Serial Data'!AL78<>0,(AL78+(AM78*0.5)),NA())","v":{"$error":"#N/A"}},{"$f":"IF('Serial Data'!AJ78+'Serial Data'!AK78+'Serial Data'!AL78<>0,(AM78*0.866*Templates!K2),NA())","v":{"$error":"#N/A"}},null,{"$f":"'Serial Data'!AQ78/('Serial Data'!AO78+'Serial Data'!AP78+'Serial Data'!AQ78)","v":{"$error":"#DIV/0!"}},{"$f":"'Serial Data'!AO78/('Serial Data'!AO78+'Serial Data'!AP78+'Serial Data'!AQ78)","v":{"$error":"#DIV/0!"}},{"$f":"'Serial Data'!AP78/('Serial Data'!AO78+'Serial Data'!AP78+'Serial Data'!AQ78)","v":{"$error":"#DIV/0!"}},{"$f":"IF('Serial Data'!AO78+'Serial Data'!AP78+'Serial Data'!AQ78<>0,(AR78+(AS78*0.5)),NA())","v":{"$error":"#N/A"}},{"$f":"IF('Serial Data'!AO78+'Serial Data'!AP78+'Serial Data'!AQ78<>0,(AS78*0.866*Templates!K2),NA())","v":{"$error":"#N/A"}},null,{"$f":"'Serial Data'!AV78/('Serial Data'!AT78+'Serial Data'!AU78+'Serial Data'!AV78)","v":{"$error":"#DIV/0!"}},{"$f":"'Serial Data'!AT78/('Serial Data'!AT78+'Serial Data'!AU78+'Serial Data'!AV78)","v":{"$error":"#DIV/0!"}},{"$f":"'Serial Data'!AU78/('Serial Data'!AT78+'Serial Data'!AU78+'Serial Data'!AV78)","v":{"$error":"#DIV/0!"}},{"$f":"IF('Serial Data'!AT78+'Serial Data'!AU78+'Serial Data'!AV78<>0,(AX78+(AY78*0.5)),NA())","v":{"$error":"#N/A"}},{"$f":"IF('Serial Data'!AT78+'Serial Data'!AU78+'Serial Data'!AV78<>0,(AY78*0.866*Templates!K2),NA())","v":{"$error":"#N/A"}},null,{"$f":"'Serial Data'!BA78/('Serial Data'!AY78+'Serial Data'!AZ78+'Serial Data'!BA78)","v":{"$error":"#DIV/0!"}},{"$f":"'Serial Data'!AY78/('Serial Data'!AY78+'Serial Data'!AZ78+'Serial Data'!BA78)","v":{"$error":"#DIV/0!"}},{"$f":"'Serial Data'!AZ78/('Serial Data'!AY78+'Serial Data'!AZ78+'Serial Data'!BA78)","v":{"$error":"#DIV/0!"}},{"$f":"IF('Serial Data'!AY78+'Serial Data'!AZ78+'Serial Data'!BA78<>0,(BD78+(BE78*0.5)),NA())","v":{"$error":"#N/A"}},{"$f":"IF('Serial Data'!AY78+'Serial Data'!AZ78+'Serial Data'!BA78<>0,(BE78*0.866*Templates!K2),NA())","v":{"$error":"#N/A"}},null,{"$f":"'Serial Data'!BF78/('Serial Data'!BD78+'Serial Data'!BE78+'Serial Data'!BF78)","v":{"$error":"#DIV/0!"}},{"$f":"'Serial Data'!BD78/('Serial Data'!BD78+'Serial Data'!BE78+'Serial Data'!BF78)","v":{"$error":"#DIV/0!"}},{"$f":"'Serial Data'!BE78/('Serial Data'!BD78+'Serial Data'!BE78+'Serial Data'!BF78)","v":{"$error":"#DIV/0!"}},{"$f":"IF('Serial Data'!BD78+'Serial Data'!BE78+'Serial Data'!BF78<>0,(BJ78+(BK78*0.5)),NA())","v":{"$error":"#N/A"}},{"$f":"IF('Serial Data'!BD78+'Serial Data'!BE78+'Serial Data'!BF78<>0,(BK78*0.866*Templates!K2),NA())","v":{"$error":"#N/A"}}]
[{"$f":"'Single Data'!N80/('Single Data'!L80+'Single Data'!M80+'Single Data'!N80)","v":{"$error":"#DIV/0!"}},{"$f":"'Single Data'!L80/('Single Data'!L80+'Single Data'!M80+'Single Data'!N80)","v":{"$error":"#DIV/0!"}},{"$f":"'Single Data'!M80/('Single Data'!L80+'Single Data'!M80+'Single Data'!N80)","v":{"$error":"#DIV/0!"}},{"$f":"IF('Single Data'!L80+'Single Data'!M80+'Single Data'!N80<>0,(B79+(C79*0.5)),NA())","v":{"$error":"#N/A"}},{"$f":"IF('Single Data'!L80+'Single Data'!M80+'Single Data'!N80<>0,(C79*0.866*Templates!K2),NA())","v":{"$error":"#N/A"}},null,{"$f":"'Serial Data'!M79/('Serial Data'!K79+'Serial Data'!L79+'Serial Data'!M79)","v":{"$error":"#DIV/0!"}},{"$f":"'Serial Data'!K79/('Serial Data'!K79+'Serial Data'!L79+'Serial Data'!M79)","v":{"$error":"#DIV/0!"}},{"$f":"'Serial Data'!L79/('Serial Data'!K79+'Serial Data'!L79+'Serial Data'!M79)","v":{"$error":"#DIV/0!"}},{"$f":"IF('Serial Data'!K79+'Serial Data'!L79+'Serial Data'!M79<>0,(H79+(I79*0.5)),NA())","v":{"$error":"#N/A"}},{"$f":"IF('Serial Data'!K79+'Serial Data'!L79+'Serial Data'!M79<>0,(I79*0.866*Templates!K2),NA())","v":{"$error":"#N/A"}},null,{"$f":"'Serial Data'!R79/('Serial Data'!P79+'Serial Data'!Q79+'Serial Data'!R79)","v":{"$error":"#DIV/0!"}},{"$f":"'Serial Data'!P79/('Serial Data'!P79+'Serial Data'!Q79+'Serial Data'!R79)","v":{"$error":"#DIV/0!"}},{"$f":"'Serial Data'!Q79/('Serial Data'!P79+'Serial Data'!Q79+'Serial Data'!R79)","v":{"$error":"#DIV/0!"}},{"$f":"IF('Serial Data'!P79+'Serial Data'!Q79+'Serial Data'!R79<>0,(N79+(O79*0.5)),NA())","v":{"$error":"#N/A"}},{"$f":"IF('Serial Data'!P79+'Serial Data'!Q79+'Serial Data'!R79<>0,(O79*0.866*Templates!K2),NA())","v":{"$error":"#N/A"}},null,{"$f":"'Serial Data'!W79/('Serial Data'!U79+'Serial Data'!V79+'Serial Data'!W79)","v":{"$error":"#DIV/0!"}},{"$f":"'Serial Data'!U79/('Serial Data'!U79+'Serial Data'!V79+'Serial Data'!W79)","v":{"$error":"#DIV/0!"}},{"$f":"'Serial Data'!V79/('Serial Data'!U79+'Serial Data'!V79+'Serial Data'!W79)","v":{"$error":"#DIV/0!"}},{"$f":"IF('Serial Data'!V79+'Serial Data'!W79+'Serial Data'!U79<>0,(T79+(U79*0.5)),NA())","v":{"$error":"#N/A"}},{"$f":"IF('Serial Data'!V79+'Serial Data'!W79+'Serial Data'!U79<>0,(U79*0.866*Templates!K2),NA())","v":{"$error":"#N/A"}},null,{"$f":"'Serial Data'!AB79/('Serial Data'!AA79+'Serial Data'!AB79+'Serial Data'!Z79)","v":{"$error":"#DIV/0!"}},{"$f":"'Serial Data'!Z79/('Serial Data'!AA79+'Serial Data'!AB79+'Serial Data'!Z79)","v":{"$error":"#DIV/0!"}},{"$f":"'Serial Data'!AA79/('Serial Data'!AA79+'Serial Data'!AB79+'Serial Data'!Z79)","v":{"$error":"#DIV/0!"}},{"$f":"IF('Serial Data'!AB79+'Serial Data'!AA79+'Serial Data'!Z79<>0,(Z79+(AA79*0.5)),NA())","v":{"$error":"#N/A"}},{"$f":"IF('Serial Data'!AB79+'Serial Data'!AA79+'Serial Data'!Z79<>0,(AA79*0.866*Templates!K2),NA())","v":{"$error":"#N/A"}},null,{"$f":"'Serial Data'!AG79/('Serial Data'!AG79+'Serial Data'!AE79+'Serial Data'!AF79)","v":{"$error":"#DIV/0!"}},{"$f":"'Serial Data'!AE79/('Serial Data'!AG79+'Serial Data'!AE79+'Serial Data'!AF79)","v":{"$error":"#DIV/0!"}},{"$f":"'Serial Data'!AF79/('Serial Data'!AG79+'Serial Data'!AE79+'Serial Data'!AF79)","v":{"$error":"#DIV/0!"}},{"$f":"IF('Serial Data'!AE79+'Serial Data'!AF79+'Serial Data'!AG79<>0,(AF79+(AG79*0.5)),NA())","v":{"$error":"#N/A"}},{"$f":"IF('Serial Data'!AE79+'Serial Data'!AF79+'Serial Data'!AG79<>0,(AG79*0.866*Templates!K2),NA())","v":{"$error":"#N/A"}},null,{"$f":"'Serial Data'!AL79/('Serial Data'!AJ79+'Serial Data'!AK79+'Serial Data'!AL79)","v":{"$error":"#DIV/0!"}},{"$f":"'Serial Data'!AJ79/('Serial Data'!AJ79+'Serial Data'!AK79+'Serial Data'!AL79)","v":{"$error":"#DIV/0!"}},{"$f":"'Serial Data'!AK79/('Serial Data'!AJ79+'Serial Data'!AK79+'Serial Data'!AL79)","v":{"$error":"#DIV/0!"}},{"$f":"IF('Serial Data'!AJ79+'Serial Data'!AK79+'Serial Data'!AL79<>0,(AL79+(AM79*0.5)),NA())","v":{"$error":"#N/A"}},{"$f":"IF('Serial Data'!AJ79+'Serial Data'!AK79+'Serial Data'!AL79<>0,(AM79*0.866*Templates!K2),NA())","v":{"$error":"#N/A"}},null,{"$f":"'Serial Data'!AQ79/('Serial Data'!AO79+'Serial Data'!AP79+'Serial Data'!AQ79)","v":{"$error":"#DIV/0!"}},{"$f":"'Serial Data'!AO79/('Serial Data'!AO79+'Serial Data'!AP79+'Serial Data'!AQ79)","v":{"$error":"#DIV/0!"}},{"$f":"'Serial Data'!AP79/('Serial Data'!AO79+'Serial Data'!AP79+'Serial Data'!AQ79)","v":{"$error":"#DIV/0!"}},{"$f":"IF('Serial Data'!AO79+'Serial Data'!AP79+'Serial Data'!AQ79<>0,(AR79+(AS79*0.5)),NA())","v":{"$error":"#N/A"}},{"$f":"IF('Serial Data'!AO79+'Serial Data'!AP79+'Serial Data'!AQ79<>0,(AS79*0.866*Templates!K2),NA())","v":{"$error":"#N/A"}},null,{"$f":"'Serial Data'!AV79/('Serial Data'!AT79+'Serial Data'!AU79+'Serial Data'!AV79)","v":{"$error":"#DIV/0!"}},{"$f":"'Serial Data'!AT79/('Serial Data'!AT79+'Serial Data'!AU79+'Serial Data'!AV79)","v":{"$error":"#DIV/0!"}},{"$f":"'Serial Data'!AU79/('Serial Data'!AT79+'Serial Data'!AU79+'Serial Data'!AV79)","v":{"$error":"#DIV/0!"}},{"$f":"IF('Serial Data'!AT79+'Serial Data'!AU79+'Serial Data'!AV79<>0,(AX79+(AY79*0.5)),NA())","v":{"$error":"#N/A"}},{"$f":"IF('Serial Data'!AT79+'Serial Data'!AU79+'Serial Data'!AV79<>0,(AY79*0.866*Templates!K2),NA())","v":{"$error":"#N/A"}},null,{"$f":"'Serial Data'!BA79/('Serial Data'!AY79+'Serial Data'!AZ79+'Serial Data'!BA79)","v":{"$error":"#DIV/0!"}},{"$f":"'Serial Data'!AY79/('Serial Data'!AY79+'Serial Data'!AZ79+'Serial Data'!BA79)","v":{"$error":"#DIV/0!"}},{"$f":"'Serial Data'!AZ79/('Serial Data'!AY79+'Serial Data'!AZ79+'Serial Data'!BA79)","v":{"$error":"#DIV/0!"}},{"$f":"IF('Serial Data'!AY79+'Serial Data'!AZ79+'Serial Data'!BA79<>0,(BD79+(BE79*0.5)),NA())","v":{"$error":"#N/A"}},{"$f":"IF('Serial Data'!AY79+'Serial Data'!AZ79+'Serial Data'!BA79<>0,(BE79*0.866*Templates!K2),NA())","v":{"$error":"#N/A"}},null,{"$f":"'Serial Data'!BF79/('Serial Data'!BD79+'Serial Data'!BE79+'Serial Data'!BF79)","v":{"$error":"#DIV/0!"}},{"$f":"'Serial Data'!BD79/('Serial Data'!BD79+'Serial Data'!BE79+'Serial Data'!BF79)","v":{"$error":"#DIV/0!"}},{"$f":"'Serial Data'!BE79/('Serial Data'!BD79+'Serial Data'!BE79+'Serial Data'!BF79)","v":{"$error":"#DIV/0!"}},{"$f":"IF('Serial Data'!BD79+'Serial Data'!BE79+'Serial Data'!BF79<>0,(BJ79+(BK79*0.5)),NA())","v":{"$error":"#N/A"}},{"$f":"IF('Serial Data'!BD79+'Serial Data'!BE79+'Serial Data'!BF79<>0,(BK79*0.866*Templates!K2),NA())","v":{"$error":"#N/A"}}]
[{"$f":"'Single Data'!N81/('Single Data'!L81+'Single Data'!M81+'Single Data'!N81)","v":{"$error":"#DIV/0!"}},{"$f":"'Single Data'!L81/('Single Data'!L81+'Single Data'!M81+'Single Data'!N81)","v":{"$error":"#DIV/0!"}},{"$f":"'Single Data'!M81/('Single Data'!L81+'Single Data'!M81+'Single Data'!N81)","v":{"$error":"#DIV/0!"}},{"$f":"IF('Single Data'!L81+'Single Data'!M81+'Single Data'!N81<>0,(B80+(C80*0.5)),NA())","v":{"$error":"#N/A"}},{"$f":"IF('Single Data'!L81+'Single Data'!M81+'Single Data'!N81<>0,(C80*0.866*Templates!K2),NA())","v":{"$error":"#N/A"}},null,{"$f":"'Serial Data'!M80/('Serial Data'!K80+'Serial Data'!L80+'Serial Data'!M80)","v":{"$error":"#DIV/0!"}},{"$f":"'Serial Data'!K80/('Serial Data'!K80+'Serial Data'!L80+'Serial Data'!M80)","v":{"$error":"#DIV/0!"}},{"$f":"'Serial Data'!L80/('Serial Data'!K80+'Serial Data'!L80+'Serial Data'!M80)","v":{"$error":"#DIV/0!"}},{"$f":"IF('Serial Data'!K80+'Serial Data'!L80+'Serial Data'!M80<>0,(H80+(I80*0.5)),NA())","v":{"$error":"#N/A"}},{"$f":"IF('Serial Data'!K80+'Serial Data'!L80+'Serial Data'!M80<>0,(I80*0.866*Templates!K2),NA())","v":{"$error":"#N/A"}},null,{"$f":"'Serial Data'!R80/('Serial Data'!P80+'Serial Data'!Q80+'Serial Data'!R80)","v":{"$error":"#DIV/0!"}},{"$f":"'Serial Data'!P80/('Serial Data'!P80+'Serial Data'!Q80+'Serial Data'!R80)","v":{"$error":"#DIV/0!"}},{"$f":"'Serial Data'!Q80/('Serial Data'!P80+'Serial Data'!Q80+'Serial Data'!R80)","v":{"$error":"#DIV/0!"}},{"$f":"IF('Serial Data'!P80+'Serial Data'!Q80+'Serial Data'!R80<>0,(N80+(O80*0.5)),NA())","v":{"$error":"#N/A"}},{"$f":"IF('Serial Data'!P80+'Serial Data'!Q80+'Serial Data'!R80<>0,(O80*0.866*Templates!K2),NA())","v":{"$error":"#N/A"}},null,{"$f":"'Serial Data'!W80/('Serial Data'!U80+'Serial Data'!V80+'Serial Data'!W80)","v":{"$error":"#DIV/0!"}},{"$f":"'Serial Data'!U80/('Serial Data'!U80+'Serial Data'!V80+'Serial Data'!W80)","v":{"$error":"#DIV/0!"}},{"$f":"'Serial Data'!V80/('Serial Data'!U80+'Serial Data'!V80+'Serial Data'!W80)","v":{"$error":"#DIV/0!"}},{"$f":"IF('Serial Data'!V80+'Serial Data'!W80+'Serial Data'!U80<>0,(T80+(U80*0.5)),NA())","v":{"$error":"#N/A"}},{"$f":"IF('Serial Data'!V80+'Serial Data'!W80+'Serial Data'!U80<>0,(U80*0.866*Templates!K2),NA())","v":{"$error":"#N/A"}},null,{"$f":"'Serial Data'!AB80/('Serial Data'!AA80+'Serial Data'!AB80+'Serial Data'!Z80)","v":{"$error":"#DIV/0!"}},{"$f":"'Serial Data'!Z80/('Serial Data'!AA80+'Serial Data'!AB80+'Serial Data'!Z80)","v":{"$error":"#DIV/0!"}},{"$f":"'Serial Data'!AA80/('Serial Data'!AA80+'Serial Data'!AB80+'Serial Data'!Z80)","v":{"$error":"#DIV/0!"}},{"$f":"IF('Serial Data'!AB80+'Serial Data'!AA80+'Serial Data'!Z80<>0,(Z80+(AA80*0.5)),NA())","v":{"$error":"#N/A"}},{"$f":"IF('Serial Data'!AB80+'Serial Data'!AA80+'Serial Data'!Z80<>0,(AA80*0.866*Templates!K2),NA())","v":{"$error":"#N/A"}},null,{"$f":"'Serial Data'!AG80/('Serial Data'!AG80+'Serial Data'!AE80+'Serial Data'!AF80)","v":{"$error":"#DIV/0!"}},{"$f":"'Serial Data'!AE80/('Serial Data'!AG80+'Serial Data'!AE80+'Serial Data'!AF80)","v":{"$error":"#DIV/0!"}},{"$f":"'Serial Data'!AF80/('Serial Data'!AG80+'Serial Data'!AE80+'Serial Data'!AF80)","v":{"$error":"#DIV/0!"}},{"$f":"IF('Serial Data'!AE80+'Serial Data'!AF80+'Serial Data'!AG80<>0,(AF80+(AG80*0.5)),NA())","v":{"$error":"#N/A"}},{"$f":"IF('Serial Data'!AE80+'Serial Data'!AF80+'Serial Data'!AG80<>0,(AG80*0.866*Templates!K2),NA())","v":{"$error":"#N/A"}},null,{"$f":"'Serial Data'!AL80/('Serial Data'!AJ80+'Serial Data'!AK80+'Serial Data'!AL80)","v":{"$error":"#DIV/0!"}},{"$f":"'Serial Data'!AJ80/('Serial Data'!AJ80+'Serial Data'!AK80+'Serial Data'!AL80)","v":{"$error":"#DIV/0!"}},{"$f":"'Serial Data'!AK80/('Serial Data'!AJ80+'Serial Data'!AK80+'Serial Data'!AL80)","v":{"$error":"#DIV/0!"}},{"$f":"IF('Serial Data'!AJ80+'Serial Data'!AK80+'Serial Data'!AL80<>0,(AL80+(AM80*0.5)),NA())","v":{"$error":"#N/A"}},{"$f":"IF('Serial Data'!AJ80+'Serial Data'!AK80+'Serial Data'!AL80<>0,(AM80*0.866*Templates!K2),NA())","v":{"$error":"#N/A"}},null,{"$f":"'Serial Data'!AQ80/('Serial Data'!AO80+'Serial Data'!AP80+'Serial Data'!AQ80)","v":{"$error":"#DIV/0!"}},{"$f":"'Serial Data'!AO80/('Serial Data'!AO80+'Serial Data'!AP80+'Serial Data'!AQ80)","v":{"$error":"#DIV/0!"}},{"$f":"'Serial Data'!AP80/('Serial Data'!AO80+'Serial Data'!AP80+'Serial Data'!AQ80)","v":{"$error":"#DIV/0!"}},{"$f":"IF('Serial Data'!AO80+'Serial Data'!AP80+'Serial Data'!AQ80<>0,(AR80+(AS80*0.5)),NA())","v":{"$error":"#N/A"}},{"$f":"IF('Serial Data'!AO80+'Serial Data'!AP80+'Serial Data'!AQ80<>0,(AS80*0.866*Templates!K2),NA())","v":{"$error":"#N/A"}},null,{"$f":"'Serial Data'!AV80/('Serial Data'!AT80+'Serial Data'!AU80+'Serial Data'!AV80)","v":{"$error":"#DIV/0!"}},{"$f":"'Serial Data'!AT80/('Serial Data'!AT80+'Serial Data'!AU80+'Serial Data'!AV80)","v":{"$error":"#DIV/0!"}},{"$f":"'Serial Data'!AU80/('Serial Data'!AT80+'Serial Data'!AU80+'Serial Data'!AV80)","v":{"$error":"#DIV/0!"}},{"$f":"IF('Serial Data'!AT80+'Serial Data'!AU80+'Serial Data'!AV80<>0,(AX80+(AY80*0.5)),NA())","v":{"$error":"#N/A"}},{"$f":"IF('Serial Data'!AT80+'Serial Data'!AU80+'Serial Data'!AV80<>0,(AY80*0.866*Templates!K2),NA())","v":{"$error":"#N/A"}},null,{"$f":"'Serial Data'!BA80/('Serial Data'!AY80+'Serial Data'!AZ80+'Serial Data'!BA80)","v":{"$error":"#DIV/0!"}},{"$f":"'Serial Data'!AY80/('Serial Data'!AY80+'Serial Data'!AZ80+'Serial Data'!BA80)","v":{"$error":"#DIV/0!"}},{"$f":"'Serial Data'!AZ80/('Serial Data'!AY80+'Serial Data'!AZ80+'Serial Data'!BA80)","v":{"$error":"#DIV/0!"}},{"$f":"IF('Serial Data'!AY80+'Serial Data'!AZ80+'Serial Data'!BA80<>0,(BD80+(BE80*0.5)),NA())","v":{"$error":"#N/A"}},{"$f":"IF('Serial Data'!AY80+'Serial Data'!AZ80+'Serial Data'!BA80<>0,(BE80*0.866*Templates!K2),NA())","v":{"$error":"#N/A"}},null,{"$f":"'Serial Data'!BF80/('Serial Data'!BD80+'Serial Data'!BE80+'Serial Data'!BF80)","v":{"$error":"#DIV/0!"}},{"$f":"'Serial Data'!BD80/('Serial Data'!BD80+'Serial Data'!BE80+'Serial Data'!BF80)","v":{"$error":"#DIV/0!"}},{"$f":"'Serial Data'!BE80/('Serial Data'!BD80+'Serial Data'!BE80+'Serial Data'!BF80)","v":{"$error":"#DIV/0!"}},{"$f":"IF('Serial Data'!BD80+'Serial Data'!BE80+'Serial Data'!BF80<>0,(BJ80+(BK80*0.5)),NA())","v":{"$error":"#N/A"}},{"$f":"IF('Serial Data'!BD80+'Serial Data'!BE80+'Serial Data'!BF80<>0,(BK80*0.866*Templates!K2),NA())","v":{"$error":"#N/A"}}]
[{"$f":"'Single Data'!N82/('Single Data'!L82+'Single Data'!M82+'Single Data'!N82)","v":{"$error":"#DIV/0!"}},{"$f":"'Single Data'!L82/('Single Data'!L82+'Single Data'!M82+'Single Data'!N82)","v":{"$error":"#DIV/0!"}},{"$f":"'Single Data'!M82/('Single Data'!L82+'Single Data'!M82+'Single Data'!N82)","v":{"$error":"#DIV/0!"}},{"$f":"IF('Single Data'!L82+'Single Data'!M82+'Single Data'!N82<>0,(B81+(C81*0.5)),NA())","v":{"$error":"#N/A"}},{"$f":"IF('Single Data'!L82+'Single Data'!M82+'Single Data'!N82<>0,(C81*0.866*Templates!K2),NA())","v":{"$error":"#N/A"}},null,{"$f":"'Serial Data'!M81/('Serial Data'!K81+'Serial Data'!L81+'Serial Data'!M81)","v":{"$error":"#DIV/0!"}},{"$f":"'Serial Data'!K81/('Serial Data'!K81+'Serial Data'!L81+'Serial Data'!M81)","v":{"$error":"#DIV/0!"}},{"$f":"'Serial Data'!L81/('Serial Data'!K81+'Serial Data'!L81+'Serial Data'!M81)","v":{"$error":"#DIV/0!"}},{"$f":"IF('Serial Data'!K81+'Serial Data'!L81+'Serial Data'!M81<>0,(H81+(I81*0.5)),NA())","v":{"$error":"#N/A"}},{"$f":"IF('Serial Data'!K81+'Serial Data'!L81+'Serial Data'!M81<>0,(I81*0.866*Templates!K2),NA())","v":{"$error":"#N/A"}},null,{"$f":"'Serial Data'!R81/('Serial Data'!P81+'Serial Data'!Q81+'Serial Data'!R81)","v":{"$error":"#DIV/0!"}},{"$f":"'Serial Data'!P81/('Serial Data'!P81+'Serial Data'!Q81+'Serial Data'!R81)","v":{"$error":"#DIV/0!"}},{"$f":"'Serial Data'!Q81/('Serial Data'!P81+'Serial Data'!Q81+'Serial Data'!R81)","v":{"$error":"#DIV/0!"}},{"$f":"IF('Serial Data'!P81+'Serial Data'!Q81+'Serial Data'!R81<>0,(N81+(O81*0.5)),NA())","v":{"$error":"#N/A"}},{"$f":"IF('Serial Data'!P81+'Serial Data'!Q81+'Serial Data'!R81<>0,(O81*0.866*Templates!K2),NA())","v":{"$error":"#N/A"}},null,{"$f":"'Serial Data'!W81/('Serial Data'!U81+'Serial Data'!V81+'Serial Data'!W81)","v":{"$error":"#DIV/0!"}},{"$f":"'Serial Data'!U81/('Serial Data'!U81+'Serial Data'!V81+'Serial Data'!W81)","v":{"$error":"#DIV/0!"}},{"$f":"'Serial Data'!V81/('Serial Data'!U81+'Serial Data'!V81+'Serial Data'!W81)","v":{"$error":"#DIV/0!"}},{"$f":"IF('Serial Data'!V81+'Serial Data'!W81+'Serial Data'!U81<>0,(T81+(U81*0.5)),NA())","v":{"$error":"#N/A"}},{"$f":"IF('Serial Data'!V81+'Serial Data'!W81+'Serial Data'!U81<>0,(U81*0.866*Templates!K2),NA())","v":{"$error":"#N/A"}},null,{"$f":"'Serial Data'!AB81/('Serial Data'!AA81+'Serial Data'!AB81+'Serial Data'!Z81)","v":{"$error":"#DIV/0!"}},{"$f":"'Serial Data'!Z81/('Serial Data'!AA81+'Serial Data'!AB81+'Serial Data'!Z81)","v":{"$error":"#DIV/0!"}},{"$f":"'Serial Data'!AA81/('Serial Data'!AA81+'Serial Data'!AB81+'Serial Data'!Z81)","v":{"$error":"#DIV/0!"}},{"$f":"IF('Serial Data'!AB81+'Serial Data'!AA81+'Serial Data'!Z81<>0,(Z81+(AA81*0.5)),NA())","v":{"$error":"#N/A"}},{"$f":"IF('Serial Data'!AB81+'Serial Data'!AA81+'Serial Data'!Z81<>0,(AA81*0.866*Templates!K2),NA())","v":{"$error":"#N/A"}},null,{"$f":"'Serial Data'!AG81/('Serial Data'!AG81+'Serial Data'!AE81+'Serial Data'!AF81)","v":{"$error":"#DIV/0!"}},{"$f":"'Serial Data'!AE81/('Serial Data'!AG81+'Serial Data'!AE81+'Serial Data'!AF81)","v":{"$error":"#DIV/0!"}},{"$f":"'Serial Data'!AF81/('Serial Data'!AG81+'Serial Data'!AE81+'Serial Data'!AF81)","v":{"$error":"#DIV/0!"}},{"$f":"IF('Serial Data'!AE81+'Serial Data'!AF81+'Serial Data'!AG81<>0,(AF81+(AG81*0.5)),NA())","v":{"$error":"#N/A"}},{"$f":"IF('Serial Data'!AE81+'Serial Data'!AF81+'Serial Data'!AG81<>0,(AG81*0.866*Templates!K2),NA())","v":{"$error":"#N/A"}},null,{"$f":"'Serial Data'!AL81/('Serial Data'!AJ81+'Serial Data'!AK81+'Serial Data'!AL81)","v":{"$error":"#DIV/0!"}},{"$f":"'Serial Data'!AJ81/('Serial Data'!AJ81+'Serial Data'!AK81+'Serial Data'!AL81)","v":{"$error":"#DIV/0!"}},{"$f":"'Serial Data'!AK81/('Serial Data'!AJ81+'Serial Data'!AK81+'Serial Data'!AL81)","v":{"$error":"#DIV/0!"}},{"$f":"IF('Serial Data'!AJ81+'Serial Data'!AK81+'Serial Data'!AL81<>0,(AL81+(AM81*0.5)),NA())","v":{"$error":"#N/A"}},{"$f":"IF('Serial Data'!AJ81+'Serial Data'!AK81+'Serial Data'!AL81<>0,(AM81*0.866*Templates!K2),NA())","v":{"$error":"#N/A"}},null,{"$f":"'Serial Data'!AQ81/('Serial Data'!AO81+'Serial Data'!AP81+'Serial Data'!AQ81)","v":{"$error":"#DIV/0!"}},{"$f":"'Serial Data'!AO81/('Serial Data'!AO81+'Serial Data'!AP81+'Serial Data'!AQ81)","v":{"$error":"#DIV/0!"}},{"$f":"'Serial Data'!AP81/('Serial Data'!AO81+'Serial Data'!AP81+'Serial Data'!AQ81)","v":{"$error":"#DIV/0!"}},{"$f":"IF('Serial Data'!AO81+'Serial Data'!AP81+'Serial Data'!AQ81<>0,(AR81+(AS81*0.5)),NA())","v":{"$error":"#N/A"}},{"$f":"IF('Serial Data'!AO81+'Serial Data'!AP81+'Serial Data'!AQ81<>0,(AS81*0.866*Templates!K2),NA())","v":{"$error":"#N/A"}},null,{"$f":"'Serial Data'!AV81/('Serial Data'!AT81+'Serial Data'!AU81+'Serial Data'!AV81)","v":{"$error":"#DIV/0!"}},{"$f":"'Serial Data'!AT81/('Serial Data'!AT81+'Serial Data'!AU81+'Serial Data'!AV81)","v":{"$error":"#DIV/0!"}},{"$f":"'Serial Data'!AU81/('Serial Data'!AT81+'Serial Data'!AU81+'Serial Data'!AV81)","v":{"$error":"#DIV/0!"}},{"$f":"IF('Serial Data'!AT81+'Serial Data'!AU81+'Serial Data'!AV81<>0,(AX81+(AY81*0.5)),NA())","v":{"$error":"#N/A"}},{"$f":"IF('Serial Data'!AT81+'Serial Data'!AU81+'Serial Data'!AV81<>0,(AY81*0.866*Templates!K2),NA())","v":{"$error":"#N/A"}},null,{"$f":"'Serial Data'!BA81/('Serial Data'!AY81+'Serial Data'!AZ81+'Serial Data'!BA81)","v":{"$error":"#DIV/0!"}},{"$f":"'Serial Data'!AY81/('Serial Data'!AY81+'Serial Data'!AZ81+'Serial Data'!BA81)","v":{"$error":"#DIV/0!"}},{"$f":"'Serial Data'!AZ81/('Serial Data'!AY81+'Serial Data'!AZ81+'Serial Data'!BA81)","v":{"$error":"#DIV/0!"}},{"$f":"IF('Serial Data'!AY81+'Serial Data'!AZ81+'Serial Data'!BA81<>0,(BD81+(BE81*0.5)),NA())","v":{"$error":"#N/A"}},{"$f":"IF('Serial Data'!AY81+'Serial Data'!AZ81+'Serial Data'!BA81<>0,(BE81*0.866*Templates!K2),NA())","v":{"$error":"#N/A"}},null,{"$f":"'Serial Data'!BF81/('Serial Data'!BD81+'Serial Data'!BE81+'Serial Data'!BF81)","v":{"$error":"#DIV/0!"}},{"$f":"'Serial Data'!BD81/('Serial Data'!BD81+'Serial Data'!BE81+'Serial Data'!BF81)","v":{"$error":"#DIV/0!"}},{"$f":"'Serial Data'!BE81/('Serial Data'!BD81+'Serial Data'!BE81+'Serial Data'!BF81)","v":{"$error":"#DIV/0!"}},{"$f":"IF('Serial Data'!BD81+'Serial Data'!BE81+'Serial Data'!BF81<>0,(BJ81+(BK81*0.5)),NA())","v":{"$error":"#N/A"}},{"$f":"IF('Serial Data'!BD81+'Serial Data'!BE81+'Serial Data'!BF81<>0,(BK81*0.866*Templates!K2),NA())","v":{"$error":"#N/A"}}]
[{"$f":"'Single Data'!N83/('Single Data'!L83+'Single Data'!M83+'Single Data'!N83)","v":{"$error":"#DIV/0!"}},{"$f":"'Single Data'!L83/('Single Data'!L83+'Single Data'!M83+'Single Data'!N83)","v":{"$error":"#DIV/0!"}},{"$f":"'Single Data'!M83/('Single Data'!L83+'Single Data'!M83+'Single Data'!N83)","v":{"$error":"#DIV/0!"}},{"$f":"IF('Single Data'!L83+'Single Data'!M83+'Single Data'!N83<>0,(B82+(C82*0.5)),NA())","v":{"$error":"#N/A"}},{"$f":"IF('Single Data'!L83+'Single Data'!M83+'Single Data'!N83<>0,(C82*0.866*Templates!K2),NA())","v":{"$error":"#N/A"}},null,{"$f":"'Serial Data'!M82/('Serial Data'!K82+'Serial Data'!L82+'Serial Data'!M82)","v":{"$error":"#DIV/0!"}},{"$f":"'Serial Data'!K82/('Serial Data'!K82+'Serial Data'!L82+'Serial Data'!M82)","v":{"$error":"#DIV/0!"}},{"$f":"'Serial Data'!L82/('Serial Data'!K82+'Serial Data'!L82+'Serial Data'!M82)","v":{"$error":"#DIV/0!"}},{"$f":"IF('Serial Data'!K82+'Serial Data'!L82+'Serial Data'!M82<>0,(H82+(I82*0.5)),NA())","v":{"$error":"#N/A"}},{"$f":"IF('Serial Data'!K82+'Serial Data'!L82+'Serial Data'!M82<>0,(I82*0.866*Templates!K2),NA())","v":{"$error":"#N/A"}},null,{"$f":"'Serial Data'!R82/('Serial Data'!P82+'Serial Data'!Q82+'Serial Data'!R82)","v":{"$error":"#DIV/0!"}},{"$f":"'Serial Data'!P82/('Serial Data'!P82+'Serial Data'!Q82+'Serial Data'!R82)","v":{"$error":"#DIV/0!"}},{"$f":"'Serial Data'!Q82/('Serial Data'!P82+'Serial Data'!Q82+'Serial Data'!R82)","v":{"$error":"#DIV/0!"}},{"$f":"IF('Serial Data'!P82+'Serial Data'!Q82+'Serial Data'!R82<>0,(N82+(O82*0.5)),NA())","v":{"$error":"#N/A"}},{"$f":"IF('Serial Data'!P82+'Serial Data'!Q82+'Serial Data'!R82<>0,(O82*0.866*Templates!K2),NA())","v":{"$error":"#N/A"}},null,{"$f":"'Serial Data'!W82/('Serial Data'!U82+'Serial Data'!V82+'Serial Data'!W82)","v":{"$error":"#DIV/0!"}},{"$f":"'Serial Data'!U82/('Serial Data'!U82+'Serial Data'!V82+'Serial Data'!W82)","v":{"$error":"#DIV/0!"}},{"$f":"'Serial Data'!V82/('Serial Data'!U82+'Serial Data'!V82+'Serial Data'!W82)","v":{"$error":"#DIV/0!"}},{"$f":"IF('Serial Data'!V82+'Serial Data'!W82+'Serial Data'!U82<>0,(T82+(U82*0.5)),NA())","v":{"$error":"#N/A"}},{"$f":"IF('Serial Data'!V82+'Serial Data'!W82+'Serial Data'!U82<>0,(U82*0.866*Templates!K2),NA())","v":{"$error":"#N/A"}},null,{"$f":"'Serial Data'!AB82/('Serial Data'!AA82+'Serial Data'!AB82+'Serial Data'!Z82)","v":{"$error":"#DIV/0!"}},{"$f":"'Serial Data'!Z82/('Serial Data'!AA82+'Serial Data'!AB82+'Serial Data'!Z82)","v":{"$error":"#DIV/0!"}},{"$f":"'Serial Data'!AA82/('Serial Data'!AA82+'Serial Data'!AB82+'Serial Data'!Z82)","v":{"$error":"#DIV/0!"}},{"$f":"IF('Serial Data'!AB82+'Serial Data'!AA82+'Serial Data'!Z82<>0,(Z82+(AA82*0.5)),NA())","v":{"$error":"#N/A"}},{"$f":"IF('Serial Data'!AB82+'Serial Data'!AA82+'Serial Data'!Z82<>0,(AA82*0.866*Templates!K2),NA())","v":{"$error":"#N/A"}},null,{"$f":"'Serial Data'!AG82/('Serial Data'!AG82+'Serial Data'!AE82+'Serial Data'!AF82)","v":{"$error":"#DIV/0!"}},{"$f":"'Serial Data'!AE82/('Serial Data'!AG82+'Serial Data'!AE82+'Serial Data'!AF82)","v":{"$error":"#DIV/0!"}},{"$f":"'Serial Data'!AF82/('Serial Data'!AG82+'Serial Data'!AE82+'Serial Data'!AF82)","v":{"$error":"#DIV/0!"}},{"$f":"IF('Serial Data'!AE82+'Serial Data'!AF82+'Serial Data'!AG82<>0,(AF82+(AG82*0.5)),NA())","v":{"$error":"#N/A"}},{"$f":"IF('Serial Data'!AE82+'Serial Data'!AF82+'Serial Data'!AG82<>0,(AG82*0.866*Templates!K2),NA())","v":{"$error":"#N/A"}},null,{"$f":"'Serial Data'!AL82/('Serial Data'!AJ82+'Serial Data'!AK82+'Serial Data'!AL82)","v":{"$error":"#DIV/0!"}},{"$f":"'Serial Data'!AJ82/('Serial Data'!AJ82+'Serial Data'!AK82+'Serial Data'!AL82)","v":{"$error":"#DIV/0!"}},{"$f":"'Serial Data'!AK82/('Serial Data'!AJ82+'Serial Data'!AK82+'Serial Data'!AL82)","v":{"$error":"#DIV/0!"}},{"$f":"IF('Serial Data'!AJ82+'Serial Data'!AK82+'Serial Data'!AL82<>0,(AL82+(AM82*0.5)),NA())","v":{"$error":"#N/A"}},{"$f":"IF('Serial Data'!AJ82+'Serial Data'!AK82+'Serial Data'!AL82<>0,(AM82*0.866*Templates!K2),NA())","v":{"$error":"#N/A"}},null,{"$f":"'Serial Data'!AQ82/('Serial Data'!AO82+'Serial Data'!AP82+'Serial Data'!AQ82)","v":{"$error":"#DIV/0!"}},{"$f":"'Serial Data'!AO82/('Serial Data'!AO82+'Serial Data'!AP82+'Serial Data'!AQ82)","v":{"$error":"#DIV/0!"}},{"$f":"'Serial Data'!AP82/('Serial Data'!AO82+'Serial Data'!AP82+'Serial Data'!AQ82)","v":{"$error":"#DIV/0!"}},{"$f":"IF('Serial Data'!AO82+'Serial Data'!AP82+'Serial Data'!AQ82<>0,(AR82+(AS82*0.5)),NA())","v":{"$error":"#N/A"}},{"$f":"IF('Serial Data'!AO82+'Serial Data'!AP82+'Serial Data'!AQ82<>0,(AS82*0.866*Templates!K2),NA())","v":{"$error":"#N/A"}},null,{"$f":"'Serial Data'!AV82/('Serial Data'!AT82+'Serial Data'!AU82+'Serial Data'!AV82)","v":{"$error":"#DIV/0!"}},{"$f":"'Serial Data'!AT82/('Serial Data'!AT82+'Serial Data'!AU82+'Serial Data'!AV82)","v":{"$error":"#DIV/0!"}},{"$f":"'Serial Data'!AU82/('Serial Data'!AT82+'Serial Data'!AU82+'Serial Data'!AV82)","v":{"$error":"#DIV/0!"}},{"$f":"IF('Serial Data'!AT82+'Serial Data'!AU82+'Serial Data'!AV82<>0,(AX82+(AY82*0.5)),NA())","v":{"$error":"#N/A"}},{"$f":"IF('Serial Data'!AT82+'Serial Data'!AU82+'Serial Data'!AV82<>0,(AY82*0.866*Templates!K2),NA())","v":{"$error":"#N/A"}},null,{"$f":"'Serial Data'!BA82/('Serial Data'!AY82+'Serial Data'!AZ82+'Serial Data'!BA82)","v":{"$error":"#DIV/0!"}},{"$f":"'Serial Data'!AY82/('Serial Data'!AY82+'Serial Data'!AZ82+'Serial Data'!BA82)","v":{"$error":"#DIV/0!"}},{"$f":"'Serial Data'!AZ82/('Serial Data'!AY82+'Serial Data'!AZ82+'Serial Data'!BA82)","v":{"$error":"#DIV/0!"}},{"$f":"IF('Serial Data'!AY82+'Serial Data'!AZ82+'Serial Data'!BA82<>0,(BD82+(BE82*0.5)),NA())","v":{"$error":"#N/A"}},{"$f":"IF('Serial Data'!AY82+'Serial Data'!AZ82+'Serial Data'!BA82<>0,(BE82*0.866*Templates!K2),NA())","v":{"$error":"#N/A"}},null,{"$f":"'Serial Data'!BF82/('Serial Data'!BD82+'Serial Data'!BE82+'Serial Data'!BF82)","v":{"$error":"#DIV/0!"}},{"$f":"'Serial Data'!BD82/('Serial Data'!BD82+'Serial Data'!BE82+'Serial Data'!BF82)","v":{"$error":"#DIV/0!"}},{"$f":"'Serial Data'!BE82/('Serial Data'!BD82+'Serial Data'!BE82+'Serial Data'!BF82)","v":{"$error":"#DIV/0!"}},{"$f":"IF('Serial Data'!BD82+'Serial Data'!BE82+'Serial Data'!BF82<>0,(BJ82+(BK82*0.5)),NA())","v":{"$error":"#N/A"}},{"$f":"IF('Serial Data'!BD82+'Serial Data'!BE82+'Serial Data'!BF82<>0,(BK82*0.866*Templates!K2),NA())","v":{"$error":"#N/A"}}]
[{"$f":"'Single Data'!N84/('Single Data'!L84+'Single Data'!M84+'Single Data'!N84)","v":{"$error":"#DIV/0!"}},{"$f":"'Single Data'!L84/('Single Data'!L84+'Single Data'!M84+'Single Data'!N84)","v":{"$error":"#DIV/0!"}},{"$f":"'Single Data'!M84/('Single Data'!L84+'Single Data'!M84+'Single Data'!N84)","v":{"$error":"#DIV/0!"}},{"$f":"IF('Single Data'!L84+'Single Data'!M84+'Single Data'!N84<>0,(B83+(C83*0.5)),NA())","v":{"$error":"#N/A"}},{"$f":"IF('Single Data'!L84+'Single Data'!M84+'Single Data'!N84<>0,(C83*0.866*Templates!K2),NA())","v":{"$error":"#N/A"}},null,{"$f":"'Serial Data'!M83/('Serial Data'!K83+'Serial Data'!L83+'Serial Data'!M83)","v":{"$error":"#DIV/0!"}},{"$f":"'Serial Data'!K83/('Serial Data'!K83+'Serial Data'!L83+'Serial Data'!M83)","v":{"$error":"#DIV/0!"}},{"$f":"'Serial Data'!L83/('Serial Data'!K83+'Serial Data'!L83+'Serial Data'!M83)","v":{"$error":"#DIV/0!"}},{"$f":"IF('Serial Data'!K83+'Serial Data'!L83+'Serial Data'!M83<>0,(H83+(I83*0.5)),NA())","v":{"$error":"#N/A"}},{"$f":"IF('Serial Data'!K83+'Serial Data'!L83+'Serial Data'!M83<>0,(I83*0.866*Templates!K2),NA())","v":{"$error":"#N/A"}},null,{"$f":"'Serial Data'!R83/('Serial Data'!P83+'Serial Data'!Q83+'Serial Data'!R83)","v":{"$error":"#DIV/0!"}},{"$f":"'Serial Data'!P83/('Serial Data'!P83+'Serial Data'!Q83+'Serial Data'!R83)","v":{"$error":"#DIV/0!"}},{"$f":"'Serial Data'!Q83/('Serial Data'!P83+'Serial Data'!Q83+'Serial Data'!R83)","v":{"$error":"#DIV/0!"}},{"$f":"IF('Serial Data'!P83+'Serial Data'!Q83+'Serial Data'!R83<>0,(N83+(O83*0.5)),NA())","v":{"$error":"#N/A"}},{"$f":"IF('Serial Data'!P83+'Serial Data'!Q83+'Serial Data'!R83<>0,(O83*0.866*Templates!K2),NA())","v":{"$error":"#N/A"}},null,{"$f":"'Serial Data'!W83/('Serial Data'!U83+'Serial Data'!V83+'Serial Data'!W83)","v":{"$error":"#DIV/0!"}},{"$f":"'Serial Data'!U83/('Serial Data'!U83+'Serial Data'!V83+'Serial Data'!W83)","v":{"$error":"#DIV/0!"}},{"$f":"'Serial Data'!V83/('Serial Data'!U83+'Serial Data'!V83+'Serial Data'!W83)","v":{"$error":"#DIV/0!"}},{"$f":"IF('Serial Data'!V83+'Serial Data'!W83+'Serial Data'!U83<>0,(T83+(U83*0.5)),NA())","v":{"$error":"#N/A"}},{"$f":"IF('Serial Data'!V83+'Serial Data'!W83+'Serial Data'!U83<>0,(U83*0.866*Templates!K2),NA())","v":{"$error":"#N/A"}},null,{"$f":"'Serial Data'!AB83/('Serial Data'!AA83+'Serial Data'!AB83+'Serial Data'!Z83)","v":{"$error":"#DIV/0!"}},{"$f":"'Serial Data'!Z83/('Serial Data'!AA83+'Serial Data'!AB83+'Serial Data'!Z83)","v":{"$error":"#DIV/0!"}},{"$f":"'Serial Data'!AA83/('Serial Data'!AA83+'Serial Data'!AB83+'Serial Data'!Z83)","v":{"$error":"#DIV/0!"}},{"$f":"IF('Serial Data'!AB83+'Serial Data'!AA83+'Serial Data'!Z83<>0,(Z83+(AA83*0.5)),NA())","v":{"$error":"#N/A"}},{"$f":"IF('Serial Data'!AB83+'Serial Data'!AA83+'Serial Data'!Z83<>0,(AA83*0.866*Templates!K2),NA())","v":{"$error":"#N/A"}},null,{"$f":"'Serial Data'!AG83/('Serial Data'!AG83+'Serial Data'!AE83+'Serial Data'!AF83)","v":{"$error":"#DIV/0!"}},{"$f":"'Serial Data'!AE83/('Serial Data'!AG83+'Serial Data'!AE83+'Serial Data'!AF83)","v":{"$error":"#DIV/0!"}},{"$f":"'Serial Data'!AF83/('Serial Data'!AG83+'Serial Data'!AE83+'Serial Data'!AF83)","v":{"$error":"#DIV/0!"}},{"$f":"IF('Serial Data'!AE83+'Serial Data'!AF83+'Serial Data'!AG83<>0,(AF83+(AG83*0.5)),NA())","v":{"$error":"#N/A"}},{"$f":"IF('Serial Data'!AE83+'Serial Data'!AF83+'Serial Data'!AG83<>0,(AG83*0.866*Templates!K2),NA())","v":{"$error":"#N/A"}},null,{"$f":"'Serial Data'!AL83/('Serial Data'!AJ83+'Serial Data'!AK83+'Serial Data'!AL83)","v":{"$error":"#DIV/0!"}},{"$f":"'Serial Data'!AJ83/('Serial Data'!AJ83+'Serial Data'!AK83+'Serial Data'!AL83)","v":{"$error":"#DIV/0!"}},{"$f":"'Serial Data'!AK83/('Serial Data'!AJ83+'Serial Data'!AK83+'Serial Data'!AL83)","v":{"$error":"#DIV/0!"}},{"$f":"IF('Serial Data'!AJ83+'Serial Data'!AK83+'Serial Data'!AL83<>0,(AL83+(AM83*0.5)),NA())","v":{"$error":"#N/A"}},{"$f":"IF('Serial Data'!AJ83+'Serial Data'!AK83+'Serial Data'!AL83<>0,(AM83*0.866*Templates!K2),NA())","v":{"$error":"#N/A"}},null,{"$f":"'Serial Data'!AQ83/('Serial Data'!AO83+'Serial Data'!AP83+'Serial Data'!AQ83)","v":{"$error":"#DIV/0!"}},{"$f":"'Serial Data'!AO83/('Serial Data'!AO83+'Serial Data'!AP83+'Serial Data'!AQ83)","v":{"$error":"#DIV/0!"}},{"$f":"'Serial Data'!AP83/('Serial Data'!AO83+'Serial Data'!AP83+'Serial Data'!AQ83)","v":{"$error":"#DIV/0!"}},{"$f":"IF('Serial Data'!AO83+'Serial Data'!AP83+'Serial Data'!AQ83<>0,(AR83+(AS83*0.5)),NA())","v":{"$error":"#N/A"}},{"$f":"IF('Serial Data'!AO83+'Serial Data'!AP83+'Serial Data'!AQ83<>0,(AS83*0.866*Templates!K2),NA())","v":{"$error":"#N/A"}},null,{"$f":"'Serial Data'!AV83/('Serial Data'!AT83+'Serial Data'!AU83+'Serial Data'!AV83)","v":{"$error":"#DIV/0!"}},{"$f":"'Serial Data'!AT83/('Serial Data'!AT83+'Serial Data'!AU83+'Serial Data'!AV83)","v":{"$error":"#DIV/0!"}},{"$f":"'Serial Data'!AU83/('Serial Data'!AT83+'Serial Data'!AU83+'Serial Data'!AV83)","v":{"$error":"#DIV/0!"}},{"$f":"IF('Serial Data'!AT83+'Serial Data'!AU83+'Serial Data'!AV83<>0,(AX83+(AY83*0.5)),NA())","v":{"$error":"#N/A"}},{"$f":"IF('Serial Data'!AT83+'Serial Data'!AU83+'Serial Data'!AV83<>0,(AY83*0.866*Templates!K2),NA())","v":{"$error":"#N/A"}},null,{"$f":"'Serial Data'!BA83/('Serial Data'!AY83+'Serial Data'!AZ83+'Serial Data'!BA83)","v":{"$error":"#DIV/0!"}},{"$f":"'Serial Data'!AY83/('Serial Data'!AY83+'Serial Data'!AZ83+'Serial Data'!BA83)","v":{"$error":"#DIV/0!"}},{"$f":"'Serial Data'!AZ83/('Serial Data'!AY83+'Serial Data'!AZ83+'Serial Data'!BA83)","v":{"$error":"#DIV/0!"}},{"$f":"IF('Serial Data'!AY83+'Serial Data'!AZ83+'Serial Data'!BA83<>0,(BD83+(BE83*0.5)),NA())","v":{"$error":"#N/A"}},{"$f":"IF('Serial Data'!AY83+'Serial Data'!AZ83+'Serial Data'!BA83<>0,(BE83*0.866*Templates!K2),NA())","v":{"$error":"#N/A"}},null,{"$f":"'Serial Data'!BF83/('Serial Data'!BD83+'Serial Data'!BE83+'Serial Data'!BF83)","v":{"$error":"#DIV/0!"}},{"$f":"'Serial Data'!BD83/('Serial Data'!BD83+'Serial Data'!BE83+'Serial Data'!BF83)","v":{"$error":"#DIV/0!"}},{"$f":"'Serial Data'!BE83/('Serial Data'!BD83+'Serial Data'!BE83+'Serial Data'!BF83)","v":{"$error":"#DIV/0!"}},{"$f":"IF('Serial Data'!BD83+'Serial Data'!BE83+'Serial Data'!BF83<>0,(BJ83+(BK83*0.5)),NA())","v":{"$error":"#N/A"}},{"$f":"IF('Serial Data'!BD83+'Serial Data'!BE83+'Serial Data'!BF83<>0,(BK83*0.866*Templates!K2),NA())","v":{"$error":"#N/A"}}]
[{"$f":"'Single Data'!N85/('Single Data'!L85+'Single Data'!M85+'Single Data'!N85)","v":{"$error":"#DIV/0!"}},{"$f":"'Single Data'!L85/('Single Data'!L85+'Single Data'!M85+'Single Data'!N85)","v":{"$error":"#DIV/0!"}},{"$f":"'Single Data'!M85/('Single Data'!L85+'Single Data'!M85+'Single Data'!N85)","v":{"$error":"#DIV/0!"}},{"$f":"IF('Single Data'!L85+'Single Data'!M85+'Single Data'!N85<>0,(B84+(C84*0.5)),NA())","v":{"$error":"#N/A"}},{"$f":"IF('Single Data'!L85+'Single Data'!M85+'Single Data'!N85<>0,(C84*0.866*Templates!K2),NA())","v":{"$error":"#N/A"}},null,{"$f":"'Serial Data'!M84/('Serial Data'!K84+'Serial Data'!L84+'Serial Data'!M84)","v":{"$error":"#DIV/0!"}},{"$f":"'Serial Data'!K84/('Serial Data'!K84+'Serial Data'!L84+'Serial Data'!M84)","v":{"$error":"#DIV/0!"}},{"$f":"'Serial Data'!L84/('Serial Data'!K84+'Serial Data'!L84+'Serial Data'!M84)","v":{"$error":"#DIV/0!"}},{"$f":"IF('Serial Data'!K84+'Serial Data'!L84+'Serial Data'!M84<>0,(H84+(I84*0.5)),NA())","v":{"$error":"#N/A"}},{"$f":"IF('Serial Data'!K84+'Serial Data'!L84+'Serial Data'!M84<>0,(I84*0.866*Templates!K2),NA())","v":{"$error":"#N/A"}},null,{"$f":"'Serial Data'!R84/('Serial Data'!P84+'Serial Data'!Q84+'Serial Data'!R84)","v":{"$error":"#DIV/0!"}},{"$f":"'Serial Data'!P84/('Serial Data'!P84+'Serial Data'!Q84+'Serial Data'!R84)","v":{"$error":"#DIV/0!"}},{"$f":"'Serial Data'!Q84/('Serial Data'!P84+'Serial Data'!Q84+'Serial Data'!R84)","v":{"$error":"#DIV/0!"}},{"$f":"IF('Serial Data'!P84+'Serial Data'!Q84+'Serial Data'!R84<>0,(N84+(O84*0.5)),NA())","v":{"$error":"#N/A"}},{"$f":"IF('Serial Data'!P84+'Serial Data'!Q84+'Serial Data'!R84<>0,(O84*0.866*Templates!K2),NA())","v":{"$error":"#N/A"}},null,{"$f":"'Serial Data'!W84/('Serial Data'!U84+'Serial Data'!V84+'Serial Data'!W84)","v":{"$error":"#DIV/0!"}},{"$f":"'Serial Data'!U84/('Serial Data'!U84+'Serial Data'!V84+'Serial Data'!W84)","v":{"$error":"#DIV/0!"}},{"$f":"'Serial Data'!V84/('Serial Data'!U84+'Serial Data'!V84+'Serial Data'!W84)","v":{"$error":"#DIV/0!"}},{"$f":"IF('Serial Data'!V84+'Serial Data'!W84+'Serial Data'!U84<>0,(T84+(U84*0.5)),NA())","v":{"$error":"#N/A"}},{"$f":"IF('Serial Data'!V84+'Serial Data'!W84+'Serial Data'!U84<>0,(U84*0.866*Templates!K2),NA())","v":{"$error":"#N/A"}},null,{"$f":"'Serial Data'!AB84/('Serial Data'!AA84+'Serial Data'!AB84+'Serial Data'!Z84)","v":{"$error":"#DIV/0!"}},{"$f":"'Serial Data'!Z84/('Serial Data'!AA84+'Serial Data'!AB84+'Serial Data'!Z84)","v":{"$error":"#DIV/0!"}},{"$f":"'Serial Data'!AA84/('Serial Data'!AA84+'Serial Data'!AB84+'Serial Data'!Z84)","v":{"$error":"#DIV/0!"}},{"$f":"IF('Serial Data'!AB84+'Serial Data'!AA84+'Serial Data'!Z84<>0,(Z84+(AA84*0.5)),NA())","v":{"$error":"#N/A"}},{"$f":"IF('Serial Data'!AB84+'Serial Data'!AA84+'Serial Data'!Z84<>0,(AA84*0.866*Templates!K2),NA())","v":{"$error":"#N/A"}},null,{"$f":"'Serial Data'!AG84/('Serial Data'!AG84+'Serial Data'!AE84+'Serial Data'!AF84)","v":{"$error":"#DIV/0!"}},{"$f":"'Serial Data'!AE84/('Serial Data'!AG84+'Serial Data'!AE84+'Serial Data'!AF84)","v":{"$error":"#DIV/0!"}},{"$f":"'Serial Data'!AF84/('Serial Data'!AG84+'Serial Data'!AE84+'Serial Data'!AF84)","v":{"$error":"#DIV/0!"}},{"$f":"IF('Serial Data'!AE84+'Serial Data'!AF84+'Serial Data'!AG84<>0,(AF84+(AG84*0.5)),NA())","v":{"$error":"#N/A"}},{"$f":"IF('Serial Data'!AE84+'Serial Data'!AF84+'Serial Data'!AG84<>0,(AG84*0.866*Templates!K2),NA())","v":{"$error":"#N/A"}},null,{"$f":"'Serial Data'!AL84/('Serial Data'!AJ84+'Serial Data'!AK84+'Serial Data'!AL84)","v":{"$error":"#DIV/0!"}},{"$f":"'Serial Data'!AJ84/('Serial Data'!AJ84+'Serial Data'!AK84+'Serial Data'!AL84)","v":{"$error":"#DIV/0!"}},{"$f":"'Serial Data'!AK84/('Serial Data'!AJ84+'Serial Data'!AK84+'Serial Data'!AL84)","v":{"$error":"#DIV/0!"}},{"$f":"IF('Serial Data'!AJ84+'Serial Data'!AK84+'Serial Data'!AL84<>0,(AL84+(AM84*0.5)),NA())","v":{"$error":"#N/A"}},{"$f":"IF('Serial Data'!AJ84+'Serial Data'!AK84+'Serial Data'!AL84<>0,(AM84*0.866*Templates!K2),NA())","v":{"$error":"#N/A"}},null,{"$f":"'Serial Data'!AQ84/('Serial Data'!AO84+'Serial Data'!AP84+'Serial Data'!AQ84)","v":{"$error":"#DIV/0!"}},{"$f":"'Serial Data'!AO84/('Serial Data'!AO84+'Serial Data'!AP84+'Serial Data'!AQ84)","v":{"$error":"#DIV/0!"}},{"$f":"'Serial Data'!AP84/('Serial Data'!AO84+'Serial Data'!AP84+'Serial Data'!AQ84)","v":{"$error":"#DIV/0!"}},{"$f":"IF('Serial Data'!AO84+'Serial Data'!AP84+'Serial Data'!AQ84<>0,(AR84+(AS84*0.5)),NA())","v":{"$error":"#N/A"}},{"$f":"IF('Serial Data'!AO84+'Serial Data'!AP84+'Serial Data'!AQ84<>0,(AS84*0.866*Templates!K2),NA())","v":{"$error":"#N/A"}},null,{"$f":"'Serial Data'!AV84/('Serial Data'!AT84+'Serial Data'!AU84+'Serial Data'!AV84)","v":{"$error":"#DIV/0!"}},{"$f":"'Serial Data'!AT84/('Serial Data'!AT84+'Serial Data'!AU84+'Serial Data'!AV84)","v":{"$error":"#DIV/0!"}},{"$f":"'Serial Data'!AU84/('Serial Data'!AT84+'Serial Data'!AU84+'Serial Data'!AV84)","v":{"$error":"#DIV/0!"}},{"$f":"IF('Serial Data'!AT84+'Serial Data'!AU84+'Serial Data'!AV84<>0,(AX84+(AY84*0.5)),NA())","v":{"$error":"#N/A"}},{"$f":"IF('Serial Data'!AT84+'Serial Data'!AU84+'Serial Data'!AV84<>0,(AY84*0.866*Templates!K2),NA())","v":{"$error":"#N/A"}},null,{"$f":"'Serial Data'!BA84/('Serial Data'!AY84+'Serial Data'!AZ84+'Serial Data'!BA84)","v":{"$error":"#DIV/0!"}},{"$f":"'Serial Data'!AY84/('Serial Data'!AY84+'Serial Data'!AZ84+'Serial Data'!BA84)","v":{"$error":"#DIV/0!"}},{"$f":"'Serial Data'!AZ84/('Serial Data'!AY84+'Serial Data'!AZ84+'Serial Data'!BA84)","v":{"$error":"#DIV/0!"}},{"$f":"IF('Serial Data'!AY84+'Serial Data'!AZ84+'Serial Data'!BA84<>0,(BD84+(BE84*0.5)),NA())","v":{"$error":"#N/A"}},{"$f":"IF('Serial Data'!AY84+'Serial Data'!AZ84+'Serial Data'!BA84<>0,(BE84*0.866*Templates!K2),NA())","v":{"$error":"#N/A"}},null,{"$f":"'Serial Data'!BF84/('Serial Data'!BD84+'Serial Data'!BE84+'Serial Data'!BF84)","v":{"$error":"#DIV/0!"}},{"$f":"'Serial Data'!BD84/('Serial Data'!BD84+'Serial Data'!BE84+'Serial Data'!BF84)","v":{"$error":"#DIV/0!"}},{"$f":"'Serial Data'!BE84/('Serial Data'!BD84+'Serial Data'!BE84+'Serial Data'!BF84)","v":{"$error":"#DIV/0!"}},{"$f":"IF('Serial Data'!BD84+'Serial Data'!BE84+'Serial Data'!BF84<>0,(BJ84+(BK84*0.5)),NA())","v":{"$error":"#N/A"}},{"$f":"IF('Serial Data'!BD84+'Serial Data'!BE84+'Serial Data'!BF84<>0,(BK84*0.866*Templates!K2),NA())","v":{"$error":"#N/A"}}]
[{"$f":"'Single Data'!N86/('Single Data'!L86+'Single Data'!M86+'Single Data'!N86)","v":{"$error":"#DIV/0!"}},{"$f":"'Single Data'!L86/('Single Data'!L86+'Single Data'!M86+'Single Data'!N86)","v":{"$error":"#DIV/0!"}},{"$f":"'Single Data'!M86/('Single Data'!L86+'Single Data'!M86+'Single Data'!N86)","v":{"$error":"#DIV/0!"}},{"$f":"IF('Single Data'!L86+'Single Data'!M86+'Single Data'!N86<>0,(B85+(C85*0.5)),NA())","v":{"$error":"#N/A"}},{"$f":"IF('Single Data'!L86+'Single Data'!M86+'Single Data'!N86<>0,(C85*0.866*Templates!K2),NA())","v":{"$error":"#N/A"}},null,{"$f":"'Serial Data'!M85/('Serial Data'!K85+'Serial Data'!L85+'Serial Data'!M85)","v":{"$error":"#DIV/0!"}},{"$f":"'Serial Data'!K85/('Serial Data'!K85+'Serial Data'!L85+'Serial Data'!M85)","v":{"$error":"#DIV/0!"}},{"$f":"'Serial Data'!L85/('Serial Data'!K85+'Serial Data'!L85+'Serial Data'!M85)","v":{"$error":"#DIV/0!"}},{"$f":"IF('Serial Data'!K85+'Serial Data'!L85+'Serial Data'!M85<>0,(H85+(I85*0.5)),NA())","v":{"$error":"#N/A"}},{"$f":"IF('Serial Data'!K85+'Serial Data'!L85+'Serial Data'!M85<>0,(I85*0.866*Templates!K2),NA())","v":{"$error":"#N/A"}},null,{"$f":"'Serial Data'!R85/('Serial Data'!P85+'Serial Data'!Q85+'Serial Data'!R85)","v":{"$error":"#DIV/0!"}},{"$f":"'Serial Data'!P85/('Serial Data'!P85+'Serial Data'!Q85+'Serial Data'!R85)","v":{"$error":"#DIV/0!"}},{"$f":"'Serial Data'!Q85/('Serial Data'!P85+'Serial Data'!Q85+'Serial Data'!R85)","v":{"$error":"#DIV/0!"}},{"$f":"IF('Serial Data'!P85+'Serial Data'!Q85+'Serial Data'!R85<>0,(N85+(O85*0.5)),NA())","v":{"$error":"#N/A"}},{"$f":"IF('Serial Data'!P85+'Serial Data'!Q85+'Serial Data'!R85<>0,(O85*0.866*Templates!K2),NA())","v":{"$error":"#N/A"}},null,{"$f":"'Serial Data'!W85/('Serial Data'!U85+'Serial Data'!V85+'Serial Data'!W85)","v":{"$error":"#DIV/0!"}},{"$f":"'Serial Data'!U85/('Serial Data'!U85+'Serial Data'!V85+'Serial Data'!W85)","v":{"$error":"#DIV/0!"}},{"$f":"'Serial Data'!V85/('Serial Data'!U85+'Serial Data'!V85+'Serial Data'!W85)","v":{"$error":"#DIV/0!"}},{"$f":"IF('Serial Data'!V85+'Serial Data'!W85+'Serial Data'!U85<>0,(T85+(U85*0.5)),NA())","v":{"$error":"#N/A"}},{"$f":"IF('Serial Data'!V85+'Serial Data'!W85+'Serial Data'!U85<>0,(U85*0.866*Templates!K2),NA())","v":{"$error":"#N/A"}},null,{"$f":"'Serial Data'!AB85/('Serial Data'!AA85+'Serial Data'!AB85+'Serial Data'!Z85)","v":{"$error":"#DIV/0!"}},{"$f":"'Serial Data'!Z85/('Serial Data'!AA85+'Serial Data'!AB85+'Serial Data'!Z85)","v":{"$error":"#DIV/0!"}},{"$f":"'Serial Data'!AA85/('Serial Data'!AA85+'Serial Data'!AB85+'Serial Data'!Z85)","v":{"$error":"#DIV/0!"}},{"$f":"IF('Serial Data'!AB85+'Serial Data'!AA85+'Serial Data'!Z85<>0,(Z85+(AA85*0.5)),NA())","v":{"$error":"#N/A"}},{"$f":"IF('Serial Data'!AB85+'Serial Data'!AA85+'Serial Data'!Z85<>0,(AA85*0.866*Templates!K2),NA())","v":{"$error":"#N/A"}},null,{"$f":"'Serial Data'!AG85/('Serial Data'!AG85+'Serial Data'!AE85+'Serial Data'!AF85)","v":{"$error":"#DIV/0!"}},{"$f":"'Serial Data'!AE85/('Serial Data'!AG85+'Serial Data'!AE85+'Serial Data'!AF85)","v":{"$error":"#DIV/0!"}},{"$f":"'Serial Data'!AF85/('Serial Data'!AG85+'Serial Data'!AE85+'Serial Data'!AF85)","v":{"$error":"#DIV/0!"}},{"$f":"IF('Serial Data'!AE85+'Serial Data'!AF85+'Serial Data'!AG85<>0,(AF85+(AG85*0.5)),NA())","v":{"$error":"#N/A"}},{"$f":"IF('Serial Data'!AE85+'Serial Data'!AF85+'Serial Data'!AG85<>0,(AG85*0.866*Templates!K2),NA())","v":{"$error":"#N/A"}},null,{"$f":"'Serial Data'!AL85/('Serial Data'!AJ85+'Serial Data'!AK85+'Serial Data'!AL85)","v":{"$error":"#DIV/0!"}},{"$f":"'Serial Data'!AJ85/('Serial Data'!AJ85+'Serial Data'!AK85+'Serial Data'!AL85)","v":{"$error":"#DIV/0!"}},{"$f":"'Serial Data'!AK85/('Serial Data'!AJ85+'Serial Data'!AK85+'Serial Data'!AL85)","v":{"$error":"#DIV/0!"}},{"$f":"IF('Serial Data'!AJ85+'Serial Data'!AK85+'Serial Data'!AL85<>0,(AL85+(AM85*0.5)),NA())","v":{"$error":"#N/A"}},{"$f":"IF('Serial Data'!AJ85+'Serial Data'!AK85+'Serial Data'!AL85<>0,(AM85*0.866*Templates!K2),NA())","v":{"$error":"#N/A"}},null,{"$f":"'Serial Data'!AQ85/('Serial Data'!AO85+'Serial Data'!AP85+'Serial Data'!AQ85)","v":{"$error":"#DIV/0!"}},{"$f":"'Serial Data'!AO85/('Serial Data'!AO85+'Serial Data'!AP85+'Serial Data'!AQ85)","v":{"$error":"#DIV/0!"}},{"$f":"'Serial Data'!AP85/('Serial Data'!AO85+'Serial Data'!AP85+'Serial Data'!AQ85)","v":{"$error":"#DIV/0!"}},{"$f":"IF('Serial Data'!AO85+'Serial Data'!AP85+'Serial Data'!AQ85<>0,(AR85+(AS85*0.5)),NA())","v":{"$error":"#N/A"}},{"$f":"IF('Serial Data'!AO85+'Serial Data'!AP85+'Serial Data'!AQ85<>0,(AS85*0.866*Templates!K2),NA())","v":{"$error":"#N/A"}},null,{"$f":"'Serial Data'!AV85/('Serial Data'!AT85+'Serial Data'!AU85+'Serial Data'!AV85)","v":{"$error":"#DIV/0!"}},{"$f":"'Serial Data'!AT85/('Serial Data'!AT85+'Serial Data'!AU85+'Serial Data'!AV85)","v":{"$error":"#DIV/0!"}},{"$f":"'Serial Data'!AU85/('Serial Data'!AT85+'Serial Data'!AU85+'Serial Data'!AV85)","v":{"$error":"#DIV/0!"}},{"$f":"IF('Serial Data'!AT85+'Serial Data'!AU85+'Serial Data'!AV85<>0,(AX85+(AY85*0.5)),NA())","v":{"$error":"#N/A"}},{"$f":"IF('Serial Data'!AT85+'Serial Data'!AU85+'Serial Data'!AV85<>0,(AY85*0.866*Templates!K2),NA())","v":{"$error":"#N/A"}},null,{"$f":"'Serial Data'!BA85/('Serial Data'!AY85+'Serial Data'!AZ85+'Serial Data'!BA85)","v":{"$error":"#DIV/0!"}},{"$f":"'Serial Data'!AY85/('Serial Data'!AY85+'Serial Data'!AZ85+'Serial Data'!BA85)","v":{"$error":"#DIV/0!"}},{"$f":"'Serial Data'!AZ85/('Serial Data'!AY85+'Serial Data'!AZ85+'Serial Data'!BA85)","v":{"$error":"#DIV/0!"}},{"$f":"IF('Serial Data'!AY85+'Serial Data'!AZ85+'Serial Data'!BA85<>0,(BD85+(BE85*0.5)),NA())","v":{"$error":"#N/A"}},{"$f":"IF('Serial Data'!AY85+'Serial Data'!AZ85+'Serial Data'!BA85<>0,(BE85*0.866*Templates!K2),NA())","v":{"$error":"#N/A"}},null,{"$f":"'Serial Data'!BF85/('Serial Data'!BD85+'Serial Data'!BE85+'Serial Data'!BF85)","v":{"$error":"#DIV/0!"}},{"$f":"'Serial Data'!BD85/('Serial Data'!BD85+'Serial Data'!BE85+'Serial Data'!BF85)","v":{"$error":"#DIV/0!"}},{"$f":"'Serial Data'!BE85/('Serial Data'!BD85+'Serial Data'!BE85+'Serial Data'!BF85)","v":{"$error":"#DIV/0!"}},{"$f":"IF('Serial Data'!BD85+'Serial Data'!BE85+'Serial Data'!BF85<>0,(BJ85+(BK85*0.5)),NA())","v":{"$error":"#N/A"}},{"$f":"IF('Serial Data'!BD85+'Serial Data'!BE85+'Serial Data'!BF85<>0,(BK85*0.866*Templates!K2),NA())","v":{"$error":"#N/A"}}]
[{"$f":"'Single Data'!N87/('Single Data'!L87+'Single Data'!M87+'Single Data'!N87)","v":{"$error":"#DIV/0!"}},{"$f":"'Single Data'!L87/('Single Data'!L87+'Single Data'!M87+'Single Data'!N87)","v":{"$error":"#DIV/0!"}},{"$f":"'Single Data'!M87/('Single Data'!L87+'Single Data'!M87+'Single Data'!N87)","v":{"$error":"#DIV/0!"}},{"$f":"IF('Single Data'!L87+'Single Data'!M87+'Single Data'!N87<>0,(B86+(C86*0.5)),NA())","v":{"$error":"#N/A"}},{"$f":"IF('Single Data'!L87+'Single Data'!M87+'Single Data'!N87<>0,(C86*0.866*Templates!K2),NA())","v":{"$error":"#N/A"}},null,{"$f":"'Serial Data'!M86/('Serial Data'!K86+'Serial Data'!L86+'Serial Data'!M86)","v":{"$error":"#DIV/0!"}},{"$f":"'Serial Data'!K86/('Serial Data'!K86+'Serial Data'!L86+'Serial Data'!M86)","v":{"$error":"#DIV/0!"}},{"$f":"'Serial Data'!L86/('Serial Data'!K86+'Serial Data'!L86+'Serial Data'!M86)","v":{"$error":"#DIV/0!"}},{"$f":"IF('Serial Data'!K86+'Serial Data'!L86+'Serial Data'!M86<>0,(H86+(I86*0.5)),NA())","v":{"$error":"#N/A"}},{"$f":"IF('Serial Data'!K86+'Serial Data'!L86+'Serial Data'!M86<>0,(I86*0.866*Templates!K2),NA())","v":{"$error":"#N/A"}},null,{"$f":"'Serial Data'!R86/('Serial Data'!P86+'Serial Data'!Q86+'Serial Data'!R86)","v":{"$error":"#DIV/0!"}},{"$f":"'Serial Data'!P86/('Serial Data'!P86+'Serial Data'!Q86+'Serial Data'!R86)","v":{"$error":"#DIV/0!"}},{"$f":"'Serial Data'!Q86/('Serial Data'!P86+'Serial Data'!Q86+'Serial Data'!R86)","v":{"$error":"#DIV/0!"}},{"$f":"IF('Serial Data'!P86+'Serial Data'!Q86+'Serial Data'!R86<>0,(N86+(O86*0.5)),NA())","v":{"$error":"#N/A"}},{"$f":"IF('Serial Data'!P86+'Serial Data'!Q86+'Serial Data'!R86<>0,(O86*0.866*Templates!K2),NA())","v":{"$error":"#N/A"}},null,{"$f":"'Serial Data'!W86/('Serial Data'!U86+'Serial Data'!V86+'Serial Data'!W86)","v":{"$error":"#DIV/0!"}},{"$f":"'Serial Data'!U86/('Serial Data'!U86+'Serial Data'!V86+'Serial Data'!W86)","v":{"$error":"#DIV/0!"}},{"$f":"'Serial Data'!V86/('Serial Data'!U86+'Serial Data'!V86+'Serial Data'!W86)","v":{"$error":"#DIV/0!"}},{"$f":"IF('Serial Data'!V86+'Serial Data'!W86+'Serial Data'!U86<>0,(T86+(U86*0.5)),NA())","v":{"$error":"#N/A"}},{"$f":"IF('Serial Data'!V86+'Serial Data'!W86+'Serial Data'!U86<>0,(U86*0.866*Templates!K2),NA())","v":{"$error":"#N/A"}},null,{"$f":"'Serial Data'!AB86/('Serial Data'!AA86+'Serial Data'!AB86+'Serial Data'!Z86)","v":{"$error":"#DIV/0!"}},{"$f":"'Serial Data'!Z86/('Serial Data'!AA86+'Serial Data'!AB86+'Serial Data'!Z86)","v":{"$error":"#DIV/0!"}},{"$f":"'Serial Data'!AA86/('Serial Data'!AA86+'Serial Data'!AB86+'Serial Data'!Z86)","v":{"$error":"#DIV/0!"}},{"$f":"IF('Serial Data'!AB86+'Serial Data'!AA86+'Serial Data'!Z86<>0,(Z86+(AA86*0.5)),NA())","v":{"$error":"#N/A"}},{"$f":"IF('Serial Data'!AB86+'Serial Data'!AA86+'Serial Data'!Z86<>0,(AA86*0.866*Templates!K2),NA())","v":{"$error":"#N/A"}},null,{"$f":"'Serial Data'!AG86/('Serial Data'!AG86+'Serial Data'!AE86+'Serial Data'!AF86)","v":{"$error":"#DIV/0!"}},{"$f":"'Serial Data'!AE86/('Serial Data'!AG86+'Serial Data'!AE86+'Serial Data'!AF86)","v":{"$error":"#DIV/0!"}},{"$f":"'Serial Data'!AF86/('Serial Data'!AG86+'Serial Data'!AE86+'Serial Data'!AF86)","v":{"$error":"#DIV/0!"}},{"$f":"IF('Serial Data'!AE86+'Serial Data'!AF86+'Serial Data'!AG86<>0,(AF86+(AG86*0.5)),NA())","v":{"$error":"#N/A"}},{"$f":"IF('Serial Data'!AE86+'Serial Data'!AF86+'Serial Data'!AG86<>0,(AG86*0.866*Templates!K2),NA())","v":{"$error":"#N/A"}},null,{"$f":"'Serial Data'!AL86/('Serial Data'!AJ86+'Serial Data'!AK86+'Serial Data'!AL86)","v":{"$error":"#DIV/0!"}},{"$f":"'Serial Data'!AJ86/('Serial Data'!AJ86+'Serial Data'!AK86+'Serial Data'!AL86)","v":{"$error":"#DIV/0!"}},{"$f":"'Serial Data'!AK86/('Serial Data'!AJ86+'Serial Data'!AK86+'Serial Data'!AL86)","v":{"$error":"#DIV/0!"}},{"$f":"IF('Serial Data'!AJ86+'Serial Data'!AK86+'Serial Data'!AL86<>0,(AL86+(AM86*0.5)),NA())","v":{"$error":"#N/A"}},{"$f":"IF('Serial Data'!AJ86+'Serial Data'!AK86+'Serial Data'!AL86<>0,(AM86*0.866*Templates!K2),NA())","v":{"$error":"#N/A"}},null,{"$f":"'Serial Data'!AQ86/('Serial Data'!AO86+'Serial Data'!AP86+'Serial Data'!AQ86)","v":{"$error":"#DIV/0!"}},{"$f":"'Serial Data'!AO86/('Serial Data'!AO86+'Serial Data'!AP86+'Serial Data'!AQ86)","v":{"$error":"#DIV/0!"}},{"$f":"'Serial Data'!AP86/('Serial Data'!AO86+'Serial Data'!AP86+'Serial Data'!AQ86)","v":{"$error":"#DIV/0!"}},{"$f":"IF('Serial Data'!AO86+'Serial Data'!AP86+'Serial Data'!AQ86<>0,(AR86+(AS86*0.5)),NA())","v":{"$error":"#N/A"}},{"$f":"IF('Serial Data'!AO86+'Serial Data'!AP86+'Serial Data'!AQ86<>0,(AS86*0.866*Templates!K2),NA())","v":{"$error":"#N/A"}},null,{"$f":"'Serial Data'!AV86/('Serial Data'!AT86+'Serial Data'!AU86+'Serial Data'!AV86)","v":{"$error":"#DIV/0!"}},{"$f":"'Serial Data'!AT86/('Serial Data'!AT86+'Serial Data'!AU86+'Serial Data'!AV86)","v":{"$error":"#DIV/0!"}},{"$f":"'Serial Data'!AU86/('Serial Data'!AT86+'Serial Data'!AU86+'Serial Data'!AV86)","v":{"$error":"#DIV/0!"}},{"$f":"IF('Serial Data'!AT86+'Serial Data'!AU86+'Serial Data'!AV86<>0,(AX86+(AY86*0.5)),NA())","v":{"$error":"#N/A"}},{"$f":"IF('Serial Data'!AT86+'Serial Data'!AU86+'Serial Data'!AV86<>0,(AY86*0.866*Templates!K2),NA())","v":{"$error":"#N/A"}},null,{"$f":"'Serial Data'!BA86/('Serial Data'!AY86+'Serial Data'!AZ86+'Serial Data'!BA86)","v":{"$error":"#DIV/0!"}},{"$f":"'Serial Data'!AY86/('Serial Data'!AY86+'Serial Data'!AZ86+'Serial Data'!BA86)","v":{"$error":"#DIV/0!"}},{"$f":"'Serial Data'!AZ86/('Serial Data'!AY86+'Serial Data'!AZ86+'Serial Data'!BA86)","v":{"$error":"#DIV/0!"}},{"$f":"IF('Serial Data'!AY86+'Serial Data'!AZ86+'Serial Data'!BA86<>0,(BD86+(BE86*0.5)),NA())","v":{"$error":"#N/A"}},{"$f":"IF('Serial Data'!AY86+'Serial Data'!AZ86+'Serial Data'!BA86<>0,(BE86*0.866*Templates!K2),NA())","v":{"$error":"#N/A"}},null,{"$f":"'Serial Data'!BF86/('Serial Data'!BD86+'Serial Data'!BE86+'Serial Data'!BF86)","v":{"$error":"#DIV/0!"}},{"$f":"'Serial Data'!BD86/('Serial Data'!BD86+'Serial Data'!BE86+'Serial Data'!BF86)","v":{"$error":"#DIV/0!"}},{"$f":"'Serial Data'!BE86/('Serial Data'!BD86+'Serial Data'!BE86+'Serial Data'!BF86)","v":{"$error":"#DIV/0!"}},{"$f":"IF('Serial Data'!BD86+'Serial Data'!BE86+'Serial Data'!BF86<>0,(BJ86+(BK86*0.5)),NA())","v":{"$error":"#N/A"}},{"$f":"IF('Serial Data'!BD86+'Serial Data'!BE86+'Serial Data'!BF86<>0,(BK86*0.866*Templates!K2),NA())","v":{"$error":"#N/A"}}]
[{"$f":"'Single Data'!N88/('Single Data'!L88+'Single Data'!M88+'Single Data'!N88)","v":{"$error":"#DIV/0!"}},{"$f":"'Single Data'!L88/('Single Data'!L88+'Single Data'!M88+'Single Data'!N88)","v":{"$error":"#DIV/0!"}},{"$f":"'Single Data'!M88/('Single Data'!L88+'Single Data'!M88+'Single Data'!N88)","v":{"$error":"#DIV/0!"}},{"$f":"IF('Single Data'!L88+'Single Data'!M88+'Single Data'!N88<>0,(B87+(C87*0.5)),NA())","v":{"$error":"#N/A"}},{"$f":"IF('Single Data'!L88+'Single Data'!M88+'Single Data'!N88<>0,(C87*0.866*Templates!K2),NA())","v":{"$error":"#N/A"}},null,{"$f":"'Serial Data'!M87/('Serial Data'!K87+'Serial Data'!L87+'Serial Data'!M87)","v":{"$error":"#DIV/0!"}},{"$f":"'Serial Data'!K87/('Serial Data'!K87+'Serial Data'!L87+'Serial Data'!M87)","v":{"$error":"#DIV/0!"}},{"$f":"'Serial Data'!L87/('Serial Data'!K87+'Serial Data'!L87+'Serial Data'!M87)","v":{"$error":"#DIV/0!"}},{"$f":"IF('Serial Data'!K87+'Serial Data'!L87+'Serial Data'!M87<>0,(H87+(I87*0.5)),NA())","v":{"$error":"#N/A"}},{"$f":"IF('Serial Data'!K87+'Serial Data'!L87+'Serial Data'!M87<>0,(I87*0.866*Templates!K2),NA())","v":{"$error":"#N/A"}},null,{"$f":"'Serial Data'!R87/('Serial Data'!P87+'Serial Data'!Q87+'Serial Data'!R87)","v":{"$error":"#DIV/0!"}},{"$f":"'Serial Data'!P87/('Serial Data'!P87+'Serial Data'!Q87+'Serial Data'!R87)","v":{"$error":"#DIV/0!"}},{"$f":"'Serial Data'!Q87/('Serial Data'!P87+'Serial Data'!Q87+'Serial Data'!R87)","v":{"$error":"#DIV/0!"}},{"$f":"IF('Serial Data'!P87+'Serial Data'!Q87+'Serial Data'!R87<>0,(N87+(O87*0.5)),NA())","v":{"$error":"#N/A"}},{"$f":"IF('Serial Data'!P87+'Serial Data'!Q87+'Serial Data'!R87<>0,(O87*0.866*Templates!K2),NA())","v":{"$error":"#N/A"}},null,{"$f":"'Serial Data'!W87/('Serial Data'!U87+'Serial Data'!V87+'Serial Data'!W87)","v":{"$error":"#DIV/0!"}},{"$f":"'Serial Data'!U87/('Serial Data'!U87+'Serial Data'!V87+'Serial Data'!W87)","v":{"$error":"#DIV/0!"}},{"$f":"'Serial Data'!V87/('Serial Data'!U87+'Serial Data'!V87+'Serial Data'!W87)","v":{"$error":"#DIV/0!"}},{"$f":"IF('Serial Data'!V87+'Serial Data'!W87+'Serial Data'!U87<>0,(T87+(U87*0.5)),NA())","v":{"$error":"#N/A"}},{"$f":"IF('Serial Data'!V87+'Serial Data'!W87+'Serial Data'!U87<>0,(U87*0.866*Templates!K2),NA())","v":{"$error":"#N/A"}},null,{"$f":"'Serial Data'!AB87/('Serial Data'!AA87+'Serial Data'!AB87+'Serial Data'!Z87)","v":{"$error":"#DIV/0!"}},{"$f":"'Serial Data'!Z87/('Serial Data'!AA87+'Serial Data'!AB87+'Serial Data'!Z87)","v":{"$error":"#DIV/0!"}},{"$f":"'Serial Data'!AA87/('Serial Data'!AA87+'Serial Data'!AB87+'Serial Data'!Z87)","v":{"$error":"#DIV/0!"}},{"$f":"IF('Serial Data'!AB87+'Serial Data'!AA87+'Serial Data'!Z87<>0,(Z87+(AA87*0.5)),NA())","v":{"$error":"#N/A"}},{"$f":"IF('Serial Data'!AB87+'Serial Data'!AA87+'Serial Data'!Z87<>0,(AA87*0.866*Templates!K2),NA())","v":{"$error":"#N/A"}},null,{"$f":"'Serial Data'!AG87/('Serial Data'!AG87+'Serial Data'!AE87+'Serial Data'!AF87)","v":{"$error":"#DIV/0!"}},{"$f":"'Serial Data'!AE87/('Serial Data'!AG87+'Serial Data'!AE87+'Serial Data'!AF87)","v":{"$error":"#DIV/0!"}},{"$f":"'Serial Data'!AF87/('Serial Data'!AG87+'Serial Data'!AE87+'Serial Data'!AF87)","v":{"$error":"#DIV/0!"}},{"$f":"IF('Serial Data'!AE87+'Serial Data'!AF87+'Serial Data'!AG87<>0,(AF87+(AG87*0.5)),NA())","v":{"$error":"#N/A"}},{"$f":"IF('Serial Data'!AE87+'Serial Data'!AF87+'Serial Data'!AG87<>0,(AG87*0.866*Templates!K2),NA())","v":{"$error":"#N/A"}},null,{"$f":"'Serial Data'!AL87/('Serial Data'!AJ87+'Serial Data'!AK87+'Serial Data'!AL87)","v":{"$error":"#DIV/0!"}},{"$f":"'Serial Data'!AJ87/('Serial Data'!AJ87+'Serial Data'!AK87+'Serial Data'!AL87)","v":{"$error":"#DIV/0!"}},{"$f":"'Serial Data'!AK87/('Serial Data'!AJ87+'Serial Data'!AK87+'Serial Data'!AL87)","v":{"$error":"#DIV/0!"}},{"$f":"IF('Serial Data'!AJ87+'Serial Data'!AK87+'Serial Data'!AL87<>0,(AL87+(AM87*0.5)),NA())","v":{"$error":"#N/A"}},{"$f":"IF('Serial Data'!AJ87+'Serial Data'!AK87+'Serial Data'!AL87<>0,(AM87*0.866*Templates!K2),NA())","v":{"$error":"#N/A"}},null,{"$f":"'Serial Data'!AQ87/('Serial Data'!AO87+'Serial Data'!AP87+'Serial Data'!AQ87)","v":{"$error":"#DIV/0!"}},{"$f":"'Serial Data'!AO87/('Serial Data'!AO87+'Serial Data'!AP87+'Serial Data'!AQ87)","v":{"$error":"#DIV/0!"}},{"$f":"'Serial Data'!AP87/('Serial Data'!AO87+'Serial Data'!AP87+'Serial Data'!AQ87)","v":{"$error":"#DIV/0!"}},{"$f":"IF('Serial Data'!AO87+'Serial Data'!AP87+'Serial Data'!AQ87<>0,(AR87+(AS87*0.5)),NA())","v":{"$error":"#N/A"}},{"$f":"IF('Serial Data'!AO87+'Serial Data'!AP87+'Serial Data'!AQ87<>0,(AS87*0.866*Templates!K2),NA())","v":{"$error":"#N/A"}},null,{"$f":"'Serial Data'!AV87/('Serial Data'!AT87+'Serial Data'!AU87+'Serial Data'!AV87)","v":{"$error":"#DIV/0!"}},{"$f":"'Serial Data'!AT87/('Serial Data'!AT87+'Serial Data'!AU87+'Serial Data'!AV87)","v":{"$error":"#DIV/0!"}},{"$f":"'Serial Data'!AU87/('Serial Data'!AT87+'Serial Data'!AU87+'Serial Data'!AV87)","v":{"$error":"#DIV/0!"}},{"$f":"IF('Serial Data'!AT87+'Serial Data'!AU87+'Serial Data'!AV87<>0,(AX87+(AY87*0.5)),NA())","v":{"$error":"#N/A"}},{"$f":"IF('Serial Data'!AT87+'Serial Data'!AU87+'Serial Data'!AV87<>0,(AY87*0.866*Templates!K2),NA())","v":{"$error":"#N/A"}},null,{"$f":"'Serial Data'!BA87/('Serial Data'!AY87+'Serial Data'!AZ87+'Serial Data'!BA87)","v":{"$error":"#DIV/0!"}},{"$f":"'Serial Data'!AY87/('Serial Data'!AY87+'Serial Data'!AZ87+'Serial Data'!BA87)","v":{"$error":"#DIV/0!"}},{"$f":"'Serial Data'!AZ87/('Serial Data'!AY87+'Serial Data'!AZ87+'Serial Data'!BA87)","v":{"$error":"#DIV/0!"}},{"$f":"IF('Serial Data'!AY87+'Serial Data'!AZ87+'Serial Data'!BA87<>0,(BD87+(BE87*0.5)),NA())","v":{"$error":"#N/A"}},{"$f":"IF('Serial Data'!AY87+'Serial Data'!AZ87+'Serial Data'!BA87<>0,(BE87*0.866*Templates!K2),NA())","v":{"$error":"#N/A"}},null,{"$f":"'Serial Data'!BF87/('Serial Data'!BD87+'Serial Data'!BE87+'Serial Data'!BF87)","v":{"$error":"#DIV/0!"}},{"$f":"'Serial Data'!BD87/('Serial Data'!BD87+'Serial Data'!BE87+'Serial Data'!BF87)","v":{"$error":"#DIV/0!"}},{"$f":"'Serial Data'!BE87/('Serial Data'!BD87+'Serial Data'!BE87+'Serial Data'!BF87)","v":{"$error":"#DIV/0!"}},{"$f":"IF('Serial Data'!BD87+'Serial Data'!BE87+'Serial Data'!BF87<>0,(BJ87+(BK87*0.5)),NA())","v":{"$error":"#N/A"}},{"$f":"IF('Serial Data'!BD87+'Serial Data'!BE87+'Serial Data'!BF87<>0,(BK87*0.866*Templates!K2),NA())","v":{"$error":"#N/A"}}]
[{"$f":"'Single Data'!N89/('Single Data'!L89+'Single Data'!M89+'Single Data'!N89)","v":{"$error":"#DIV/0!"}},{"$f":"'Single Data'!L89/('Single Data'!L89+'Single Data'!M89+'Single Data'!N89)","v":{"$error":"#DIV/0!"}},{"$f":"'Single Data'!M89/('Single Data'!L89+'Single Data'!M89+'Single Data'!N89)","v":{"$error":"#DIV/0!"}},{"$f":"IF('Single Data'!L89+'Single Data'!M89+'Single Data'!N89<>0,(B88+(C88*0.5)),NA())","v":{"$error":"#N/A"}},{"$f":"IF('Single Data'!L89+'Single Data'!M89+'Single Data'!N89<>0,(C88*0.866*Templates!K2),NA())","v":{"$error":"#N/A"}},null,{"$f":"'Serial Data'!M88/('Serial Data'!K88+'Serial Data'!L88+'Serial Data'!M88)","v":{"$error":"#DIV/0!"}},{"$f":"'Serial Data'!K88/('Serial Data'!K88+'Serial Data'!L88+'Serial Data'!M88)","v":{"$error":"#DIV/0!"}},{"$f":"'Serial Data'!L88/('Serial Data'!K88+'Serial Data'!L88+'Serial Data'!M88)","v":{"$error":"#DIV/0!"}},{"$f":"IF('Serial Data'!K88+'Serial Data'!L88+'Serial Data'!M88<>0,(H88+(I88*0.5)),NA())","v":{"$error":"#N/A"}},{"$f":"IF('Serial Data'!K88+'Serial Data'!L88+'Serial Data'!M88<>0,(I88*0.866*Templates!K2),NA())","v":{"$error":"#N/A"}},null,{"$f":"'Serial Data'!R88/('Serial Data'!P88+'Serial Data'!Q88+'Serial Data'!R88)","v":{"$error":"#DIV/0!"}},{"$f":"'Serial Data'!P88/('Serial Data'!P88+'Serial Data'!Q88+'Serial Data'!R88)","v":{"$error":"#DIV/0!"}},{"$f":"'Serial Data'!Q88/('Serial Data'!P88+'Serial Data'!Q88+'Serial Data'!R88)","v":{"$error":"#DIV/0!"}},{"$f":"IF('Serial Data'!P88+'Serial Data'!Q88+'Serial Data'!R88<>0,(N88+(O88*0.5)),NA())","v":{"$error":"#N/A"}},{"$f":"IF('Serial Data'!P88+'Serial Data'!Q88+'Serial Data'!R88<>0,(O88*0.866*Templates!K2),NA())","v":{"$error":"#N/A"}},null,{"$f":"'Serial Data'!W88/('Serial Data'!U88+'Serial Data'!V88+'Serial Data'!W88)","v":{"$error":"#DIV/0!"}},{"$f":"'Serial Data'!U88/('Serial Data'!U88+'Serial Data'!V88+'Serial Data'!W88)","v":{"$error":"#DIV/0!"}},{"$f":"'Serial Data'!V88/('Serial Data'!U88+'Serial Data'!V88+'Serial Data'!W88)","v":{"$error":"#DIV/0!"}},{"$f":"IF('Serial Data'!V88+'Serial Data'!W88+'Serial Data'!U88<>0,(T88+(U88*0.5)),NA())","v":{"$error":"#N/A"}},{"$f":"IF('Serial Data'!V88+'Serial Data'!W88+'Serial Data'!U88<>0,(U88*0.866*Templates!K2),NA())","v":{"$error":"#N/A"}},null,{"$f":"'Serial Data'!AB88/('Serial Data'!AA88+'Serial Data'!AB88+'Serial Data'!Z88)","v":{"$error":"#DIV/0!"}},{"$f":"'Serial Data'!Z88/('Serial Data'!AA88+'Serial Data'!AB88+'Serial Data'!Z88)","v":{"$error":"#DIV/0!"}},{"$f":"'Serial Data'!AA88/('Serial Data'!AA88+'Serial Data'!AB88+'Serial Data'!Z88)","v":{"$error":"#DIV/0!"}},{"$f":"IF('Serial Data'!AB88+'Serial Data'!AA88+'Serial Data'!Z88<>0,(Z88+(AA88*0.5)),NA())","v":{"$error":"#N/A"}},{"$f":"IF('Serial Data'!AB88+'Serial Data'!AA88+'Serial Data'!Z88<>0,(AA88*0.866*Templates!K2),NA())","v":{"$error":"#N/A"}},null,{"$f":"'Serial Data'!AG88/('Serial Data'!AG88+'Serial Data'!AE88+'Serial Data'!AF88)","v":{"$error":"#DIV/0!"}},{"$f":"'Serial Data'!AE88/('Serial Data'!AG88+'Serial Data'!AE88+'Serial Data'!AF88)","v":{"$error":"#DIV/0!"}},{"$f":"'Serial Data'!AF88/('Serial Data'!AG88+'Serial Data'!AE88+'Serial Data'!AF88)","v":{"$error":"#DIV/0!"}},{"$f":"IF('Serial Data'!AE88+'Serial Data'!AF88+'Serial Data'!AG88<>0,(AF88+(AG88*0.5)),NA())","v":{"$error":"#N/A"}},{"$f":"IF('Serial Data'!AE88+'Serial Data'!AF88+'Serial Data'!AG88<>0,(AG88*0.866*Templates!K2),NA())","v":{"$error":"#N/A"}},null,{"$f":"'Serial Data'!AL88/('Serial Data'!AJ88+'Serial Data'!AK88+'Serial Data'!AL88)","v":{"$error":"#DIV/0!"}},{"$f":"'Serial Data'!AJ88/('Serial Data'!AJ88+'Serial Data'!AK88+'Serial Data'!AL88)","v":{"$error":"#DIV/0!"}},{"$f":"'Serial Data'!AK88/('Serial Data'!AJ88+'Serial Data'!AK88+'Serial Data'!AL88)","v":{"$error":"#DIV/0!"}},{"$f":"IF('Serial Data'!AJ88+'Serial Data'!AK88+'Serial Data'!AL88<>0,(AL88+(AM88*0.5)),NA())","v":{"$error":"#N/A"}},{"$f":"IF('Serial Data'!AJ88+'Serial Data'!AK88+'Serial Data'!AL88<>0,(AM88*0.866*Templates!K2),NA())","v":{"$error":"#N/A"}},null,{"$f":"'Serial Data'!AQ88/('Serial Data'!AO88+'Serial Data'!AP88+'Serial Data'!AQ88)","v":{"$error":"#DIV/0!"}},{"$f":"'Serial Data'!AO88/('Serial Data'!AO88+'Serial Data'!AP88+'Serial Data'!AQ88)","v":{"$error":"#DIV/0!"}},{"$f":"'Serial Data'!AP88/('Serial Data'!AO88+'Serial Data'!AP88+'Serial Data'!AQ88)","v":{"$error":"#DIV/0!"}},{"$f":"IF('Serial Data'!AO88+'Serial Data'!AP88+'Serial Data'!AQ88<>0,(AR88+(AS88*0.5)),NA())","v":{"$error":"#N/A"}},{"$f":"IF('Serial Data'!AO88+'Serial Data'!AP88+'Serial Data'!AQ88<>0,(AS88*0.866*Templates!K2),NA())","v":{"$error":"#N/A"}},null,{"$f":"'Serial Data'!AV88/('Serial Data'!AT88+'Serial Data'!AU88+'Serial Data'!AV88)","v":{"$error":"#DIV/0!"}},{"$f":"'Serial Data'!AT88/('Serial Data'!AT88+'Serial Data'!AU88+'Serial Data'!AV88)","v":{"$error":"#DIV/0!"}},{"$f":"'Serial Data'!AU88/('Serial Data'!AT88+'Serial Data'!AU88+'Serial Data'!AV88)","v":{"$error":"#DIV/0!"}},{"$f":"IF('Serial Data'!AT88+'Serial Data'!AU88+'Serial Data'!AV88<>0,(AX88+(AY88*0.5)),NA())","v":{"$error":"#N/A"}},{"$f":"IF('Serial Data'!AT88+'Serial Data'!AU88+'Serial Data'!AV88<>0,(AY88*0.866*Templates!K2),NA())","v":{"$error":"#N/A"}},null,{"$f":"'Serial Data'!BA88/('Serial Data'!AY88+'Serial Data'!AZ88+'Serial Data'!BA88)","v":{"$error":"#DIV/0!"}},{"$f":"'Serial Data'!AY88/('Serial Data'!AY88+'Serial Data'!AZ88+'Serial Data'!BA88)","v":{"$error":"#DIV/0!"}},{"$f":"'Serial Data'!AZ88/('Serial Data'!AY88+'Serial Data'!AZ88+'Serial Data'!BA88)","v":{"$error":"#DIV/0!"}},{"$f":"IF('Serial Data'!AY88+'Serial Data'!AZ88+'Serial Data'!BA88<>0,(BD88+(BE88*0.5)),NA())","v":{"$error":"#N/A"}},{"$f":"IF('Serial Data'!AY88+'Serial Data'!AZ88+'Serial Data'!BA88<>0,(BE88*0.866*Templates!K2),NA())","v":{"$error":"#N/A"}},null,{"$f":"'Serial Data'!BF88/('Serial Data'!BD88+'Serial Data'!BE88+'Serial Data'!BF88)","v":{"$error":"#DIV/0!"}},{"$f":"'Serial Data'!BD88/('Serial Data'!BD88+'Serial Data'!BE88+'Serial Data'!BF88)","v":{"$error":"#DIV/0!"}},{"$f":"'Serial Data'!BE88/('Serial Data'!BD88+'Serial Data'!BE88+'Serial Data'!BF88)","v":{"$error":"#DIV/0!"}},{"$f":"IF('Serial Data'!BD88+'Serial Data'!BE88+'Serial Data'!BF88<>0,(BJ88+(BK88*0.5)),NA())","v":{"$error":"#N/A"}},{"$f":"IF('Serial Data'!BD88+'Serial Data'!BE88+'Serial Data'!BF88<>0,(BK88*0.866*Templates!K2),NA())","v":{"$error":"#N/A"}}]
[{"$f":"'Single Data'!N90/('Single Data'!L90+'Single Data'!M90+'Single Data'!N90)","v":{"$error":"#DIV/0!"}},{"$f":"'Single Data'!L90/('Single Data'!L90+'Single Data'!M90+'Single Data'!N90)","v":{"$error":"#DIV/0!"}},{"$f":"'Single Data'!M90/('Single Data'!L90+'Single Data'!M90+'Single Data'!N90)","v":{"$error":"#DIV/0!"}},{"$f":"IF('Single Data'!L90+'Single Data'!M90+'Single Data'!N90<>0,(B89+(C89*0.5)),NA())","v":{"$error":"#N/A"}},{"$f":"IF('Single Data'!L90+'Single Data'!M90+'Single Data'!N90<>0,(C89*0.866*Templates!K2),NA())","v":{"$error":"#N/A"}},null,{"$f":"'Serial Data'!M89/('Serial Data'!K89+'Serial Data'!L89+'Serial Data'!M89)","v":{"$error":"#DIV/0!"}},{"$f":"'Serial Data'!K89/('Serial Data'!K89+'Serial Data'!L89+'Serial Data'!M89)","v":{"$error":"#DIV/0!"}},{"$f":"'Serial Data'!L89/('Serial Data'!K89+'Serial Data'!L89+'Serial Data'!M89)","v":{"$error":"#DIV/0!"}},{"$f":"IF('Serial Data'!K89+'Serial Data'!L89+'Serial Data'!M89<>0,(H89+(I89*0.5)),NA())","v":{"$error":"#N/A"}},{"$f":"IF('Serial Data'!K89+'Serial Data'!L89+'Serial Data'!M89<>0,(I89*0.866*Templates!K2),NA())","v":{"$error":"#N/A"}},null,{"$f":"'Serial Data'!R89/('Serial Data'!P89+'Serial Data'!Q89+'Serial Data'!R89)","v":{"$error":"#DIV/0!"}},{"$f":"'Serial Data'!P89/('Serial Data'!P89+'Serial Data'!Q89+'Serial Data'!R89)","v":{"$error":"#DIV/0!"}},{"$f":"'Serial Data'!Q89/('Serial Data'!P89+'Serial Data'!Q89+'Serial Data'!R89)","v":{"$error":"#DIV/0!"}},{"$f":"IF('Serial Data'!P89+'Serial Data'!Q89+'Serial Data'!R89<>0,(N89+(O89*0.5)),NA())","v":{"$error":"#N/A"}},{"$f":"IF('Serial Data'!P89+'Serial Data'!Q89+'Serial Data'!R89<>0,(O89*0.866*Templates!K2),NA())","v":{"$error":"#N/A"}},null,{"$f":"'Serial Data'!W89/('Serial Data'!U89+'Serial Data'!V89+'Serial Data'!W89)","v":{"$error":"#DIV/0!"}},{"$f":"'Serial Data'!U89/('Serial Data'!U89+'Serial Data'!V89+'Serial Data'!W89)","v":{"$error":"#DIV/0!"}},{"$f":"'Serial Data'!V89/('Serial Data'!U89+'Serial Data'!V89+'Serial Data'!W89)","v":{"$error":"#DIV/0!"}},{"$f":"IF('Serial Data'!V89+'Serial Data'!W89+'Serial Data'!U89<>0,(T89+(U89*0.5)),NA())","v":{"$error":"#N/A"}},{"$f":"IF('Serial Data'!V89+'Serial Data'!W89+'Serial Data'!U89<>0,(U89*0.866*Templates!K2),NA())","v":{"$error":"#N/A"}},null,{"$f":"'Serial Data'!AB89/('Serial Data'!AA89+'Serial Data'!AB89+'Serial Data'!Z89)","v":{"$error":"#DIV/0!"}},{"$f":"'Serial Data'!Z89/('Serial Data'!AA89+'Serial Data'!AB89+'Serial Data'!Z89)","v":{"$error":"#DIV/0!"}},{"$f":"'Serial Data'!AA89/('Serial Data'!AA89+'Serial Data'!AB89+'Serial Data'!Z89)","v":{"$error":"#DIV/0!"}},{"$f":"IF('Serial Data'!AB89+'Serial Data'!AA89+'Serial Data'!Z89<>0,(Z89+(AA89*0.5)),NA())","v":{"$error":"#N/A"}},{"$f":"IF('Serial Data'!AB89+'Serial Data'!AA89+'Serial Data'!Z89<>0,(AA89*0.866*Templates!K2),NA())","v":{"$error":"#N/A"}},null,{"$f":"'Serial Data'!AG89/('Serial Data'!AG89+'Serial Data'!AE89+'Serial Data'!AF89)","v":{"$error":"#DIV/0!"}},{"$f":"'Serial Data'!AE89/('Serial Data'!AG89+'Serial Data'!AE89+'Serial Data'!AF89)","v":{"$error":"#DIV/0!"}},{"$f":"'Serial Data'!AF89/('Serial Data'!AG89+'Serial Data'!AE89+'Serial Data'!AF89)","v":{"$error":"#DIV/0!"}},{"$f":"IF('Serial Data'!AE89+'Serial Data'!AF89+'Serial Data'!AG89<>0,(AF89+(AG89*0.5)),NA())","v":{"$error":"#N/A"}},{"$f":"IF('Serial Data'!AE89+'Serial Data'!AF89+'Serial Data'!AG89<>0,(AG89*0.866*Templates!K2),NA())","v":{"$error":"#N/A"}},null,{"$f":"'Serial Data'!AL89/('Serial Data'!AJ89+'Serial Data'!AK89+'Serial Data'!AL89)","v":{"$error":"#DIV/0!"}},{"$f":"'Serial Data'!AJ89/('Serial Data'!AJ89+'Serial Data'!AK89+'Serial Data'!AL89)","v":{"$error":"#DIV/0!"}},{"$f":"'Serial Data'!AK89/('Serial Data'!AJ89+'Serial Data'!AK89+'Serial Data'!AL89)","v":{"$error":"#DIV/0!"}},{"$f":"IF('Serial Data'!AJ89+'Serial Data'!AK89+'Serial Data'!AL89<>0,(AL89+(AM89*0.5)),NA())","v":{"$error":"#N/A"}},{"$f":"IF('Serial Data'!AJ89+'Serial Data'!AK89+'Serial Data'!AL89<>0,(AM89*0.866*Templates!K2),NA())","v":{"$error":"#N/A"}},null,{"$f":"'Serial Data'!AQ89/('Serial Data'!AO89+'Serial Data'!AP89+'Serial Data'!AQ89)","v":{"$error":"#DIV/0!"}},{"$f":"'Serial Data'!AO89/('Serial Data'!AO89+'Serial Data'!AP89+'Serial Data'!AQ89)","v":{"$error":"#DIV/0!"}},{"$f":"'Serial Data'!AP89/('Serial Data'!AO89+'Serial Data'!AP89+'Serial Data'!AQ89)","v":{"$error":"#DIV/0!"}},{"$f":"IF('Serial Data'!AO89+'Serial Data'!AP89+'Serial Data'!AQ89<>0,(AR89+(AS89*0.5)),NA())","v":{"$error":"#N/A"}},{"$f":"IF('Serial Data'!AO89+'Serial Data'!AP89+'Serial Data'!AQ89<>0,(AS89*0.866*Templates!K2),NA())","v":{"$error":"#N/A"}},null,{"$f":"'Serial Data'!AV89/('Serial Data'!AT89+'Serial Data'!AU89+'Serial Data'!AV89)","v":{"$error":"#DIV/0!"}},{"$f":"'Serial Data'!AT89/('Serial Data'!AT89+'Serial Data'!AU89+'Serial Data'!AV89)","v":{"$error":"#DIV/0!"}},{"$f":"'Serial Data'!AU89/('Serial Data'!AT89+'Serial Data'!AU89+'Serial Data'!AV89)","v":{"$error":"#DIV/0!"}},{"$f":"IF('Serial Data'!AT89+'Serial Data'!AU89+'Serial Data'!AV89<>0,(AX89+(AY89*0.5)),NA())","v":{"$error":"#N/A"}},{"$f":"IF('Serial Data'!AT89+'Serial Data'!AU89+'Serial Data'!AV89<>0,(AY89*0.866*Templates!K2),NA())","v":{"$error":"#N/A"}},null,{"$f":"'Serial Data'!BA89/('Serial Data'!AY89+'Serial Data'!AZ89+'Serial Data'!BA89)","v":{"$error":"#DIV/0!"}},{"$f":"'Serial Data'!AY89/('Serial Data'!AY89+'Serial Data'!AZ89+'Serial Data'!BA89)","v":{"$error":"#DIV/0!"}},{"$f":"'Serial Data'!AZ89/('Serial Data'!AY89+'Serial Data'!AZ89+'Serial Data'!BA89)","v":{"$error":"#DIV/0!"}},{"$f":"IF('Serial Data'!AY89+'Serial Data'!AZ89+'Serial Data'!BA89<>0,(BD89+(BE89*0.5)),NA())","v":{"$error":"#N/A"}},{"$f":"IF('Serial Data'!AY89+'Serial Data'!AZ89+'Serial Data'!BA89<>0,(BE89*0.866*Templates!K2),NA())","v":{"$error":"#N/A"}},null,{"$f":"'Serial Data'!BF89/('Serial Data'!BD89+'Serial Data'!BE89+'Serial Data'!BF89)","v":{"$error":"#DIV/0!"}},{"$f":"'Serial Data'!BD89/('Serial Data'!BD89+'Serial Data'!BE89+'Serial Data'!BF89)","v":{"$error":"#DIV/0!"}},{"$f":"'Serial Data'!BE89/('Serial Data'!BD89+'Serial Data'!BE89+'Serial Data'!BF89)","v":{"$error":"#DIV/0!"}},{"$f":"IF('Serial Data'!BD89+'Serial Data'!BE89+'Serial Data'!BF89<>0,(BJ89+(BK89*0.5)),NA())","v":{"$error":"#N/A"}},{"$f":"IF('Serial Data'!BD89+'Serial Data'!BE89+'Serial Data'!BF89<>0,(BK89*0.866*Templates!K2),NA())","v":{"$error":"#N/A"}}]
[{"$f":"'Single Data'!N91/('Single Data'!L91+'Single Data'!M91+'Single Data'!N91)","v":{"$error":"#DIV/0!"}},{"$f":"'Single Data'!L91/('Single Data'!L91+'Single Data'!M91+'Single Data'!N91)","v":{"$error":"#DIV/0!"}},{"$f":"'Single Data'!M91/('Single Data'!L91+'Single Data'!M91+'Single Data'!N91)","v":{"$error":"#DIV/0!"}},{"$f":"IF('Single Data'!L91+'Single Data'!M91+'Single Data'!N91<>0,(B90+(C90*0.5)),NA())","v":{"$error":"#N/A"}},{"$f":"IF('Single Data'!L91+'Single Data'!M91+'Single Data'!N91<>0,(C90*0.866*Templates!K2),NA())","v":{"$error":"#N/A"}},null,{"$f":"'Serial Data'!M90/('Serial Data'!K90+'Serial Data'!L90+'Serial Data'!M90)","v":{"$error":"#DIV/0!"}},{"$f":"'Serial Data'!K90/('Serial Data'!K90+'Serial Data'!L90+'Serial Data'!M90)","v":{"$error":"#DIV/0!"}},{"$f":"'Serial Data'!L90/('Serial Data'!K90+'Serial Data'!L90+'Serial Data'!M90)","v":{"$error":"#DIV/0!"}},{"$f":"IF('Serial Data'!K90+'Serial Data'!L90+'Serial Data'!M90<>0,(H90+(I90*0.5)),NA())","v":{"$error":"#N/A"}},{"$f":"IF('Serial Data'!K90+'Serial Data'!L90+'Serial Data'!M90<>0,(I90*0.866*Templates!K2),NA())","v":{"$error":"#N/A"}},null,{"$f":"'Serial Data'!R90/('Serial Data'!P90+'Serial Data'!Q90+'Serial Data'!R90)","v":{"$error":"#DIV/0!"}},{"$f":"'Serial Data'!P90/('Serial Data'!P90+'Serial Data'!Q90+'Serial Data'!R90)","v":{"$error":"#DIV/0!"}},{"$f":"'Serial Data'!Q90/('Serial Data'!P90+'Serial Data'!Q90+'Serial Data'!R90)","v":{"$error":"#DIV/0!"}},{"$f":"IF('Serial Data'!P90+'Serial Data'!Q90+'Serial Data'!R90<>0,(N90+(O90*0.5)),NA())","v":{"$error":"#N/A"}},{"$f":"IF('Serial Data'!P90+'Serial Data'!Q90+'Serial Data'!R90<>0,(O90*0.866*Templates!K2),NA())","v":{"$error":"#N/A"}},null,{"$f":"'Serial Data'!W90/('Serial Data'!U90+'Serial Data'!V90+'Serial Data'!W90)","v":{"$error":"#DIV/0!"}},{"$f":"'Serial Data'!U90/('Serial Data'!U90+'Serial Data'!V90+'Serial Data'!W90)","v":{"$error":"#DIV/0!"}},{"$f":"'Serial Data'!V90/('Serial Data'!U90+'Serial Data'!V90+'Serial Data'!W90)","v":{"$error":"#DIV/0!"}},{"$f":"IF('Serial Data'!V90+'Serial Data'!W90+'Serial Data'!U90<>0,(T90+(U90*0.5)),NA())","v":{"$error":"#N/A"}},{"$f":"IF('Serial Data'!V90+'Serial Data'!W90+'Serial Data'!U90<>0,(U90*0.866*Templates!K2),NA())","v":{"$error":"#N/A"}},null,{"$f":"'Serial Data'!AB90/('Serial Data'!AA90+'Serial Data'!AB90+'Serial Data'!Z90)","v":{"$error":"#DIV/0!"}},{"$f":"'Serial Data'!Z90/('Serial Data'!AA90+'Serial Data'!AB90+'Serial Data'!Z90)","v":{"$error":"#DIV/0!"}},{"$f":"'Serial Data'!AA90/('Serial Data'!AA90+'Serial Data'!AB90+'Serial Data'!Z90)","v":{"$error":"#DIV/0!"}},{"$f":"IF('Serial Data'!AB90+'Serial Data'!AA90+'Serial Data'!Z90<>0,(Z90+(AA90*0.5)),NA())","v":{"$error":"#N/A"}},{"$f":"IF('Serial Data'!AB90+'Serial Data'!AA90+'Serial Data'!Z90<>0,(AA90*0.866*Templates!K2),NA())","v":{"$error":"#N/A"}},null,{"$f":"'Serial Data'!AG90/('Serial Data'!AG90+'Serial Data'!AE90+'Serial Data'!AF90)","v":{"$error":"#DIV/0!"}},{"$f":"'Serial Data'!AE90/('Serial Data'!AG90+'Serial Data'!AE90+'Serial Data'!AF90)","v":{"$error":"#DIV/0!"}},{"$f":"'Serial Data'!AF90/('Serial Data'!AG90+'Serial Data'!AE90+'Serial Data'!AF90)","v":{"$error":"#DIV/0!"}},{"$f":"IF('Serial Data'!AE90+'Serial Data'!AF90+'Serial Data'!AG90<>0,(AF90+(AG90*0.5)),NA())","v":{"$error":"#N/A"}},{"$f":"IF('Serial Data'!AE90+'Serial Data'!AF90+'Serial Data'!AG90<>0,(AG90*0.866*Templates!K2),NA())","v":{"$error":"#N/A"}},null,{"$f":"'Serial Data'!AL90/('Serial Data'!AJ90+'Serial Data'!AK90+'Serial Data'!AL90)","v":{"$error":"#DIV/0!"}},{"$f":"'Serial Data'!AJ90/('Serial Data'!AJ90+'Serial Data'!AK90+'Serial Data'!AL90)","v":{"$error":"#DIV/0!"}},{"$f":"'Serial Data'!AK90/('Serial Data'!AJ90+'Serial Data'!AK90+'Serial Data'!AL90)","v":{"$error":"#DIV/0!"}},{"$f":"IF('Serial Data'!AJ90+'Serial Data'!AK90+'Serial Data'!AL90<>0,(AL90+(AM90*0.5)),NA())","v":{"$error":"#N/A"}},{"$f":"IF('Serial Data'!AJ90+'Serial Data'!AK90+'Serial Data'!AL90<>0,(AM90*0.866*Templates!K2),NA())","v":{"$error":"#N/A"}},null,{"$f":"'Serial Data'!AQ90/('Serial Data'!AO90+'Serial Data'!AP90+'Serial Data'!AQ90)","v":{"$error":"#DIV/0!"}},{"$f":"'Serial Data'!AO90/('Serial Data'!AO90+'Serial Data'!AP90+'Serial Data'!AQ90)","v":{"$error":"#DIV/0!"}},{"$f":"'Serial Data'!AP90/('Serial Data'!AO90+'Serial Data'!AP90+'Serial Data'!AQ90)","v":{"$error":"#DIV/0!"}},{"$f":"IF('Serial Data'!AO90+'Serial Data'!AP90+'Serial Data'!AQ90<>0,(AR90+(AS90*0.5)),NA())","v":{"$error":"#N/A"}},{"$f":"IF('Serial Data'!AO90+'Serial Data'!AP90+'Serial Data'!AQ90<>0,(AS90*0.866*Templates!K2),NA())","v":{"$error":"#N/A"}},null,{"$f":"'Serial Data'!AV90/('Serial Data'!AT90+'Serial Data'!AU90+'Serial Data'!AV90)","v":{"$error":"#DIV/0!"}},{"$f":"'Serial Data'!AT90/('Serial Data'!AT90+'Serial Data'!AU90+'Serial Data'!AV90)","v":{"$error":"#DIV/0!"}},{"$f":"'Serial Data'!AU90/('Serial Data'!AT90+'Serial Data'!AU90+'Serial Data'!AV90)","v":{"$error":"#DIV/0!"}},{"$f":"IF('Serial Data'!AT90+'Serial Data'!AU90+'Serial Data'!AV90<>0,(AX90+(AY90*0.5)),NA())","v":{"$error":"#N/A"}},{"$f":"IF('Serial Data'!AT90+'Serial Data'!AU90+'Serial Data'!AV90<>0,(AY90*0.866*Templates!K2),NA())","v":{"$error":"#N/A"}},null,{"$f":"'Serial Data'!BA90/('Serial Data'!AY90+'Serial Data'!AZ90+'Serial Data'!BA90)","v":{"$error":"#DIV/0!"}},{"$f":"'Serial Data'!AY90/('Serial Data'!AY90+'Serial Data'!AZ90+'Serial Data'!BA90)","v":{"$error":"#DIV/0!"}},{"$f":"'Serial Data'!AZ90/('Serial Data'!AY90+'Serial Data'!AZ90+'Serial Data'!BA90)","v":{"$error":"#DIV/0!"}},{"$f":"IF('Serial Data'!AY90+'Serial Data'!AZ90+'Serial Data'!BA90<>0,(BD90+(BE90*0.5)),NA())","v":{"$error":"#N/A"}},{"$f":"IF('Serial Data'!AY90+'Serial Data'!AZ90+'Serial Data'!BA90<>0,(BE90*0.866*Templates!K2),NA())","v":{"$error":"#N/A"}},null,{"$f":"'Serial Data'!BF90/('Serial Data'!BD90+'Serial Data'!BE90+'Serial Data'!BF90)","v":{"$error":"#DIV/0!"}},{"$f":"'Serial Data'!BD90/('Serial Data'!BD90+'Serial Data'!BE90+'Serial Data'!BF90)","v":{"$error":"#DIV/0!"}},{"$f":"'Serial Data'!BE90/('Serial Data'!BD90+'Serial Data'!BE90+'Serial Data'!BF90)","v":{"$error":"#DIV/0!"}},{"$f":"IF('Serial Data'!BD90+'Serial Data'!BE90+'Serial Data'!BF90<>0,(BJ90+(BK90*0.5)),NA())","v":{"$error":"#N/A"}},{"$f":"IF('Serial Data'!BD90+'Serial Data'!BE90+'Serial Data'!BF90<>0,(BK90*0.866*Templates!K2),NA())","v":{"$error":"#N/A"}}]
[{"$f":"'Single Data'!N92/('Single Data'!L92+'Single Data'!M92+'Single Data'!N92)","v":{"$error":"#DIV/0!"}},{"$f":"'Single Data'!L92/('Single Data'!L92+'Single Data'!M92+'Single Data'!N92)","v":{"$error":"#DIV/0!"}},{"$f":"'Single Data'!M92/('Single Data'!L92+'Single Data'!M92+'Single Data'!N92)","v":{"$error":"#DIV/0!"}},{"$f":"IF('Single Data'!L92+'Single Data'!M92+'Single Data'!N92<>0,(B91+(C91*0.5)),NA())","v":{"$error":"#N/A"}},{"$f":"IF('Single Data'!L92+'Single Data'!M92+'Single Data'!N92<>0,(C91*0.866*Templates!K2),NA())","v":{"$error":"#N/A"}},null,{"$f":"'Serial Data'!M91/('Serial Data'!K91+'Serial Data'!L91+'Serial Data'!M91)","v":{"$error":"#DIV/0!"}},{"$f":"'Serial Data'!K91/('Serial Data'!K91+'Serial Data'!L91+'Serial Data'!M91)","v":{"$error":"#DIV/0!"}},{"$f":"'Serial Data'!L91/('Serial Data'!K91+'Serial Data'!L91+'Serial Data'!M91)","v":{"$error":"#DIV/0!"}},{"$f":"IF('Serial Data'!K91+'Serial Data'!L91+'Serial Data'!M91<>0,(H91+(I91*0.5)),NA())","v":{"$error":"#N/A"}},{"$f":"IF('Serial Data'!K91+'Serial Data'!L91+'Serial Data'!M91<>0,(I91*0.866*Templates!K2),NA())","v":{"$error":"#N/A"}},null,{"$f":"'Serial Data'!R91/('Serial Data'!P91+'Serial Data'!Q91+'Serial Data'!R91)","v":{"$error":"#DIV/0!"}},{"$f":"'Serial Data'!P91/('Serial Data'!P91+'Serial Data'!Q91+'Serial Data'!R91)","v":{"$error":"#DIV/0!"}},{"$f":"'Serial Data'!Q91/('Serial Data'!P91+'Serial Data'!Q91+'Serial Data'!R91)","v":{"$error":"#DIV/0!"}},{"$f":"IF('Serial Data'!P91+'Serial Data'!Q91+'Serial Data'!R91<>0,(N91+(O91*0.5)),NA())","v":{"$error":"#N/A"}},{"$f":"IF('Serial Data'!P91+'Serial Data'!Q91+'Serial Data'!R91<>0,(O91*0.866*Templates!K2),NA())","v":{"$error":"#N/A"}},null,{"$f":"'Serial Data'!W91/('Serial Data'!U91+'Serial Data'!V91+'Serial Data'!W91)","v":{"$error":"#DIV/0!"}},{"$f":"'Serial Data'!U91/('Serial Data'!U91+'Serial Data'!V91+'Serial Data'!W91)","v":{"$error":"#DIV/0!"}},{"$f":"'Serial Data'!V91/('Serial Data'!U91+'Serial Data'!V91+'Serial Data'!W91)","v":{"$error":"#DIV/0!"}},{"$f":"IF('Serial Data'!V91+'Serial Data'!W91+'Serial Data'!U91<>0,(T91+(U91*0.5)),NA())","v":{"$error":"#N/A"}},{"$f":"IF('Serial Data'!V91+'Serial Data'!W91+'Serial Data'!U91<>0,(U91*0.866*Templates!K2),NA())","v":{"$error":"#N/A"}},null,{"$f":"'Serial Data'!AB91/('Serial Data'!AA91+'Serial Data'!AB91+'Serial Data'!Z91)","v":{"$error":"#DIV/0!"}},{"$f":"'Serial Data'!Z91/('Serial Data'!AA91+'Serial Data'!AB91+'Serial Data'!Z91)","v":{"$error":"#DIV/0!"}},{"$f":"'Serial Data'!AA91/('Serial Data'!AA91+'Serial Data'!AB91+'Serial Data'!Z91)","v":{"$error":"#DIV/0!"}},{"$f":"IF('Serial Data'!AB91+'Serial Data'!AA91+'Serial Data'!Z91<>0,(Z91+(AA91*0.5)),NA())","v":{"$error":"#N/A"}},{"$f":"IF('Serial Data'!AB91+'Serial Data'!AA91+'Serial Data'!Z91<>0,(AA91*0.866*Templates!K2),NA())","v":{"$error":"#N/A"}},null,{"$f":"'Serial Data'!AG91/('Serial Data'!AG91+'Serial Data'!AE91+'Serial Data'!AF91)","v":{"$error":"#DIV/0!"}},{"$f":"'Serial Data'!AE91/('Serial Data'!AG91+'Serial Data'!AE91+'Serial Data'!AF91)","v":{"$error":"#DIV/0!"}},{"$f":"'Serial Data'!AF91/('Serial Data'!AG91+'Serial Data'!AE91+'Serial Data'!AF91)","v":{"$error":"#DIV/0!"}},{"$f":"IF('Serial Data'!AE91+'Serial Data'!AF91+'Serial Data'!AG91<>0,(AF91+(AG91*0.5)),NA())","v":{"$error":"#N/A"}},{"$f":"IF('Serial Data'!AE91+'Serial Data'!AF91+'Serial Data'!AG91<>0,(AG91*0.866*Templates!K2),NA())","v":{"$error":"#N/A"}},null,{"$f":"'Serial Data'!AL91/('Serial Data'!AJ91+'Serial Data'!AK91+'Serial Data'!AL91)","v":{"$error":"#DIV/0!"}},{"$f":"'Serial Data'!AJ91/('Serial Data'!AJ91+'Serial Data'!AK91+'Serial Data'!AL91)","v":{"$error":"#DIV/0!"}},{"$f":"'Serial Data'!AK91/('Serial Data'!AJ91+'Serial Data'!AK91+'Serial Data'!AL91)","v":{"$error":"#DIV/0!"}},{"$f":"IF('Serial Data'!AJ91+'Serial Data'!AK91+'Serial Data'!AL91<>0,(AL91+(AM91*0.5)),NA())","v":{"$error":"#N/A"}},{"$f":"IF('Serial Data'!AJ91+'Serial Data'!AK91+'Serial Data'!AL91<>0,(AM91*0.866*Templates!K2),NA())","v":{"$error":"#N/A"}},null,{"$f":"'Serial Data'!AQ91/('Serial Data'!AO91+'Serial Data'!AP91+'Serial Data'!AQ91)","v":{"$error":"#DIV/0!"}},{"$f":"'Serial Data'!AO91/('Serial Data'!AO91+'Serial Data'!AP91+'Serial Data'!AQ91)","v":{"$error":"#DIV/0!"}},{"$f":"'Serial Data'!AP91/('Serial Data'!AO91+'Serial Data'!AP91+'Serial Data'!AQ91)","v":{"$error":"#DIV/0!"}},{"$f":"IF('Serial Data'!AO91+'Serial Data'!AP91+'Serial Data'!AQ91<>0,(AR91+(AS91*0.5)),NA())","v":{"$error":"#N/A"}},{"$f":"IF('Serial Data'!AO91+'Serial Data'!AP91+'Serial Data'!AQ91<>0,(AS91*0.866*Templates!K2),NA())","v":{"$error":"#N/A"}},null,{"$f":"'Serial Data'!AV91/('Serial Data'!AT91+'Serial Data'!AU91+'Serial Data'!AV91)","v":{"$error":"#DIV/0!"}},{"$f":"'Serial Data'!AT91/('Serial Data'!AT91+'Serial Data'!AU91+'Serial Data'!AV91)","v":{"$error":"#DIV/0!"}},{"$f":"'Serial Data'!AU91/('Serial Data'!AT91+'Serial Data'!AU91+'Serial Data'!AV91)","v":{"$error":"#DIV/0!"}},{"$f":"IF('Serial Data'!AT91+'Serial Data'!AU91+'Serial Data'!AV91<>0,(AX91+(AY91*0.5)),NA())","v":{"$error":"#N/A"}},{"$f":"IF('Serial Data'!AT91+'Serial Data'!AU91+'Serial Data'!AV91<>0,(AY91*0.866*Templates!K2),NA())","v":{"$error":"#N/A"}},null,{"$f":"'Serial Data'!BA91/('Serial Data'!AY91+'Serial Data'!AZ91+'Serial Data'!BA91)","v":{"$error":"#DIV/0!"}},{"$f":"'Serial Data'!AY91/('Serial Data'!AY91+'Serial Data'!AZ91+'Serial Data'!BA91)","v":{"$error":"#DIV/0!"}},{"$f":"'Serial Data'!AZ91/('Serial Data'!AY91+'Serial Data'!AZ91+'Serial Data'!BA91)","v":{"$error":"#DIV/0!"}},{"$f":"IF('Serial Data'!AY91+'Serial Data'!AZ91+'Serial Data'!BA91<>0,(BD91+(BE91*0.5)),NA())","v":{"$error":"#N/A"}},{"$f":"IF('Serial Data'!AY91+'Serial Data'!AZ91+'Serial Data'!BA91<>0,(BE91*0.866*Templates!K2),NA())","v":{"$error":"#N/A"}},null,{"$f":"'Serial Data'!BF91/('Serial Data'!BD91+'Serial Data'!BE91+'Serial Data'!BF91)","v":{"$error":"#DIV/0!"}},{"$f":"'Serial Data'!BD91/('Serial Data'!BD91+'Serial Data'!BE91+'Serial Data'!BF91)","v":{"$error":"#DIV/0!"}},{"$f":"'Serial Data'!BE91/('Serial Data'!BD91+'Serial Data'!BE91+'Serial Data'!BF91)","v":{"$error":"#DIV/0!"}},{"$f":"IF('Serial Data'!BD91+'Serial Data'!BE91+'Serial Data'!BF91<>0,(BJ91+(BK91*0.5)),NA())","v":{"$error":"#N/A"}},{"$f":"IF('Serial Data'!BD91+'Serial Data'!BE91+'Serial Data'!BF91<>0,(BK91*0.866*Templates!K2),NA())","v":{"$error":"#N/A"}}]
[{"$f":"'Single Data'!N93/('Single Data'!L93+'Single Data'!M93+'Single Data'!N93)","v":{"$error":"#DIV/0!"}},{"$f":"'Single Data'!L93/('Single Data'!L93+'Single Data'!M93+'Single Data'!N93)","v":{"$error":"#DIV/0!"}},{"$f":"'Single Data'!M93/('Single Data'!L93+'Single Data'!M93+'Single Data'!N93)","v":{"$error":"#DIV/0!"}},{"$f":"IF('Single Data'!L93+'Single Data'!M93+'Single Data'!N93<>0,(B92+(C92*0.5)),NA())","v":{"$error":"#N/A"}},{"$f":"IF('Single Data'!L93+'Single Data'!M93+'Single Data'!N93<>0,(C92*0.866*Templates!K2),NA())","v":{"$error":"#N/A"}},null,{"$f":"'Serial Data'!M92/('Serial Data'!K92+'Serial Data'!L92+'Serial Data'!M92)","v":{"$error":"#DIV/0!"}},{"$f":"'Serial Data'!K92/('Serial Data'!K92+'Serial Data'!L92+'Serial Data'!M92)","v":{"$error":"#DIV/0!"}},{"$f":"'Serial Data'!L92/('Serial Data'!K92+'Serial Data'!L92+'Serial Data'!M92)","v":{"$error":"#DIV/0!"}},{"$f":"IF('Serial Data'!K92+'Serial Data'!L92+'Serial Data'!M92<>0,(H92+(I92*0.5)),NA())","v":{"$error":"#N/A"}},{"$f":"IF('Serial Data'!K92+'Serial Data'!L92+'Serial Data'!M92<>0,(I92*0.866*Templates!K2),NA())","v":{"$error":"#N/A"}},null,{"$f":"'Serial Data'!R92/('Serial Data'!P92+'Serial Data'!Q92+'Serial Data'!R92)","v":{"$error":"#DIV/0!"}},{"$f":"'Serial Data'!P92/('Serial Data'!P92+'Serial Data'!Q92+'Serial Data'!R92)","v":{"$error":"#DIV/0!"}},{"$f":"'Serial Data'!Q92/('Serial Data'!P92+'Serial Data'!Q92+'Serial Data'!R92)","v":{"$error":"#DIV/0!"}},{"$f":"IF('Serial Data'!P92+'Serial Data'!Q92+'Serial Data'!R92<>0,(N92+(O92*0.5)),NA())","v":{"$error":"#N/A"}},{"$f":"IF('Serial Data'!P92+'Serial Data'!Q92+'Serial Data'!R92<>0,(O92*0.866*Templates!K2),NA())","v":{"$error":"#N/A"}},null,{"$f":"'Serial Data'!W92/('Serial Data'!U92+'Serial Data'!V92+'Serial Data'!W92)","v":{"$error":"#DIV/0!"}},{"$f":"'Serial Data'!U92/('Serial Data'!U92+'Serial Data'!V92+'Serial Data'!W92)","v":{"$error":"#DIV/0!"}},{"$f":"'Serial Data'!V92/('Serial Data'!U92+'Serial Data'!V92+'Serial Data'!W92)","v":{"$error":"#DIV/0!"}},{"$f":"IF('Serial Data'!V92+'Serial Data'!W92+'Serial Data'!U92<>0,(T92+(U92*0.5)),NA())","v":{"$error":"#N/A"}},{"$f":"IF('Serial Data'!V92+'Serial Data'!W92+'Serial Data'!U92<>0,(U92*0.866*Templates!K2),NA())","v":{"$error":"#N/A"}},null,{"$f":"'Serial Data'!AB92/('Serial Data'!AA92+'Serial Data'!AB92+'Serial Data'!Z92)","v":{"$error":"#DIV/0!"}},{"$f":"'Serial Data'!Z92/('Serial Data'!AA92+'Serial Data'!AB92+'Serial Data'!Z92)","v":{"$error":"#DIV/0!"}},{"$f":"'Serial Data'!AA92/('Serial Data'!AA92+'Serial Data'!AB92+'Serial Data'!Z92)","v":{"$error":"#DIV/0!"}},{"$f":"IF('Serial Data'!AB92+'Serial Data'!AA92+'Serial Data'!Z92<>0,(Z92+(AA92*0.5)),NA())","v":{"$error":"#N/A"}},{"$f":"IF('Serial Data'!AB92+'Serial Data'!AA92+'Serial Data'!Z92<>0,(AA92*0.866*Templates!K2),NA())","v":{"$error":"#N/A"}},null,{"$f":"'Serial Data'!AG92/('Serial Data'!AG92+'Serial Data'!AE92+'Serial Data'!AF92)","v":{"$error":"#DIV/0!"}},{"$f":"'Serial Data'!AE92/('Serial Data'!AG92+'Serial Data'!AE92+'Serial Data'!AF92)","v":{"$error":"#DIV/0!"}},{"$f":"'Serial Data'!AF92/('Serial Data'!AG92+'Serial Data'!AE92+'Serial Data'!AF92)","v":{"$error":"#DIV/0!"}},{"$f":"IF('Serial Data'!AE92+'Serial Data'!AF92+'Serial Data'!AG92<>0,(AF92+(AG92*0.5)),NA())","v":{"$error":"#N/A"}},{"$f":"IF('Serial Data'!AE92+'Serial Data'!AF92+'Serial Data'!AG92<>0,(AG92*0.866*Templates!K2),NA())","v":{"$error":"#N/A"}},null,{"$f":"'Serial Data'!AL92/('Serial Data'!AJ92+'Serial Data'!AK92+'Serial Data'!AL92)","v":{"$error":"#DIV/0!"}},{"$f":"'Serial Data'!AJ92/('Serial Data'!AJ92+'Serial Data'!AK92+'Serial Data'!AL92)","v":{"$error":"#DIV/0!"}},{"$f":"'Serial Data'!AK92/('Serial Data'!AJ92+'Serial Data'!AK92+'Serial Data'!AL92)","v":{"$error":"#DIV/0!"}},{"$f":"IF('Serial Data'!AJ92+'Serial Data'!AK92+'Serial Data'!AL92<>0,(AL92+(AM92*0.5)),NA())","v":{"$error":"#N/A"}},{"$f":"IF('Serial Data'!AJ92+'Serial Data'!AK92+'Serial Data'!AL92<>0,(AM92*0.866*Templates!K2),NA())","v":{"$error":"#N/A"}},null,{"$f":"'Serial Data'!AQ92/('Serial Data'!AO92+'Serial Data'!AP92+'Serial Data'!AQ92)","v":{"$error":"#DIV/0!"}},{"$f":"'Serial Data'!AO92/('Serial Data'!AO92+'Serial Data'!AP92+'Serial Data'!AQ92)","v":{"$error":"#DIV/0!"}},{"$f":"'Serial Data'!AP92/('Serial Data'!AO92+'Serial Data'!AP92+'Serial Data'!AQ92)","v":{"$error":"#DIV/0!"}},{"$f":"IF('Serial Data'!AO92+'Serial Data'!AP92+'Serial Data'!AQ92<>0,(AR92+(AS92*0.5)),NA())","v":{"$error":"#N/A"}},{"$f":"IF('Serial Data'!AO92+'Serial Data'!AP92+'Serial Data'!AQ92<>0,(AS92*0.866*Templates!K2),NA())","v":{"$error":"#N/A"}},null,{"$f":"'Serial Data'!AV92/('Serial Data'!AT92+'Serial Data'!AU92+'Serial Data'!AV92)","v":{"$error":"#DIV/0!"}},{"$f":"'Serial Data'!AT92/('Serial Data'!AT92+'Serial Data'!AU92+'Serial Data'!AV92)","v":{"$error":"#DIV/0!"}},{"$f":"'Serial Data'!AU92/('Serial Data'!AT92+'Serial Data'!AU92+'Serial Data'!AV92)","v":{"$error":"#DIV/0!"}},{"$f":"IF('Serial Data'!AT92+'Serial Data'!AU92+'Serial Data'!AV92<>0,(AX92+(AY92*0.5)),NA())","v":{"$error":"#N/A"}},{"$f":"IF('Serial Data'!AT92+'Serial Data'!AU92+'Serial Data'!AV92<>0,(AY92*0.866*Templates!K2),NA())","v":{"$error":"#N/A"}},null,{"$f":"'Serial Data'!BA92/('Serial Data'!AY92+'Serial Data'!AZ92+'Serial Data'!BA92)","v":{"$error":"#DIV/0!"}},{"$f":"'Serial Data'!AY92/('Serial Data'!AY92+'Serial Data'!AZ92+'Serial Data'!BA92)","v":{"$error":"#DIV/0!"}},{"$f":"'Serial Data'!AZ92/('Serial Data'!AY92+'Serial Data'!AZ92+'Serial Data'!BA92)","v":{"$error":"#DIV/0!"}},{"$f":"IF('Serial Data'!AY92+'Serial Data'!AZ92+'Serial Data'!BA92<>0,(BD92+(BE92*0.5)),NA())","v":{"$error":"#N/A"}},{"$f":"IF('Serial Data'!AY92+'Serial Data'!AZ92+'Serial Data'!BA92<>0,(BE92*0.866*Templates!K2),NA())","v":{"$error":"#N/A"}},null,{"$f":"'Serial Data'!BF92/('Serial Data'!BD92+'Serial Data'!BE92+'Serial Data'!BF92)","v":{"$error":"#DIV/0!"}},{"$f":"'Serial Data'!BD92/('Serial Data'!BD92+'Serial Data'!BE92+'Serial Data'!BF92)","v":{"$error":"#DIV/0!"}},{"$f":"'Serial Data'!BE92/('Serial Data'!BD92+'Serial Data'!BE92+'Serial Data'!BF92)","v":{"$error":"#DIV/0!"}},{"$f":"IF('Serial Data'!BD92+'Serial Data'!BE92+'Serial Data'!BF92<>0,(BJ92+(BK92*0.5)),NA())","v":{"$error":"#N/A"}},{"$f":"IF('Serial Data'!BD92+'Serial Data'!BE92+'Serial Data'!BF92<>0,(BK92*0.866*Templates!K2),NA())","v":{"$error":"#N/A"}}]
[{"$f":"'Single Data'!N94/('Single Data'!L94+'Single Data'!M94+'Single Data'!N94)","v":{"$error":"#DIV/0!"}},{"$f":"'Single Data'!L94/('Single Data'!L94+'Single Data'!M94+'Single Data'!N94)","v":{"$error":"#DIV/0!"}},{"$f":"'Single Data'!M94/('Single Data'!L94+'Single Data'!M94+'Single Data'!N94)","v":{"$error":"#DIV/0!"}},{"$f":"IF('Single Data'!L94+'Single Data'!M94+'Single Data'!N94<>0,(B93+(C93*0.5)),NA())","v":{"$error":"#N/A"}},{"$f":"IF('Single Data'!L94+'Single Data'!M94+'Single Data'!N94<>0,(C93*0.866*Templates!K2),NA())","v":{"$error":"#N/A"}},null,{"$f":"'Serial Data'!M93/('Serial Data'!K93+'Serial Data'!L93+'Serial Data'!M93)","v":{"$error":"#DIV/0!"}},{"$f":"'Serial Data'!K93/('Serial Data'!K93+'Serial Data'!L93+'Serial Data'!M93)","v":{"$error":"#DIV/0!"}},{"$f":"'Serial Data'!L93/('Serial Data'!K93+'Serial Data'!L93+'Serial Data'!M93)","v":{"$error":"#DIV/0!"}},{"$f":"IF('Serial Data'!K93+'Serial Data'!L93+'Serial Data'!M93<>0,(H93+(I93*0.5)),NA())","v":{"$error":"#N/A"}},{"$f":"IF('Serial Data'!K93+'Serial Data'!L93+'Serial Data'!M93<>0,(I93*0.866*Templates!K2),NA())","v":{"$error":"#N/A"}},null,{"$f":"'Serial Data'!R93/('Serial Data'!P93+'Serial Data'!Q93+'Serial Data'!R93)","v":{"$error":"#DIV/0!"}},{"$f":"'Serial Data'!P93/('Serial Data'!P93+'Serial Data'!Q93+'Serial Data'!R93)","v":{"$error":"#DIV/0!"}},{"$f":"'Serial Data'!Q93/('Serial Data'!P93+'Serial Data'!Q93+'Serial Data'!R93)","v":{"$error":"#DIV/0!"}},{"$f":"IF('Serial Data'!P93+'Serial Data'!Q93+'Serial Data'!R93<>0,(N93+(O93*0.5)),NA())","v":{"$error":"#N/A"}},{"$f":"IF('Serial Data'!P93+'Serial Data'!Q93+'Serial Data'!R93<>0,(O93*0.866*Templates!K2),NA())","v":{"$error":"#N/A"}},null,{"$f":"'Serial Data'!W93/('Serial Data'!U93+'Serial Data'!V93+'Serial Data'!W93)","v":{"$error":"#DIV/0!"}},{"$f":"'Serial Data'!U93/('Serial Data'!U93+'Serial Data'!V93+'Serial Data'!W93)","v":{"$error":"#DIV/0!"}},{"$f":"'Serial Data'!V93/('Serial Data'!U93+'Serial Data'!V93+'Serial Data'!W93)","v":{"$error":"#DIV/0!"}},{"$f":"IF('Serial Data'!V93+'Serial Data'!W93+'Serial Data'!U93<>0,(T93+(U93*0.5)),NA())","v":{"$error":"#N/A"}},{"$f":"IF('Serial Data'!V93+'Serial Data'!W93+'Serial Data'!U93<>0,(U93*0.866*Templates!K2),NA())","v":{"$error":"#N/A"}},null,{"$f":"'Serial Data'!AB93/('Serial Data'!AA93+'Serial Data'!AB93+'Serial Data'!Z93)","v":{"$error":"#DIV/0!"}},{"$f":"'Serial Data'!Z93/('Serial Data'!AA93+'Serial Data'!AB93+'Serial Data'!Z93)","v":{"$error":"#DIV/0!"}},{"$f":"'Serial Data'!AA93/('Serial Data'!AA93+'Serial Data'!AB93+'Serial Data'!Z93)","v":{"$error":"#DIV/0!"}},{"$f":"IF('Serial Data'!AB93+'Serial Data'!AA93+'Serial Data'!Z93<>0,(Z93+(AA93*0.5)),NA())","v":{"$error":"#N/A"}},{"$f":"IF('Serial Data'!AB93+'Serial Data'!AA93+'Serial Data'!Z93<>0,(AA93*0.866*Templates!K2),NA())","v":{"$error":"#N/A"}},null,{"$f":"'Serial Data'!AG93/('Serial Data'!AG93+'Serial Data'!AE93+'Serial Data'!AF93)","v":{"$error":"#DIV/0!"}},{"$f":"'Serial Data'!AE93/('Serial Data'!AG93+'Serial Data'!AE93+'Serial Data'!AF93)","v":{"$error":"#DIV/0!"}},{"$f":"'Serial Data'!AF93/('Serial Data'!AG93+'Serial Data'!AE93+'Serial Data'!AF93)","v":{"$error":"#DIV/0!"}},{"$f":"IF('Serial Data'!AE93+'Serial Data'!AF93+'Serial Data'!AG93<>0,(AF93+(AG93*0.5)),NA())","v":{"$error":"#N/A"}},{"$f":"IF('Serial Data'!AE93+'Serial Data'!AF93+'Serial Data'!AG93<>0,(AG93*0.866*Templates!K2),NA())","v":{"$error":"#N/A"}},null,{"$f":"'Serial Data'!AL93/('Serial Data'!AJ93+'Serial Data'!AK93+'Serial Data'!AL93)","v":{"$error":"#DIV/0!"}},{"$f":"'Serial Data'!AJ93/('Serial Data'!AJ93+'Serial Data'!AK93+'Serial Data'!AL93)","v":{"$error":"#DIV/0!"}},{"$f":"'Serial Data'!AK93/('Serial Data'!AJ93+'Serial Data'!AK93+'Serial Data'!AL93)","v":{"$error":"#DIV/0!"}},{"$f":"IF('Serial Data'!AJ93+'Serial Data'!AK93+'Serial Data'!AL93<>0,(AL93+(AM93*0.5)),NA())","v":{"$error":"#N/A"}},{"$f":"IF('Serial Data'!AJ93+'Serial Data'!AK93+'Serial Data'!AL93<>0,(AM93*0.866*Templates!K2),NA())","v":{"$error":"#N/A"}},null,{"$f":"'Serial Data'!AQ93/('Serial Data'!AO93+'Serial Data'!AP93+'Serial Data'!AQ93)","v":{"$error":"#DIV/0!"}},{"$f":"'Serial Data'!AO93/('Serial Data'!AO93+'Serial Data'!AP93+'Serial Data'!AQ93)","v":{"$error":"#DIV/0!"}},{"$f":"'Serial Data'!AP93/('Serial Data'!AO93+'Serial Data'!AP93+'Serial Data'!AQ93)","v":{"$error":"#DIV/0!"}},{"$f":"IF('Serial Data'!AO93+'Serial Data'!AP93+'Serial Data'!AQ93<>0,(AR93+(AS93*0.5)),NA())","v":{"$error":"#N/A"}},{"$f":"IF('Serial Data'!AO93+'Serial Data'!AP93+'Serial Data'!AQ93<>0,(AS93*0.866*Templates!K2),NA())","v":{"$error":"#N/A"}},null,{"$f":"'Serial Data'!AV93/('Serial Data'!AT93+'Serial Data'!AU93+'Serial Data'!AV93)","v":{"$error":"#DIV/0!"}},{"$f":"'Serial Data'!AT93/('Serial Data'!AT93+'Serial Data'!AU93+'Serial Data'!AV93)","v":{"$error":"#DIV/0!"}},{"$f":"'Serial Data'!AU93/('Serial Data'!AT93+'Serial Data'!AU93+'Serial Data'!AV93)","v":{"$error":"#DIV/0!"}},{"$f":"IF('Serial Data'!AT93+'Serial Data'!AU93+'Serial Data'!AV93<>0,(AX93+(AY93*0.5)),NA())","v":{"$error":"#N/A"}},{"$f":"IF('Serial Data'!AT93+'Serial Data'!AU93+'Serial Data'!AV93<>0,(AY93*0.866*Templates!K2),NA())","v":{"$error":"#N/A"}},null,{"$f":"'Serial Data'!BA93/('Serial Data'!AY93+'Serial Data'!AZ93+'Serial Data'!BA93)","v":{"$error":"#DIV/0!"}},{"$f":"'Serial Data'!AY93/('Serial Data'!AY93+'Serial Data'!AZ93+'Serial Data'!BA93)","v":{"$error":"#DIV/0!"}},{"$f":"'Serial Data'!AZ93/('Serial Data'!AY93+'Serial Data'!AZ93+'Serial Data'!BA93)","v":{"$error":"#DIV/0!"}},{"$f":"IF('Serial Data'!AY93+'Serial Data'!AZ93+'Serial Data'!BA93<>0,(BD93+(BE93*0.5)),NA())","v":{"$error":"#N/A"}},{"$f":"IF('Serial Data'!AY93+'Serial Data'!AZ93+'Serial Data'!BA93<>0,(BE93*0.866*Templates!K2),NA())","v":{"$error":"#N/A"}},null,{"$f":"'Serial Data'!BF93/('Serial Data'!BD93+'Serial Data'!BE93+'Serial Data'!BF93)","v":{"$error":"#DIV/0!"}},{"$f":"'Serial Data'!BD93/('Serial Data'!BD93+'Serial Data'!BE93+'Serial Data'!BF93)","v":{"$error":"#DIV/0!"}},{"$f":"'Serial Data'!BE93/('Serial Data'!BD93+'Serial Data'!BE93+'Serial Data'!BF93)","v":{"$error":"#DIV/0!"}},{"$f":"IF('Serial Data'!BD93+'Serial Data'!BE93+'Serial Data'!BF93<>0,(BJ93+(BK93*0.5)),NA())","v":{"$error":"#N/A"}},{"$f":"IF('Serial Data'!BD93+'Serial Data'!BE93+'Serial Data'!BF93<>0,(BK93*0.866*Templates!K2),NA())","v":{"$error":"#N/A"}}]
[{"$f":"'Single Data'!N95/('Single Data'!L95+'Single Data'!M95+'Single Data'!N95)","v":{"$error":"#DIV/0!"}},{"$f":"'Single Data'!L95/('Single Data'!L95+'Single Data'!M95+'Single Data'!N95)","v":{"$error":"#DIV/0!"}},{"$f":"'Single Data'!M95/('Single Data'!L95+'Single Data'!M95+'Single Data'!N95)","v":{"$error":"#DIV/0!"}},{"$f":"IF('Single Data'!L95+'Single Data'!M95+'Single Data'!N95<>0,(B94+(C94*0.5)),NA())","v":{"$error":"#N/A"}},{"$f":"IF('Single Data'!L95+'Single Data'!M95+'Single Data'!N95<>0,(C94*0.866*Templates!K2),NA())","v":{"$error":"#N/A"}},null,{"$f":"'Serial Data'!M94/('Serial Data'!K94+'Serial Data'!L94+'Serial Data'!M94)","v":{"$error":"#DIV/0!"}},{"$f":"'Serial Data'!K94/('Serial Data'!K94+'Serial Data'!L94+'Serial Data'!M94)","v":{"$error":"#DIV/0!"}},{"$f":"'Serial Data'!L94/('Serial Data'!K94+'Serial Data'!L94+'Serial Data'!M94)","v":{"$error":"#DIV/0!"}},{"$f":"IF('Serial Data'!K94+'Serial Data'!L94+'Serial Data'!M94<>0,(H94+(I94*0.5)),NA())","v":{"$error":"#N/A"}},{"$f":"IF('Serial Data'!K94+'Serial Data'!L94+'Serial Data'!M94<>0,(I94*0.866*Templates!K2),NA())","v":{"$error":"#N/A"}},null,{"$f":"'Serial Data'!R94/('Serial Data'!P94+'Serial Data'!Q94+'Serial Data'!R94)","v":{"$error":"#DIV/0!"}},{"$f":"'Serial Data'!P94/('Serial Data'!P94+'Serial Data'!Q94+'Serial Data'!R94)","v":{"$error":"#DIV/0!"}},{"$f":"'Serial Data'!Q94/('Serial Data'!P94+'Serial Data'!Q94+'Serial Data'!R94)","v":{"$error":"#DIV/0!"}},{"$f":"IF('Serial Data'!P94+'Serial Data'!Q94+'Serial Data'!R94<>0,(N94+(O94*0.5)),NA())","v":{"$error":"#N/A"}},{"$f":"IF('Serial Data'!P94+'Serial Data'!Q94+'Serial Data'!R94<>0,(O94*0.866*Templates!K2),NA())","v":{"$error":"#N/A"}},null,{"$f":"'Serial Data'!W94/('Serial Data'!U94+'Serial Data'!V94+'Serial Data'!W94)","v":{"$error":"#DIV/0!"}},{"$f":"'Serial Data'!U94/('Serial Data'!U94+'Serial Data'!V94+'Serial Data'!W94)","v":{"$error":"#DIV/0!"}},{"$f":"'Serial Data'!V94/('Serial Data'!U94+'Serial Data'!V94+'Serial Data'!W94)","v":{"$error":"#DIV/0!"}},{"$f":"IF('Serial Data'!V94+'Serial Data'!W94+'Serial Data'!U94<>0,(T94+(U94*0.5)),NA())","v":{"$error":"#N/A"}},{"$f":"IF('Serial Data'!V94+'Serial Data'!W94+'Serial Data'!U94<>0,(U94*0.866*Templates!K2),NA())","v":{"$error":"#N/A"}},null,{"$f":"'Serial Data'!AB94/('Serial Data'!AA94+'Serial Data'!AB94+'Serial Data'!Z94)","v":{"$error":"#DIV/0!"}},{"$f":"'Serial Data'!Z94/('Serial Data'!AA94+'Serial Data'!AB94+'Serial Data'!Z94)","v":{"$error":"#DIV/0!"}},{"$f":"'Serial Data'!AA94/('Serial Data'!AA94+'Serial Data'!AB94+'Serial Data'!Z94)","v":{"$error":"#DIV/0!"}},{"$f":"IF('Serial Data'!AB94+'Serial Data'!AA94+'Serial Data'!Z94<>0,(Z94+(AA94*0.5)),NA())","v":{"$error":"#N/A"}},{"$f":"IF('Serial Data'!AB94+'Serial Data'!AA94+'Serial Data'!Z94<>0,(AA94*0.866*Templates!K2),NA())","v":{"$error":"#N/A"}},null,{"$f":"'Serial Data'!AG94/('Serial Data'!AG94+'Serial Data'!AE94+'Serial Data'!AF94)","v":{"$error":"#DIV/0!"}},{"$f":"'Serial Data'!AE94/('Serial Data'!AG94+'Serial Data'!AE94+'Serial Data'!AF94)","v":{"$error":"#DIV/0!"}},{"$f":"'Serial Data'!AF94/('Serial Data'!AG94+'Serial Data'!AE94+'Serial Data'!AF94)","v":{"$error":"#DIV/0!"}},{"$f":"IF('Serial Data'!AE94+'Serial Data'!AF94+'Serial Data'!AG94<>0,(AF94+(AG94*0.5)),NA())","v":{"$error":"#N/A"}},{"$f":"IF('Serial Data'!AE94+'Serial Data'!AF94+'Serial Data'!AG94<>0,(AG94*0.866*Templates!K2),NA())","v":{"$error":"#N/A"}},null,{"$f":"'Serial Data'!AL94/('Serial Data'!AJ94+'Serial Data'!AK94+'Serial Data'!AL94)","v":{"$error":"#DIV/0!"}},{"$f":"'Serial Data'!AJ94/('Serial Data'!AJ94+'Serial Data'!AK94+'Serial Data'!AL94)","v":{"$error":"#DIV/0!"}},{"$f":"'Serial Data'!AK94/('Serial Data'!AJ94+'Serial Data'!AK94+'Serial Data'!AL94)","v":{"$error":"#DIV/0!"}},{"$f":"IF('Serial Data'!AJ94+'Serial Data'!AK94+'Serial Data'!AL94<>0,(AL94+(AM94*0.5)),NA())","v":{"$error":"#N/A"}},{"$f":"IF('Serial Data'!AJ94+'Serial Data'!AK94+'Serial Data'!AL94<>0,(AM94*0.866*Templates!K2),NA())","v":{"$error":"#N/A"}},null,{"$f":"'Serial Data'!AQ94/('Serial Data'!AO94+'Serial Data'!AP94+'Serial Data'!AQ94)","v":{"$error":"#DIV/0!"}},{"$f":"'Serial Data'!AO94/('Serial Data'!AO94+'Serial Data'!AP94+'Serial Data'!AQ94)","v":{"$error":"#DIV/0!"}},{"$f":"'Serial Data'!AP94/('Serial Data'!AO94+'Serial Data'!AP94+'Serial Data'!AQ94)","v":{"$error":"#DIV/0!"}},{"$f":"IF('Serial Data'!AO94+'Serial Data'!AP94+'Serial Data'!AQ94<>0,(AR94+(AS94*0.5)),NA())","v":{"$error":"#N/A"}},{"$f":"IF('Serial Data'!AO94+'Serial Data'!AP94+'Serial Data'!AQ94<>0,(AS94*0.866*Templates!K2),NA())","v":{"$error":"#N/A"}},null,{"$f":"'Serial Data'!AV94/('Serial Data'!AT94+'Serial Data'!AU94+'Serial Data'!AV94)","v":{"$error":"#DIV/0!"}},{"$f":"'Serial Data'!AT94/('Serial Data'!AT94+'Serial Data'!AU94+'Serial Data'!AV94)","v":{"$error":"#DIV/0!"}},{"$f":"'Serial Data'!AU94/('Serial Data'!AT94+'Serial Data'!AU94+'Serial Data'!AV94)","v":{"$error":"#DIV/0!"}},{"$f":"IF('Serial Data'!AT94+'Serial Data'!AU94+'Serial Data'!AV94<>0,(AX94+(AY94*0.5)),NA())","v":{"$error":"#N/A"}},{"$f":"IF('Serial Data'!AT94+'Serial Data'!AU94+'Serial Data'!AV94<>0,(AY94*0.866*Templates!K2),NA())","v":{"$error":"#N/A"}},null,{"$f":"'Serial Data'!BA94/('Serial Data'!AY94+'Serial Data'!AZ94+'Serial Data'!BA94)","v":{"$error":"#DIV/0!"}},{"$f":"'Serial Data'!AY94/('Serial Data'!AY94+'Serial Data'!AZ94+'Serial Data'!BA94)","v":{"$error":"#DIV/0!"}},{"$f":"'Serial Data'!AZ94/('Serial Data'!AY94+'Serial Data'!AZ94+'Serial Data'!BA94)","v":{"$error":"#DIV/0!"}},{"$f":"IF('Serial Data'!AY94+'Serial Data'!AZ94+'Serial Data'!BA94<>0,(BD94+(BE94*0.5)),NA())","v":{"$error":"#N/A"}},{"$f":"IF('Serial Data'!AY94+'Serial Data'!AZ94+'Serial Data'!BA94<>0,(BE94*0.866*Templates!K2),NA())","v":{"$error":"#N/A"}},null,{"$f":"'Serial Data'!BF94/('Serial Data'!BD94+'Serial Data'!BE94+'Serial Data'!BF94)","v":{"$error":"#DIV/0!"}},{"$f":"'Serial Data'!BD94/('Serial Data'!BD94+'Serial Data'!BE94+'Serial Data'!BF94)","v":{"$error":"#DIV/0!"}},{"$f":"'Serial Data'!BE94/('Serial Data'!BD94+'Serial Data'!BE94+'Serial Data'!BF94)","v":{"$error":"#DIV/0!"}},{"$f":"IF('Serial Data'!BD94+'Serial Data'!BE94+'Serial Data'!BF94<>0,(BJ94+(BK94*0.5)),NA())","v":{"$error":"#N/A"}},{"$f":"IF('Serial Data'!BD94+'Serial Data'!BE94+'Serial Data'!BF94<>0,(BK94*0.866*Templates!K2),NA())","v":{"$error":"#N/A"}}]
[{"$f":"'Single Data'!N96/('Single Data'!L96+'Single Data'!M96+'Single Data'!N96)","v":{"$error":"#DIV/0!"}},{"$f":"'Single Data'!L96/('Single Data'!L96+'Single Data'!M96+'Single Data'!N96)","v":{"$error":"#DIV/0!"}},{"$f":"'Single Data'!M96/('Single Data'!L96+'Single Data'!M96+'Single Data'!N96)","v":{"$error":"#DIV/0!"}},{"$f":"IF('Single Data'!L96+'Single Data'!M96+'Single Data'!N96<>0,(B95+(C95*0.5)),NA())","v":{"$error":"#N/A"}},{"$f":"IF('Single Data'!L96+'Single Data'!M96+'Single Data'!N96<>0,(C95*0.866*Templates!K2),NA())","v":{"$error":"#N/A"}},null,{"$f":"'Serial Data'!M95/('Serial Data'!K95+'Serial Data'!L95+'Serial Data'!M95)","v":{"$error":"#DIV/0!"}},{"$f":"'Serial Data'!K95/('Serial Data'!K95+'Serial Data'!L95+'Serial Data'!M95)","v":{"$error":"#DIV/0!"}},{"$f":"'Serial Data'!L95/('Serial Data'!K95+'Serial Data'!L95+'Serial Data'!M95)","v":{"$error":"#DIV/0!"}},{"$f":"IF('Serial Data'!K95+'Serial Data'!L95+'Serial Data'!M95<>0,(H95+(I95*0.5)),NA())","v":{"$error":"#N/A"}},{"$f":"IF('Serial Data'!K95+'Serial Data'!L95+'Serial Data'!M95<>0,(I95*0.866*Templates!K2),NA())","v":{"$error":"#N/A"}},null,{"$f":"'Serial Data'!R95/('Serial Data'!P95+'Serial Data'!Q95+'Serial Data'!R95)","v":{"$error":"#DIV/0!"}},{"$f":"'Serial Data'!P95/('Serial Data'!P95+'Serial Data'!Q95+'Serial Data'!R95)","v":{"$error":"#DIV/0!"}},{"$f":"'Serial Data'!Q95/('Serial Data'!P95+'Serial Data'!Q95+'Serial Data'!R95)","v":{"$error":"#DIV/0!"}},{"$f":"IF('Serial Data'!P95+'Serial Data'!Q95+'Serial Data'!R95<>0,(N95+(O95*0.5)),NA())","v":{"$error":"#N/A"}},{"$f":"IF('Serial Data'!P95+'Serial Data'!Q95+'Serial Data'!R95<>0,(O95*0.866*Templates!K2),NA())","v":{"$error":"#N/A"}},null,{"$f":"'Serial Data'!W95/('Serial Data'!U95+'Serial Data'!V95+'Serial Data'!W95)","v":{"$error":"#DIV/0!"}},{"$f":"'Serial Data'!U95/('Serial Data'!U95+'Serial Data'!V95+'Serial Data'!W95)","v":{"$error":"#DIV/0!"}},{"$f":"'Serial Data'!V95/('Serial Data'!U95+'Serial Data'!V95+'Serial Data'!W95)","v":{"$error":"#DIV/0!"}},{"$f":"IF('Serial Data'!V95+'Serial Data'!W95+'Serial Data'!U95<>0,(T95+(U95*0.5)),NA())","v":{"$error":"#N/A"}},{"$f":"IF('Serial Data'!V95+'Serial Data'!W95+'Serial Data'!U95<>0,(U95*0.866*Templates!K2),NA())","v":{"$error":"#N/A"}},null,{"$f":"'Serial Data'!AB95/('Serial Data'!AA95+'Serial Data'!AB95+'Serial Data'!Z95)","v":{"$error":"#DIV/0!"}},{"$f":"'Serial Data'!Z95/('Serial Data'!AA95+'Serial Data'!AB95+'Serial Data'!Z95)","v":{"$error":"#DIV/0!"}},{"$f":"'Serial Data'!AA95/('Serial Data'!AA95+'Serial Data'!AB95+'Serial Data'!Z95)","v":{"$error":"#DIV/0!"}},{"$f":"IF('Serial Data'!AB95+'Serial Data'!AA95+'Serial Data'!Z95<>0,(Z95+(AA95*0.5)),NA())","v":{"$error":"#N/A"}},{"$f":"IF('Serial Data'!AB95+'Serial Data'!AA95+'Serial Data'!Z95<>0,(AA95*0.866*Templates!K2),NA())","v":{"$error":"#N/A"}},null,{"$f":"'Serial Data'!AG95/('Serial Data'!AG95+'Serial Data'!AE95+'Serial Data'!AF95)","v":{"$error":"#DIV/0!"}},{"$f":"'Serial Data'!AE95/('Serial Data'!AG95+'Serial Data'!AE95+'Serial Data'!AF95)","v":{"$error":"#DIV/0!"}},{"$f":"'Serial Data'!AF95/('Serial Data'!AG95+'Serial Data'!AE95+'Serial Data'!AF95)","v":{"$error":"#DIV/0!"}},{"$f":"IF('Serial Data'!AE95+'Serial Data'!AF95+'Serial Data'!AG95<>0,(AF95+(AG95*0.5)),NA())","v":{"$error":"#N/A"}},{"$f":"IF('Serial Data'!AE95+'Serial Data'!AF95+'Serial Data'!AG95<>0,(AG95*0.866*Templates!K2),NA())","v":{"$error":"#N/A"}},null,{"$f":"'Serial Data'!AL95/('Serial Data'!AJ95+'Serial Data'!AK95+'Serial Data'!AL95)","v":{"$error":"#DIV/0!"}},{"$f":"'Serial Data'!AJ95/('Serial Data'!AJ95+'Serial Data'!AK95+'Serial Data'!AL95)","v":{"$error":"#DIV/0!"}},{"$f":"'Serial Data'!AK95/('Serial Data'!AJ95+'Serial Data'!AK95+'Serial Data'!AL95)","v":{"$error":"#DIV/0!"}},{"$f":"IF('Serial Data'!AJ95+'Serial Data'!AK95+'Serial Data'!AL95<>0,(AL95+(AM95*0.5)),NA())","v":{"$error":"#N/A"}},{"$f":"IF('Serial Data'!AJ95+'Serial Data'!AK95+'Serial Data'!AL95<>0,(AM95*0.866*Templates!K2),NA())","v":{"$error":"#N/A"}},null,{"$f":"'Serial Data'!AQ95/('Serial Data'!AO95+'Serial Data'!AP95+'Serial Data'!AQ95)","v":{"$error":"#DIV/0!"}},{"$f":"'Serial Data'!AO95/('Serial Data'!AO95+'Serial Data'!AP95+'Serial Data'!AQ95)","v":{"$error":"#DIV/0!"}},{"$f":"'Serial Data'!AP95/('Serial Data'!AO95+'Serial Data'!AP95+'Serial Data'!AQ95)","v":{"$error":"#DIV/0!"}},{"$f":"IF('Serial Data'!AO95+'Serial Data'!AP95+'Serial Data'!AQ95<>0,(AR95+(AS95*0.5)),NA())","v":{"$error":"#N/A"}},{"$f":"IF('Serial Data'!AO95+'Serial Data'!AP95+'Serial Data'!AQ95<>0,(AS95*0.866*Templates!K2),NA())","v":{"$error":"#N/A"}},null,{"$f":"'Serial Data'!AV95/('Serial Data'!AT95+'Serial Data'!AU95+'Serial Data'!AV95)","v":{"$error":"#DIV/0!"}},{"$f":"'Serial Data'!AT95/('Serial Data'!AT95+'Serial Data'!AU95+'Serial Data'!AV95)","v":{"$error":"#DIV/0!"}},{"$f":"'Serial Data'!AU95/('Serial Data'!AT95+'Serial Data'!AU95+'Serial Data'!AV95)","v":{"$error":"#DIV/0!"}},{"$f":"IF('Serial Data'!AT95+'Serial Data'!AU95+'Serial Data'!AV95<>0,(AX95+(AY95*0.5)),NA())","v":{"$error":"#N/A"}},{"$f":"IF('Serial Data'!AT95+'Serial Data'!AU95+'Serial Data'!AV95<>0,(AY95*0.866*Templates!K2),NA())","v":{"$error":"#N/A"}},null,{"$f":"'Serial Data'!BA95/('Serial Data'!AY95+'Serial Data'!AZ95+'Serial Data'!BA95)","v":{"$error":"#DIV/0!"}},{"$f":"'Serial Data'!AY95/('Serial Data'!AY95+'Serial Data'!AZ95+'Serial Data'!BA95)","v":{"$error":"#DIV/0!"}},{"$f":"'Serial Data'!AZ95/('Serial Data'!AY95+'Serial Data'!AZ95+'Serial Data'!BA95)","v":{"$error":"#DIV/0!"}},{"$f":"IF('Serial Data'!AY95+'Serial Data'!AZ95+'Serial Data'!BA95<>0,(BD95+(BE95*0.5)),NA())","v":{"$error":"#N/A"}},{"$f":"IF('Serial Data'!AY95+'Serial Data'!AZ95+'Serial Data'!BA95<>0,(BE95*0.866*Templates!K2),NA())","v":{"$error":"#N/A"}},null,{"$f":"'Serial Data'!BF95/('Serial Data'!BD95+'Serial Data'!BE95+'Serial Data'!BF95)","v":{"$error":"#DIV/0!"}},{"$f":"'Serial Data'!BD95/('Serial Data'!BD95+'Serial Data'!BE95+'Serial Data'!BF95)","v":{"$error":"#DIV/0!"}},{"$f":"'Serial Data'!BE95/('Serial Data'!BD95+'Serial Data'!BE95+'Serial Data'!BF95)","v":{"$error":"#DIV/0!"}},{"$f":"IF('Serial Data'!BD95+'Serial Data'!BE95+'Serial Data'!BF95<>0,(BJ95+(BK95*0.5)),NA())","v":{"$error":"#N/A"}},{"$f":"IF('Serial Data'!BD95+'Serial Data'!BE95+'Serial Data'!BF95<>0,(BK95*0.866*Templates!K2),NA())","v":{"$error":"#N/A"}}]
[{"$f":"'Single Data'!N97/('Single Data'!L97+'Single Data'!M97+'Single Data'!N97)","v":{"$error":"#DIV/0!"}},{"$f":"'Single Data'!L97/('Single Data'!L97+'Single Data'!M97+'Single Data'!N97)","v":{"$error":"#DIV/0!"}},{"$f":"'Single Data'!M97/('Single Data'!L97+'Single Data'!M97+'Single Data'!N97)","v":{"$error":"#DIV/0!"}},{"$f":"IF('Single Data'!L97+'Single Data'!M97+'Single Data'!N97<>0,(B96+(C96*0.5)),NA())","v":{"$error":"#N/A"}},{"$f":"IF('Single Data'!L97+'Single Data'!M97+'Single Data'!N97<>0,(C96*0.866*Templates!K2),NA())","v":{"$error":"#N/A"}},null,{"$f":"'Serial Data'!M96/('Serial Data'!K96+'Serial Data'!L96+'Serial Data'!M96)","v":{"$error":"#DIV/0!"}},{"$f":"'Serial Data'!K96/('Serial Data'!K96+'Serial Data'!L96+'Serial Data'!M96)","v":{"$error":"#DIV/0!"}},{"$f":"'Serial Data'!L96/('Serial Data'!K96+'Serial Data'!L96+'Serial Data'!M96)","v":{"$error":"#DIV/0!"}},{"$f":"IF('Serial Data'!K96+'Serial Data'!L96+'Serial Data'!M96<>0,(H96+(I96*0.5)),NA())","v":{"$error":"#N/A"}},{"$f":"IF('Serial Data'!K96+'Serial Data'!L96+'Serial Data'!M96<>0,(I96*0.866*Templates!K2),NA())","v":{"$error":"#N/A"}},null,{"$f":"'Serial Data'!R96/('Serial Data'!P96+'Serial Data'!Q96+'Serial Data'!R96)","v":{"$error":"#DIV/0!"}},{"$f":"'Serial Data'!P96/('Serial Data'!P96+'Serial Data'!Q96+'Serial Data'!R96)","v":{"$error":"#DIV/0!"}},{"$f":"'Serial Data'!Q96/('Serial Data'!P96+'Serial Data'!Q96+'Serial Data'!R96)","v":{"$error":"#DIV/0!"}},{"$f":"IF('Serial Data'!P96+'Serial Data'!Q96+'Serial Data'!R96<>0,(N96+(O96*0.5)),NA())","v":{"$error":"#N/A"}},{"$f":"IF('Serial Data'!P96+'Serial Data'!Q96+'Serial Data'!R96<>0,(O96*0.866*Templates!K2),NA())","v":{"$error":"#N/A"}},null,{"$f":"'Serial Data'!W96/('Serial Data'!U96+'Serial Data'!V96+'Serial Data'!W96)","v":{"$error":"#DIV/0!"}},{"$f":"'Serial Data'!U96/('Serial Data'!U96+'Serial Data'!V96+'Serial Data'!W96)","v":{"$error":"#DIV/0!"}},{"$f":"'Serial Data'!V96/('Serial Data'!U96+'Serial Data'!V96+'Serial Data'!W96)","v":{"$error":"#DIV/0!"}},{"$f":"IF('Serial Data'!V96+'Serial Data'!W96+'Serial Data'!U96<>0,(T96+(U96*0.5)),NA())","v":{"$error":"#N/A"}},{"$f":"IF('Serial Data'!V96+'Serial Data'!W96+'Serial Data'!U96<>0,(U96*0.866*Templates!K2),NA())","v":{"$error":"#N/A"}},null,{"$f":"'Serial Data'!AB96/('Serial Data'!AA96+'Serial Data'!AB96+'Serial Data'!Z96)","v":{"$error":"#DIV/0!"}},{"$f":"'Serial Data'!Z96/('Serial Data'!AA96+'Serial Data'!AB96+'Serial Data'!Z96)","v":{"$error":"#DIV/0!"}},{"$f":"'Serial Data'!AA96/('Serial Data'!AA96+'Serial Data'!AB96+'Serial Data'!Z96)","v":{"$error":"#DIV/0!"}},{"$f":"IF('Serial Data'!AB96+'Serial Data'!AA96+'Serial Data'!Z96<>0,(Z96+(AA96*0.5)),NA())","v":{"$error":"#N/A"}},{"$f":"IF('Serial Data'!AB96+'Serial Data'!AA96+'Serial Data'!Z96<>0,(AA96*0.866*Templates!K2),NA())","v":{"$error":"#N/A"}},null,{"$f":"'Serial Data'!AG96/('Serial Data'!AG96+'Serial Data'!AE96+'Serial Data'!AF96)","v":{"$error":"#DIV/0!"}},{"$f":"'Serial Data'!AE96/('Serial Data'!AG96+'Serial Data'!AE96+'Serial Data'!AF96)","v":{"$error":"#DIV/0!"}},{"$f":"'Serial Data'!AF96/('Serial Data'!AG96+'Serial Data'!AE96+'Serial Data'!AF96)","v":{"$error":"#DIV/0!"}},{"$f":"IF('Serial Data'!AE96+'Serial Data'!AF96+'Serial Data'!AG96<>0,(AF96+(AG96*0.5)),NA())","v":{"$error":"#N/A"}},{"$f":"IF('Serial Data'!AE96+'Serial Data'!AF96+'Serial Data'!AG96<>0,(AG96*0.866*Templates!K2),NA())","v":{"$error":"#N/A"}},null,{"$f":"'Serial Data'!AL96/('Serial Data'!AJ96+'Serial Data'!AK96+'Serial Data'!AL96)","v":{"$error":"#DIV/0!"}},{"$f":"'Serial Data'!AJ96/('Serial Data'!AJ96+'Serial Data'!AK96+'Serial Data'!AL96)","v":{"$error":"#DIV/0!"}},{"$f":"'Serial Data'!AK96/('Serial Data'!AJ96+'Serial Data'!AK96+'Serial Data'!AL96)","v":{"$error":"#DIV/0!"}},{"$f":"IF('Serial Data'!AJ96+'Serial Data'!AK96+'Serial Data'!AL96<>0,(AL96+(AM96*0.5)),NA())","v":{"$error":"#N/A"}},{"$f":"IF('Serial Data'!AJ96+'Serial Data'!AK96+'Serial Data'!AL96<>0,(AM96*0.866*Templates!K2),NA())","v":{"$error":"#N/A"}},null,{"$f":"'Serial Data'!AQ96/('Serial Data'!AO96+'Serial Data'!AP96+'Serial Data'!AQ96)","v":{"$error":"#DIV/0!"}},{"$f":"'Serial Data'!AO96/('Serial Data'!AO96+'Serial Data'!AP96+'Serial Data'!AQ96)","v":{"$error":"#DIV/0!"}},{"$f":"'Serial Data'!AP96/('Serial Data'!AO96+'Serial Data'!AP96+'Serial Data'!AQ96)","v":{"$error":"#DIV/0!"}},{"$f":"IF('Serial Data'!AO96+'Serial Data'!AP96+'Serial Data'!AQ96<>0,(AR96+(AS96*0.5)),NA())","v":{"$error":"#N/A"}},{"$f":"IF('Serial Data'!AO96+'Serial Data'!AP96+'Serial Data'!AQ96<>0,(AS96*0.866*Templates!K2),NA())","v":{"$error":"#N/A"}},null,{"$f":"'Serial Data'!AV96/('Serial Data'!AT96+'Serial Data'!AU96+'Serial Data'!AV96)","v":{"$error":"#DIV/0!"}},{"$f":"'Serial Data'!AT96/('Serial Data'!AT96+'Serial Data'!AU96+'Serial Data'!AV96)","v":{"$error":"#DIV/0!"}},{"$f":"'Serial Data'!AU96/('Serial Data'!AT96+'Serial Data'!AU96+'Serial Data'!AV96)","v":{"$error":"#DIV/0!"}},{"$f":"IF('Serial Data'!AT96+'Serial Data'!AU96+'Serial Data'!AV96<>0,(AX96+(AY96*0.5)),NA())","v":{"$error":"#N/A"}},{"$f":"IF('Serial Data'!AT96+'Serial Data'!AU96+'Serial Data'!AV96<>0,(AY96*0.866*Templates!K2),NA())","v":{"$error":"#N/A"}},null,{"$f":"'Serial Data'!BA96/('Serial Data'!AY96+'Serial Data'!AZ96+'Serial Data'!BA96)","v":{"$error":"#DIV/0!"}},{"$f":"'Serial Data'!AY96/('Serial Data'!AY96+'Serial Data'!AZ96+'Serial Data'!BA96)","v":{"$error":"#DIV/0!"}},{"$f":"'Serial Data'!AZ96/('Serial Data'!AY96+'Serial Data'!AZ96+'Serial Data'!BA96)","v":{"$error":"#DIV/0!"}},{"$f":"IF('Serial Data'!AY96+'Serial Data'!AZ96+'Serial Data'!BA96<>0,(BD96+(BE96*0.5)),NA())","v":{"$error":"#N/A"}},{"$f":"IF('Serial Data'!AY96+'Serial Data'!AZ96+'Serial Data'!BA96<>0,(BE96*0.866*Templates!K2),NA())","v":{"$error":"#N/A"}},null,{"$f":"'Serial Data'!BF96/('Serial Data'!BD96+'Serial Data'!BE96+'Serial Data'!BF96)","v":{"$error":"#DIV/0!"}},{"$f":"'Serial Data'!BD96/('Serial Data'!BD96+'Serial Data'!BE96+'Serial Data'!BF96)","v":{"$error":"#DIV/0!"}},{"$f":"'Serial Data'!BE96/('Serial Data'!BD96+'Serial Data'!BE96+'Serial Data'!BF96)","v":{"$error":"#DIV/0!"}},{"$f":"IF('Serial Data'!BD96+'Serial Data'!BE96+'Serial Data'!BF96<>0,(BJ96+(BK96*0.5)),NA())","v":{"$error":"#N/A"}},{"$f":"IF('Serial Data'!BD96+'Serial Data'!BE96+'Serial Data'!BF96<>0,(BK96*0.866*Templates!K2),NA())","v":{"$error":"#N/A"}}]
[{"$f":"'Single Data'!N98/('Single Data'!L98+'Single Data'!M98+'Single Data'!N98)","v":{"$error":"#DIV/0!"}},{"$f":"'Single Data'!L98/('Single Data'!L98+'Single Data'!M98+'Single Data'!N98)","v":{"$error":"#DIV/0!"}},{"$f":"'Single Data'!M98/('Single Data'!L98+'Single Data'!M98+'Single Data'!N98)","v":{"$error":"#DIV/0!"}},{"$f":"IF('Single Data'!L98+'Single Data'!M98+'Single Data'!N98<>0,(B97+(C97*0.5)),NA())","v":{"$error":"#N/A"}},{"$f":"IF('Single Data'!L98+'Single Data'!M98+'Single Data'!N98<>0,(C97*0.866*Templates!K2),NA())","v":{"$error":"#N/A"}},null,{"$f":"'Serial Data'!M97/('Serial Data'!K97+'Serial Data'!L97+'Serial Data'!M97)","v":{"$error":"#DIV/0!"}},{"$f":"'Serial Data'!K97/('Serial Data'!K97+'Serial Data'!L97+'Serial Data'!M97)","v":{"$error":"#DIV/0!"}},{"$f":"'Serial Data'!L97/('Serial Data'!K97+'Serial Data'!L97+'Serial Data'!M97)","v":{"$error":"#DIV/0!"}},{"$f":"IF('Serial Data'!K97+'Serial Data'!L97+'Serial Data'!M97<>0,(H97+(I97*0.5)),NA())","v":{"$error":"#N/A"}},{"$f":"IF('Serial Data'!K97+'Serial Data'!L97+'Serial Data'!M97<>0,(I97*0.866*Templates!K2),NA())","v":{"$error":"#N/A"}},null,{"$f":"'Serial Data'!R97/('Serial Data'!P97+'Serial Data'!Q97+'Serial Data'!R97)","v":{"$error":"#DIV/0!"}},{"$f":"'Serial Data'!P97/('Serial Data'!P97+'Serial Data'!Q97+'Serial Data'!R97)","v":{"$error":"#DIV/0!"}},{"$f":"'Serial Data'!Q97/('Serial Data'!P97+'Serial Data'!Q97+'Serial Data'!R97)","v":{"$error":"#DIV/0!"}},{"$f":"IF('Serial Data'!P97+'Serial Data'!Q97+'Serial Data'!R97<>0,(N97+(O97*0.5)),NA())","v":{"$error":"#N/A"}},{"$f":"IF('Serial Data'!P97+'Serial Data'!Q97+'Serial Data'!R97<>0,(O97*0.866*Templates!K2),NA())","v":{"$error":"#N/A"}},null,{"$f":"'Serial Data'!W97/('Serial Data'!U97+'Serial Data'!V97+'Serial Data'!W97)","v":{"$error":"#DIV/0!"}},{"$f":"'Serial Data'!U97/('Serial Data'!U97+'Serial Data'!V97+'Serial Data'!W97)","v":{"$error":"#DIV/0!"}},{"$f":"'Serial Data'!V97/('Serial Data'!U97+'Serial Data'!V97+'Serial Data'!W97)","v":{"$error":"#DIV/0!"}},{"$f":"IF('Serial Data'!V97+'Serial Data'!W97+'Serial Data'!U97<>0,(T97+(U97*0.5)),NA())","v":{"$error":"#N/A"}},{"$f":"IF('Serial Data'!V97+'Serial Data'!W97+'Serial Data'!U97<>0,(U97*0.866*Templates!K2),NA())","v":{"$error":"#N/A"}},null,{"$f":"'Serial Data'!AB97/('Serial Data'!AA97+'Serial Data'!AB97+'Serial Data'!Z97)","v":{"$error":"#DIV/0!"}},{"$f":"'Serial Data'!Z97/('Serial Data'!AA97+'Serial Data'!AB97+'Serial Data'!Z97)","v":{"$error":"#DIV/0!"}},{"$f":"'Serial Data'!AA97/('Serial Data'!AA97+'Serial Data'!AB97+'Serial Data'!Z97)","v":{"$error":"#DIV/0!"}},{"$f":"IF('Serial Data'!AB97+'Serial Data'!AA97+'Serial Data'!Z97<>0,(Z97+(AA97*0.5)),NA())","v":{"$error":"#N/A"}},{"$f":"IF('Serial Data'!AB97+'Serial Data'!AA97+'Serial Data'!Z97<>0,(AA97*0.866*Templates!K2),NA())","v":{"$error":"#N/A"}},null,{"$f":"'Serial Data'!AG97/('Serial Data'!AG97+'Serial Data'!AE97+'Serial Data'!AF97)","v":{"$error":"#DIV/0!"}},{"$f":"'Serial Data'!AE97/('Serial Data'!AG97+'Serial Data'!AE97+'Serial Data'!AF97)","v":{"$error":"#DIV/0!"}},{"$f":"'Serial Data'!AF97/('Serial Data'!AG97+'Serial Data'!AE97+'Serial Data'!AF97)","v":{"$error":"#DIV/0!"}},{"$f":"IF('Serial Data'!AE97+'Serial Data'!AF97+'Serial Data'!AG97<>0,(AF97+(AG97*0.5)),NA())","v":{"$error":"#N/A"}},{"$f":"IF('Serial Data'!AE97+'Serial Data'!AF97+'Serial Data'!AG97<>0,(AG97*0.866*Templates!K2),NA())","v":{"$error":"#N/A"}},null,{"$f":"'Serial Data'!AL97/('Serial Data'!AJ97+'Serial Data'!AK97+'Serial Data'!AL97)","v":{"$error":"#DIV/0!"}},{"$f":"'Serial Data'!AJ97/('Serial Data'!AJ97+'Serial Data'!AK97+'Serial Data'!AL97)","v":{"$error":"#DIV/0!"}},{"$f":"'Serial Data'!AK97/('Serial Data'!AJ97+'Serial Data'!AK97+'Serial Data'!AL97)","v":{"$error":"#DIV/0!"}},{"$f":"IF('Serial Data'!AJ97+'Serial Data'!AK97+'Serial Data'!AL97<>0,(AL97+(AM97*0.5)),NA())","v":{"$error":"#N/A"}},{"$f":"IF('Serial Data'!AJ97+'Serial Data'!AK97+'Serial Data'!AL97<>0,(AM97*0.866*Templates!K2),NA())","v":{"$error":"#N/A"}},null,{"$f":"'Serial Data'!AQ97/('Serial Data'!AO97+'Serial Data'!AP97+'Serial Data'!AQ97)","v":{"$error":"#DIV/0!"}},{"$f":"'Serial Data'!AO97/('Serial Data'!AO97+'Serial Data'!AP97+'Serial Data'!AQ97)","v":{"$error":"#DIV/0!"}},{"$f":"'Serial Data'!AP97/('Serial Data'!AO97+'Serial Data'!AP97+'Serial Data'!AQ97)","v":{"$error":"#DIV/0!"}},{"$f":"IF('Serial Data'!AO97+'Serial Data'!AP97+'Serial Data'!AQ97<>0,(AR97+(AS97*0.5)),NA())","v":{"$error":"#N/A"}},{"$f":"IF('Serial Data'!AO97+'Serial Data'!AP97+'Serial Data'!AQ97<>0,(AS97*0.866*Templates!K2),NA())","v":{"$error":"#N/A"}},null,{"$f":"'Serial Data'!AV97/('Serial Data'!AT97+'Serial Data'!AU97+'Serial Data'!AV97)","v":{"$error":"#DIV/0!"}},{"$f":"'Serial Data'!AT97/('Serial Data'!AT97+'Serial Data'!AU97+'Serial Data'!AV97)","v":{"$error":"#DIV/0!"}},{"$f":"'Serial Data'!AU97/('Serial Data'!AT97+'Serial Data'!AU97+'Serial Data'!AV97)","v":{"$error":"#DIV/0!"}},{"$f":"IF('Serial Data'!AT97+'Serial Data'!AU97+'Serial Data'!AV97<>0,(AX97+(AY97*0.5)),NA())","v":{"$error":"#N/A"}},{"$f":"IF('Serial Data'!AT97+'Serial Data'!AU97+'Serial Data'!AV97<>0,(AY97*0.866*Templates!K2),NA())","v":{"$error":"#N/A"}},null,{"$f":"'Serial Data'!BA97/('Serial Data'!AY97+'Serial Data'!AZ97+'Serial Data'!BA97)","v":{"$error":"#DIV/0!"}},{"$f":"'Serial Data'!AY97/('Serial Data'!AY97+'Serial Data'!AZ97+'Serial Data'!BA97)","v":{"$error":"#DIV/0!"}},{"$f":"'Serial Data'!AZ97/('Serial Data'!AY97+'Serial Data'!AZ97+'Serial Data'!BA97)","v":{"$error":"#DIV/0!"}},{"$f":"IF('Serial Data'!AY97+'Serial Data'!AZ97+'Serial Data'!BA97<>0,(BD97+(BE97*0.5)),NA())","v":{"$error":"#N/A"}},{"$f":"IF('Serial Data'!AY97+'Serial Data'!AZ97+'Serial Data'!BA97<>0,(BE97*0.866*Templates!K2),NA())","v":{"$error":"#N/A"}},null,{"$f":"'Serial Data'!BF97/('Serial Data'!BD97+'Serial Data'!BE97+'Serial Data'!BF97)","v":{"$error":"#DIV/0!"}},{"$f":"'Serial Data'!BD97/('Serial Data'!BD97+'Serial Data'!BE97+'Serial Data'!BF97)","v":{"$error":"#DIV/0!"}},{"$f":"'Serial Data'!BE97/('Serial Data'!BD97+'Serial Data'!BE97+'Serial Data'!BF97)","v":{"$error":"#DIV/0!"}},{"$f":"IF('Serial Data'!BD97+'Serial Data'!BE97+'Serial Data'!BF97<>0,(BJ97+(BK97*0.5)),NA())","v":{"$error":"#N/A"}},{"$f":"IF('Serial Data'!BD97+'Serial Data'!BE97+'Serial Data'!BF97<>0,(BK97*0.866*Templates!K2),NA())","v":{"$error":"#N/A"}}]
[{"$f":"'Single Data'!N99/('Single Data'!L99+'Single Data'!M99+'Single Data'!N99)","v":{"$error":"#DIV/0!"}},{"$f":"'Single Data'!L99/('Single Data'!L99+'Single Data'!M99+'Single Data'!N99)","v":{"$error":"#DIV/0!"}},{"$f":"'Single Data'!M99/('Single Data'!L99+'Single Data'!M99+'Single Data'!N99)","v":{"$error":"#DIV/0!"}},{"$f":"IF('Single Data'!L99+'Single Data'!M99+'Single Data'!N99<>0,(B98+(C98*0.5)),NA())","v":{"$error":"#N/A"}},{"$f":"IF('Single Data'!L99+'Single Data'!M99+'Single Data'!N99<>0,(C98*0.866*Templates!K2),NA())","v":{"$error":"#N/A"}},null,{"$f":"'Serial Data'!M98/('Serial Data'!K98+'Serial Data'!L98+'Serial Data'!M98)","v":{"$error":"#DIV/0!"}},{"$f":"'Serial Data'!K98/('Serial Data'!K98+'Serial Data'!L98+'Serial Data'!M98)","v":{"$error":"#DIV/0!"}},{"$f":"'Serial Data'!L98/('Serial Data'!K98+'Serial Data'!L98+'Serial Data'!M98)","v":{"$error":"#DIV/0!"}},{"$f":"IF('Serial Data'!K98+'Serial Data'!L98+'Serial Data'!M98<>0,(H98+(I98*0.5)),NA())","v":{"$error":"#N/A"}},{"$f":"IF('Serial Data'!K98+'Serial Data'!L98+'Serial Data'!M98<>0,(I98*0.866*Templates!K2),NA())","v":{"$error":"#N/A"}},null,{"$f":"'Serial Data'!R98/('Serial Data'!P98+'Serial Data'!Q98+'Serial Data'!R98)","v":{"$error":"#DIV/0!"}},{"$f":"'Serial Data'!P98/('Serial Data'!P98+'Serial Data'!Q98+'Serial Data'!R98)","v":{"$error":"#DIV/0!"}},{"$f":"'Serial Data'!Q98/('Serial Data'!P98+'Serial Data'!Q98+'Serial Data'!R98)","v":{"$error":"#DIV/0!"}},{"$f":"IF('Serial Data'!P98+'Serial Data'!Q98+'Serial Data'!R98<>0,(N98+(O98*0.5)),NA())","v":{"$error":"#N/A"}},{"$f":"IF('Serial Data'!P98+'Serial Data'!Q98+'Serial Data'!R98<>0,(O98*0.866*Templates!K2),NA())","v":{"$error":"#N/A"}},null,{"$f":"'Serial Data'!W98/('Serial Data'!U98+'Serial Data'!V98+'Serial Data'!W98)","v":{"$error":"#DIV/0!"}},{"$f":"'Serial Data'!U98/('Serial Data'!U98+'Serial Data'!V98+'Serial Data'!W98)","v":{"$error":"#DIV/0!"}},{"$f":"'Serial Data'!V98/('Serial Data'!U98+'Serial Data'!V98+'Serial Data'!W98)","v":{"$error":"#DIV/0!"}},{"$f":"IF('Serial Data'!V98+'Serial Data'!W98+'Serial Data'!U98<>0,(T98+(U98*0.5)),NA())","v":{"$error":"#N/A"}},{"$f":"IF('Serial Data'!V98+'Serial Data'!W98+'Serial Data'!U98<>0,(U98*0.866*Templates!K2),NA())","v":{"$error":"#N/A"}},null,{"$f":"'Serial Data'!AB98/('Serial Data'!AA98+'Serial Data'!AB98+'Serial Data'!Z98)","v":{"$error":"#DIV/0!"}},{"$f":"'Serial Data'!Z98/('Serial Data'!AA98+'Serial Data'!AB98+'Serial Data'!Z98)","v":{"$error":"#DIV/0!"}},{"$f":"'Serial Data'!AA98/('Serial Data'!AA98+'Serial Data'!AB98+'Serial Data'!Z98)","v":{"$error":"#DIV/0!"}},{"$f":"IF('Serial Data'!AB98+'Serial Data'!AA98+'Serial Data'!Z98<>0,(Z98+(AA98*0.5)),NA())","v":{"$error":"#N/A"}},{"$f":"IF('Serial Data'!AB98+'Serial Data'!AA98+'Serial Data'!Z98<>0,(AA98*0.866*Templates!K2),NA())","v":{"$error":"#N/A"}},null,{"$f":"'Serial Data'!AG98/('Serial Data'!AG98+'Serial Data'!AE98+'Serial Data'!AF98)","v":{"$error":"#DIV/0!"}},{"$f":"'Serial Data'!AE98/('Serial Data'!AG98+'Serial Data'!AE98+'Serial Data'!AF98)","v":{"$error":"#DIV/0!"}},{"$f":"'Serial Data'!AF98/('Serial Data'!AG98+'Serial Data'!AE98+'Serial Data'!AF98)","v":{"$error":"#DIV/0!"}},{"$f":"IF('Serial Data'!AE98+'Serial Data'!AF98+'Serial Data'!AG98<>0,(AF98+(AG98*0.5)),NA())","v":{"$error":"#N/A"}},{"$f":"IF('Serial Data'!AE98+'Serial Data'!AF98+'Serial Data'!AG98<>0,(AG98*0.866*Templates!K2),NA())","v":{"$error":"#N/A"}},null,{"$f":"'Serial Data'!AL98/('Serial Data'!AJ98+'Serial Data'!AK98+'Serial Data'!AL98)","v":{"$error":"#DIV/0!"}},{"$f":"'Serial Data'!AJ98/('Serial Data'!AJ98+'Serial Data'!AK98+'Serial Data'!AL98)","v":{"$error":"#DIV/0!"}},{"$f":"'Serial Data'!AK98/('Serial Data'!AJ98+'Serial Data'!AK98+'Serial Data'!AL98)","v":{"$error":"#DIV/0!"}},{"$f":"IF('Serial Data'!AJ98+'Serial Data'!AK98+'Serial Data'!AL98<>0,(AL98+(AM98*0.5)),NA())","v":{"$error":"#N/A"}},{"$f":"IF('Serial Data'!AJ98+'Serial Data'!AK98+'Serial Data'!AL98<>0,(AM98*0.866*Templates!K2),NA())","v":{"$error":"#N/A"}},null,{"$f":"'Serial Data'!AQ98/('Serial Data'!AO98+'Serial Data'!AP98+'Serial Data'!AQ98)","v":{"$error":"#DIV/0!"}},{"$f":"'Serial Data'!AO98/('Serial Data'!AO98+'Serial Data'!AP98+'Serial Data'!AQ98)","v":{"$error":"#DIV/0!"}},{"$f":"'Serial Data'!AP98/('Serial Data'!AO98+'Serial Data'!AP98+'Serial Data'!AQ98)","v":{"$error":"#DIV/0!"}},{"$f":"IF('Serial Data'!AO98+'Serial Data'!AP98+'Serial Data'!AQ98<>0,(AR98+(AS98*0.5)),NA())","v":{"$error":"#N/A"}},{"$f":"IF('Serial Data'!AO98+'Serial Data'!AP98+'Serial Data'!AQ98<>0,(AS98*0.866*Templates!K2),NA())","v":{"$error":"#N/A"}},null,{"$f":"'Serial Data'!AV98/('Serial Data'!AT98+'Serial Data'!AU98+'Serial Data'!AV98)","v":{"$error":"#DIV/0!"}},{"$f":"'Serial Data'!AT98/('Serial Data'!AT98+'Serial Data'!AU98+'Serial Data'!AV98)","v":{"$error":"#DIV/0!"}},{"$f":"'Serial Data'!AU98/('Serial Data'!AT98+'Serial Data'!AU98+'Serial Data'!AV98)","v":{"$error":"#DIV/0!"}},{"$f":"IF('Serial Data'!AT98+'Serial Data'!AU98+'Serial Data'!AV98<>0,(AX98+(AY98*0.5)),NA())","v":{"$error":"#N/A"}},{"$f":"IF('Serial Data'!AT98+'Serial Data'!AU98+'Serial Data'!AV98<>0,(AY98*0.866*Templates!K2),NA())","v":{"$error":"#N/A"}},null,{"$f":"'Serial Data'!BA98/('Serial Data'!AY98+'Serial Data'!AZ98+'Serial Data'!BA98)","v":{"$error":"#DIV/0!"}},{"$f":"'Serial Data'!AY98/('Serial Data'!AY98+'Serial Data'!AZ98+'Serial Data'!BA98)","v":{"$error":"#DIV/0!"}},{"$f":"'Serial Data'!AZ98/('Serial Data'!AY98+'Serial Data'!AZ98+'Serial Data'!BA98)","v":{"$error":"#DIV/0!"}},{"$f":"IF('Serial Data'!AY98+'Serial Data'!AZ98+'Serial Data'!BA98<>0,(BD98+(BE98*0.5)),NA())","v":{"$error":"#N/A"}},{"$f":"IF('Serial Data'!AY98+'Serial Data'!AZ98+'Serial Data'!BA98<>0,(BE98*0.866*Templates!K2),NA())","v":{"$error":"#N/A"}},null,{"$f":"'Serial Data'!BF98/('Serial Data'!BD98+'Serial Data'!BE98+'Serial Data'!BF98)","v":{"$error":"#DIV/0!"}},{"$f":"'Serial Data'!BD98/('Serial Data'!BD98+'Serial Data'!BE98+'Serial Data'!BF98)","v":{"$error":"#DIV/0!"}},{"$f":"'Serial Data'!BE98/('Serial Data'!BD98+'Serial Data'!BE98+'Serial Data'!BF98)","v":{"$error":"#DIV/0!"}},{"$f":"IF('Serial Data'!BD98+'Serial Data'!BE98+'Serial Data'!BF98<>0,(BJ98+(BK98*0.5)),NA())","v":{"$error":"#N/A"}},{"$f":"IF('Serial Data'!BD98+'Serial Data'!BE98+'Serial Data'!BF98<>0,(BK98*0.866*Templates!K2),NA())","v":{"$error":"#N/A"}}]
[{"$f":"'Single Data'!N100/('Single Data'!L100+'Single Data'!M100+'Single Data'!N100)","v":{"$error":"#DIV/0!"}},{"$f":"'Single Data'!L100/('Single Data'!L100+'Single Data'!M100+'Single Data'!N100)","v":{"$error":"#DIV/0!"}},{"$f":"'Single Data'!M100/('Single Data'!L100+'Single Data'!M100+'Single Data'!N100)","v":{"$error":"#DIV/0!"}},{"$f":"IF('Single Data'!L100+'Single Data'!M100+'Single Data'!N100<>0,(B99+(C99*0.5)),NA())","v":{"$error":"#N/A"}},{"$f":"IF('Single Data'!L100+'Single Data'!M100+'Single Data'!N100<>0,(C99*0.866*Templates!K2),NA())","v":{"$error":"#N/A"}},null,{"$f":"'Serial Data'!M99/('Serial Data'!K99+'Serial Data'!L99+'Serial Data'!M99)","v":{"$error":"#DIV/0!"}},{"$f":"'Serial Data'!K99/('Serial Data'!K99+'Serial Data'!L99+'Serial Data'!M99)","v":{"$error":"#DIV/0!"}},{"$f":"'Serial Data'!L99/('Serial Data'!K99+'Serial Data'!L99+'Serial Data'!M99)","v":{"$error":"#DIV/0!"}},{"$f":"IF('Serial Data'!K99+'Serial Data'!L99+'Serial Data'!M99<>0,(H99+(I99*0.5)),NA())","v":{"$error":"#N/A"}},{"$f":"IF('Serial Data'!K99+'Serial Data'!L99+'Serial Data'!M99<>0,(I99*0.866*Templates!K2),NA())","v":{"$error":"#N/A"}},null,{"$f":"'Serial Data'!R99/('Serial Data'!P99+'Serial Data'!Q99+'Serial Data'!R99)","v":{"$error":"#DIV/0!"}},{"$f":"'Serial Data'!P99/('Serial Data'!P99+'Serial Data'!Q99+'Serial Data'!R99)","v":{"$error":"#DIV/0!"}},{"$f":"'Serial Data'!Q99/('Serial Data'!P99+'Serial Data'!Q99+'Serial Data'!R99)","v":{"$error":"#DIV/0!"}},{"$f":"IF('Serial Data'!P99+'Serial Data'!Q99+'Serial Data'!R99<>0,(N99+(O99*0.5)),NA())","v":{"$error":"#N/A"}},{"$f":"IF('Serial Data'!P99+'Serial Data'!Q99+'Serial Data'!R99<>0,(O99*0.866*Templates!K2),NA())","v":{"$error":"#N/A"}},null,{"$f":"'Serial Data'!W99/('Serial Data'!U99+'Serial Data'!V99+'Serial Data'!W99)","v":{"$error":"#DIV/0!"}},{"$f":"'Serial Data'!U99/('Serial Data'!U99+'Serial Data'!V99+'Serial Data'!W99)","v":{"$error":"#DIV/0!"}},{"$f":"'Serial Data'!V99/('Serial Data'!U99+'Serial Data'!V99+'Serial Data'!W99)","v":{"$error":"#DIV/0!"}},{"$f":"IF('Serial Data'!V99+'Serial Data'!W99+'Serial Data'!U99<>0,(T99+(U99*0.5)),NA())","v":{"$error":"#N/A"}},{"$f":"IF('Serial Data'!V99+'Serial Data'!W99+'Serial Data'!U99<>0,(U99*0.866*Templates!K2),NA())","v":{"$error":"#N/A"}},null,{"$f":"'Serial Data'!AB99/('Serial Data'!AA99+'Serial Data'!AB99+'Serial Data'!Z99)","v":{"$error":"#DIV/0!"}},{"$f":"'Serial Data'!Z99/('Serial Data'!AA99+'Serial Data'!AB99+'Serial Data'!Z99)","v":{"$error":"#DIV/0!"}},{"$f":"'Serial Data'!AA99/('Serial Data'!AA99+'Serial Data'!AB99+'Serial Data'!Z99)","v":{"$error":"#DIV/0!"}},{"$f":"IF('Serial Data'!AB99+'Serial Data'!AA99+'Serial Data'!Z99<>0,(Z99+(AA99*0.5)),NA())","v":{"$error":"#N/A"}},{"$f":"IF('Serial Data'!AB99+'Serial Data'!AA99+'Serial Data'!Z99<>0,(AA99*0.866*Templates!K2),NA())","v":{"$error":"#N/A"}},null,{"$f":"'Serial Data'!AG99/('Serial Data'!AG99+'Serial Data'!AE99+'Serial Data'!AF99)","v":{"$error":"#DIV/0!"}},{"$f":"'Serial Data'!AE99/('Serial Data'!AG99+'Serial Data'!AE99+'Serial Data'!AF99)","v":{"$error":"#DIV/0!"}},{"$f":"'Serial Data'!AF99/('Serial Data'!AG99+'Serial Data'!AE99+'Serial Data'!AF99)","v":{"$error":"#DIV/0!"}},{"$f":"IF('Serial Data'!AE99+'Serial Data'!AF99+'Serial Data'!AG99<>0,(AF99+(AG99*0.5)),NA())","v":{"$error":"#N/A"}},{"$f":"IF('Serial Data'!AE99+'Serial Data'!AF99+'Serial Data'!AG99<>0,(AG99*0.866*Templates!K2),NA())","v":{"$error":"#N/A"}},null,{"$f":"'Serial Data'!AL99/('Serial Data'!AJ99+'Serial Data'!AK99+'Serial Data'!AL99)","v":{"$error":"#DIV/0!"}},{"$f":"'Serial Data'!AJ99/('Serial Data'!AJ99+'Serial Data'!AK99+'Serial Data'!AL99)","v":{"$error":"#DIV/0!"}},{"$f":"'Serial Data'!AK99/('Serial Data'!AJ99+'Serial Data'!AK99+'Serial Data'!AL99)","v":{"$error":"#DIV/0!"}},{"$f":"IF('Serial Data'!AJ99+'Serial Data'!AK99+'Serial Data'!AL99<>0,(AL99+(AM99*0.5)),NA())","v":{"$error":"#N/A"}},{"$f":"IF('Serial Data'!AJ99+'Serial Data'!AK99+'Serial Data'!AL99<>0,(AM99*0.866*Templates!K2),NA())","v":{"$error":"#N/A"}},null,{"$f":"'Serial Data'!AQ99/('Serial Data'!AO99+'Serial Data'!AP99+'Serial Data'!AQ99)","v":{"$error":"#DIV/0!"}},{"$f":"'Serial Data'!AO99/('Serial Data'!AO99+'Serial Data'!AP99+'Serial Data'!AQ99)","v":{"$error":"#DIV/0!"}},{"$f":"'Serial Data'!AP99/('Serial Data'!AO99+'Serial Data'!AP99+'Serial Data'!AQ99)","v":{"$error":"#DIV/0!"}},{"$f":"IF('Serial Data'!AO99+'Serial Data'!AP99+'Serial Data'!AQ99<>0,(AR99+(AS99*0.5)),NA())","v":{"$error":"#N/A"}},{"$f":"IF('Serial Data'!AO99+'Serial Data'!AP99+'Serial Data'!AQ99<>0,(AS99*0.866*Templates!K2),NA())","v":{"$error":"#N/A"}},null,{"$f":"'Serial Data'!AV99/('Serial Data'!AT99+'Serial Data'!AU99+'Serial Data'!AV99)","v":{"$error":"#DIV/0!"}},{"$f":"'Serial Data'!AT99/('Serial Data'!AT99+'Serial Data'!AU99+'Serial Data'!AV99)","v":{"$error":"#DIV/0!"}},{"$f":"'Serial Data'!AU99/('Serial Data'!AT99+'Serial Data'!AU99+'Serial Data'!AV99)","v":{"$error":"#DIV/0!"}},{"$f":"IF('Serial Data'!AT99+'Serial Data'!AU99+'Serial Data'!AV99<>0,(AX99+(AY99*0.5)),NA())","v":{"$error":"#N/A"}},{"$f":"IF('Serial Data'!AT99+'Serial Data'!AU99+'Serial Data'!AV99<>0,(AY99*0.866*Templates!K2),NA())","v":{"$error":"#N/A"}},null,{"$f":"'Serial Data'!BA99/('Serial Data'!AY99+'Serial Data'!AZ99+'Serial Data'!BA99)","v":{"$error":"#DIV/0!"}},{"$f":"'Serial Data'!AY99/('Serial Data'!AY99+'Serial Data'!AZ99+'Serial Data'!BA99)","v":{"$error":"#DIV/0!"}},{"$f":"'Serial Data'!AZ99/('Serial Data'!AY99+'Serial Data'!AZ99+'Serial Data'!BA99)","v":{"$error":"#DIV/0!"}},{"$f":"IF('Serial Data'!AY99+'Serial Data'!AZ99+'Serial Data'!BA99<>0,(BD99+(BE99*0.5)),NA())","v":{"$error":"#N/A"}},{"$f":"IF('Serial Data'!AY99+'Serial Data'!AZ99+'Serial Data'!BA99<>0,(BE99*0.866*Templates!K2),NA())","v":{"$error":"#N/A"}},null,{"$f":"'Serial Data'!BF99/('Serial Data'!BD99+'Serial Data'!BE99+'Serial Data'!BF99)","v":{"$error":"#DIV/0!"}},{"$f":"'Serial Data'!BD99/('Serial Data'!BD99+'Serial Data'!BE99+'Serial Data'!BF99)","v":{"$error":"#DIV/0!"}},{"$f":"'Serial Data'!BE99/('Serial Data'!BD99+'Serial Data'!BE99+'Serial Data'!BF99)","v":{"$error":"#DIV/0!"}},{"$f":"IF('Serial Data'!BD99+'Serial Data'!BE99+'Serial Data'!BF99<>0,(BJ99+(BK99*0.5)),NA())","v":{"$error":"#N/A"}},{"$f":"IF('Serial Data'!BD99+'Serial Data'!BE99+'Serial Data'!BF99<>0,(BK99*0.866*Templates!K2),NA())","v":{"$error":"#N/A"}}]
[{"$f":"'Single Data'!N101/('Single Data'!L101+'Single Data'!M101+'Single Data'!N101)","v":{"$error":"#DIV/0!"}},{"$f":"'Single Data'!L101/('Single Data'!L101+'Single Data'!M101+'Single Data'!N101)","v":{"$error":"#DIV/0!"}},{"$f":"'Single Data'!M101/('Single Data'!L101+'Single Data'!M101+'Single Data'!N101)","v":{"$error":"#DIV/0!"}},{"$f":"IF('Single Data'!L101+'Single Data'!M101+'Single Data'!N101<>0,(B100+(C100*0.5)),NA())","v":{"$error":"#N/A"}},{"$f":"IF('Single Data'!L101+'Single Data'!M101+'Single Data'!N101<>0,(C100*0.866*Templates!K2),NA())","v":{"$error":"#N/A"}},null,{"$f":"'Serial Data'!M100/('Serial Data'!K100+'Serial Data'!L100+'Serial Data'!M100)","v":{"$error":"#DIV/0!"}},{"$f":"'Serial Data'!K100/('Serial Data'!K100+'Serial Data'!L100+'Serial Data'!M100)","v":{"$error":"#DIV/0!"}},{"$f":"'Serial Data'!L100/('Serial Data'!K100+'Serial Data'!L100+'Serial Data'!M100)","v":{"$error":"#DIV/0!"}},{"$f":"IF('Serial Data'!K100+'Serial Data'!L100+'Serial Data'!M100<>0,(H100+(I100*0.5)),NA())","v":{"$error":"#N/A"}},{"$f":"IF('Serial Data'!K100+'Serial Data'!L100+'Serial Data'!M100<>0,(I100*0.866*Templates!K2),NA())","v":{"$error":"#N/A"}},null,{"$f":"'Serial Data'!R100/('Serial Data'!P100+'Serial Data'!Q100+'Serial Data'!R100)","v":{"$error":"#DIV/0!"}},{"$f":"'Serial Data'!P100/('Serial Data'!P100+'Serial Data'!Q100+'Serial Data'!R100)","v":{"$error":"#DIV/0!"}},{"$f":"'Serial Data'!Q100/('Serial Data'!P100+'Serial Data'!Q100+'Serial Data'!R100)","v":{"$error":"#DIV/0!"}},{"$f":"IF('Serial Data'!P100+'Serial Data'!Q100+'Serial Data'!R100<>0,(N100+(O100*0.5)),NA())","v":{"$error":"#N/A"}},{"$f":"IF('Serial Data'!P100+'Serial Data'!Q100+'Serial Data'!R100<>0,(O100*0.866*Templates!K2),NA())","v":{"$error":"#N/A"}},null,{"$f":"'Serial Data'!W100/('Serial Data'!U100+'Serial Data'!V100+'Serial Data'!W100)","v":{"$error":"#DIV/0!"}},{"$f":"'Serial Data'!U100/('Serial Data'!U100+'Serial Data'!V100+'Serial Data'!W100)","v":{"$error":"#DIV/0!"}},{"$f":"'Serial Data'!V100/('Serial Data'!U100+'Serial Data'!V100+'Serial Data'!W100)","v":{"$error":"#DIV/0!"}},{"$f":"IF('Serial Data'!V100+'Serial Data'!W100+'Serial Data'!U100<>0,(T100+(U100*0.5)),NA())","v":{"$error":"#N/A"}},{"$f":"IF('Serial Data'!V100+'Serial Data'!W100+'Serial Data'!U100<>0,(U100*0.866*Templates!K2),NA())","v":{"$error":"#N/A"}},null,{"$f":"'Serial Data'!AB100/('Serial Data'!AA100+'Serial Data'!AB100+'Serial Data'!Z100)","v":{"$error":"#DIV/0!"}},{"$f":"'Serial Data'!Z100/('Serial Data'!AA100+'Serial Data'!AB100+'Serial Data'!Z100)","v":{"$error":"#DIV/0!"}},{"$f":"'Serial Data'!AA100/('Serial Data'!AA100+'Serial Data'!AB100+'Serial Data'!Z100)","v":{"$error":"#DIV/0!"}},{"$f":"IF('Serial Data'!AB100+'Serial Data'!AA100+'Serial Data'!Z100<>0,(Z100+(AA100*0.5)),NA())","v":{"$error":"#N/A"}},{"$f":"IF('Serial Data'!AB100+'Serial Data'!AA100+'Serial Data'!Z100<>0,(AA100*0.866*Templates!K2),NA())","v":{"$error":"#N/A"}},null,{"$f":"'Serial Data'!AG100/('Serial Data'!AG100+'Serial Data'!AE100+'Serial Data'!AF100)","v":{"$error":"#DIV/0!"}},{"$f":"'Serial Data'!AE100/('Serial Data'!AG100+'Serial Data'!AE100+'Serial Data'!AF100)","v":{"$error":"#DIV/0!"}},{"$f":"'Serial Data'!AF100/('Serial Data'!AG100+'Serial Data'!AE100+'Serial Data'!AF100)","v":{"$error":"#DIV/0!"}},{"$f":"IF('Serial Data'!AE100+'Serial Data'!AF100+'Serial Data'!AG100<>0,(AF100+(AG100*0.5)),NA())","v":{"$error":"#N/A"}},{"$f":"IF('Serial Data'!AE100+'Serial Data'!AF100+'Serial Data'!AG100<>0,(AG100*0.866*Templates!K2),NA())","v":{"$error":"#N/A"}},null,{"$f":"'Serial Data'!AL100/('Serial Data'!AJ100+'Serial Data'!AK100+'Serial Data'!AL100)","v":{"$error":"#DIV/0!"}},{"$f":"'Serial Data'!AJ100/('Serial Data'!AJ100+'Serial Data'!AK100+'Serial Data'!AL100)","v":{"$error":"#DIV/0!"}},{"$f":"'Serial Data'!AK100/('Serial Data'!AJ100+'Serial Data'!AK100+'Serial Data'!AL100)","v":{"$error":"#DIV/0!"}},{"$f":"IF('Serial Data'!AJ100+'Serial Data'!AK100+'Serial Data'!AL100<>0,(AL100+(AM100*0.5)),NA())","v":{"$error":"#N/A"}},{"$f":"IF('Serial Data'!AJ100+'Serial Data'!AK100+'Serial Data'!AL100<>0,(AM100*0.866*Templates!K2),NA())","v":{"$error":"#N/A"}},null,{"$f":"'Serial Data'!AQ100/('Serial Data'!AO100+'Serial Data'!AP100+'Serial Data'!AQ100)","v":{"$error":"#DIV/0!"}},{"$f":"'Serial Data'!AO100/('Serial Data'!AO100+'Serial Data'!AP100+'Serial Data'!AQ100)","v":{"$error":"#DIV/0!"}},{"$f":"'Serial Data'!AP100/('Serial Data'!AO100+'Serial Data'!AP100+'Serial Data'!AQ100)","v":{"$error":"#DIV/0!"}},{"$f":"IF('Serial Data'!AO100+'Serial Data'!AP100+'Serial Data'!AQ100<>0,(AR100+(AS100*0.5)),NA())","v":{"$error":"#N/A"}},{"$f":"IF('Serial Data'!AO100+'Serial Data'!AP100+'Serial Data'!AQ100<>0,(AS100*0.866*Templates!K2),NA())","v":{"$error":"#N/A"}},null,{"$f":"'Serial Data'!AV100/('Serial Data'!AT100+'Serial Data'!AU100+'Serial Data'!AV100)","v":{"$error":"#DIV/0!"}},{"$f":"'Serial Data'!AT100/('Serial Data'!AT100+'Serial Data'!AU100+'Serial Data'!AV100)","v":{"$error":"#DIV/0!"}},{"$f":"'Serial Data'!AU100/('Serial Data'!AT100+'Serial Data'!AU100+'Serial Data'!AV100)","v":{"$error":"#DIV/0!"}},{"$f":"IF('Serial Data'!AT100+'Serial Data'!AU100+'Serial Data'!AV100<>0,(AX100+(AY100*0.5)),NA())","v":{"$error":"#N/A"}},{"$f":"IF('Serial Data'!AT100+'Serial Data'!AU100+'Serial Data'!AV100<>0,(AY100*0.866*Templates!K2),NA())","v":{"$error":"#N/A"}},null,{"$f":"'Serial Data'!BA100/('Serial Data'!AY100+'Serial Data'!AZ100+'Serial Data'!BA100)","v":{"$error":"#DIV/0!"}},{"$f":"'Serial Data'!AY100/('Serial Data'!AY100+'Serial Data'!AZ100+'Serial Data'!BA100)","v":{"$error":"#DIV/0!"}},{"$f":"'Serial Data'!AZ100/('Serial Data'!AY100+'Serial Data'!AZ100+'Serial Data'!BA100)","v":{"$error":"#DIV/0!"}},{"$f":"IF('Serial Data'!AY100+'Serial Data'!AZ100+'Serial Data'!BA100<>0,(BD100+(BE100*0.5)),NA())","v":{"$error":"#N/A"}},{"$f":"IF('Serial Data'!AY100+'Serial Data'!AZ100+'Serial Data'!BA100<>0,(BE100*0.866*Templates!K2),NA())","v":{"$error":"#N/A"}},null,{"$f":"'Serial Data'!BF100/('Serial Data'!BD100+'Serial Data'!BE100+'Serial Data'!BF100)","v":{"$error":"#DIV/0!"}},{"$f":"'Serial Data'!BD100/('Serial Data'!BD100+'Serial Data'!BE100+'Serial Data'!BF100)","v":{"$error":"#DIV/0!"}},{"$f":"'Serial Data'!BE100/('Serial Data'!BD100+'Serial Data'!BE100+'Serial Data'!BF100)","v":{"$error":"#DIV/0!"}},{"$f":"IF('Serial Data'!BD100+'Serial Data'!BE100+'Serial Data'!BF100<>0,(BJ100+(BK100*0.5)),NA())","v":{"$error":"#N/A"}},{"$f":"IF('Serial Data'!BD100+'Serial Data'!BE100+'Serial Data'!BF100<>0,(BK100*0.866*Templates!K2),NA())","v":{"$error":"#N/A"}}]
[{"$f":"'Single Data'!N102/('Single Data'!L102+'Single Data'!M102+'Single Data'!N102)","v":{"$error":"#DIV/0!"}},{"$f":"'Single Data'!L102/('Single Data'!L102+'Single Data'!M102+'Single Data'!N102)","v":{"$error":"#DIV/0!"}},{"$f":"'Single Data'!M102/('Single Data'!L102+'Single Data'!M102+'Single Data'!N102)","v":{"$error":"#DIV/0!"}},{"$f":"IF('Single Data'!L102+'Single Data'!M102+'Single Data'!N102<>0,(B101+(C101*0.5)),NA())","v":{"$error":"#N/A"}},{"$f":"IF('Single Data'!L102+'Single Data'!M102+'Single Data'!N102<>0,(C101*0.866*Templates!K2),NA())","v":{"$error":"#N/A"}},null,{"$f":"'Serial Data'!M101/('Serial Data'!K101+'Serial Data'!L101+'Serial Data'!M101)","v":{"$error":"#DIV/0!"}},{"$f":"'Serial Data'!K101/('Serial Data'!K101+'Serial Data'!L101+'Serial Data'!M101)","v":{"$error":"#DIV/0!"}},{"$f":"'Serial Data'!L101/('Serial Data'!K101+'Serial Data'!L101+'Serial Data'!M101)","v":{"$error":"#DIV/0!"}},{"$f":"IF('Serial Data'!K101+'Serial Data'!L101+'Serial Data'!M101<>0,(H101+(I101*0.5)),NA())","v":{"$error":"#N/A"}},{"$f":"IF('Serial Data'!K101+'Serial Data'!L101+'Serial Data'!M101<>0,(I101*0.866*Templates!K2),NA())","v":{"$error":"#N/A"}},null,{"$f":"'Serial Data'!R101/('Serial Data'!P101+'Serial Data'!Q101+'Serial Data'!R101)","v":{"$error":"#DIV/0!"}},{"$f":"'Serial Data'!P101/('Serial Data'!P101+'Serial Data'!Q101+'Serial Data'!R101)","v":{"$error":"#DIV/0!"}},{"$f":"'Serial Data'!Q101/('Serial Data'!P101+'Serial Data'!Q101+'Serial Data'!R101)","v":{"$error":"#DIV/0!"}},{"$f":"IF('Serial Data'!P101+'Serial Data'!Q101+'Serial Data'!R101<>0,(N101+(O101*0.5)),NA())","v":{"$error":"#N/A"}},{"$f":"IF('Serial Data'!P101+'Serial Data'!Q101+'Serial Data'!R101<>0,(O101*0.866*Templates!K2),NA())","v":{"$error":"#N/A"}},null,{"$f":"'Serial Data'!W101/('Serial Data'!U101+'Serial Data'!V101+'Serial Data'!W101)","v":{"$error":"#DIV/0!"}},{"$f":"'Serial Data'!U101/('Serial Data'!U101+'Serial Data'!V101+'Serial Data'!W101)","v":{"$error":"#DIV/0!"}},{"$f":"'Serial Data'!V101/('Serial Data'!U101+'Serial Data'!V101+'Serial Data'!W101)","v":{"$error":"#DIV/0!"}},{"$f":"IF('Serial Data'!V101+'Serial Data'!W101+'Serial Data'!U101<>0,(T101+(U101*0.5)),NA())","v":{"$error":"#N/A"}},{"$f":"IF('Serial Data'!V101+'Serial Data'!W101+'Serial Data'!U101<>0,(U101*0.866*Templates!K2),NA())","v":{"$error":"#N/A"}},null,{"$f":"'Serial Data'!AB101/('Serial Data'!AA101+'Serial Data'!AB101+'Serial Data'!Z101)","v":{"$error":"#DIV/0!"}},{"$f":"'Serial Data'!Z101/('Serial Data'!AA101+'Serial Data'!AB101+'Serial Data'!Z101)","v":{"$error":"#DIV/0!"}},{"$f":"'Serial Data'!AA101/('Serial Data'!AA101+'Serial Data'!AB101+'Serial Data'!Z101)","v":{"$error":"#DIV/0!"}},{"$f":"IF('Serial Data'!AB101+'Serial Data'!AA101+'Serial Data'!Z101<>0,(Z101+(AA101*0.5)),NA())","v":{"$error":"#N/A"}},{"$f":"IF('Serial Data'!AB101+'Serial Data'!AA101+'Serial Data'!Z101<>0,(AA101*0.866*Templates!K2),NA())","v":{"$error":"#N/A"}},null,{"$f":"'Serial Data'!AG101/('Serial Data'!AG101+'Serial Data'!AE101+'Serial Data'!AF101)","v":{"$error":"#DIV/0!"}},{"$f":"'Serial Data'!AE101/('Serial Data'!AG101+'Serial Data'!AE101+'Serial Data'!AF101)","v":{"$error":"#DIV/0!"}},{"$f":"'Serial Data'!AF101/('Serial Data'!AG101+'Serial Data'!AE101+'Serial Data'!AF101)","v":{"$error":"#DIV/0!"}},{"$f":"IF('Serial Data'!AE101+'Serial Data'!AF101+'Serial Data'!AG101<>0,(AF101+(AG101*0.5)),NA())","v":{"$error":"#N/A"}},{"$f":"IF('Serial Data'!AE101+'Serial Data'!AF101+'Serial Data'!AG101<>0,(AG101*0.866*Templates!K2),NA())","v":{"$error":"#N/A"}},null,{"$f":"'Serial Data'!AL101/('Serial Data'!AJ101+'Serial Data'!AK101+'Serial Data'!AL101)","v":{"$error":"#DIV/0!"}},{"$f":"'Serial Data'!AJ101/('Serial Data'!AJ101+'Serial Data'!AK101+'Serial Data'!AL101)","v":{"$error":"#DIV/0!"}},{"$f":"'Serial Data'!AK101/('Serial Data'!AJ101+'Serial Data'!AK101+'Serial Data'!AL101)","v":{"$error":"#DIV/0!"}},{"$f":"IF('Serial Data'!AJ101+'Serial Data'!AK101+'Serial Data'!AL101<>0,(AL101+(AM101*0.5)),NA())","v":{"$error":"#N/A"}},{"$f":"IF('Serial Data'!AJ101+'Serial Data'!AK101+'Serial Data'!AL101<>0,(AM101*0.866*Templates!K2),NA())","v":{"$error":"#N/A"}},null,{"$f":"'Serial Data'!AQ101/('Serial Data'!AO101+'Serial Data'!AP101+'Serial Data'!AQ101)","v":{"$error":"#DIV/0!"}},{"$f":"'Serial Data'!AO101/('Serial Data'!AO101+'Serial Data'!AP101+'Serial Data'!AQ101)","v":{"$error":"#DIV/0!"}},{"$f":"'Serial Data'!AP101/('Serial Data'!AO101+'Serial Data'!AP101+'Serial Data'!AQ101)","v":{"$error":"#DIV/0!"}},{"$f":"IF('Serial Data'!AO101+'Serial Data'!AP101+'Serial Data'!AQ101<>0,(AR101+(AS101*0.5)),NA())","v":{"$error":"#N/A"}},{"$f":"IF('Serial Data'!AO101+'Serial Data'!AP101+'Serial Data'!AQ101<>0,(AS101*0.866*Templates!K2),NA())","v":{"$error":"#N/A"}},null,{"$f":"'Serial Data'!AV101/('Serial Data'!AT101+'Serial Data'!AU101+'Serial Data'!AV101)","v":{"$error":"#DIV/0!"}},{"$f":"'Serial Data'!AT101/('Serial Data'!AT101+'Serial Data'!AU101+'Serial Data'!AV101)","v":{"$error":"#DIV/0!"}},{"$f":"'Serial Data'!AU101/('Serial Data'!AT101+'Serial Data'!AU101+'Serial Data'!AV101)","v":{"$error":"#DIV/0!"}},{"$f":"IF('Serial Data'!AT101+'Serial Data'!AU101+'Serial Data'!AV101<>0,(AX101+(AY101*0.5)),NA())","v":{"$error":"#N/A"}},{"$f":"IF('Serial Data'!AT101+'Serial Data'!AU101+'Serial Data'!AV101<>0,(AY101*0.866*Templates!K2),NA())","v":{"$error":"#N/A"}},null,{"$f":"'Serial Data'!BA101/('Serial Data'!AY101+'Serial Data'!AZ101+'Serial Data'!BA101)","v":{"$error":"#DIV/0!"}},{"$f":"'Serial Data'!AY101/('Serial Data'!AY101+'Serial Data'!AZ101+'Serial Data'!BA101)","v":{"$error":"#DIV/0!"}},{"$f":"'Serial Data'!AZ101/('Serial Data'!AY101+'Serial Data'!AZ101+'Serial Data'!BA101)","v":{"$error":"#DIV/0!"}},{"$f":"IF('Serial Data'!AY101+'Serial Data'!AZ101+'Serial Data'!BA101<>0,(BD101+(BE101*0.5)),NA())","v":{"$error":"#N/A"}},{"$f":"IF('Serial Data'!AY101+'Serial Data'!AZ101+'Serial Data'!BA101<>0,(BE101*0.866*Templates!K2),NA())","v":{"$error":"#N/A"}},null,{"$f":"'Serial Data'!BF101/('Serial Data'!BD101+'Serial Data'!BE101+'Serial Data'!BF101)","v":{"$error":"#DIV/0!"}},{"$f":"'Serial Data'!BD101/('Serial Data'!BD101+'Serial Data'!BE101+'Serial Data'!BF101)","v":{"$error":"#DIV/0!"}},{"$f":"'Serial Data'!BE101/('Serial Data'!BD101+'Serial Data'!BE101+'Serial Data'!BF101)","v":{"$error":"#DIV/0!"}},{"$f":"IF('Serial Data'!BD101+'Serial Data'!BE101+'Serial Data'!BF101<>0,(BJ101+(BK101*0.5)),NA())","v":{"$error":"#N/A"}},{"$f":"IF('Serial Data'!BD101+'Serial Data'!BE101+'Serial Data'!BF101<>0,(BK101*0.866*Templates!K2),NA())","v":{"$error":"#N/A"}}]
[{"$f":"'Single Data'!N103/('Single Data'!L103+'Single Data'!M103+'Single Data'!N103)","v":{"$error":"#DIV/0!"}},{"$f":"'Single Data'!L103/('Single Data'!L103+'Single Data'!M103+'Single Data'!N103)","v":{"$error":"#DIV/0!"}},{"$f":"'Single Data'!M103/('Single Data'!L103+'Single Data'!M103+'Single Data'!N103)","v":{"$error":"#DIV/0!"}},{"$f":"IF('Single Data'!L103+'Single Data'!M103+'Single Data'!N103<>0,(B102+(C102*0.5)),NA())","v":{"$error":"#N/A"}},{"$f":"IF('Single Data'!L103+'Single Data'!M103+'Single Data'!N103<>0,(C102*0.866*Templates!K2),NA())","v":{"$error":"#N/A"}},null,{"$f":"'Serial Data'!M102/('Serial Data'!K102+'Serial Data'!L102+'Serial Data'!M102)","v":{"$error":"#DIV/0!"}},{"$f":"'Serial Data'!K102/('Serial Data'!K102+'Serial Data'!L102+'Serial Data'!M102)","v":{"$error":"#DIV/0!"}},{"$f":"'Serial Data'!L102/('Serial Data'!K102+'Serial Data'!L102+'Serial Data'!M102)","v":{"$error":"#DIV/0!"}},{"$f":"IF('Serial Data'!K102+'Serial Data'!L102+'Serial Data'!M102<>0,(H102+(I102*0.5)),NA())","v":{"$error":"#N/A"}},{"$f":"IF('Serial Data'!K102+'Serial Data'!L102+'Serial Data'!M102<>0,(I102*0.866*Templates!K2),NA())","v":{"$error":"#N/A"}},null,{"$f":"'Serial Data'!R102/('Serial Data'!P102+'Serial Data'!Q102+'Serial Data'!R102)","v":{"$error":"#DIV/0!"}},{"$f":"'Serial Data'!P102/('Serial Data'!P102+'Serial Data'!Q102+'Serial Data'!R102)","v":{"$error":"#DIV/0!"}},{"$f":"'Serial Data'!Q102/('Serial Data'!P102+'Serial Data'!Q102+'Serial Data'!R102)","v":{"$error":"#DIV/0!"}},{"$f":"IF('Serial Data'!P102+'Serial Data'!Q102+'Serial Data'!R102<>0,(N102+(O102*0.5)),NA())","v":{"$error":"#N/A"}},{"$f":"IF('Serial Data'!P102+'Serial Data'!Q102+'Serial Data'!R102<>0,(O102*0.866*Templates!K2),NA())","v":{"$error":"#N/A"}},null,{"$f":"'Serial Data'!W102/('Serial Data'!U102+'Serial Data'!V102+'Serial Data'!W102)","v":{"$error":"#DIV/0!"}},{"$f":"'Serial Data'!U102/('Serial Data'!U102+'Serial Data'!V102+'Serial Data'!W102)","v":{"$error":"#DIV/0!"}},{"$f":"'Serial Data'!V102/('Serial Data'!U102+'Serial Data'!V102+'Serial Data'!W102)","v":{"$error":"#DIV/0!"}},{"$f":"IF('Serial Data'!V102+'Serial Data'!W102+'Serial Data'!U102<>0,(T102+(U102*0.5)),NA())","v":{"$error":"#N/A"}},{"$f":"IF('Serial Data'!V102+'Serial Data'!W102+'Serial Data'!U102<>0,(U102*0.866*Templates!K2),NA())","v":{"$error":"#N/A"}},null,{"$f":"'Serial Data'!AB102/('Serial Data'!AA102+'Serial Data'!AB102+'Serial Data'!Z102)","v":{"$error":"#DIV/0!"}},{"$f":"'Serial Data'!Z102/('Serial Data'!AA102+'Serial Data'!AB102+'Serial Data'!Z102)","v":{"$error":"#DIV/0!"}},{"$f":"'Serial Data'!AA102/('Serial Data'!AA102+'Serial Data'!AB102+'Serial Data'!Z102)","v":{"$error":"#DIV/0!"}},{"$f":"IF('Serial Data'!AB102+'Serial Data'!AA102+'Serial Data'!Z102<>0,(Z102+(AA102*0.5)),NA())","v":{"$error":"#N/A"}},{"$f":"IF('Serial Data'!AB102+'Serial Data'!AA102+'Serial Data'!Z102<>0,(AA102*0.866*Templates!K2),NA())","v":{"$error":"#N/A"}},null,{"$f":"'Serial Data'!AG102/('Serial Data'!AG102+'Serial Data'!AE102+'Serial Data'!AF102)","v":{"$error":"#DIV/0!"}},{"$f":"'Serial Data'!AE102/('Serial Data'!AG102+'Serial Data'!AE102+'Serial Data'!AF102)","v":{"$error":"#DIV/0!"}},{"$f":"'Serial Data'!AF102/('Serial Data'!AG102+'Serial Data'!AE102+'Serial Data'!AF102)","v":{"$error":"#DIV/0!"}},{"$f":"IF('Serial Data'!AE102+'Serial Data'!AF102+'Serial Data'!AG102<>0,(AF102+(AG102*0.5)),NA())","v":{"$error":"#N/A"}},{"$f":"IF('Serial Data'!AE102+'Serial Data'!AF102+'Serial Data'!AG102<>0,(AG102*0.866*Templates!K2),NA())","v":{"$error":"#N/A"}},null,{"$f":"'Serial Data'!AL102/('Serial Data'!AJ102+'Serial Data'!AK102+'Serial Data'!AL102)","v":{"$error":"#DIV/0!"}},{"$f":"'Serial Data'!AJ102/('Serial Data'!AJ102+'Serial Data'!AK102+'Serial Data'!AL102)","v":{"$error":"#DIV/0!"}},{"$f":"'Serial Data'!AK102/('Serial Data'!AJ102+'Serial Data'!AK102+'Serial Data'!AL102)","v":{"$error":"#DIV/0!"}},{"$f":"IF('Serial Data'!AJ102+'Serial Data'!AK102+'Serial Data'!AL102<>0,(AL102+(AM102*0.5)),NA())","v":{"$error":"#N/A"}},{"$f":"IF('Serial Data'!AJ102+'Serial Data'!AK102+'Serial Data'!AL102<>0,(AM102*0.866*Templates!K2),NA())","v":{"$error":"#N/A"}},null,{"$f":"'Serial Data'!AQ102/('Serial Data'!AO102+'Serial Data'!AP102+'Serial Data'!AQ102)","v":{"$error":"#DIV/0!"}},{"$f":"'Serial Data'!AO102/('Serial Data'!AO102+'Serial Data'!AP102+'Serial Data'!AQ102)","v":{"$error":"#DIV/0!"}},{"$f":"'Serial Data'!AP102/('Serial Data'!AO102+'Serial Data'!AP102+'Serial Data'!AQ102)","v":{"$error":"#DIV/0!"}},{"$f":"IF('Serial Data'!AO102+'Serial Data'!AP102+'Serial Data'!AQ102<>0,(AR102+(AS102*0.5)),NA())","v":{"$error":"#N/A"}},{"$f":"IF('Serial Data'!AO102+'Serial Data'!AP102+'Serial Data'!AQ102<>0,(AS102*0.866*Templates!K2),NA())","v":{"$error":"#N/A"}},null,{"$f":"'Serial Data'!AV102/('Serial Data'!AT102+'Serial Data'!AU102+'Serial Data'!AV102)","v":{"$error":"#DIV/0!"}},{"$f":"'Serial Data'!AT102/('Serial Data'!AT102+'Serial Data'!AU102+'Serial Data'!AV102)","v":{"$error":"#DIV/0!"}},{"$f":"'Serial Data'!AU102/('Serial Data'!AT102+'Serial Data'!AU102+'Serial Data'!AV102)","v":{"$error":"#DIV/0!"}},{"$f":"IF('Serial Data'!AT102+'Serial Data'!AU102+'Serial Data'!AV102<>0,(AX102+(AY102*0.5)),NA())","v":{"$error":"#N/A"}},{"$f":"IF('Serial Data'!AT102+'Serial Data'!AU102+'Serial Data'!AV102<>0,(AY102*0.866*Templates!K2),NA())","v":{"$error":"#N/A"}},null,{"$f":"'Serial Data'!BA102/('Serial Data'!AY102+'Serial Data'!AZ102+'Serial Data'!BA102)","v":{"$error":"#DIV/0!"}},{"$f":"'Serial Data'!AY102/('Serial Data'!AY102+'Serial Data'!AZ102+'Serial Data'!BA102)","v":{"$error":"#DIV/0!"}},{"$f":"'Serial Data'!AZ102/('Serial Data'!AY102+'Serial Data'!AZ102+'Serial Data'!BA102)","v":{"$error":"#DIV/0!"}},{"$f":"IF('Serial Data'!AY102+'Serial Data'!AZ102+'Serial Data'!BA102<>0,(BD102+(BE102*0.5)),NA())","v":{"$error":"#N/A"}},{"$f":"IF('Serial Data'!AY102+'Serial Data'!AZ102+'Serial Data'!BA102<>0,(BE102*0.866*Templates!K2),NA())","v":{"$error":"#N/A"}},null,{"$f":"'Serial Data'!BF102/('Serial Data'!BD102+'Serial Data'!BE102+'Serial Data'!BF102)","v":{"$error":"#DIV/0!"}},{"$f":"'Serial Data'!BD102/('Serial Data'!BD102+'Serial Data'!BE102+'Serial Data'!BF102)","v":{"$error":"#DIV/0!"}},{"$f":"'Serial Data'!BE102/('Serial Data'!BD102+'Serial Data'!BE102+'Serial Data'!BF102)","v":{"$error":"#DIV/0!"}},{"$f":"IF('Serial Data'!BD102+'Serial Data'!BE102+'Serial Data'!BF102<>0,(BJ102+(BK102*0.5)),NA())","v":{"$error":"#N/A"}},{"$f":"IF('Serial Data'!BD102+'Serial Data'!BE102+'Serial Data'!BF102<>0,(BK102*0.866*Templates!K2),NA())","v":{"$error":"#N/A"}}]

{"sheet":"Manual","index":4,"n_rows":150,"n_cols":1,"rows_kept":150}
["How to design an individual mask:\n• first of all, the check boxes for 'Individual masks' and 'Individual labels' have to get marked or the progress in mask design will not be visible on-the-fly\n• the input fields for an individual mask are located in the worksheet `Templates‘, starting with cell `AL4‘\n• the required plotting coordinates `bottom-left’, `bottom-right’, and `top’ have to be inserted in columns AL, AM, and AN, respectively\n• TriAngle calculates the resulting x- and y-coordinates and draws the mask\n• The user needs to know the required plotting coordinates by forehand\n• In this manual, a simple triangle and an individual line will be created as mask. Labels will show the plotting coordinates of each point (see also `How to create individual labels’)\n• The input data are for the triangle:\n• Row 4: bottom-left: 50; bottom-right: 50; top: 0\n• Row 5: bottom-left: 0; bottom-right: 50; top: 50\n• Row 6: bottom-left: 50; bottom-right: 0; top: 50\n• Row 7:  bottom-left: 50; bottom-right: 50; top: 0\n• Row 8: cells stay empty to separate the different lines\n• Input data for the individual line:\n• Row 9: bottom-left: 10; bottom-right: 10; top: 80\n• Row 10: bottom-left: 20; bottom-right: 60; top: 20\nThe result is shown in Figure 1. "]
{"$rows_empty":24}
["Figure 1"]
[]
["What can be seen is a triangle and the line connected by a vertical line between the triangle end point (50;50;0) and the starting point of the line (10;10;80).\nTo avoid this connecting line, the content of cells AL8 to AS8 has to be deleted (see Figure 2).\n"]
{"$rows_empty":11}
["Figure 2"]
[]
["Doing this, the chart looks like in Figure 3."]
{"$rows_empty":25}
["Figure 3"]
[]
["How to create individual labels:\nAs said above, the final chart will show labels as well.\n• Like for the mask, the input fields for the labels are located in worksheet `Template’, starting with cell AU4\n• The required plotting coordinates bottom-left, bottom-right, and top have to get inserted into columns AU, AV and AW\n• The label texts go into column BC\n• In this example, the coordinates are the same like the mask coordinates. Only the end point of the triangle does not get inserted – it would be a duplication…\n• For the labels, following data have to be inserted (Figure 4):\n"]
{"$rows_empty":12}
["Figure 4"]
[]
["Until now, no labels are shown in the charts\nUnfortunately, they have to be addressed to each label data point as follows (Figure 5):\n• One left mouse click on the chart to activate the Chart Tools Ribbon (1)\n• Here, click the 'Format' tab (2) and choose within 'Current Selection' (3) - on the ribbon on the left - the last entry Series`(50;50;0)…’ Data Labels (4)  \n• The five data label points are marked (5)\n• Now, each single label has to be marked individually one after the other and the corresponding cell has to be addressed\n• E.g. the first label in the Template worksheet is the one on the bottom line `Left-Right’\n• Mark the label and type in the formula bar `=’, then go to the Template worksheet and select cell BC4 (50;50;0) and finish with pressing Enter.\n• As result, the label is displayed in the chart.\n• Repeat this with all other labels. \n• At the end, the chart should look like in Figure 6:\n"]
{"$rows_empty":34}
["Figure 5"]
{"$rows_empty":25}
["Figure 6"]
[]
["This procedure has to be done for both charts in worksheet `Single Data’ and `Serial Data’ - if needed."]
[]
["WARNING: In case data entries within the individual mask have to get moved or duplicated, it is highly recommended to use copy & paste and NOT cut & paste, because cut & past also removes cell addresses which results in a messed up chart. The best solution to avoid it is to type all data manually..."]

{"sheet":"About","index":5,"n_rows":12,"n_cols":3,"rows_kept":12,"merged":[[7,0,9,6]]}
[]
[]
[]
[]
["http://geo-consulting.warnsloh.com"]
["info@geo-consulting.warnsloh.com"]
[]
["Warnsloh, J.M. (2015) TriAngle: A Microsoft Excel™ spreadsheet template for the generation of triangular plots. N. Jahrb. Miner./J. Min. Geochem., 192, 1, 101-105. DOI: 10.1127/0077-7757/2014/0267  "]
[]
[]
[]
["Version:","1.2","2014-06-02"]